Workbook

Sheet Danh sách liên hệ
A2: STT | B2: Công ty thực tập | C2: Địa chỉ | D2: Người liên hệ
A3: 1 | B3: Viện công nghệ Thông tin và Truyền thông CDiT | C3: Tầng 3 nhà A1, Học viện Công nghệ BCVT, Km 10 Đường Nguyễn Trãi, Hà Đông, Hà Nội | D3: Cô Tình - 0979 340258 (Ms. Thủy - 0913350535)
B4: Các nhóm 10,11,12 là sinh viên tự liên hệ thực tập. Yêu cầu sinh viên liên hệ và báo cáo với Giảng viên hướng dẫn (theo danh sách gửi kèm)
A6: DANH SÁCH GIẢNG VIÊN HƯỚNG DẪN THỰC TẬP
A8: STT | B8: Họ và tên | C8: Nhóm sinh viên hướng dẫn | D8: Số lượng sinh viên
A9: 1 | B9: Bùi Hải Đăng | C9: Nhóm 1 | D9: 9
A10: 2 | B10: Phạm Trường Giang | C10: Nhóm 2 | D10: 12
A11: 3 | B11: Nguyễn Thị Thu Hiền | C11: Nhóm 3 | D11: 12
A12: 4 | B12: Ngô Thị Thu Tình | C12: Nhóm 4 | D12: 13
A13: 5 | B13: Vương Thị Hương | C13: Nhóm 5 | D13: 14
A14: 6 | B14: Dương Quang Khánh | C14: Nhóm 6 | D14: 11
A15: 7 | B15: Vũ Văn Linh (Thêm 10 SV CĐ 65) | C15: Nhóm 7 | D15: 4
A16: 8 | B16: Đỗ Xuân Thu | C16: Nhóm 8 | D16: 23
A17: 9 | B17: Hoàng Thị Thúy (Thêm 5 SV CĐ 65) | C17: Nhóm 9 | D17: 7
A18: 10 | B18: Nguyễn Công Nam | C18: Nhóm 10 | D18: 15
A19: 11 | B19: Hoàng Thế Phương | C19: Nhóm 11 | D19: 17
A20: 12 | B20: Đỗ Quang Hưng | C20: Nhóm 12 | D20: 16
B21: Tổng số sinh viên | D21: =SUM(D9:D20) -> 153

Sheet Nhóm 1- Đăng
A2: DANH SÁCH SINH VIÊN THỰC TẬP TỐT NGHIỆP K64 - ĐẠI HỌC CHÍNH QUY NGÀNH CNKT ĐIỆN TỬ VIỄN THÔNG
A4: (Kèm theo Quyết định số: /QĐ-ĐHCNGTVT-ĐT ngày tháng năm 2017 của Hiệu trưởng trường Đại học Công nghệ GTVT)
B7: Nhóm 01
B8: Địa điểm: | C8: Viện công nghệ Thông tin và Truyền thông CDiT
C9: Tầng 3 nhà A1, Học viện Công nghệ BCVT, Km 10 Đường Nguyễn Trãi, Hà Đông, Hà Nội
B10: Thời gian: | C10: 04 tuần từ 06/03/2017 đến 02/04/2017
B11: Giảng viên hướng dẫn: Bùi Hải Đăng (0918 758283)
A13: STT | B13: Mã sinh viên | C13: Họ tên | D13: Ngày sinh | E13: Giới | F13: Lớp | G13: Nơi sinh
A14: 1 | B14: 64DCDT3020 | C14: Lương Văn Diệp | D14: 13/03/1995 | E14: Nam | F14: 64DCDT01 | G14: Phú Xuyên - Hà Nội
A15: 2 | B15: 64DCDT3057 | C15: Vũ Văn Giang | D15: 18/04/1995 | E15: Nam | F15: 64DCDT01 | G15: Giao Thủy - Nam Định
A16: 3 | B16: 64DCDT3182 | C16: Phạm Viết Hưng | D16: 11/10/1995 | E16: Nam | F16: 64DCDT01 | G16: Giao Thủy - Nam Định
A17: 4 | B17: 64DCDT3026 | C17: Nguyễn Nhật Linh | D17: 19/11/1995 | E17: Nam | F17: 64DCDT01 | G17: Đống Đa - Hà Nội
A18: 5 | B18: 64DCDT3111 | C18: Phạm Khắc Lực | D18: 04/11/1994 | E18: Nam | F18: 64DCDT03 | G18: Triệu Sơn - Thanh Hóa
A19: 6 | B19: 64DCDT3043 | C19: Ứng Hồng Quân | D19: 02/07/1991 | E19: Nam | F19: 64DCDT01 | G19: Thạch Thất - Hà Nội
A20: 7 | B20: 64DCDT3035 | C20: Nguyễn Xuân Sơn | D20: 26/03/1995 | E20: Nam | F20: 64DCDT01 | G20: Tam Điệp - Ninh Bình
A21: 8 | B21: 64DCDT3019 | C21: Lê Văn Tiến | D21: 13/09/1995 | E21: Nam | F21: 64DCDT01 | G21: Hải Dương
A22: 9 | B22: 64DCDT3039 | C22: Đỗ Văn Tuấn | D22: 04/02/1995 | E22: Nam | F22: 64DCDT01 | G22: Kinh Môn - Hải Dương

Sheet Nhóm 2- Giang
A2: DANH SÁCH SINH VIÊN THỰC TẬP TỐT NGHIỆP K64 - ĐẠI HỌC CHÍNH QUY NGÀNH CNKT ĐIỆN TỬ VIỄN THÔNG
A4: (Kèm theo Quyết định số: /QĐ-ĐHCNGTVT-ĐT ngày tháng năm 2017 của Hiệu trưởng trường Đại học Công nghệ GTVT)
B7: Nhóm 02
B8: Địa điểm: | C8: Viện công nghệ Thông tin và Truyền thông CDiT
C9: Tầng 3 nhà A1, Học viện Công nghệ BCVT, Km 10 Đường Nguyễn Trãi, Hà Đông, Hà Nội
B10: Thời gian: | C10: 04 tuần từ 06/03/2017 đến 02/04/2017
B11: Giảng viên hướng dẫn: Phạm Trường Giang (0989 375598)
A13: STT | B13: Mã sinh viên | C13: Họ tên | D13: Ngày sinh | E13: Giới | F13: Lớp | G13: Nơi sinh
A14: 1 | B14: 64DCDT3034 | C14: Nguyễn Văn Bạo | D14: 06/09/1994 | E14: Nam | F14: 64DCDT01 | G14: Quế Võ - Bắc Ninh
A15: 2 | B15: 64DCDT3162 | C15: Nguyễn Phúc Cường | D15: 03/12/1995 | E15: Nam | F15: 64DCDT03 | G15: Vĩnh Tường - Vĩnh Phúc
A16: 3 | B16: 64DCDT3040 | C16: Nguyễn Đình Dân | D16: 17/10/1994 | E16: Nam | F16: 64DCDT01 | G16: Quốc Oai - Hà Nội
A17: 4 | B17: 64DCDT3025 | C17: Nguyễn Đức Hào | D17: 26/07/1995 | E17: Nam | F17: 64DCDT01 | G17: Duy Tiên - Hà Nam
A18: 5 | B18: 64DCDT3122 | C18: Trần Thị Huyền | D18: 10/04/1995 | E18: Nữ | F18: 64DCDT03 | G18: Tĩnh Gia - Thanh Hóa
A19: 6 | B19: 64DCDT3179 | C19: Phạm Xuân Huỳnh | D19: 06/04/1994 | E19: Nam | F19: 64DCDT03 | G19: Hưng Hà - Thái Bình
A20: 7 | B20: 64DCDT3036 | C20: Nguyễn Thị Khánh | D20: 30/01/1995 | E20: Nữ | F20: 64DCDT01 | G20: Phúc Thọ - Hà Nội
A21: 8 | B21: 64DCDT3017 | C21: Nguyễn Đăng Minh | D21: 25/12/1995 | E21: Nam | F21: 64DCDT01 | G21: Chương Mỹ - Hà Nội
A22: 9 | B22: 64DCDT3138 | C22: Lê Văn Nam | D22: 18/11/1995 | E22: Nam | F22: 64DCDT03 | G22: Đông Anh - Hà Nội
A23: 10 | B23: 64DCDT3114 | C23: Lương Văn Phong | D23: 28/07/1992 | E23: Nam | F23: 64DCDT03 | G23: Yên Dũng - Bắc Giang
A24: 11 | B24: 64DCDT3065 | C24: Hoàng Trí Thảo | D24: 03/03/1994 | E24: Nam | F24: 64DCDT02 | G24: Hoài Đức - Hà Nội
A25: 12 | B25: 64DCDT3115 | C25: Nguyễn Thị Thúy | D25: 09/05/1995 | E25: Nữ | F25: 64DCDT03 | G25: Chương Mỹ - Hà Nội

Sheet Nhóm 3-Hiền
A2: DANH SÁCH SINH VIÊN THỰC TẬP TỐT NGHIỆP K64 - ĐẠI HỌC CHÍNH QUY NGÀNH CNKT ĐIỆN TỬ VIỄN THÔNG
A4: (Kèm theo Quyết định số: /QĐ-ĐHCNGTVT-ĐT ngày tháng năm 2017 của Hiệu trưởng trường Đại học Công nghệ GTVT)
B7: Nhóm 03
B8: Địa điểm: | C8: Viện công nghệ Thông tin và Truyền thông CDiT
C9: Tầng 3 nhà A1, Học viện Công nghệ BCVT, Km 10 Đường Nguyễn Trãi, Hà Đông, Hà Nội
B10: Thời gian: | C10: 04 tuần từ 06/03/2017 đến 02/04/2017
B11: Giảng viên hướng dẫn: Nguyễn Thị Thu Hiền (0987 604265)
A13: STT | B13: Mã sinh viên | C13: Họ tên | D13: Ngày sinh | E13: Giới | F13: Lớp | G13: Nơi sinh
A14: 1 | B14: 64DCDT3075 | C14: Hồ Hữu Trung Anh | D14: 24/03/1995 | E14: Nam | F14: 64DCDT02 | G14: Đô lương - Nghệ An
A15: 2 | B15: 64DCDT3060 | C15: Nguyễn Văn Cường | D15: 01/05/1995 | E15: Nam | F15: 64DCDT01 | G15: Mỹ Hào - Hưng Yên
A16: 3 | B16: 64DCDT3126 | C16: Chu Đình Hải | D16: 27/03/1994 | E16: Nam | F16: 64DCDT02 | G16: ứng Hòa - Hà Nội
A17: 4 | B17: 64DCDT3088 | C17: Nguyễn Quang Hóa | D17: 04/10/1995 | E17: Nam | F17: 64DCDT02 | G17: Thuận Thành - Bắc Ninh
A18: 5 | B18: 64DCDT3061 | C18: Nguyễn Thị Hường | D18: 21/07/1995 | E18: Nữ | F18: 64DCDT01 | G18: Lạng Giang - Bắc Giang
A19: 6 | B19: 64DCDT3049 | C19: Vũ Chí Linh | D19: 20/11/1995 | E19: Nam | F19: 64DCDT01 | G19: Hoằng Hóa - Thanh Hóa
A20: 7 | B20: 64DCDT3117 | C20: Phạm Tuấn Minh | D20: 18/06/1994 | E20: Nam | F20: 64DCDT02 | G20: Thủy Nguyên - Hải Phòng
A21: 8 | B21: 64DCDT3086 | C21: Đoàn Văn Phòng | D21: 27/10/1995 | E21: Nam | F21: 64DCDT02 | G21: Nam Trực - Nam Định
A22: 9 | B22: 64DCDT3134 | C22: Cao Văn Tiệp | D22: 20/03/1995 | E22: Nam | F22: 64DCDT02 | G22: Hoằng Hóa - Thanh Hóa
A23: 10 | B23: 64DCDT3104 | C23: Nguyễn Xuân Tú | D23: 17/03/1995 | E23: Nam | F23: 64DCDT03 | G23: Hà Đông - Hà Nội
A24: 11 | B24: 64DCDT3146 | C24: Nguyễn Anh Tùng | D24: 10/08/1995 | E24: Nam | F24: 64DCDT02 | G24: Thanh Trì - Hà Nội
A25: 12 | B25: 64DCDT3082 | C25: Đoàn Thị Tuyền | D25: 14/05/1995 | E25: Nữ | F25: 64DCDT02 | G25: Ý Yên - Nam Định

Sheet Nhóm 4- Tình
A2: DANH SÁCH SINH VIÊN THỰC TẬP TỐT NGHIỆP K64 - ĐẠI HỌC CHÍNH QUY NGÀNH CNKT ĐIỆN TỬ VIỄN THÔNG
A4: (Kèm theo Quyết định số: /QĐ-ĐHCNGTVT-ĐT ngày tháng năm 2017 của Hiệu trưởng trường Đại học Công nghệ GTVT)
B7: Nhóm 04
B8: Giảng viên hướng dẫn: Ngô Thị Thu Tình (0979 340258)
B9: Thời gian: | C9: 04 tuần từ 06/03/2017 đến 02/04/2017
B10: Địa điểm 1: | C10: Viện công nghệ Thông tin và Truyền thông CDiT
C11: Tầng 3 nhà A1, Học viện Công nghệ BCVT, Km 10 Đường Nguyễn Trãi, Hà Đông, Hà Nội
A13: STT | B13: Mã sinh viên | C13: Họ tên | D13: Ngày sinh | E13: Giới | F13: Lớp | G13: Nơi sinh
A14: 1 | B14: 64DCDT3136 | C14: Nguyễn Hữu Cảnh | D14: 07/08/1995 | E14: Nam | F14: 64DCDT02 | G14: Nga Sơn - Thanh Hóa
A15: 2 | B15: 64DCDT3193 | C15: Phạm Viết Giáp | D15: 16/04/1994 | E15: Nam | F15: 64DCDT02 | G15: Tân Yên - Bắc giang
A16: 3 | B16: 64DCDT3170 | C16: Phí Anh Hào | D16: 30/08/1995 | E16: Nam | F16: 64DCDT03 | G16: Đống Đa - Hà Nội
A17: 4 | B17: 64DCDT3110 | C17: Hồ Đức Linh | D17: 10/02/1993 | E17: Nam | F17: 64DCDT03 | G17: Quảng Xương - Thanh Hóa
A18: 5 | B18: 64DCDT3079 | C18: Đỗ Văn Lưỡng | D18: 27/10/1994 | E18: Nam | F18: 64DCDT02 | G18: Thanh Oai - Hà Nội
A19: 6 | B19: 64DCDT3202 | C19: Đoàn Duy Mạnh | D19: 05/08/1995 | E19: Nam | F19: 64DCDT03 | G19: Hoàn Kiếm - Hà Nội
A20: 7 | B20: 64DCDT3189 | C20: Nguyễn Trọng Quang | D20: 04/07/1994 | E20: Nam | F20: 64DCDT01 | G20: Uông Bí - Quảng Ninh
A21: 8 | B21: 64DCDT3098 | C21: Trần Mạnh Thắng | D21: 17/10/1995 | E21: Nam | F21: 64DCDT02 | G21: TP Nam Định - Nam Định
A22: 9 | B22: 64DCDT3063 | C22: Lê Minh Thức | D22: 03/08/1992 | E22: Nam | F22: 64DCDT01 | G22: Khoái Châu - Hưng Yên
A23: 10 | B23: 64DCDT3054 | C23: Phạm Anh Tuấn | D23: 25/06/1995 | E23: Nam | F23: 64DCDT01 | G23: Như Xuân - Thanh Hóa
B25: Địa điểm 2: | C25: Công Ty TNHH Thiết Bị Đào Tạo Và Phát Triển Công Nghệ Ngọc Huy
C26: Thôn Du Ngoại - Xã Mai Lâm - Đông Anh - Hà Nội
A28: STT | B28: Mã sinh viên | C28: Họ tên | D28: Ngày sinh | E28: Giới | F28: Lớp | G28: Nơi sinh
A29: 11 | B29: 64DCDT3077 | C29: Nguyễn Tuấn Anh | D29: 18/12/1994 | E29: Nam | F29: 64DCDT02 | G29: Hà Đông - Hà Nội
A30: 12 | B30: 64DCDT3090 | C30: Nguyễn Hoàng Dương | D30: 27/07/1995 | E30: Nam | F30: 64DCDT02 | G30: Hà Trung - Thanh Hóa
A31: 13 | B31: 64DCDT3083 | C31: Lê Văn Mạnh | D31: 15/07/1995 | E31: Nam | F31: 64DCDT02 | G31: Chương Mỹ - Hà Nội

Sheet Nhóm 5- Hương
A2: DANH SÁCH SINH VIÊN THỰC TẬP TỐT NGHIỆP K64 - ĐẠI HỌC CHÍNH QUY NGÀNH CNKT ĐIỆN TỬ VIỄN THÔNG
A4: (Kèm theo Quyết định số: /QĐ-ĐHCNGTVT-ĐT ngày tháng năm 2017 của Hiệu trưởng trường Đại học Công nghệ GTVT)
B7: Nhóm 05
B8: Địa điểm: | C8: Viện công nghệ Thông tin và Truyền thông CDiT
C9: Tầng 3 nhà A1, Học viện Công nghệ BCVT, Km 10 Đường Nguyễn Trãi, Hà Đông, Hà Nội
B10: Thời gian: | C10: 04 tuần từ 06/03/2017 đến 02/04/2017
B11: Giảng viên hướng dẫn: Vương Thị Hương (0978 223045)
A13: STT | B13: Mã sinh viên | C13: Họ tên | D13: Ngày sinh | E13: Giới | F13: Lớp | G13: Nơi sinh
A14: 1 | B14: 64DCDT3163 | C14: Lê Văn Công | D14: 17/07/1994 | E14: Nam | F14: 64DCDT03 | G14: Nông Cống - Thanh Hóa
A15: 2 | B15: 64DCDT3154 | C15: Tống Tuấn Dũng | D15: 17/06/1995 | E15: Nam | F15: 64DCDT03 | G15: Hà Trung - Thanh Hóa
A16: 3 | B16: 64DCDT3121 | C16: Hoàng Văn Dũng | D16: 09/09/1994 | E16: Nam | F16: 64DCDT03 | G16: Nga Sơn - Thanh Hóa
A17: 4 | B17: 64DCDT3173 | C17: Đỗ Sơn Dương | D17: 26/06/1995 | E17: Nam | F17: 64DCDT03 | G17: Đống Đa - Hà Nội
A18: 5 | B18: 64DCDT3147 | C18: Lục Tiến Đạt | D18: 10/06/1995 | E18: Nam | F18: 64DCDT03 | G18: Thanh Trì - Hà Nội
A19: 6 | B19: 64DCDT3028 | C19: Nguyễn Đức Huy | D19: 29/01/1995 | E19: Nữ | F19: 64DCDT01 | G19: Ý Yên - Nam Định
A20: 7 | B20: 64DCDT3127 | C20: Lê Hoàng Huy | D20: 02/09/1995 | E20: Nam | F20: 64DCDT03 | G20: Chương Mỹ - Hà Nội
A21: 8 | B21: 64DCDT3058 | C21: Nguyễn Thị Thanh Huyền | D21: 28/07/1994 | E21: Nữ | F21: 64DCDT01 | G21: Hương Sơn - Hà Tĩnh
A22: 9 | B22: 64DCDT3129 | C22: Hoàng Tuấn Mạnh | D22: 02/06/1995 | E22: Nam | F22: 64DCDT03 | G22: TP Thanh Hóa - Thanh Hóa
A23: 10 | B23: 64DCDT3021 | C23: Nguyễn Công Tuấn Minh | D23: 04/04/1995 | E23: Nam | F23: 64DCDT01 | G23: Tp. Ninh Bình - Ninh Bình
A24: 11 | B24: 64DCDT3007 | C24: Hồ Thị Nga | D24: 13/07/1995 | E24: Nữ | F24: 64DCDT01 | G24: Thạch Hà - Hà Tĩnh
A25: 12 | B25: 64DCDT3137 | C25: Lương Mạnh Quân | D25: 07/08/1995 | E25: Nam | F25: 64DCDT03 | G25: Hà Đông - Hà Nội
... A27: 14 | B27: 64DCDT3175 | C27: Nguyễn Thị Thu Thủy | D27: 19/10/1995 | E27: Nữ | F27: 64DCDT03 | G27: Ứng Hòa - Hà Nội

Sheet Nhóm 6- Khánh
A2: DANH SÁCH SINH VIÊN THỰC TẬP TỐT NGHIỆP K64 - ĐẠI HỌC CHÍNH QUY NGÀNH CNKT ĐIỆN TỬ VIỄN THÔNG
A4: (Kèm theo Quyết định số: /QĐ-ĐHCNGTVT-ĐT ngày tháng năm 2017 của Hiệu trưởng trường Đại học Công nghệ GTVT)
B7: Nhóm 06
B8: Địa điểm: | C8: Viện công nghệ Thông tin và Truyền thông CDiT
C9: Tầng 3 nhà A1, Học viện Công nghệ BCVT, Km 10 Đường Nguyễn Trãi, Hà Đông, Hà Nội
B10: Thời gian: | C10: 04 tuần từ 06/03/2017 đến 02/04/2017
B11: Giảng viên hướng dẫn: Dương Quang Khánh (0943 138833)
A13: STT | B13: Mã sinh viên | C13: Họ tên | D13: Ngày sinh | E13: Giới | F13: Lớp | G13: Nơi sinh
A14: 1 | B14: 64DCDT3066 | C14: Doãn Tiến Cao | D14: 25/02/1995 | E14: Nam | F14: 64DCDT02 | G14: Quốc Oai - Hà Nội
A15: 2 | B15: 64DCDT3032 | C15: Đào Văn Dũng | D15: 01/08/1993 | E15: Nam | F15: 64DCDT01 | G15: Mai Sơn - Sơn La
A16: 3 | B16: 64DCDT3186 | C16: Lương Trọng Dương | D16: 16/05/1993 | E16: Nam | F16: 64DCDT01 | G16: Nông Cống - Thanh Hóa
A17: 4 | B17: 64DCDT3004 | C17: Đặng Trung Đức | D17: 17/08/1994 | E17: Nam | F17: 64DCDT01 | G17: Tp. Bắc Ninh - Bắc Ninh
A18: 5 | B18: 64DCDT3204 | C18: Nguyễn Ngọc Hoàng | D18: 10/06/1990 | E18: Nam | F18: 64DCDT01 | G18: Đông Hưng - Thái Bình
A19: 6 | B19: 64DCDT3022 | C19: Lý Ngọc Hùng | D19: 04/07/1994 | E19: Nam | F19: 64DCDT01 | G19: Sóc Sơn - Hà Nội
A20: 7 | B20: 64DCDT3010 | C20: Nguyễn Đức Khánh | D20: 25/11/1994 | E20: Nam | F20: 64DCDT01 | G20: Hà Đông - Hà Nội
A21: 8 | B21: 64DCDT3096 | C21: Nguyễn Thị Linh | D21: 03/05/1995 | E21: Nữ | F21: 64DCDT02 | G21: Nông Cống - Thanh Hóa
A22: 9 | B22: 64DCDT3064 | C22: Tạ Bùi Hoàng Phong | D22: 12/12/1995 | E22: Nam | F22: 64DCDT01 | G22: Hoàng Mai - Hà Nội
A23: 10 | B23: 64DCDT3084 | C23: Nguyễn Văn Tài | D23: 02/02/1994 | E23: Nam | F23: 64DCDT02 | G23: Quế Võ - Bắc Ninh
A24: 11 | B24: 64DCDT3055 | C24: Trịnh Đức Tín | D24: 18/11/1995 | E24: Nam | F24: 64DCDT01 | G24: Thanh Trì - Hà Nội

Sheet Nhóm 7- Linh
A2: DANH SÁCH SINH VIÊN THỰC TẬP TỐT NGHIỆP K64 - ĐẠI HỌC CHÍNH QUY NGÀNH CNKT ĐIỆN TỬ VIỄN THÔNG
A4: (Kèm theo Quyết định số: /QĐ-ĐHCNGTVT-ĐT ngày tháng năm 2017 của Hiệu trưởng trường Đại học Công nghệ GTVT)
B7: Nhóm 07
B8: Địa điểm: | C8: Viện công nghệ Thông tin và Truyền thông CDiT
C9: Tầng 3 nhà A1, Học viện Công nghệ BCVT, Km 10 Đường Nguyễn Trãi, Hà Đông, Hà Nội
B10: Thời gian: | C10: 04 tuần từ 06/03/2017 đến 02/04/2017
B11: Giảng viên hướng dẫn: Vũ Văn Linh (0168 7890050)
A13: STT | B13: Mã sinh viên | C13: Họ tên | D13: Ngày sinh | E13: Giới | F13: Lớp | G13: Nơi sinh
A14: 1 | B14: 64DCDT3078 | C14: Nguyễn Quốc Khánh | D14: 10/05/1995 | E14: Nam | F14: 64DCDT02 | G14: TP Bắc Giang - Bắc Giang
A15: 2 | B15: 64DCDT3047 | C15: Nguyễn Đình Lực | D15: 04/03/1994 | E15: Nam | F15: 64DCDT01 | G15: Hà Đông - Hà Nội
A16: 3 | B16: 64DCDT3185 | C16: Lại Thanh Phương | D16: 07/03/1995 | E16: Nam | F16: 64DCDT01 | G16: Nghĩa Hưng - Nam Định
A17: 4 | B17: 64DCDT3013 | C17: Nguyễn Hữu Tùng | D17: 13/03/1995 | E17: Nam | F17: 64DCDT01 | G17: Hà Đông - Hà Nội

Sheet Nhóm 8- Thu
A2: DANH SÁCH SINH VIÊN THỰC TẬP TỐT NGHIỆP K64 - ĐẠI HỌC CHÍNH QUY NGÀNH CNKT ĐIỆN TỬ VIỄN THÔNG
A4: (Kèm theo Quyết định số: /QĐ-ĐHCNGTVT-ĐT ngày tháng năm 2017 của Hiệu trưởng trường Đại học Công nghệ GTVT)
B7: Nhóm 08
B8: Giảng viên hướng dẫn: Đỗ Xuân Thu (0968 701682)
B9: Thời gian: | C9: 04 tuần từ 06/03/2017 đến 02/04/2017
B10: Địa điểm 1 : | C10: Viện công nghệ Thông tin và Truyền thông CDiT
C11: Tầng 3 nhà A1, Học viện Công nghệ BCVT, Km 10 Đường Nguyễn Trãi, Hà Đông, Hà Nội
A13: STT | B13: Mã sinh viên | C13: Họ tên | D13: Ngày sinh | E13: Giới | F13: Lớp | G13: Nơi sinh
A14: 1 | B14: 64DCDT3168 | C14: Nguyễn Đình Chuyền | D14: 04/12/1993 | E14: Nam | F14: 64DCDT03 | G14: Lâm Thao - Phú Thọ
A15: 2 | B15: 64DCDT3195 | C15: Trần Quang Cơ | D15: 28/02/1995 | E15: Nam | F15: 64DCDT03 | G15: Yên Thủy - Hòa Bình
A16: 3 | B16: 64DCDT3093 | C16: Đặng Thị Thùy Dương | D16: 25/06/1995 | E16: Nữ | F16: 64DCDT02 | G16: Chí Linh - Hải Dương
A17: 4 | B17: 64DCDT3125 | C17: Trần Thị Hà | D17: 20/05/1995 | E17: Nữ | F17: 64DCDT02 | G17: Vĩnh Lộc - Thanh Hóa
A18: 5 | B18: 64DCDT3172 | C18: Trần Trung Hiếu | D18: 11/08/1995 | E18: Nam | F18: 64DCDT02 | G18: TP Thái Bình - Thái Bình
A19: 6 | B19: 64DCDT3003 | C19: Vũ Thị Lan | D19: 10/08/1995 | E19: Nữ | F19: 64DCDT01 | G19: Hà Trung - Thanh Hóa
A20: 7 | B20: 64DCDT3053 | C20: Phạm Văn Long | D20: 07/11/1993 | E20: Nam | F20: 64DCDT01 | G20: Mỹ Đức - Hà Nội
A21: 8 | B21: 64DCDT3005 | C21: Phạm Văn Lộc | D21: 07/10/1994 | E21: Nam | F21: 64DCDT01 | G21: Hưng Nguyên - Nghệ An
A22: 9 | B22: 64DCDT3027 | C22: Lộ Thị Mai | D22: 04/06/1995 | E22: Nữ | F22: 64DCDT01 | G22: Hưng Hà - Thái Bình
A23: 10 | B23: 64DCDT3171 | C23: Phan Bảo Minh | D23: 18/06/1995 | E23: Nam | F23: 64DCDT03 | G23: Hoàn Kiếm - Hà Nội
A24: 11 | B24: 64DCDT3085 | C24: Trần Quang Minh | D24: 04/01/1994 | E24: Nam | F24: 64DCDT02 | G24: Mỹ Xá - Nam Định
A25: 12 | B25: 64DCDT3164 | C25: Đào Thị Na | D25: 28/08/1995 | E25: Nữ | F25: 64DCDT02 | G25: Nông Cống - Thanh Hóa
... A35: 22 | B35: 64DCDT3009 | C35: Trịnh Đình Văn | D35: 10/06/1994 | E35: Nam | F35: 64DCDT01 | G35: Thọ Xuân - Thanh Hóa
B37: Địa điểm 2 : | C37: Công Ty CP Viễn Thông INTERCOM Việt Nam
C38: Số 134 - Ngõ 25 Vũ Ngọc Phan - Láng Hạ - Đống Đa - Hà Nội
A40: STT | B40: Mã sinh viên | C40: Họ tên | D40: Ngày sinh | E40: Giới | F40: Lớp | G40: Nơi sinh
A41: 23 | B41: 64DCDT3157 | C41: Nguyễn Đức Du | D41: 12/12/1995 | E41: Nam | F41: 64DCDT02 | G41: Bỉm Sơn - Thanh Hóa

Sheet Nhóm 9- Thuý
A2: DANH SÁCH SINH VIÊN THỰC TẬP TỐT NGHIỆP K64 - ĐẠI HỌC CHÍNH QUY NGÀNH CNKT ĐIỆN TỬ VIỄN THÔNG
A4: (Kèm theo Quyết định số: /QĐ-ĐHCNGTVT-ĐT ngày tháng năm 2017 của Hiệu trưởng trường Đại học Công nghệ GTVT)
B7: Nhóm 09
B8: Địa điểm: | C8: Viện công nghệ Thông tin và Truyền thông CDiT
C9: Tầng 3 nhà A1, Học viện Công nghệ BCVT, Km 10 Đường Nguyễn Trãi, Hà Đông, Hà Nội
B10: Thời gian: | C10: 04 tuần từ 06/03/2017 đến 02/04/2017
B11: Giảng viên hướng dẫn: Hoàng Thị Thúy (0906 188626)
A13: STT | B13: Mã sinh viên | C13: Họ tên | D13: Ngày sinh | E13: Giới | F13: Lớp | G13: Nơi sinh
A14: 1 | B14: 64DCDT3132 | C14: Hoàng Bá Dũng | D14: 10/10/1994 | E14: Nam | F14: 64DCDT03 | G14: Hoài Đức - Hà Nội
A15: 2 | B15: 64DCDT3102 | C15: Lê Trọng Hiếu | D15: 23/11/1995 | E15: Nam | F15: 64DCDT02 | G15: Thường Tín - Hà Nội
A16: 3 | B16: 64DCDT3048 | C16: Đào Công Hoàn | D16: 09/03/1994 | E16: Nam | F16: 64DCDT02 | G16: Hải Hậu - Nam Định
A17: 4 | B17: 64DCDT3194 | C17: Nguyễn Thị Hồng | D17: 28/02/1995 | E17: Nữ | F17: 64DCDT01 | G17: tân yên-Bắc giang
A18: 5 | B18: 64DCDT3100 | C18: Đặng Thị Khánh Linh | D18: 20/11/1995 | E18: Nữ | F18: 64DCDT02 | G18: Quế Võ - Bắc Ninh
A19: 6 | B19: 64DCDT3069 | C19: Trần Thùy Linh | D19: 04/01/1995 | E19: Nữ | F19: 64DCDT02 | G19: Đông Hưng - Thái Bình
A20: 7 | B20: 64DCDT3201 | C20: Trần Văn Quang | D20: 29/09/1987 | E20: Nam | F20: 64DCDT01 | G20: Việt Yên - Bắc Giang

Sheet Nhóm 10 - Nam
A2: DANH SÁCH SINH VIÊN THỰC TẬP TỐT NGHIỆP K64 - ĐẠI HỌC CHÍNH QUY NGÀNH CNKT ĐIỆN TỬ VIỄN THÔNG
A4: (Kèm theo Quyết định số: /QĐ-ĐHCNGTVT-ĐT ngày tháng năm 2017 của Hiệu trưởng trường Đại học Công nghệ GTVT)
B7: Nhóm 10
B8: Thời gian: | C8: 04 tuần từ 06/03/2017 đến 02/04/2017
B9: Giảng viên hướng dẫn: Nguyễn Công Nam (0987 698963)
A11: STT | B11: Mã sinh viên | C11: Họ tên | D11: Ngày sinh | E11: Giới | F11: Lớp | G11: Nơi sinh | H11: Công ty thực tập | I11: Địa chỉ
A12: 1 | B12: 64DCDT3103 | C12: Trần Nam Anh | D12: 23/07/1995 | E12: =VLOOKUP(B12,Sheet7!$B$8:$J$160,7,0) -> Nam | F12: =VLOOKUP(B12,Sheet7!$B$8:$J$160,8,0) -> 64DCDT03 | H12: Công Ty TNHH Cơ Điện - Điện Tử Và Thương Mại Quốc Tế | I12: Số 23 Ngõ 19 Liễu Giai - Ba Đình - Hà Nội
A13: 2 | B13: 64DCDT3196 | C13: Phạm Tuấn Anh | D13: 20/04/1995 | E13: =VLOOKUP(B13,Sheet7!$B$8:$J$160,7,0) -> Nam | F13: =VLOOKUP(B13,Sheet7!$B$8:$J$160,8,0) -> 64DCDT03 | H13: Công Ty TNHH Cơ Điện - Điện Tử Và Thương Mại Quốc Tế | I13: Số 23 Ngõ 19 Liễu Giai - Ba Đình - Hà Nội
A14: 3 | B14: 64DCDT3131 | C14: Vũ Duy Cần | D14: 08/04/1993 | E14: =VLOOKUP(B14,Sheet7!$B$8:$J$160,7,0) -> Nam | F14: =VLOOKUP(B14,Sheet7!$B$8:$J$160,8,0) -> 64DCDT03 | H14: Công Ty CP Công Nghệ Truyền Thông DTS | I14: Số 802-803-805 Tòa nhà Sao Bắc Số 04 Dã Tượng - Hoàn Kiếm - Hà Nội
A15: 4 | B15: 64DCDT3135 | C15: Đặng Đức Huy | D15: 20/09/1995 | E15: =VLOOKUP(B15,Sheet7!$B$8:$J$160,7,0) -> Nam | F15: =VLOOKUP(B15,Sheet7!$B$8:$J$160,8,0) -> 64DCDT02 | H15: Công Ty TNHH ARECA | I15: Số 12 Ngõ 6 - Ngọc Hà - Ba Đình - Hà Nội
A16: 5 | B16: 64DCDT3105 | C16: Phan Văn Huy | D16: 20/11/1994 | E16: =VLOOKUP(B16,Sheet7!$B$8:$J$160,7,0) -> Nam | F16: =VLOOKUP(B16,Sheet7!$B$8:$J$160,8,0) -> 64DCDT03 | H16: Công Ty TNHH Cơ Điện - Điện Tử Và Thương Mại Quốc Tế | I16: Số 23 Ngõ 19 Liễu Giai - Ba Đình - Hà Nội
A17: 6 | B17: 64DCDT3160 | C17: Trần Thị Hương | D17: 18/11/1995 | E17: =VLOOKUP(B17,Sheet7!$B$8:$J$160,7,0) -> Nữ | F17: =VLOOKUP(B17,Sheet7!$B$8:$J$160,8,0) -> 64DCDT02 | H17: Trung Tâm Viễn Thông 2 -Viễn Thông Hà Nội | I17: 811 Đường Giải Phóng, phường Giáp Bát, quận Hoàng Mai, TP Hà Nội
A18: 7 | B18: 64DCDT3107 | C18: Mai Thế Lâm | D18: 28/02/1995 | E18: =VLOOKUP(B18,Sheet7!$B$8:$J$160,7,0) -> Nam | F18: =VLOOKUP(B18,Sheet7!$B$8:$J$160,8,0) -> 64DCDT03 | H18: Công Ty TNHH Cơ Điện - Điện Tử Và Thương Mại Quốc Tế | I18: Số 23 Ngõ 19 Liễu Giai - Ba Đình - Hà Nội
A19: 8 | B19: 64DCDT3142 | C19: Nguyễn Thị Hoàng Nga | D19: 09/05/1995 | E19: =VLOOKUP(B19,Sheet7!$B$8:$J$160,7,0) -> Nam | F19: =VLOOKUP(B19,Sheet7!$B$8:$J$160,8,0) -> 64DCDT03 | H19: Công Ty TNHH MTV Thông Tin M1 | I19: An Thành - Hoài Đức - Hà Nội
A20: 9 | B20: 64DCDT3153 | C20: Bùi Quang Ngọc | D20: 23/03/1994 | E20: =VLOOKUP(B20,Sheet7!$B$8:$J$160,7,0) -> Nam | F20: =VLOOKUP(B20,Sheet7!$B$8:$J$160,8,0) -> 64DCDT02 | H20: Công Ty TNHH MTV Thông Tin M1 | I20: An Thành - Hoài Đức - Hà Nội
A21: 10 | B21: 64DCDT3152 | C21: Trần Quang Nhã | D21: 15/03/1995 | E21: =VLOOKUP(B21,Sheet7!$B$8:$J$160,7,0) -> Nam | F21: =VLOOKUP(B21,Sheet7!$B$8:$J$160,8,0) -> 64DCDT03 | H21: Công Ty TNHH Công Nghệ Minh Hà | I21: Số 15 ngách 31/1/18 Phố Phan Đình Giót - Phương Liệt - Thanh Xuân - Hà Nội
A22: 11 | B22: 64DCDT3180 | C22: Phạm Thị Hồng Nhung | D22: 01/01/1995 | E22: =VLOOKUP(B22,Sheet7!$B$8:$J$160,7,0) -> Nữ | F22: =VLOOKUP(B22,Sheet7!$B$8:$J$160,8,0) -> 64DCDT03 | H22: Trung Tâm Viễn Thông Giao Thủy - Viễn Thông Nam Định | I22: Khu 1 Thị Trấn Ngô Đồng - Giao Thủy - Nam Định
A23: 12 | B23: 64DCDT3144 | C23: Vũ Tiến Thành | D23: 08/10/1995 | E23: =VLOOKUP(B23,Sheet7!$B$8:$J$160,7,0) -> Nam | F23: =VLOOKUP(B23,Sheet7!$B$8:$J$160,8,0) -> 64DCDT03 | H23: Công Ty TNHH SX&TM Đại Anh | I23: Số 15, LK15-17 Phường La Khê - Hà Đông - Tp Hà Nội
... A26: 15 | B26: 64DCDT3070 | C26: Nguyễn Doanh Tuyên | D26: 11/12/1994 | E26: =VLOOKUP(B26,Sheet7!$B$8:$J$160,7,0) -> Nam | F26: =VLOOKUP(B26,Sheet7!$B$8:$J$160,8,0) -> 64DCDT02 | H26: Công Ty CP Phát Triển Dịch Vụ Viễn Thông ITC | I26: Tầng 4, Tòa Nhà Thăng Long, 98, Ngụy Như Kon Tum, Quận Thanh Xuân, Thành Phố Hà Nội, Thành Phố Hà Nội

Sheet Nhóm 11 - Phương
A2: DANH SÁCH SINH VIÊN THỰC TẬP TỐT NGHIỆP K64 - ĐẠI HỌC CHÍNH QUY NGÀNH CNKT ĐIỆN TỬ VIỄN THÔNG
A4: (Kèm theo Quyết định số: /QĐ-ĐHCNGTVT-ĐT ngày tháng năm 2017 của Hiệu trưởng trường Đại học Công nghệ GTVT)
B7: Nhóm 11
B8: Thời gian: | C8: 04 tuần từ 06/03/2017 đến 02/04/2017
B9: Giảng viên hướng dẫn: Hoàng Thế Phương (0936 681908)
A11: STT | B11: Mã sinh viên | C11: Họ tên | D11: Ngày sinh | E11: Giới | F11: Lớp | G11: Nơi sinh | H11: Công ty thực tập | I11: Địa chỉ
A12: 1 | B12: 64DCDT3192 | C12: Vũ Quỳnh Châu | D12: 18/09/1995 | E12: =VLOOKUP(B12,Sheet7!$B$8:$J$160,7,0) -> Nữ | F12: =VLOOKUP(B12,Sheet7!$B$8:$J$160,8,0) -> 64DCDT01 | H12: Công Ty TNHH Ứng Dụng Và Phát Triển Sản Phẩm Công Nghệ VTECH | I12: Số 9 - Ngách 85/24 Ngõ 211 - Khương Trung - Thanh Xuân - Hà Nội
A13: 2 | B13: 64DCDT3167 | C13: Nguyễn Đăng Cường | D13: 16/01/1995 | E13: Nam | F13: 64DCDT03 | H13: Công ty CP Truyền thông và công nghệ A1 | I13: Số 20 Lô 12, Khu ĐTM Cầu Giấy, Dịch Vọng, Cầu Giấy, Hà Nội
A14: 3 | B14: 64DCDT3038 | C14: Phạm Danh Đăng | D14: 17/07/1995 | E14: =VLOOKUP(B14,Sheet7!$B$8:$J$160,7,0) -> Nam | F14: =VLOOKUP(B14,Sheet7!$B$8:$J$160,8,0) -> 64DCDT01 | H14: Công Ty TNHH Ứng Dụng Và Phát Triển Sản Phẩm Công Nghệ VTECH | I14: Số 9 - Ngách 85/24 Ngõ 211 - Khương Trung - Thanh Xuân - Hà Nội
A15: 4 | B15: 64DCDT3014 | C15: Kiều Thị Giang | D15: 23/04/1995 | E15: =VLOOKUP(B15,Sheet7!$B$8:$J$160,7,0) -> Nữ | F15: =VLOOKUP(B15,Sheet7!$B$8:$J$160,8,0) -> 64DCDT01 | H15: Công Ty TNHH Ứng Dụng Và Phát Triển Sản Phẩm Công Nghệ VTECH | I15: Số 9 - Ngách 85/24 Ngõ 211 - Khương Trung - Thanh Xuân - Hà Nội
A16: 5 | B16: 64DCDT3080 | C16: Trần Ngọc Hà | D16: 01/02/1995 | E16: =VLOOKUP(B16,Sheet7!$B$8:$J$160,7,0) -> Nam | F16: =VLOOKUP(B16,Sheet7!$B$8:$J$160,8,0) -> 64DCDT02 | H16: Công Ty TNHH Thiết Bị Viễn Thông ANSV | I16: 124 Hoàng Quốc Việt - Nghĩa Tân - Cầu Giấy - Hà Nội
A17: 6 | B17: 64DCDT3023 | C17: Nguyễn Thị Hạnh | D17: 22/09/1995 | E17: =VLOOKUP(B17,Sheet7!$B$8:$J$160,7,0) -> Nữ | F17: =VLOOKUP(B17,Sheet7!$B$8:$J$160,8,0) -> 64DCDT01 | H17: Công Ty TNHH Ứng Dụng Và Phát Triển Sản Phẩm Công Nghệ VTECH | I17: Số 9 - Ngách 85/24 Ngõ 211 - Khương Trung - Thanh Xuân - Hà Nội
A18: 7 | B18: 64DCDT3159 | C18: Hà Văn Hùng | D18: 22/09/1994 | E18: =VLOOKUP(B18,Sheet7!$B$8:$J$160,7,0) -> Nam | F18: =VLOOKUP(B18,Sheet7!$B$8:$J$160,8,0) -> 64DCDT02 | H18: Ngân Hàng TMCP Đông Á - Chi Nhánh TP Hà Nội | I18: 181 Nguyễn Lương Bằng - Đống Đa - Hà Nội
A19: 8 | B19: 64DCDT3074 | C19: Nguyễn Thị Huyền | D19: 08/10/1995 | E19: =VLOOKUP(B19,Sheet7!$B$8:$J$160,7,0) -> Nữ | F19: =VLOOKUP(B19,Sheet7!$B$8:$J$160,8,0) -> 64DCDT02 | H19: Công Ty TNHH Ứng Dụng Và Phát Triển Sản Phẩm Công Nghệ VTECH | I19: Số 9 - Ngách 85/24 Ngõ 211 - Khương Trung - Thanh Xuân - Hà Nội
A20: 9 | B20: 64DCDT3109 | C20: Nguyễn Thị Hương | D20: 31/12/1995 | E20: =VLOOKUP(B20,Sheet7!$B$8:$J$160,7,0) -> Nữ | F20: =VLOOKUP(B20,Sheet7!$B$8:$J$160,8,0) -> 64DCDT03 | H20: Công Ty TNHH Thiết Bị Viễn Thông ANSV | I20: 124 Hoàng Quốc Việt - Nghĩa Tân - Cầu Giấy - Hà Nội
A21: 10 | B21: 64DCDT3124 | C21: Mạc Văn Khải | D21: 01/05/1994 | E21: =VLOOKUP(B21,Sheet7!$B$8:$J$160,7,0) -> Nam | F21: =VLOOKUP(B21,Sheet7!$B$8:$J$160,8,0) -> 64DCDT03 | H21: Công Ty TNHH Thang Máy Ocean Việt Nam | I21: B16 Lô 19 Khu đô thị Định Công - Phường Định Công - Hoàng Mai - Hà Nội
A22: 11 | B22: 64DCDT3205 | C22: Nguyễn Thùy Linh | D22: 18/03/1994 | E22: =VLOOKUP(B22,Sheet7!$B$8:$J$160,7,0) -> Nữ | F22: =VLOOKUP(B22,Sheet7!$B$8:$J$160,8,0) -> 64DCDT02 | H22: Trung Tâm CNTT - Viễn Thông Lào Cai | I22: Đại lộ Trần Hưng Đạo - Phường Nam Cường - Thành phố Lào CaiCai, Lào Cai
A23: 12 | B23: 64DCDT3030 | C23: Vũ Thị Thùy Linh | D23: 09/09/1995 | E23: =VLOOKUP(B23,Sheet7!$B$8:$J$160,7,0) -> Nữ | F23: =VLOOKUP(B23,Sheet7!$B$8:$J$160,8,0) -> 64DCDT01 | H23: Công Ty TNHH Ứng Dụng Và Phát Triển Sản Phẩm Công Nghệ VTECH | I23: Số 9 - Ngách 85/24 Ngõ 211 - Khương Trung - Thanh Xuân - Hà Nội
A24: 13 | B24: 64DCDT3155 | C24: Nguyễn Ngọc Nam | D24: 04/10/1994 | E24: Nam | F24: 64DCDT03 | H24: Công ty CP Truyền thông và công nghệ A1 | I24: Số 20 Lô 12, Khu ĐTM Cầu Giấy, Dịch Vọng, Cầu Giấy, Hà Nội
A25: 14 | B25: 64DCDT3158 | C25: Bùi Duy Phong | D25: 26/01/1995 | E25: Nam | F25: 64DCDT03 | H25: Công ty CP Truyền thông và công nghệ A1 | I25: Số 20 Lô 12, Khu ĐTM Cầu Giấy, Dịch Vọng, Cầu Giấy, Hà Nội
A26: 15 | B26: 64DCDT3113 | C26: Chu Thanh Phúc | D26: 18/04/1994 | E26: =VLOOKUP(B26,Sheet7!$B$8:$J$160,7,0) -> Nam | F26: =VLOOKUP(B26,Sheet7!$B$8:$J$160,8,0) -> 64DCDT03 | H26: Trung Tâm Công Nghệ Thông Tin Ngân Hàng Chính Sách Xã Hội | I26: 169 Linh Đường - Hoàng Mai - Hà Nội
A27: 16 | B27: 64DCDT3161 | C27: Phạm Hữu Tấn | D27: 11/05/1995 | E27: Nam | F27: 64DCDT03 | H27: Công ty CP Truyền thông và công nghệ A1 | I27: Số 20 Lô 12, Khu ĐTM Cầu Giấy, Dịch Vọng, Cầu Giấy, Hà Nội
A28: 17 | B28: 64DCDT3018 | C28: Nguyễn Văn Thanh | D28: 28/06/1995 | E28: Nam | F28: 64DCDT01 | H28: Công Ty TNHH Ứng Dụng Và Phát Triển Sản Phẩm Công Nghệ VTECH | I28: Số 9 - Ngách 85/24 Ngõ 211 - Khương Trung - Thanh Xuân - Hà Nội

Sheet Nhóm 12 - Hưng
A2: DANH SÁCH SINH VIÊN THỰC TẬP TỐT NGHIỆP K64 - ĐẠI HỌC CHÍNH QUY NGÀNH CNKT ĐIỆN TỬ VIỄN THÔNG
A4: (Kèm theo Quyết định số: /QĐ-ĐHCNGTVT-ĐT ngày tháng năm 2017 của Hiệu trưởng trường Đại học Công nghệ GTVT)
B7: Nhóm 12
B8: Thời gian: | C8: 04 tuần từ 06/03/2017 đến 02/04/2017
B9: Giảng viên hướng dẫn: Đỗ Quang Hưng (0912 222392)
A11: STT | B11: Mã sinh viên | C11: Họ tên | D11: Ngày sinh | E11: Giới | F11: Lớp | G11: Nơi sinh | H11: Công ty thực tập | I11: Địa chỉ
A12: 1 | B12: 64DCDT3143 | C12: Trần Tuấn Anh | D12: 01/01/1994 | E12: =VLOOKUP(B12,Sheet7!$B$8:$J$160,7,0) -> Nam | F12: =VLOOKUP(B12,Sheet7!$B$8:$J$160,8,0) -> 64DCDT03 | H12: Công Ty CP F MEDIA | I12: Tầng 1 Tòa nhà HH2 Meco Complex ngõ 102 Trường Chinh - Đống Đa - Hà Nội
A13: 2 | B13: 64DCDT3108 | C13: Lương Văn Chính | D13: 11/02/1994 | E13: =VLOOKUP(B13,Sheet7!$B$8:$J$160,7,0) -> Nam | F13: =VLOOKUP(B13,Sheet7!$B$8:$J$160,8,0) -> 64DCDT03 | H13: Công Ty CP Công Nghệ Gia Linh | I13: Số 2 - Ngõ 392 - Bạch Mai - Hai Bà Trưng - Hà Nội
A14: 3 | B14: 64DCDT3165 | C14: Nguyễn Văn Dũng | D14: 15/04/1994 | E14: =VLOOKUP(B14,Sheet7!$B$8:$J$160,7,0) -> Nam | F14: =VLOOKUP(B14,Sheet7!$B$8:$J$160,8,0) -> 64DCDT03 | H14: Công Ty CP Công Nghệ Gia Linh | I14: Số 2 - Ngõ 392 - Bạch Mai - Hai Bà Trưng - Hà Nội
A15: 4 | B15: 64DCDT3116 | C15: Nguyễn Ngọc Duy | D15: 15/08/1995 | E15: =VLOOKUP(B15,Sheet7!$B$8:$J$160,7,0) -> Nam | F15: =VLOOKUP(B15,Sheet7!$B$8:$J$160,8,0) -> 64DCDT03 | H15: Công Ty CP Công Nghệ Gia Linh | I15: Số 2 - Ngõ 392 - Bạch Mai - Hai Bà Trưng - Hà Nội
A16: 5 | B16: 64DCDT3176 | C16: Hoàng Anh Đạt | D16: 18/02/1995 | E16: =VLOOKUP(B16,Sheet7!$B$8:$J$160,7,0) -> Nam | F16: =VLOOKUP(B16,Sheet7!$B$8:$J$160,8,0) -> 64DCDT03 | H16: Công Ty CP F MEDIA | I16: Tầng 1 Tòa nhà HH2 Meco Complex ngõ 102 Trường Chinh - Đống Đa - Hà Nội
A17: 6 | B17: 64DCDT3174 | C17: Đỗ Minh Đức | D17: 22/07/1994 | E17: =VLOOKUP(B17,Sheet7!$B$8:$J$160,7,0) -> Nam | F17: =VLOOKUP(B17,Sheet7!$B$8:$J$160,8,0) -> 64DCDT03 | H17: Công Ty CP F MEDIA | I17: Tầng 1 Tòa nhà HH2 Meco Complex ngõ 102 Trường Chinh - Đống Đa - Hà Nội
A18: 7 | B18: 64DCDT3056 | C18: Đặng Duy Hoàng | D18: 08/01/1995 | E18: =VLOOKUP(B18,Sheet7!$B$8:$J$160,7,0) -> Nam | F18: =VLOOKUP(B18,Sheet7!$B$8:$J$160,8,0) -> 64DCDT02 | H18: Công Ty CP Dịch Vụ Viễn Thông COMIT | I18: Tầng 9 - Toà nhà IC Phố Duy Tân - Cầu Giấy - Hà Nội
A19: 8 | B19: 64DCDT3199 | C19: Nguyễn Văn Phong | D19: 18/03/1994 | E19: =VLOOKUP(B19,Sheet7!$B$8:$J$160,7,0) -> Nam | F19: =VLOOKUP(B19,Sheet7!$B$8:$J$160,8,0) -> 64DCDT03 | H19: Công Ty CP F MEDIA | I19: Tầng 1 Tòa nhà HH2 Meco Complex ngõ 102 Trường Chinh - Đống Đa - Hà Nội
A20: 9 | B20: 64DCDT3184 | C20: Vũ Việt Phương | D20: 23/01/1995 | E20: =VLOOKUP(B20,Sheet7!$B$8:$J$160,7,0) -> Nam | F20: =VLOOKUP(B20,Sheet7!$B$8:$J$160,8,0) -> 64DCDT03 | H20: Công Ty CP F MEDIA | I20: Tầng 1 Tòa nhà HH2 Meco Complex ngõ 102 Trường Chinh - Đống Đa - Hà Nội
A21: 10 | B21: 64DCDT3177 | C21: Nguyễn Trọng Thành | D21: 06/10/1993 | E21: =VLOOKUP(B21,Sheet7!$B$8:$J$160,7,0) -> Nam | F21: =VLOOKUP(B21,Sheet7!$B$8:$J$160,8,0) -> 64DCDT03 | H21: Công Ty CP F MEDIA | I21: Tầng 1 Tòa nhà HH2 Meco Complex ngõ 102 Trường Chinh - Đống Đa - Hà Nội
A22: 11 | B22: 64DCDT3106 | C22: Hoàng Văn Tiên | D22: 11/12/1994 | E22: =VLOOKUP(B22,Sheet7!$B$8:$J$160,7,0) -> Nam | F22: =VLOOKUP(B22,Sheet7!$B$8:$J$160,8,0) -> 64DCDT03 | H22: Công Ty CP Dịch Vụ Viễn Thông COMIT | I22: Tầng 9 - Toà nhà IC Phố Duy Tân - Cầu Giấy - Hà Nội
A23: 12 | B23: 64DCDT3041 | C23: Phùng Đức Toàn | D23: 01/11/1995 | E23: =VLOOKUP(B23,Sheet7!$B$8:$J$160,7,0) -> Nam | F23: =VLOOKUP(B23,Sheet7!$B$8:$J$160,8,0) -> 64DCDT01 | H23: Công Ty CP Dịch Vụ Viễn Thông COMIT | I23: Tầng 9 - Toà nhà IC Phố Duy Tân - Cầu Giấy - Hà Nội
... A27: 16 | B27: 64DCDT3149 | C27: Đặng Cao Tuấn | D27: 04/10/1994 | E27: =VLOOKUP(B27,Sheet7!$B$8:$J$160,7,0) -> Nam | F27: =VLOOKUP(B27,Sheet7!$B$8:$J$160,8,0) -> 64DCDT03 | H27: Công Ty CP F MEDIA | I27: Tầng 1 Tòa nhà HH2 Meco Complex ngõ 102 Trường Chinh - Đống Đa - Hà Nội

Sheet Sheet7
A1: TRƯỜNG ĐẠI HỌC CNGTVT
A2: PHÒNG ĐÀO TẠO
A4: DANH SÁCH SINH VIÊN LỚP 64DCDT01
A6: Stt | B6: Mã Sinh Viên | D6: Họ và Tên | G6: Ngày sinh | H6: Giới tính | J6: Nơi sinh
A8: 1 | B8: 64DCDT3034 | D8: Nguyễn Văn | F8: Bạo | G8: 06/09/1994 | H8: Nam | I8: 64DCDT01 | J8: Quế Võ - Bắc Ninh
A9: 2 | B9: 64DCDT3192 | D9: Vũ Quỳnh | F9: Châu | G9: 18/09/1995 | H9: Nữ | I9: 64DCDT01 | J9: Cầu Giấy - Hà Nội | K9: Vtech
A10: 3 | B10: 64DCDT3060 | D10: Nguyễn Văn | F10: Cường | G10: 01/05/1995 | H10: Nam | I10: 64DCDT01 | J10: Mỹ Hào - Hưng Yên
A11: 4 | B11: 64DCDT3040 | D11: Nguyễn Đình | F11: Dân | G11: 17/10/1994 | H11: Nam | I11: 64DCDT01 | J11: Quốc Oai - Hà Nội
A12: 5 | B12: 64DCDT3020 | D12: Lương Văn | F12: Diệp | G12: 13/03/1995 | H12: Nam | I12: 64DCDT01 | J12: Phú Xuyên - Hà Nội
A13: 6 | B13: 64DCDT3032 | D13: Đào Văn | F13: Dũng | G13: 01/08/1993 | H13: Nam | I13: 64DCDT01 | J13: Mai Sơn - Sơn La
A14: 7 | B14: 64DCDT3186 | D14: Lương Trọng | F14: Dương | G14: 16/05/1993 | H14: Nam | I14: 64DCDT01 | J14: Nông Cống - Thanh Hóa
A15: 8 | B15: 64DCDT3038 | D15: Phạm Danh | F15: Đăng | G15: 17/07/1995 | H15: Nam | I15: 64DCDT01 | J15: ứng Hòa - Hà Nội | K15: Vtech
A16: 9 | B16: 64DCDT3004 | D16: Đặng Trung | F16: Đức | G16: 17/08/1994 | H16: Nam | I16: 64DCDT01 | J16: Tp. Bắc Ninh - Bắc Ninh
A17: 10 | B17: 64DCDT3014 | D17: Kiều Thị | F17: Giang | G17: 23/04/1995 | H17: Nữ | I17: 64DCDT01 | J17: Thạch Thất - Hà Nội | K17: Vtech
A18: 11 | B18: 64DCDT3057 | D18: Vũ Văn | F18: Giang | G18: 18/04/1995 | H18: Nam | I18: 64DCDT01 | J18: Giao Thủy - Nam Định
A19: 12 | B19: 64DCDT3023 | D19: Nguyễn Thị | F19: Hạnh | G19: 22/09/1995 | H19: Nữ | I19: 64DCDT01 | J19: Thuận Thành - Bắc Ninh | K19: Vtech
A20: 13 | B20: 64DCDT3025 | D20: Nguyễn Đức | F20: Hào | G20: 26/07/1995 | H20: Nam | I20: 64DCDT01 | J20: Duy Tiên - Hà Nam
A21: 14 | B21: 64DCDT3204 | D21: Nguyễn Ngọc | F21: Hoàng | G21: 10/06/1990 | H21: Nam | I21: 64DCDT01 | J21: Đông Hưng - Thái Bình
A22: 15 | B22: 64DCDT3194 | D22: Nguyễn Thị | F22: Hồng | G22: 28/02/1995 | H22: Nữ | I22: 64DCDT01 | J22: tân yên-Bắc giang
A23: 16 | B23: 64DCDT3022 | D23: Lý Ngọc | F23: Hùng | G23: 04/07/1994 | H23: Nam | I23: 64DCDT01 | J23: Sóc Sơn - Hà Nội
A24: 17 | B24: 64DCDT3028 | D24: Nguyễn Đức | F24: Huy | G24: 29/01/1995 | H24: Nữ | I24: 64DCDT01 | J24: ý Yên - Nam Định
A25: 18 | B25: 64DCDT3058 | D25: Nguyễn Thị Thanh | F25: Huyền | G25: 28/07/1994 | H25: Nữ | I25: 64DCDT01 | J25: Hương Sơn - Hà Tĩnh
A26: 19 | B26: 64DCDT3182 | D26: Phạm Viết | F26: Hưng | G26: 11/10/1995 | H26: Nam | I26: 64DCDT01 | J26: Giao Thủy - Nam Định
A27: 20 | B27: 64DCDT3061 | D27: Nguyễn Thị | F27: Hường | G27: 21/07/1995 | H27: Nữ | I27: 64DCDT01 | J27: Lạng Giang - Bắc Giang
A28: 21 | B28: 64DCDT3010 | D28: Nguyễn Đức | F28: Khánh | G28: 25/11/1994 | H28: Nam | I28: 64DCDT01 | J28: Hà Đông - Hà Nội
A29: 22 | B29: 64DCDT3036 | D29: Nguyễn Thị | F29: Khánh | G29: 30/01/1995 | H29: Nữ | I29: 64DCDT01 | J29: Phúc Thọ - Hà Nội
A30: 23 | B30: 64DCDT3003 | D30: Vũ Thị | F30: Lan | G30: 10/08/1995 | H30: Nữ | I30: 64DCDT01 | J30: Hà Trung - Thanh Hóa
A31: 24 | B31: 64DCDT3026 | D31: Nguyễn Nhật | F31: Linh | G31: 19/11/1995 | H31: Nam | I31: 64DCDT01 | J31: Đống Đa - Hà Nội
A32: 25 | B32: 64DCDT3049 | D32: Vũ Chí | F32: Linh | G32: 20/11/1995 | H32: Nam | I32: 64DCDT01 | J32: Hoằng Hóa - Thanh Hóa
A33: 26 | B33: 64DCDT3030 | D33: Vũ Thị Thùy | F33: Linh | G33: 09/09/1995 | H33: Nữ | I33: 64DCDT01 | J33: Nghĩa Hưng - Nam Định | K33: Vtech
A34: 27 | B34: 64DCDT3053 | D34: Phạm Văn | F34: Long | G34: 07/11/1993 | H34: Nam | I34: 64DCDT01 | J34: Mỹ Đức - Hà Nội
A35: 28 | B35: 64DCDT3005 | D35: Phạm Văn | F35: Lộc | G35: 07/10/1994 | H35: Nam | I35: 64DCDT01 | J35: Hưng Nguyên - Nghệ An
A36: 29 | B36: 64DCDT3047 | D36: Nguyễn Đình | F36: Lực | G36: 04/03/1994 | H36: Nam | I36: 64DCDT01 | J36: Hà Đông - Hà Nội
A37: 30 | B37: 64DCDT3027 | D37: Lộ Thị | F37: Mai | G37: 04/06/1995 | H37: Nữ | I37: 64DCDT01 | J37: Hưng Hà - Thái Bình
A38: 31 | B38: 64DCDT3021 | D38: Nguyễn Công Tuấn | F38: Minh | G38: 04/04/1995 | H38: Nam | I38: 64DCDT01 | J38: Tp. Ninh Bình - Ninh Bình
A39: 32 | B39: 64DCDT3017 | D39: Nguyễn Đăng | F39: Minh | G39: 25/12/1995 | H39: Nam | I39: 64DCDT01 | J39: Chương Mỹ - Hà Nội
A40: 33 | B40: 64DCDT3007 | D40: Hồ Thị | F40: Nga | G40: 13/07/1995 | H40: Nữ | I40: 64DCDT01 | J40: Thạch Hà - Hà Tĩnh
A41: 34 | B41: 64DCDT3064 | D41: Tạ Bùi Hoàng | F41: Phong | G41: 12/12/1995 | H41: Nam | I41: 64DCDT01 | J41: Hoàng Mai - Hà Nội
A42: 35 | B42: 64DCDT3185 | D42: Lại Thanh | F42: Phương | G42: 07/03/1995 | H42: Nam | I42: 64DCDT01 | J42: Nghĩa Hưng - Nam Định
A43: 36 | B43: 64DCDT3006 | D43: Tô Minh | F43: Phương | G43: 19/09/1994 | H43: Nữ | I43: 64DCDT01 | J43: Ngọc Trạo - Thanh Hóa
A44: 37 | B44: 64DCDT3189 | D44: Nguyễn Trọng | F44: Quang | G44: 04/07/1994 | H44: Nam | I44: 64DCDT01 | J44: Uông Bí - Quảng Ninh
A45: 38 | B45: 64DCDT3201 | D45: Trần Văn | F45: Quang | G45: 29/09/1987 | H45: Nam | I45: 64DCDT01 | J45: Việt Yên - Bắc Giang
... A48: 41 | B48: 64DCDT3035 | D48: Nguyễn Xuân | F48: Sơn | G48: 26/03/1995 | H48: Nam | I48: 64DCDT01 | J48: Tam Điệp - Ninh Bình
A49: 42 | B49: 64DCDT3018 | D49: Nguyễn Văn | F49: Thanh | G49: 28/06/1995 | H49: Nam | I49: 64DCDT01 | J49: ứng Hòa - Hà Nội | K49: Vtech
A50: 43 | B50: 64DCDT3063 | D50: Lê Minh | F50: Thức | G50: 03/08/1992 | H50: Nam | I50: 64DCDT01 | J50: Khoái Châu - Hưng Yên
A51: 44 | B51: 64DCDT3019 | D51: Lê Văn | F51: Tiến | G51: 13/09/1995 | H51: Nam | I51: 64DCDT01 | J51: Hải Dương
A52: 45 | B52: 64DCDT3055 | D52: Trịnh Đức | F52: Tín | G52: 18/11/1995 | H52: Nam | I52: 64DCDT01 | J52: Thanh Trì - Hà Nội
A53: 46 | B53: 64DCDT3041 | D53: Phùng Đức | F53: Toàn | G53: 01/11/1995 | H53: Nam | I53: 64DCDT01 | J53: Thanh Sơn - Phú Thọ
A54: 47 | B54: 64DCDT3039 | D54: Đỗ Văn | F54: Tuấn | G54: 04/02/1995 | H54: Nam | I54: 64DCDT01 | J54: Kinh Môn - Hải Dương
A55: 48 | B55: 64DCDT3054 | D55: Phạm Anh | F55: Tuấn | G55: 25/06/1995 | H55: Nam | I55: 64DCDT01 | J55: Như Xuân - Thanh Hóa
A56: 49 | B56: 64DCDT3013 | D56: Nguyễn Hữu | F56: Tùng | G56: 13/03/1995 | H56: Nam | I56: 64DCDT01 | J56: Hà Đông - Hà Nội
A57: 50 | B57: 64DCDT3009 | D57: Trịnh Đình | F57: Văn | G57: 10/06/1994 | H57: Nam | I57: 64DCDT01 | J57: Thọ Xuân - Thanh Hóa
A58: 51 | B58: 64DCDT3075 | D58: Hồ Hữu Trung | F58: Anh | G58: 24/03/1995 | H58: Nam | I58: 64DCDT02 | J58: Đô lương - Nghệ An
A59: 52 | B59: 64DCDT3077 | D59: Nguyễn Tuấn | F59: Anh | G59: 18/12/1994 | H59: Nam | I59: 64DCDT02 | J59: Hà Đông - Hà Nội
A60: 53 | B60: 64DCDT3136 | D60: Nguyễn Hữu | F60: Cảnh | G60: 07/08/1995 | H60: Nam | I60: 64DCDT02 | J60: Nga Sơn - Thanh Hóa
A61: 54 | B61: 64DCDT3066 | D61: Doãn Tiến | F61: Cao | G61: 25/02/1995 | H61: Nam | I61: 64DCDT02 | J61: Quốc Oai - Hà Nội
A62: 55 | B62: 64DCDT3157 | D62: Nguyễn Đức | F62: Du | G62: 12/12/1995 | H62: Nam | I62: 64DCDT02 | J62: Bỉm Sơn - Thanh Hóa | K62: Intercom
A63: 56 | B63: 64DCDT3093 | D63: Đặng Thị Thùy | F63: Dương | G63: 25/06/1995 | H63: Nữ | I63: 64DCDT02 | J63: Chí Linh - Hải Dương
A64: 57 | B64: 64DCDT3090 | D64: Nguyễn Hoàng | F64: Dương | G64: 27/07/1995 | H64: Nam | I64: 64DCDT02 | J64: Hà Trung - Thanh Hóa
A65: 58 | B65: 64DCDT3193 | D65: Phạm Viết | F65: Giáp | G65: 16/04/1994 | H65: Nam | I65: 64DCDT02 | J65: Tân Yên - Bắc giang
A66: 59 | B66: 64DCDT3080 | D66: Trần Ngọc | F66: Hà | G66: 01/02/1995 | H66: Nam | I66: 64DCDT02 | J66: ý Yên - Nam Định | K66: ANSV
A67: 60 | B67: 64DCDT3125 | D67: Trần Thị | F67: Hà | G67: 20/05/1995 | H67: Nữ | I67: 64DCDT02 | J67: Vĩnh Lộc - Thanh Hóa
A68: 61 | B68: 64DCDT3126 | D68: Chu Đình | F68: Hải | G68: 27/03/1994 | H68: Nam | I68: 64DCDT02 | J68: ứng Hòa - Hà Nội
A69: 62 | B69: 64DCDT3102 | D69: Lê Trọng | F69: Hiếu | G69: 23/11/1995 | H69: Nam | I69: 64DCDT02 | J69: Thường Tín - Hà Nội
A70: 63 | B70: 64DCDT3172 | D70: Trần Trung | F70: Hiếu | G70: 11/08/1995 | H70: Nam | I70: 64DCDT02 | J70: TP Thái Bình - Thái Bình
A71: 64 | B71: 64DCDT3088 | D71: Nguyễn Quang | F71: Hóa | G71: 04/10/1995 | H71: Nam | I71: 64DCDT02 | J71: Thuận Thành - Bắc Ninh
A72: 65 | B72: 64DCDT3048 | D72: Đào Công | F72: Hoàn | G72: 09/03/1994 | H72: Nam | I72: 64DCDT02 | J72: Hải Hậu - Nam Định
A73: 66 | B73: 64DCDT3056 | D73: Đặng Duy | F73: Hoàng | G73: 08/01/1995 | H73: Nam | I73: 64DCDT02 | J73: Chương Mỹ - Hà Nội
A74: 67 | B74: 64DCDT3159 | D74: Hà Văn | F74: Hùng | G74: 22/09/1994 | H74: Nam | I74: 64DCDT02 | J74: Thiệu Hóa - Thanh Hóa | K74: NH Đông Á
A75: 68 | B75: 64DCDT3135 | D75: Đặng Đức | F75: Huy | G75: 20/09/1995 | H75: Nam | I75: 64DCDT02 | J75: Hoàn Kiếm - Hà Nội | K75: Ereca
A76: 69 | B76: 64DCDT3074 | D76: Nguyễn Thị | F76: Huyền | G76: 08/10/1995 | H76: Nữ | I76: 64DCDT02 | J76: Hiệp Hòa - Bắc Giang | K76: Vtech
A77: 70 | B77: 64DCDT3160 | D77: Trần Thị | F77: Hương | G77: 18/11/1995 | H77: Nữ | I77: 64DCDT02 | J77: Thanh Oai - Hà Nội | K77: VT2-VNPT
A78: 71 | B78: 64DCDT3078 | D78: Nguyễn Quốc | F78: Khánh | G78: 10/05/1995 | H78: Nam | I78: 64DCDT02 | J78: TP Bắc Giang - Bắc Giang
A79: 72 | B79: 64DCDT3100 | D79: Đặng Thị Khánh | F79: Linh | G79: 20/11/1995 | H79: Nữ | I79: 64DCDT02 | J79: Quế Võ - Bắc Ninh
A80: 73 | B80: 64DCDT3096 | D80: Nguyễn Thị | F80: Linh | G80: 03/05/1995 | H80: Nữ | I80: 64DCDT02 | J80: Nông Cống - Thanh Hóa
A81: 74 | B81: 64DCDT3205 | D81: Nguyễn Thùy | F81: Linh | G81: 18/03/1994 | H81: Nữ | I81: 64DCDT02 | J81: Bảo Yên - Lào Cai
A82: 75 | B82: 64DCDT3069 | D82: Trần Thùy | F82: Linh | G82: 04/01/1995 | H82: Nữ | I82: 64DCDT02 | J82: Đông Hưng - Thái Bình
A83: 76 | B83: 64DCDT3079 | D83: Đỗ Văn | F83: Lưỡng | G83: 27/10/1994 | H83: Nam | I83: 64DCDT02 | J83: Thanh Oai - Hà Nội
A84: 77 | B84: 64DCDT3083 | D84: Lê Văn | F84: Mạnh | G84: 15/07/1995 | H84: Nam | I84: 64DCDT02 | J84: Chương Mỹ - Hà Nội
A85: 78 | B85: 64DCDT3117 | D85: Phạm Tuấn | F85: Minh | G85: 18/06/1994 | H85: Nam | I85: 64DCDT02 | J85: Thủy Nguyên - Hải Phòng
A86: 79 | B86: 64DCDT3085 | D86: Trần Quang | F86: Minh | G86: 04/01/1994 | H86: Nam | I86: 64DCDT02 | J86: Mỹ Xá - Nam Định
A87: 80 | B87: 64DCDT3164 | D87: Đào Thị | F87: Na | G87: 28/08/1995 | H87: Nữ | I87: 64DCDT02 | J87: Nông Cống - Thanh Hóa
A88: 81 | B88: 64DCDT3153 | D88: Bùi Quang | F88: Ngọc | G88: 23/03/1994 | H88: Nam | I88: 64DCDT02 | J88: Hoài Đức - Hà Nội | K88: M1-Viettel
A89: 82 | B89: 64DCDT3089 | D89: Nguyễn Tuấn | F89: Phong | G89: 06/02/1994 | H89: Nam | I89: 64DCDT02 | J89: Cẩm Xuyên - Hà Tĩnh
A90: 83 | B90: 64DCDT3086 | D90: Đoàn Văn | F90: Phòng | G90: 27/10/1995 | H90: Nam | I90: 64DCDT02 | J90: Nam Trực - Nam Định
A91: 84 | B91: 64DCDT3099 | D91: Nguyễn Văn | F91: Phương | G91: 17/01/1995 | H91: Nam | I91: 64DCDT02 | J91: Văn Yên - Yên Bái
A92: 85 | B92: 64DCDT3076 | D92: Lê Bảo | F92: Sang | G92: 24/12/1993 | H92: Nam | I92: 64DCDT02 | J92: Triệu Sơn - Thanh Hóa
A93: 86 | B93: 64DCDT3084 | D93: Nguyễn Văn | F93: Tài | G93: 02/02/1994 | H93: Nam | I93: 64DCDT02 | J93: Quế Võ - Bắc Ninh
A94: 87 | B94: 64DCDT3065 | D94: Hoàng Trí | F94: Thảo | G94: 03/03/1994 | H94: Nam | I94: 64DCDT02 | J94: Hoài Đức - Hà Nội
A95: 88 | B95: 64DCDT3098 | D95: Trần Mạnh | F95: Thắng | G95: 17/10/1995 | H95: Nam | I95: 64DCDT02 | J95: TP Nam Định - Nam Định
A96: 89 | B96: 64DCDT3139 | D96: Đinh Thị | F96: Thủy | G96: 17/04/1995 | H96: Nữ | I96: 64DCDT02 | J96: Nho Quan - Ninh Bình
A97: 90 | B97: 64DCDT3067 | D97: Nguyễn Đắc | F97: Tiền | G97: 11/09/1995 | H97: Nam | I97: 64DCDT02 | J97: Yên Phong - Bắc Ninh
A98: 91 | B98: 64DCDT3134 | D98: Cao Văn | F98: Tiệp | G98: 20/03/1995 | H98: Nam | I98: 64DCDT02 | J98: Hoằng Hóa - Thanh Hóa
A99: 92 | B99: 64DCDT3073 | D99: Ngô Thị | F99: Tính | G99: 02/06/1994 | H99: Nữ | I99: 64DCDT02 | J99: Lương Tài - Bắc Ninh
A100: 93 | B100: 64DCDT3191 | D100: Nguyễn Trí | F100: Tú | G100: 07/01/1995 | H100: Nam | I100: 64DCDT02 | J100: Quốc Oai - Hà Nội | K100: M1-Viettel
A101: 94 | B101: 64DCDT3146 | D101: Nguyễn Anh | F101: Tùng | G101: 10/08/1995 | H101: Nam | I101: 64DCDT02 | J101: Thanh Trì - Hà Nội
A102: 95 | B102: 64DCDT3070 | D102: Nguyễn Doanh | F102: Tuyên | G102: 11/12/1994 | H102: Nam | I102: 64DCDT02 | J102: Hoàn Kiếm - Hà Nội
A103: 96 | B103: 64DCDT3082 | D103: Đoàn Thị | F103: Tuyền | G103: 14/05/1995 | H103: Nữ | I103: 64DCDT02 | J103: ý Yên - Nam Định
A104: 97 | B104: 64DCDT3196 | D104: Phạm Tuấn | F104: Anh | G104: 20/04/1995 | H104: Nam | I104: 64DCDT03 | J104: Từ Liêm - Hà Nội | K104: TMQT
A105: 98 | B105: 64DCDT3103 | D105: Trần Nam | F105: Anh | G105: 23/07/1995 | H105: Nam | I105: 64DCDT03 | J105: Hoàng Mai - Hà Nội | K105: TMQT
...
