Workbook
Name _DS: IF('66DCDT'!$A1="","",VLOOKUP('66DCDT'!$C$4&'66DCDT'!$A1,[1]Sheet1!$G$1:$M$65536,'66DCDT'!#REF!,0))
Name _DS: IF('66DCTM'!$A1="","",VLOOKUP('66DCTM'!$C$4&'66DCTM'!$A1,[1]Sheet1!$G$1:$M$65536,'66DCTM'!#REF!,0))
Name _DS: IF('66DCHT'!$A1="","",VLOOKUP('66DCHT'!$C$4&'66DCHT'!$A1,[1]Sheet1!$G$1:$M$65536,'66DCHT'!#REF!,0))
Name _DS: IF(#REF!="","",VLOOKUP(#REF!&#REF!,[1]Sheet1!$G$1:$M$65536,#REF!,0))
Name _Loc: IF('65DCDT23'!$A1="","",VLOOKUP('65DCDT23'!$A1,[2]DIEM!$A:$CT,'65DCDT23'!A$1,0))
Name _Loc: IF('65DCHT21'!$A1="","",VLOOKUP('65DCHT21'!$A1,[2]DIEM!$A:$CT,'65DCHT21'!A$1,0))
Name _Loc: IF('65DCHT22'!$A1="","",VLOOKUP('65DCHT22'!$A1,[2]DIEM!$A:$CT,'65DCHT22'!A$1,0))
Name _Loc: IF('65DCHT23'!$A1="","",VLOOKUP('65DCHT23'!$A1,[2]DIEM!$A:$CT,'65DCHT23'!A$1,0))
Name _Loc: IF('66DCDT21'!$A1="","",VLOOKUP('66DCDT21'!$A1,[2]DIEM!$A:$CT,'66DCDT21'!A$1,0))
Name _Loc: IF('66DCDT22'!$A1="","",VLOOKUP('66DCDT22'!$A1,[2]DIEM!$A:$CT,'66DCDT22'!A$1,0))
Name _Loc: IF('66DCDT23'!$A1="","",VLOOKUP('66DCDT23'!$A1,[2]DIEM!$A:$CT,'66DCDT23'!A$1,0))
Name _Loc: IF('66DCTM21'!$A1="","",VLOOKUP('66DCTM21'!$A1,[2]DIEM!$A:$CT,'66DCTM21'!A$1,0))
Name _Loc: IF('66DCTM22'!$A1="","",VLOOKUP('66DCTM22'!$A1,[2]DIEM!$A:$CT,'66DCTM22'!A$1,0))
Name _Loc: IF('66DCTM23'!$A1="","",VLOOKUP('66DCTM23'!$A1,[2]DIEM!$A:$CT,'66DCTM23'!A$1,0))
Name _Loc: IF('66DCHT21'!$A1="","",VLOOKUP('66DCHT21'!$A1,[2]DIEM!$A:$CT,'66DCHT21'!A$1,0))
Name _Loc: IF('66DCHT22'!$A1="","",VLOOKUP('66DCHT22'!$A1,[2]DIEM!$A:$CT,'66DCHT22'!A$1,0))
Name _Loc: IF('66DCHT23'!$A1="","",VLOOKUP('66DCHT23'!$A1,[2]DIEM!$A:$CT,'66DCHT23'!A$1,0))
Name _STC: IFERROR(VALUE(MID('65DCDT23'!A1048576,LEN('65DCDT23'!A1048576)-1,1)),"")
Name _STC: IFERROR(VALUE(MID('65DCHT21'!A1048576,LEN('65DCHT21'!A1048576)-1,1)),"")
Name _STC: IFERROR(VALUE(MID('65DCHT22'!A1048576,LEN('65DCHT22'!A1048576)-1,1)),"")
Name _STC: IFERROR(VALUE(MID('65DCHT23'!A1048576,LEN('65DCHT23'!A1048576)-1,1)),"")
Name _STC: IFERROR(VALUE(MID('66DCDT21'!A1048576,LEN('66DCDT21'!A1048576)-1,1)),"")
Name _STC: IFERROR(VALUE(MID('66DCDT22'!A1048576,LEN('66DCDT22'!A1048576)-1,1)),"")
Name _STC: IFERROR(VALUE(MID('66DCDT23'!A1048576,LEN('66DCDT23'!A1048576)-1,1)),"")
Name _STC: IFERROR(VALUE(MID('66DCTM21'!A1048576,LEN('66DCTM21'!A1048576)-1,1)),"")
Name _STC: IFERROR(VALUE(MID('66DCTM22'!A1048576,LEN('66DCTM22'!A1048576)-1,1)),"")
Name _STC: IFERROR(VALUE(MID('66DCTM23'!A1048576,LEN('66DCTM23'!A1048576)-1,1)),"")
Name _STC: IFERROR(VALUE(MID('66DCHT21'!A1048576,LEN('66DCHT21'!A1048576)-1,1)),"")
Name _STC: IFERROR(VALUE(MID('66DCHT22'!A1048576,LEN('66DCHT22'!A1048576)-1,1)),"")
Name _STC: IFERROR(VALUE(MID('66DCHT23'!A1048576,LEN('66DCHT23'!A1048576)-1,1)),"")
Name _stt: IF('66DCDT'!#REF!="","",IF('66DCDT'!#REF!+1>'66DCDT'!$J$1,"",'66DCDT'!#REF!+1))
Name _stt: IF('66DCTM'!#REF!="","",IF('66DCTM'!#REF!+1>'66DCTM'!$J$1,"",'66DCTM'!#REF!+1))
Name _stt: IF('66DCHT'!#REF!="","",IF('66DCHT'!#REF!+1>'66DCHT'!$J$1,"",'66DCHT'!#REF!+1))
Name _stt: IF(#REF!="","",IF(#REF!+1>#REF!,"",#REF!+1))
Name _TenHP: IF('65DCDT23'!A1048571="","",INDEX([2]DIEM!$1:$1048576,10,MATCH('65DCDT23'!A1048571,[2]DIEM!1048568:1048568,0)))
Name _TenHP: IF('65DCHT21'!A1048571="","",INDEX([2]DIEM!$1:$1048576,10,MATCH('65DCHT21'!A1048571,[2]DIEM!1048568:1048568,0)))
Name _TenHP: IF('65DCHT22'!A1048571="","",INDEX([2]DIEM!$1:$1048576,10,MATCH('65DCHT22'!A1048571,[2]DIEM!1048568:1048568,0)))
Name _TenHP: IF('65DCHT23'!A1048571="","",INDEX([2]DIEM!$1:$1048576,10,MATCH('65DCHT23'!A1048571,[2]DIEM!1048568:1048568,0)))
Name _TenHP: IF('66DCDT21'!A1048571="","",INDEX([2]DIEM!$1:$1048576,10,MATCH('66DCDT21'!A1048571,[2]DIEM!1048568:1048568,0)))
Name _TenHP: IF('66DCDT22'!A1048571="","",INDEX([2]DIEM!$1:$1048576,10,MATCH('66DCDT22'!A1048571,[2]DIEM!1048568:1048568,0)))
Name _TenHP: IF('66DCDT23'!A1048571="","",INDEX([2]DIEM!$1:$1048576,10,MATCH('66DCDT23'!A1048571,[2]DIEM!1048568:1048568,0)))
Name _TenHP: IF('66DCTM21'!A1048571="","",INDEX([2]DIEM!$1:$1048576,10,MATCH('66DCTM21'!A1048571,[2]DIEM!1048568:1048568,0)))
Name _TenHP: IF('66DCTM22'!A1048571="","",INDEX([2]DIEM!$1:$1048576,10,MATCH('66DCTM22'!A1048571,[2]DIEM!1048568:1048568,0)))
Name _TenHP: IF('66DCTM23'!A1048571="","",INDEX([2]DIEM!$1:$1048576,10,MATCH('66DCTM23'!A1048571,[2]DIEM!1048568:1048568,0)))
Name _TenHP: IF('66DCHT21'!A1048571="","",INDEX([2]DIEM!$1:$1048576,10,MATCH('66DCHT21'!A1048571,[2]DIEM!1048568:1048568,0)))
Name _TenHP: IF('66DCHT22'!A1048571="","",INDEX([2]DIEM!$1:$1048576,10,MATCH('66DCHT22'!A1048571,[2]DIEM!1048568:1048568,0)))
Name _TenHP: IF('66DCHT23'!A1048571="","",INDEX([2]DIEM!$1:$1048576,10,MATCH('66DCHT23'!A1048571,[2]DIEM!1048568:1048568,0)))
Name a: IF(#REF!="","",VLOOKUP(#REF!&#REF!,[1]Sheet1!$G$1:$M$65536,#REF!,0))
Name a: IF(#REF!="","",VLOOKUP(#REF!&#REF!,[1]Sheet1!$G$1:$M$65536,#REF!,0))
Name a: IF(#REF!="","",VLOOKUP(#REF!&#REF!,[1]Sheet1!$G$1:$M$65536,#REF!,0))
Name a: IF(#REF!="","",VLOOKUP(#REF!&#REF!,[1]Sheet1!$G$1:$M$65536,#REF!,0))

Sheet 66DCDT21
X1: BẢNG ĐIỂM TOÀN KHÓA XÉT ĐIỀU KIỆN NHẬN ĐỒ ÁN/KHÓA LUẬN TỐT NGHIỆP
V2: LỚP 66DCDT21
A4: STT | B4: Mã sinh viên | D4: Họ đệm | E4: Tên | F4: Ngày sinh | G4: Tổng số TC | H4: Số tín chỉ tính điểm | I4: Số tín chỉ tích lũy | J4: Điểm TBC (hệ 10) | K4: Điểm TBC (hệ 4) | L4: Số môn không đạt | M4: Số Tín chỉ không đạt | N4: Tỷ lệ % không đạt | O4: Đề nghị xét | P4: DC2DT55_Anten và truyền sóng (3) | Q4: DC3DT81_Công nghệ Multimedia (2) | R4: DC3DT82_Công nghệ vi điện tử (2) | S4: DC2DT45_Cơ sở điều khiển tự động (3) | T4: DC3DT34_Cơ sở truyền số liệu (2) | U4: DC2DT51_Điện tử số (3) | V4: DC2DT26_Đo lường điện tử (2) | W4: DC2DT24_Đồ án Điện tử (2) | X4: DC3DT70_Đồ án Viễn thông (2) | Y4: DC1LL04_Đường lối cách mạng của Đảng cộng sản Việt Nam (3) | Z4: DC3DT63_Hệ thống viễn thông (3) | AA4: DC2DT57_Kiến trúc máy tính (2) | AB4: DC2DT29_Kỹ thuật vi xử lý và ứng dụng (3) | AC4: DC2DT23_Lập trình C/C++ (4) | AD4: DC2DT41_Linh kiện điện tử (3) | AE4: DC2DT27_Lý thuyết mạch (4) | AF4: DC2DT43_Lý thuyết truyền tin (3) | AG4: DC1CB20_Lý thuyết xác suất - thống kê (2) | AH4: DC3DT36_Mạng viễn thông (3) | AI4: DC1TH48_Matlab và ứng dụng (2) | AJ4: DC3DT39_Mô phỏng hệ thống truyền thông (2) | AK4: DC3DT37_Ứng dụng điện tử truyền thông trong ITS (3) | AL4: DC1LL01_Những nguyên lý cơ bản của CN Mác - Lênin 1 (2) | AM4: DC1LL02_Những nguyên lý cơ bản của CN Mác - Lênin 2 (3) | AN4: DC1LL05_Pháp luật Việt Nam đại cương (2) | AO4: DC3DT73_Thông tin di động (3) | AP4: DC3DT71_Thông tin số (3) | AQ4: DC3DT72_Thông tin vô tuyến (3) | AR4: DC4DT21_Thực tập Điện tử cơ bản (3) | AS4: DC4DT23_Thực tập Điện tử viễn thông (3) | AT4: DC4DT22_Thực tập Lắp ráp điện tử (2) | AU4: DC4DT71_Thực tập tốt nghiệp (7) | AV4: DC1CB35_Tiếng anh (3) | AW4: DC1TT42_Tin học đại cương (3) | AX4: DC1CB11_Toán 1 (4) | AY4: DC1CB41_Toán 2 (2) | AZ4: DC1CB57_Toán 3 (3) | BA4: DC2DT28_Trường điện từ (2) | BB4: DC1LL03_Tư tưởng Hồ Chí Minh (2) | BC4: DC1DT21_Vật lý đại cương 1 (3) | BD4: DC1DT22_Vật lý đại cương 2 (2) | BE4: DC3DT35_Xử lý ảnh số và video số (3) | BF4: DC2DT65_Xử lý tín hiệu số (4)
P5: 3 | Q5: 2 | R5: 2 | S5: 3 | T5: 2 | U5: 3 | V5: 2 | W5: 2 | X5: 2 | Y5: 3 | Z5: 3 | AA5: 2 | AB5: 3 | AC5: 4 | AD5: 3 | AE5: 4 | AF5: 3 | AG5: 2 | AH5: 3 | AI5: 2 | AJ5: 2 | AK5: 3 | AL5: 2 | AM5: 3 | AN5: 2 | AO5: 3 | AP5: 3 | AQ5: 3 | AR5: 3 | AS5: 3 | AT5: 2 | AU5: 7 | AV5: 3 | AW5: 3 | AX5: 4 | AY5: 2 | AZ5: 3 | BA5: 2 | BB5: 2 | BC5: 3 | BD5: 2 | BE5: 3 | BF5: 4
A6: 1 | B6: 66DCDT20982 | C6: =D6&" "&E6 -> KHUẤT NGỌC ANH | D6: KHUẤT NGỌC | E6: ANH | F6: 35649 | G6: 120 | H6: 120 | I6: 120 | J6: 6.855 | K6: 2.6583333 | L6: 0 | M6: 0 | N6: 0 | O6: Đ | P6: 8.2 | Q6: 6.2 | R6: 8.3 | S6: 5.9 | T6: 6.8 | U6: 5.1 | V6: 5.8 | W6: 8.3 | X6: 8 | Y6: 8.5 | Z6: 7.5 | AA6: 7.5 | AB6: 5.6 | AC6: 7.5 | AD6: 5.3 | AE6: 4.5 | AF6: 4.1 | AG6: 8.2 | AH6: 7.7 | AI6: 8.1 | AJ6: 8.6 | AK6: 7 | AL6: 6.5 | AM6: 8.6 | AN6: 4.8 | AO6: 8 | AP6: 4.5 | AQ6: 6.1 | AR6: 8 | AS6: 9.1 | AT6: 8 | AU6: 9.1 | AV6: 4.3 | AW6: 4.9 | AX6: 6.3 | AY6: 5.3 | AZ6: 6.6 | BA6: 6.8 | BB6: 8.2 | BC6: 5.5 | BD6: 8.3 | BE6: 6.4 | BF6: 6.9 | BG6: =VLOOKUP(B6,'66DCDT'!$C$10:$G$58,3,0) -> 08/07/1997
A7: 2 | B7: 66DCDT20572 | D7: BÙI XUÂN | E7: BẮC | F7: 28/03/1997 | G7: 120 | H7: 118 | I7: 116 | J7: 5.9364407 | K7: 2.0254237 | L7: 2 | M7: 4 | N7: 0.033333333 | O7: Đ | P7: 4.8 | R7: 4.5 | S7: 5.9 | T7: 6.3 | U7: 4.2 | V7: 4.8 | W7: 6.3 | X7: 5 | Y7: 6.7 | Z7: 4.5 | AA7: 8.1 | AB7: 5.9 | AC7: 7.2 | AD7: 6.8 | AE7: 4.6 | AF7: 7.3 | AG7: 2.6 | AH7: 5 | AI7: 4.9 | AJ7: 6.6 | AK7: 5.2 | AL7: 4.3 | AM7: 5.7 | AN7: 4.5 | AO7: 6.4 | AP7: 4.8 | AQ7: 5.8 | AR7: 7.3 | AS7: 8.7 | AT7: 7.3 | AU7: 8.7 | AV7: 4.8 | AW7: 4.3 | AX7: 4.2 | AY7: 8.4 | AZ7: 7.7 | BA7: 5.5 | BB7: 4.5 | BC7: 5.2 | BD7: 8.2 | BE7: 4.6 | BF7: 6.8 | BG7: =VLOOKUP(B7,'66DCDT'!$C$10:$G$58,3,0) -> #N/A
A8: 3 | B8: 66DCDT20298 | D8: PHAN THỊ | E8: BÌNH | F8: 19/09/1997 | G8: 120 | H8: 120 | I8: 120 | J8: 6.6658333 | K8: 2.5541667 | L8: 0 | M8: 0 | N8: 0 | O8: Đ | P8: 6.2 | Q8: 4.3 | R8: 8.7 | S8: 7 | T8: 6.9 | U8: 5.8 | V8: 8.3 | W8: 8 | X8: 8 | Y8: 5.9 | Z8: 5.1 | AA8: 7.5 | AB8: 5.6 | AC8: 4.8 | AD8: 4.4 | AE8: 5 | AF8: 5.3 | AG8: 8.2 | AH8: 6.1 | AI8: 6.4 | AJ8: 6.5 | AK8: 7.7 | AL8: 6.8 | AM8: 4.6 | AN8: 6.8 | AO8: 8.6 | AP8: 6.6 | AQ8: 6.1 | AR8: 9 | AS8: 8.7 | AT8: 8 | AU8: 8.7 | AV8: 5.6 | AW8: 5.3 | AX8: 5.6 | AY8: 4.6 | AZ8: 5.8 | BA8: 6.8 | BB8: 7.8 | BC8: 8.4 | BD8: 9 | BE8: 6 | BF8: 7.7 | BG8: =VLOOKUP(B8,'66DCDT'!$C$10:$G$58,3,0) -> #N/A
A9: 4 | B9: 66DCDT20079 | D9: PHẠM VĂN | E9: DIỆN | F9: 28/10/1996 | G9: 120 | H9: 118 | I9: 116 | J9: 6.6584746 | K9: 2.5338983 | L9: 2 | M9: 4 | N9: 0.033333333 | O9: Đ | P9: 6 | R9: 2.9 | S9: 4.8 | T9: 7.5 | U9: 6.1 | V9: 7 | W9: 9 | X9: 7 | Y9: 6.4 | Z9: 5.9 | AA9: 6.1 | AB9: 9.3 | AC9: 6.4 | AD9: 5.6 | AE9: 6.2 | AF9: 8.2 | AG9: 4.6 | AH9: 6.6 | AI9: 6.9 | AJ9: 7.8 | AK9: 6.1 | AL9: 6.3 | AM9: 7.3 | AN9: 6.5 | AO9: 6.9 | AP9: 5.1 | AQ9: 6.7 | AR9: 6.6 | AS9: 9.1 | AT9: 7.7 | AU9: 9.1 | AV9: 4.6 | AW9: 6.8 | AX9: 5.3 | AY9: 5 | AZ9: 8.9 | BA9: 5.9 | BB9: 7.8 | BC9: 6.7 | BD9: 5.9 | BE9: 4.5 | BF9: 7 | BG9: =VLOOKUP(B9,'66DCDT'!$C$10:$G$58,3,0) -> #N/A
A10: 5 | B10: 66DCDT20389 | D10: VŨ TIẾN | E10: DƯƠNG | F10: 35431 | G10: 120 | H10: 118 | I10: 116 | J10: 6.1008475 | K10: 2.1483051 | L10: 2 | M10: 4 | N10: 0.033333333 | O10: Đ | P10: 5.9 | R10: 3.8 | S10: 6 | T10: 6 | U10: 7.6 | V10: 5.4 | W10: 8 | X10: 7 | Y10: 5.1 | Z10: 5.4 | AA10: 7.9 | AB10: 4.3 | AC10: 7.1 | AD10: 4.3 | AE10: 4.7 | AF10: 8.2 | AG10: 5.4 | AH10: 5.9 | AI10: 6.6 | AJ10: 5.6 | AK10: 6.1 | AL10: 6.4 | AM10: 5.6 | AN10: 5.8 | AO10: 7.7 | AP10: 4.5 | AQ10: 4.4 | AR10: 8.3 | AS10: 8.2 | AT10: 8 | AU10: 8.2 | AV10: 4 | AW10: 4.3 | AX10: 5.3 | AY10: 6.3 | AZ10: 5.4 | BA10: 5 | BB10: 6.9 | BC10: 5 | BD10: 5.2 | BE10: 6.7 | BF10: 6.7 | BG10: =VLOOKUP(B10,'66DCDT'!$C$10:$G$58,3,0) -> #N/A
A11: 6 | B11: 66DCDT20957 | C11: =D11&" "&E11 -> TRỊNH XUÂN ĐỨC | D11: TRỊNH XUÂN | E11: ĐỨC | F11: 35772 | G11: 120 | H11: 118 | I11: 118 | J11: 6.3923729 | K11: 2.3347458 | L11: 1 | M11: 2 | N11: 0.016666667 | O11: Đ | P11: 5.7 | R11: 4.3 | S11: 6.6 | T11: 6.1 | U11: 5.3 | V11: 6.3 | W11: 7.3 | X11: 9.9 | Y11: 4.3 | Z11: 7.7 | AA11: 7.7 | AB11: 6.1 | AC11: 6.5 | AD11: 6.8 | AE11: 6.4 | AF11: 8.5 | AG11: 5.7 | AH11: 5.9 | AI11: 5.7 | AJ11: 7.4 | AK11: 5.2 | AL11: 4.9 | AM11: 7.7 | AN11: 5.1 | AO11: 5.7 | AP11: 5.2 | AQ11: 8.3 | AR11: 7.6 | AS11: 8.2 | AT11: 7.3 | AU11: 8.2 | AV11: 5.3 | AW11: 8.9 | AX11: 4.6 | AY11: 7.1 | AZ11: 4 | BA11: 6.6 | BB11: 6.9 | BC11: 4.3 | BD11: 4.9 | BE11: 5 | BF11: 5.9 | BG11: =VLOOKUP(B11,'66DCDT'!$C$10:$G$58,3,0) -> 12/08/1997
A12: 7 | B12: 66DCDT23133 | D12: ĐỖ VIẾT | E12: ĐẠI | F12: 21/10/1997 | G12: 120 | H12: 118 | I12: 116 | J12: 5.9 | K12: 2.0508475 | L12: 2 | M12: 4 | N12: 0.033333333 | O12: Đ | P12: 5.8 | R12: 3.6 | S12: 5 | T12: 5.7 | U12: 4 | V12: 6.2 | W12: 8 | X12: 7.9 | Y12: 5.3 | Z12: 4.4 | AA12: 8.6 | AB12: 4.1 | AC12: 4.5 | AD12: 4.3 | AE12: 5.3 | AF12: 4.5 | AG12: 5.4 | AH12: 7.1 | AI12: 6 | AJ12: 6.2 | AK12: 5.9 | AL12: 4.2 | AM12: 5.1 | AN12: 6.2 | AO12: 5.6 | AP12: 4.6 | AQ12: 7.1 | AR12: 7.3 | AS12: 8.7 | AT12: 8.3 | AU12: 8.7 | AV12: 4.5 | AW12: 6.6 | AX12: 6.3 | AY12: 4.9 | AZ12: 5.6 | BA12: 5.9 | BB12: 6.6 | BC12: 6.9 | BD12: 4.9 | BE12: 6.7 | BF12: 4.1 | BG12: =VLOOKUP(B12,'66DCDT'!$C$10:$G$58,3,0) -> #N/A
A13: 8 | B13: 66DCDT20212 | C13: =D13&" "&E13 -> KIỀU THỊ HIỀN | D13: KIỀU THỊ | E13: HIỀN | F13: 30/05/1997 | G13: 120 | H13: 118 | I13: 118 | J13: 8.1830508 | K13: 3.4322034 | L13: 1 | M13: 2 | N13: 0.016666667 | O13: Đ | P13: 8.2 | R13: 8.9 | S13: 8.9 | T13: 7.6 | U13: 8.6 | V13: 9.1 | W13: 8.3 | X13: 8 | Y13: 8.8 | Z13: 7.3 | AA13: 8.6 | AB13: 8.8 | AC13: 8.4 | AD13: 7.7 | AE13: 6.7 | AF13: 8.7 | AG13: 9.8 | AH13: 7.9 | AI13: 8.7 | AJ13: 6.7 | AK13: 7.7 | AL13: 7.5 | AM13: 7.9 | AN13: 7.5 | AO13: 7 | AP13: 7.5 | AQ13: 6.7 | AR13: 6.6 | AS13: 9.6 | AT13: 8.3 | AU13: 9.6 | AV13: 6.2 | AW13: 7.4 | AX13: 9.8 | AY13: 8.3 | AZ13: 8.3 | BA13: 7.5 | BB13: 8.8 | BC13: 9.4 | BD13: 8.6 | BE13: 8 | BF13: 8.2 | BG13: =VLOOKUP(B13,'66DCDT'!$C$10:$G$58,3,0) -> 30/05/1997
A14: 9 | B14: 66DCDT20607 | D14: HOÀNG VĂN | E14: HIỆU | F14: 14/05/1996 | G14: 120 | H14: 118 | I14: 118 | J14: 5.9915254 | K14: 2.1398305 | L14: 1 | M14: 2 | N14: 0.016666667 | O14: Đ | P14: 6.7 | R14: 4.3 | S14: 6 | T14: 6.5 | U14: 4.6 | V14: 5.5 | W14: 8.3 | X14: 6.9 | Y14: 7 | Z14: 5.1 | AA14: 6.3 | AB14: 4.3 | AC14: 6.1 | AD14: 4.4 | AE14: 5.6 | AF14: 4.2 | AG14: 9.1 | AH14: 5.6 | AI14: 6.3 | AJ14: 7.8 | AK14: 5 | AL14: 5.9 | AM14: 7.3 | AN14: 6.5 | AO14: 5.7 | AP14: 4.9 | AQ14: 4.2 | AR14: 7.3 | AS14: 7.3 | AT14: 8.7 | AU14: 7.3 | AV14: 4.6 | AW14: 5.8 | AX14: 6.7 | AY14: 8.6 | AZ14: 5.2 | BA14: 4.1 | BB14: 5.7 | BC14: 5.5 | BD14: 6.1 | BE14: 4.6 | BF14: 5.8 | BG14: =VLOOKUP(B14,'66DCDT'!$C$10:$G$58,3,0) -> #N/A
A15: 10 | B15: 66DCDT20950 | C15: =D15&" "&E15 -> ĐỖ HOÀNH HUỲNH | D15: ĐỖ HOÀNH | E15: HUỲNH | F15: 35431 | G15: 120 | H15: 118 | I15: 118 | J15: 6.0805085 | K15: 2.1694915 | L15: 1 | M15: 2 | N15: 0.016666667 | O15: Đ | P15: 4.2 | R15: 6.6 | S15: 4.1 | T15: 4.9 | U15: 5.9 | V15: 4 | W15: 8.1 | X15: 5 | Y15: 5 | Z15: 6.4 | AA15: 4.9 | AB15: 7.5 | AC15: 9.2 | AD15: 5.9 | AE15: 5.2 | AF15: 5.9 | AG15: 6.8 | AH15: 6.6 | AI15: 4.1 | AJ15: 6.2 | AK15: 5.2 | AL15: 4.1 | AM15: 5.8 | AN15: 6.1 | AO15: 5.7 | AP15: 6.7 | AQ15: 4.8 | AR15: 6.9 | AS15: 8.7 | AT15: 8 | AU15: 8.7 | AV15: 5.6 | AW15: 6.9 | AX15: 4.2 | AY15: 6.5 | AZ15: 7.1 | BA15: 4.1 | BB15: 7.4 | BC15: 5.2 | BD15: 5.9 | BE15: 5.5 | BF15: 5 | BG15: =VLOOKUP(B15,'66DCDT'!$C$10:$G$58,3,0) -> 01/01/1997
A16: 11 | B16: 66DCDT20675 | C16: =D16&" "&E16 -> BÙI HUY KHANG | D16: BÙI HUY | E16: KHANG | F16: 27/01/1997 | G16: 120 | H16: 118 | I16: 118 | J16: 6.2711864 | K16: 2.309322 | L16: 1 | M16: 2 | N16: 0.016666667 | O16: Đ | P16: 4.5 | R16: 7 | S16: 4.2 | T16: 6.6 | U16: 4 | V16: 6.1 | W16: 7.3 | X16: 6.9 | Y16: 5.9 | Z16: 6.6 | AA16: 7.5 | AB16: 5.6 | AC16: 4.6 | AD16: 5.6 | AE16: 6.9 | AF16: 8.5 | AG16: 6.6 | AH16: 6.6 | AI16: 6.8 | AJ16: 6.9 | AK16: 6.8 | AL16: 4.9 | AM16: 7.6 | AN16: 5.1 | AO16: 5 | AP16: 5.1 | AQ16: 4.6 | AR16: 7 | AS16: 8.7 | AT16: 8 | AU16: 8.7 | AV16: 4.1 | AW16: 7.2 | AX16: 6 | AY16: 5.6 | AZ16: 5.4 | BA16: 7 | BB16: 7.6 | BC16: 5.9 | BD16: 5.3 | BE16: 6.4 | BF16: 5.7 | BG16: =VLOOKUP(B16,'66DCDT'!$C$10:$G$58,3,0) -> 27/01/1997
A17: 12 | B17: 66DCDT20847 | C17: =D17&" "&E17 -> NGUYỄN ĐÌNH KHÁNH | D17: NGUYỄN ĐÌNH | E17: KHÁNH | F17: 28/02/1997 | G17: 120 | H17: 120 | I17: 120 | J17: 7.1683333 | K17: 2.8458333 | L17: 0 | M17: 0 | N17: 0 | O17: Đ | P17: 6.6 | Q17: 4.6 | R17: 7.8 | S17: 4.3 | T17: 7.7 | U17: 5.1 | V17: 8.1 | W17: 9 | X17: 9.9 | Y17: 8.8 | Z17: 5.2 | AA17: 8.9 | AB17: 8.6 | AC17: 7.6 | AD17: 5 | AE17: 4.5 | AF17: 8.6 | AG17: 7.7 | AH17: 8.2 | AI17: 8.9 | AJ17: 8.7 | AK17: 8.4 | AL17: 6.5 | AM17: 8.6 | AN17: 6.5 | AO17: 4.5 | AP17: 5 | AQ17: 4.6 | AR17: 8.3 | AS17: 9.1 | AT17: 7 | AU17: 9.1 | AV17: 9 | AW17: 9 | AX17: 4.2 | AY17: 8 | AZ17: 6.3 | BA17: 5.7 | BB17: 7.1 | BC17: 7 | BD17: 8.9 | BE17: 4.9 | BF17: 8.5 | BG17: =VLOOKUP(B17,'66DCDT'!$C$10:$G$58,3,0) -> 28/02/1997
A18: 13 | B18: 66DCDT23170 | C18: =D18&" "&E18 -> LÊ VĂN KIÊN | D18: LÊ VĂN | E18: KIÊN | F18: 35530 | G18: 120 | H18: 118 | I18: 118 | J18: 6.2389831 | K18: 2.2881356 | L18: 1 | M18: 2 | N18: 0.016666667 | O18: Đ | P18: 4.9 | R18: 6.9 | S18: 4.3 | T18: 6.4 | U18: 5.7 | V18: 7.1 | W18: 7.3 | X18: 7.1 | Y18: 8.1 | Z18: 4.5 | AA18: 6.5 | AB18: 7.3 | AC18: 6.5 | AD18: 8.4 | AE18: 5.3 | AF18: 7.8 | AG18: 6.4 | AH18: 6.5 | AI18: 5.9 | AJ18: 7 | AK18: 5 | AL18: 6.9 | AM18: 8.2 | AN18: 5.8 | AO18: 6.3 | AP18: 8 | AQ18: 4.4 | AR18: 7.3 | AS18: 6 | AT18: 7.7 | AU18: 6 | AV18: 7 | AW18: 5 | AX18: 7.7 | AY18: 4.5 | AZ18: 4.5 | BA18: 4.3 | BB18: 8 | BC18: 5.9 | BD18: 5.9 | BE18: 5.7 | BF18: 4.1 | BG18: =VLOOKUP(B18,'66DCDT'!$C$10:$G$58,3,0) -> 04/10/1997
A19: 14 | B19: 66DCDT23131 | C19: =D19&" "&E19 -> NGUYỄN THỊ LƯƠNG | D19: NGUYỄN THỊ | E19: LƯƠNG | F19: 35674 | G19: 120 | H19: 118 | I19: 118 | J19: 7.229661 | K19: 2.8898305 | L19: 1 | M19: 2 | N19: 0.016666667 | O19: Đ | P19: 8.9 | R19: 8.5 | S19: 7.6 | T19: 7 | U19: 7.1 | V19: 6.2 | W19: 8 | X19: 7 | Y19: 8.5 | Z19: 6.8 | AA19: 7.5 | AB19: 5.5 | AC19: 7.5 | AD19: 5.5 | AE19: 7.3 | AF19: 4.9 | AG19: 8.6 | AH19: 8.2 | AI19: 7.3 | AJ19: 7.6 | AK19: 6.3 | AL19: 8.2 | AM19: 8.6 | AN19: 7.5 | AO19: 7.9 | AP19: 8.2 | AQ19: 7.8 | AR19: 6.9 | AS19: 8.2 | AT19: 8.7 | AU19: 6.8 | AV19: 5.6 | AW19: 6.6 | AX19: 6.7 | AY19: 7.3 | AZ19: 6.9 | BA19: 7.8 | BB19: 9 | BC19: 7 | BD19: 9.1 | BE19: 6.9 | BF19: 4.8 | BG19: =VLOOKUP(B19,'66DCDT'!$C$10:$G$58,3,0) -> 09/01/1997
A20: 15 | B20: 66DCDT20584 | C20: =D20&" "&E20 -> DƯƠNG ĐẠI NGHĨA | D20: DƯƠNG ĐẠI | E20: NGHĨA | F20: 26/02/1997 | G20: 120 | H20: 118 | I20: 118 | J20: 6.9686441 | K20: 2.7584746 | L20: 1 | M20: 2 | N20: 0.016666667 | O20: Đ | P20: 6.4 | R20: 7.5 | S20: 5.9 | T20: 7.6 | U20: 6.5 | V20: 6.7 | W20: 7.3 | X20: 7.9 | Y20: 7.8 | Z20: 6.6 | AA20: 8 | AB20: 6.2 | AC20: 5.4 | AD20: 6.5 | AE20: 5.8 | AF20: 8 | AG20: 7.3 | AH20: 6.4 | AI20: 6.5 | AJ20: 6.9 | AK20: 5.2 | AL20: 7.8 | AM20: 8.1 | AN20: 6.2 | AO20: 6.4 | AP20: 5.8 | AQ20: 8.6 | AR20: 7.6 | AS20: 8.2 | AT20: 8 | AU20: 8.2 | AV20: 4.1 | AW20: 6.1 | AX20: 6 | AY20: 7 | AZ20: 8.4 | BA20: 6.8 | BB20: 8.5 | BC20: 7.4 | BD20: 6.8 | BE20: 8.1 | BF20: 7.4 | BG20: =VLOOKUP(B20,'66DCDT'!$C$10:$G$58,3,0) -> 26/02/1997
A21: 16 | B21: 66DCDT20550 | C21: =D21&" "&E21 -> NGUYỄN KHẮC NGHĨA | D21: NGUYỄN KHẮC | E21: NGHĨA | F21: 31/08/1996 | G21: 120 | H21: 118 | I21: 118 | J21: 6.6279661 | K21: 2.5254237 | L21: 1 | M21: 2 | N21: 0.016666667 | O21: Đ | P21: 4.5 | R21: 6.6 | S21: 4.7 | T21: 7.5 | U21: 5.2 | V21: 5 | W21: 8.3 | X21: 7.9 | Y21: 7.1 | Z21: 6.8 | AA21: 7.5 | AB21: 5.5 | AC21: 6.1 | AD21: 5.6 | AE21: 5.2 | AF21: 4.1 | AG21: 8.2 | AH21: 8.9 | AI21: 6.1 | AJ21: 7.2 | AK21: 7.2 | AL21: 6.7 | AM21: 8 | AN21: 6.1 | AO21: 5.8 | AP21: 5.4 | AQ21: 6.6 | AR21: 8.6 | AS21: 9.1 | AT21: 8 | AU21: 9.1 | AV21: 4.2 | AW21: 7.6 | AX21: 5.3 | AY21: 5.5 | AZ21: 7.1 | BA21: 5.4 | BB21: 7.2 | BC21: 7.3 | BD21: 7 | BE21: 6.7 | BF21: 5.9 | BG21: =VLOOKUP(B21,'66DCDT'!$C$10:$G$58,3,0) -> 31/08/1996
A22: 17 | B22: 66DCDT20498 | D22: TRƯƠNG CÔNG | E22: NGUYÊN | F22: 18/11/1997 | G22: 120 | H22: 118 | I22: 116 | J22: 6.1237288 | K22: 2.2161017 | L22: 2 | M22: 4 | N22: 0.033333333 | O22: Đ | P22: 5.8 | R22: 7.1 | S22: 5.8 | T22: 5.3 | U22: 5.3 | V22: 5.9 | W22: 7.9 | X22: 0 | Y22: 4.1 | Z22: 7.4 | AA22: 6.1 | AB22: 5.9 | AC22: 4.5 | AD22: 5.4 | AE22: 5.3 | AF22: 5.3 | AG22: 8.9 | AH22: 7.1 | AI22: 6 | AJ22: 6.9 | AK22: 5.2 | AL22: 8.1 | AM22: 7.4 | AN22: 5.5 | AO22: 5.6 | AP22: 8.6 | AQ22: 7.7 | AR22: 7.3 | AS22: 7.3 | AT22: 7.3 | AU22: 7.3 | AV22: 4.1 | AW22: 5.2 | AX22: 8.1 | AY22: 4.6 | AZ22: 6.9 | BA22: 6.3 | BB22: 6.5 | BC22: 4.3 | BD22: 4.5 | BE22: 5 | BF22: 6.5 | BG22: =VLOOKUP(B22,'66DCDT'!$C$10:$G$58,3,0) -> #N/A
A23: 18 | B23: 66DCDT20107 | C23: =D23&" "&E23 -> NGUYỄN VĂN QUANG | D23: NGUYỄN VĂN | E23: QUANG | F23: 35775 | G23: 120 | H23: 118 | I23: 115 | J23: 6.109322 | K23: 2.1949153 | L23: 2 | M23: 5 | N23: 0.041666667 | O23: Đ | P23: 5.7 | R23: 6 | S23: 5 | T23: 6 | U23: 5.3 | V23: 4.4 | W23: 8 | X23: 7.9 | Y23: 6.7 | Z23: 7.5 | AA23: 7.3 | AB23: 4.2 | AC23: 5 | AD23: 5.7 | AE23: 6 | AF23: 6.5 | AG23: 7 | AH23: 7.5 | AI23: 5 | AJ23: 6.3 | AK23: 5.8 | AL23: 6.3 | AM23: 6.5 | AN23: 5.8 | AO23: 2.2 | AP23: 4.4 | AQ23: 4 | AR23: 9 | AS23: 9.1 | AT23: 8 | AU23: 9.1 | AV23: 4.6 | AW23: 4.6 | AX23: 5.3 | AY23: 4.6 | AZ23: 7.7 | BA23: 5 | BB23: 6.5 | BC23: 5.6 | BD23: 7.2 | BE23: 5 | BF23: 5.4 | BG23: =VLOOKUP(B23,'66DCDT'!$C$10:$G$58,3,0) -> 12/11/1997
A24: 19 | B24: 66DCDT20351 | D24: BÙI MINH | E24: THÔNG | F24: 30/03/1997 | G24: 120 | H24: 118 | I24: 118 | J24: 6.0423729 | K24: 2.0932203 | L24: 1 | M24: 2 | N24: 0.016666667 | O24: Đ | P24: 6.8 | R24: 6 | S24: 4.3 | T24: 4.3 | U24: 6.4 | V24: 7.8 | W24: 7.3 | X24: 8 | Y24: 4.2 | Z24: 4.9 | AA24: 6.8 | AB24: 4.7 | AC24: 6.2 | AD24: 4.3 | AE24: 4.8 | AF24: 4.4 | AG24: 7.5 | AH24: 5.4 | AI24: 4.3 | AJ24: 7.3 | AK24: 5.2 | AL24: 4.5 | AM24: 7.9 | AN24: 5.8 | AO24: 5.2 | AP24: 7.2 | AQ24: 4.4 | AR24: 7 | AS24: 7.3 | AT24: 9.3 | AU24: 7.3 | AV24: 4.8 | AW24: 4.4 | AX24: 8.7 | AY24: 4.1 | AZ24: 4.1 | BA24: 4.4 | BB24: 8 | BC24: 7.3 | BD24: 7.7 | BE24: 5.3 | BF24: 7.6 | BG24: =VLOOKUP(B24,'66DCDT'!$C$10:$G$58,3,0) -> #N/A
A25: 20 | B25: 66DCDT20865 | C25: =D25&" "&E25 -> TRẦN THỊ THỦY | D25: TRẦN THỊ | E25: THỦY | F25: 13/11/1997 | G25: 120 | H25: 118 | I25: 118 | J25: 6.6338983 | K25: 2.4915254 | L25: 1 | M25: 2 | N25: 0.016666667 | O25: Đ | P25: 6.9 | R25: 8.6 | S25: 4.1 | T25: 7.5 | U25: 6.9 | V25: 7.2 | W25: 5.9 | X25: 6.9 | Y25: 5.7 | Z25: 7.7 | AA25: 7.5 | AB25: 4.7 | AC25: 4.8 | AD25: 4 | AE25: 6.4 | AF25: 5.8 | AG25: 6.6 | AH25: 8.2 | AI25: 4.6 | AJ25: 7.5 | AK25: 7 | AL25: 7.4 | AM25: 7.6 | AN25: 7.2 | AO25: 8.6 | AP25: 7.4 | AQ25: 5.2 | AR25: 7 | AS25: 8.7 | AT25: 8.6 | AU25: 8.7 | AV25: 5.1 | AW25: 4.9 | AX25: 5.3 | AY25: 6.8 | AZ25: 4.2 | BA25: 5.4 | BB25: 7.1 | BC25: 7.8 | BD25: 6.4 | BE25: 6.6 | BF25: 7.8 | BG25: =VLOOKUP(B25,'66DCDT'!$C$10:$G$58,3,0) -> 13/11/1997
A26: 21 | B26: 66DCDT20470 | C26: =D26&" "&E26 -> BÙI ĐỨC TOÀN | D26: BÙI ĐỨC | E26: TOÀN | F26: 35676 | G26: 120 | H26: 118 | I26: 118 | J26: 6.0652542 | K26: 2.0974576 | L26: 1 | M26: 2 | N26: 0.016666667 | O26: Đ | P26: 4.6 | R26: 6.1 | S26: 4.3 | T26: 4.7 | U26: 5.5 | V26: 5.9 | W26: 7.3 | X26: 7.1 | Y26: 6.2 | Z26: 6.8 | AA26: 7.5 | AB26: 4.9 | AC26: 5.1 | AD26: 5.4 | AE26: 5.3 | AF26: 5.4 | AG26: 6.6 | AH26: 7.9 | AI26: 4.6 | AJ26: 7.7 | AK26: 5.2 | AL26: 5.1 | AM26: 4.5 | AN26: 6.4 | AO26: 4.7 | AP26: 5.1 | AQ26: 4.6 | AR26: 7.3 | AS26: 9.1 | AT26: 8 | AU26: 9.1 | AV26: 5.4 | AW26: 6.7 | AX26: 6 | AY26: 5.7 | AZ26: 5.1 | BA26: 4.9 | BB26: 6.9 | BC26: 7.2 | BD26: 6.1 | BE26: 5.7 | BF26: 5.1 | BG26: =VLOOKUP(B26,'66DCDT'!$C$10:$G$58,3,0) -> 09/03/1997
A27: 22 | B27: 66DCDT20246 | C27: =D27&" "&E27 -> DƯƠNG THỊ HƯƠNG TRANG | D27: DƯƠNG THỊ HƯƠNG | E27: TRANG | F27: 21/04/1997 | G27: 120 | H27: 118 | I27: 118 | J27: 6.7669492 | K27: 2.6101695 | L27: 1 | M27: 2 | N27: 0.016666667 | O27: Đ | P27: 6.6 | R27: 8.4 | S27: 5.4 | T27: 5.4 | U27: 5.6 | V27: 4.5 | W27: 5.9 | X27: 8 | Y27: 7.8 | Z27: 7.9 | AA27: 7.5 | AB27: 5.6 | AC27: 5 | AD27: 4.1 | AE27: 4.2 | AF27: 6.9 | AG27: 8.4 | AH27: 8.9 | AI27: 6.6 | AJ27: 8.4 | AK27: 7 | AL27: 7.4 | AM27: 8 | AN27: 6.6 | AO27: 8.2 | AP27: 6 | AQ27: 5.6 | AR27: 7.3 | AS27: 9.1 | AT27: 8 | AU27: 9.1 | AV27: 6.1 | AW27: 4.1 | AX27: 6 | AY27: 4.6 | AZ27: 5.6 | BA27: 5 | BB27: 8.2 | BC27: 6.4 | BD27: 8.9 | BE27: 7.4 | BF27: 7.9 | BG27: =VLOOKUP(B27,'66DCDT'!$C$10:$G$58,3,0) -> 21/04/1997
A28: 23 | B28: 66DCDT20043 | D28: BÙI VĂN | E28: TUẤN | F28: 18/06/1996 | G28: 120 | H28: 118 | I28: 118 | J28: 6.1279661 | K28: 2.1822034 | L28: 1 | M28: 2 | N28: 0.016666667 | O28: Đ | P28: 4 | R28: 6.9 | S28: 4.1 | T28: 4.6 | U28: 6.1 | V28: 5.7 | W28: 8.7 | X28: 7.1 | Y28: 4.5 | Z28: 6.6 | AA28: 7.4 | AB28: 4.6 | AC28: 5.6 | AD28: 5.3 | AE28: 5.6 | AF28: 8.3 | AG28: 4.5 | AH28: 5 | AI28: 4.6 | AJ28: 6.6 | AK28: 6.8 | AL28: 5.8 | AM28: 6.4 | AN28: 6.8 | AO28: 6.6 | AP28: 5.2 | AQ28: 4.9 | AR28: 7.6 | AS28: 8.2 | AT28: 8.3 | AU28: 8.2 | AV28: 5.5 | AW28: 8.1 | AX28: 4.9 | AY28: 5.4 | AZ28: 4.4 | BA28: 5.4 | BB28: 7 | BC28: 5.2 | BD28: 7.1 | BE28: 7.1 | BF28: 6 | BG28: =VLOOKUP(B28,'66DCDT'!$C$10:$G$58,3,0) -> #N/A
A29: 24 | B29: 66DCDT20595 | C29: =D29&" "&E29 -> PHẠM QUỐC VIỆT | D29: PHẠM QUỐC | E29: VIỆT | F29: 20/01/1997 | G29: 120 | H29: 118 | I29: 118 | J29: 6.1525424 | K29: 2.1694915 | L29: 1 | M29: 2 | N29: 0.016666667 | O29: Đ | P29: 4.3 | R29: 6.8 | S29: 4.1 | T29: 5.3 | U29: 5.1 | V29: 5.8 | W29: 8 | X29: 5 | Y29: 5.3 | Z29: 8.2 | AA29: 6.8 | AB29: 4.3 | AC29: 5.2 | AD29: 4.5 | AE29: 6.9 | AF29: 5.3 | AG29: 6.6 | AH29: 6.4 | AI29: 4.6 | AJ29: 6.2 | AK29: 5.4 | AL29: 6 | AM29: 7.5 | AN29: 6.8 | AO29: 6.4 | AP29: 5.9 | AQ29: 5.2 | AR29: 6.9 | AS29: 9.1 | AT29: 8.3 | AU29: 9.1 | AV29: 5.5 | AW29: 4.3 | AX29: 5.3 | AY29: 4.7 | AZ29: 6.6 | BA29: 4.3 | BB29: 6.6 | BC29: 7.3 | BD29: 6.6 | BE29: 5.7 | BF29: 6.5 | BG29: =VLOOKUP(B29,'66DCDT'!$C$10:$G$58,3,0) -> 20/01/1997
A30: 25 | B30: 66DCDT20631 | D30: BÙI QUỐC | E30: ANH | F30: 24/01/1997 | G30: 120 | H30: 103 | I30: 71 | J30: 4.0194175 | K30: 1.1796117 | L30: 16 | M30: 49 | N30: 0.40833333 | O30: K | P30: 4.8 | R30: 0 | S30: 4.5 | T30: 7.1 | U30: 5.7 | V30: 5.7 | W30: 6.3 | Y30: 4.3 | Z30: 0 | AA30: 5.8 | AB30: 1.8 | AC30: 5 | AD30: 3.1 | AE30: 1.8 | AF30: 4.3 | AG30: 5.1 | AH30: 0 | AI30: 4.1 | AJ30: 1.1 | AK30: 0 | AL30: 4.8 | AM30: 5.1 | AN30: 4.8 | AO30: 0 | AP30: 4.5 | AQ30: 0 | AR30: 8 | AT30: 7.3 | AV30: 8.5 | AW30: 6.8 | AX30: 4.2 | AY30: 4.8 | AZ30: 4.2 | BA30: 6.2 | BB30: 7.6 | BD30: 4.7 | BE30: 2 | BF30: 4.1 | BG30: =VLOOKUP(B30,'66DCDT'!$C$10:$G$58,3,0) -> #N/A
A31: 26 | B31: 66DCDT20501 | D31: ĐỖ HOÀNG | E31: ANH | F31: 27/09/1997 | G31: 120 | H31: 110 | I31: 110 | J31: 7.1581818 | K31: 2.7681818 | L31: 2 | M31: 10 | N31: 0.083333333 | O31: K | P31: 8.4 | Q31: 7.6 | R31: 7.9 | S31: 5.4 | T31: 7.5 | U31: 5.1 | V31: 6.7 | W31: 9 | X31: 8 | Y31: 7.7 | Z31: 8.2 | AA31: 7.5 | AB31: 5.8 | AC31: 6.5 | AD31: 7 | AE31: 4.7 | AF31: 5.1 | AG31: 8.8 | AH31: 6.8 | AI31: 7.4 | AJ31: 7.6 | AK31: 7.9 | AL31: 7.9 | AM31: 8.4 | AN31: 6.2 | AO31: 6.8 | AP31: 7.3 | AQ31: 7.5 | AR31: 8.4 | AT31: 8.7 | AV31: 4.9 | AW31: 4.5 | AX31: 6 | AY31: 7.8 | AZ31: 7.7 | BA31: 7.1 | BB31: 8.2 | BC31: 7.1 | BD31: 9.1 | BE31: 7.8 | BF31: 9.8 | BG31: =VLOOKUP(B31,'66DCDT'!$C$10:$G$58,3,0) -> 27/09/1997
A32: 27 | B32: 66DCDT20658 | D32: NGUYỄN HOÀNG | E32: ANH | F32: 31/08/1997 | G32: 120 | H32: 118 | I32: 91 | J32: 4.6355932 | K32: 1.3813559 | L32: 11 | M32: 29 | N32: 0.24166667 | O32: K | P32: 5.7 | R32: 0 | S32: 5.5 | T32: 3.9 | U32: 5.2 | V32: 5.1 | W32: 2.8 | X32: 0 | Y32: 4.3 | Z32: 3.5 | AA32: 5.7 | AB32: 4.1 | AC32: 4.8 | AD32: 4.1 | AE32: 0 | AF32: 4.9 | AG32: 8.2 | AH32: 4.9 | AI32: 3.8 | AJ32: 5.3 | AK32: 4.7 | AL32: 5.5 | AM32: 6 | AN32: 5.5 | AO32: 6 | AP32: 3.5 | AQ32: 5.1 | AR32: 0 | AS32: 6.4 | AT32: 7.3 | AU32: 6.4 | AV32: 5 | AW32: 4.3 | AX32: 6 | AY32: 4.8 | AZ32: 6.1 | BA32: 5.3 | BB32: 6.7 | BC32: 6.7 | BD32: 4.1 | BE32: 5 | BF32: 2 | BG32: =VLOOKUP(B32,'66DCDT'!$C$10:$G$58,3,0) -> #N/A
A33: 28 | B33: 66DCDT20540 | D33: NGUYỄN TIẾN | E33: ANH | F33: 35529 | G33: 120 | H33: 108 | I33: 108 | J33: 5.9398148 | K33: 2.0648148 | L33: 3 | M33: 12 | N33: 0.1 | O33: K | P33: 5.9 | R33: 5 | S33: 4.1 | T33: 6 | U33: 5.4 | V33: 4.9 | W33: 7.3 | X33: 7 | Y33: 6.4 | Z33: 5.2 | AA33: 8.2 | AB33: 4 | AC33: 4.7 | AD33: 5.4 | AE33: 6.1 | AF33: 5.3 | AG33: 6.5 | AH33: 7.3 | AI33: 5.3 | AJ33: 6.9 | AK33: 5.4 | AL33: 5.4 | AM33: 6.6 | AN33: 6.1 | AO33: 6.4 | AP33: 5.2 | AQ33: 7.9 | AR33: 6.6 | AT33: 8 | AV33: 6.9 | AW33: 4.2 | AX33: 6 | AY33: 5.7 | AZ33: 4 | BA33: 5.9 | BB33: 6.4 | BC33: 7 | BD33: 7.9 | BE33: 6.7 | BF33: 5.4 | BG33: =VLOOKUP(B33,'66DCDT'!$C$10:$G$58,3,0) -> #N/A
A34: 29 | B34: 66DCDT20623 | D34: NGUYỄN TRUNG | E34: ANH | F34: 29/01/1997 | G34: 120 | H34: 108 | I34: 80 | J34: 4.5601852 | K34: 1.3981481 | L34: 14 | M34: 40 | N34: 0.33333333 | O34: K | P34: 5.6 | R34: 5.6 | S34: 4.8 | T34: 0.7 | U34: 0.8 | V34: 0 | W34: 7.3 | X34: 6 | Y34: 6.8 | Z34: 4.2 | AA34: 7 | AB34: 4 | AC34: 5.5 | AD34: 4 | AE34: 3.9 | AF34: 4.7 | AG34: 8.5 | AH34: 6.1 | AI34: 0 | AJ34: 7.7 | AK34: 5.4 | AL34: 7.5 | AM34: 5.9 | AN34: 5.2 | AO34: 6.2 | AP34: 4.8 | AQ34: 5.1 | AR34: 0 | AT34: 0 | AV34: 5.5 | AW34: 4.3 | AX34: 4.2 | AY34: 7.4 | AZ34: 5.2 | BA34: 0.6 | BB34: 0.8 | BC34: 3.8 | BD34: 4.1 | BE34: 3.9 | BF34: 7 | BG34: =VLOOKUP(B34,'66DCDT'!$C$10:$G$58,3,0) -> #N/A
A35: 30 | B35: 66DCDT20786 | D35: VŨ VĂN | E35: CHƯỜNG | F35: 35706 | G35: 120 | H35: 108 | I35: 108 | J35: 5.8175926 | K35: 1.9444444 | L35: 3 | M35: 12 | N35: 0.1 | O35: K | P35: 5 | R35: 5.2 | S35: 5.3 | T35: 5.5 | U35: 4.6 | V35: 7.9 | W35: 8.3 | X35: 8 | Y35: 5.3 | Z35: 4.4 | AA35: 5.6 | AB35: 6.4 | AC35: 4.7 | AD35: 4.1 | AE35: 4.7 | AF35: 6.3 | AG35: 5.9 | AH35: 7 | AI35: 6 | AJ35: 6.4 | AK35: 5.1 | AL35: 4.8 | AM35: 6.7 | AN35: 6.8 | AO35: 4.4 | AP35: 7 | AQ35: 4.8 | AR35: 7.3 | AT35: 8 | AV35: 4.9 | AW35: 7.3 | AX35: 7.4 | AY35: 5.3 | AZ35: 4.5 | BA35: 5 | BB35: 7.9 | BC35: 4.3 | BD35: 5.4 | BE35: 6.6 | BF35: 5.8 | BG35: =VLOOKUP(B35,'66DCDT'!$C$10:$G$58,3,0) -> #N/A
A36: 31 | B36: 66DCDT23096 | D36: NGUYỄN HỒNG | E36: CƯỜNG | F36: 21/09/1997 | G36: 120 | H36: 108 | I36: 108 | J36: 7.4175926 | K36: 2.9675926 | L36: 3 | M36: 12 | N36: 0.1 | O36: K | P36: 7.4 | R36: 6.8 | S36: 7.7 | T36: 7.5 | U36: 7 | V36: 6.3 | W36: 9 | X36: 9.9 | Y36: 7.6 | Z36: 7.2 | AA36: 7.5 | AB36: 9.3 | AC36: 9 | AD36: 5 | AE36: 4.9 | AF36: 6.9 | AG36: 8.9 | AH36: 8.9 | AI36: 9.5 | AJ36: 9 | AK36: 7.9 | AL36: 7.4 | AM36: 8.3 | AN36: 5.1 | AO36: 7.5 | AP36: 7.2 | AQ36: 7.1 | AR36: 6.6 | AT36: 7.7 | AV36: 5.6 | AW36: 8 | AX36: 8.1 | AY36: 7.8 | AZ36: 5.8 | BA36: 5.9 | BB36: 8.6 | BC36: 8 | BD36: 7.5 | BE36: 6.7 | BF36: 6.8 | BG36: =VLOOKUP(B36,'66DCDT'!$C$10:$G$58,3,0) -> 21/09/1997
A37: 32 | B37: 66DCDT21050 | D37: NGUYỄN VĂN | E37: DŨNG | F37: 23/08/1997 | G37: 120 | H37: 108 | I37: 94 | J37: 5.0583333 | K37: 1.5833333 | L37: 8 | M37: 26 | N37: 0.21666667 | O37: K | P37: 4.8 | R37: 3.9 | S37: 5.6 | T37: 5.2 | U37: 4.9 | V37: 5.9 | W37: 6.6 | X37: 0 | Y37: 5.6 | Z37: 3.8 | AA37: 5.9 | AB37: 6.8 | AC37: 4.4 | AD37: 4 | AE37: 0 | AF37: 7 | AG37: 5.7 | AH37: 4.5 | AI37: 4 | AJ37: 5.6 | AK37: 5 | AL37: 7.2 | AM37: 6 | AN37: 5.1 | AO37: 5.6 | AP37: 4.7 | AQ37: 6.5 | AR37: 6.7 | AT37: 7.6 | AV37: 5.3 | AW37: 4.3 | AX37: 4.2 | AY37: 8.2 | AZ37: 2.4 | BA37: 5.7 | BB37: 8 | BC37: 4.1 | BD37: 5.6 | BE37: 4.1 | BF37: 6.6 | BG37: =VLOOKUP(B37,'66DCDT'!$C$10:$G$58,3,0) -> #N/A
A38: 33 | B38: 66DCDT20446 | D38: ĐẶNG VĂN | E38: ĐỨC | F38: 35652 | G38: 120 | H38: 108 | I38: 73 | J38: 4.2212963 | K38: 1.2314815 | L38: 16 | M38: 47 | N38: 0.39166667 | O38: K | P38: 5.8 | R38: 0 | S38: 5 | T38: 6.7 | U38: 4.4 | V38: 6.1 | W38: 0 | X38: 2.3 | Y38: 4.7 | Z38: 5.4 | AA38: 7 | AB38: 0.6 | AC38: 4.4 | AD38: 4.5 | AE38: 3.6 | AF38: 7 | AG38: 3.7 | AH38: 0 | AI38: 4.6 | AJ38: 5.6 | AK38: 1.9 | AL38: 7.7 | AM38: 8.1 | AN38: 4.8 | AO38: 5.1 | AP38: 7.1 | AQ38: 6.8 | AR38: 6.9 | AT38: 7 | AV38: 4 | AW38: 4.9 | AX38: 4.9 | AY38: 5.4 | AZ38: 0 | BA38: 1.8 | BB38: 6.4 | BC38: 1.9 | BD38: 0 | BE38: 4.6 | BF38: 0 | BG38: =VLOOKUP(B38,'66DCDT'!$C$10:$G$58,3,0) -> #N/A
A39: 34 | B39: 66DCDT20402 | D39: VŨ VĂN | E39: ĐỨC | F39: 28/04/1997 | G39: 120 | H39: 95 | I39: 40 | J39: 3.2147368 | K39: 0.77368421 | L39: 28 | M39: 80 | N39: 0.66666667 | O39: K | P39: 1.5 | R39: 0 | S39: 3.9 | T39: 3.5 | U39: 4.4 | V39: 0 | W39: 2.8 | X39: 0 | Y39: 5 | Z39: 0 | AA39: 3.3 | AB39: 0.7 | AC39: 5 | AD39: 4.5 | AE39: 3.6 | AF39: 3.7 | AG39: 4.4 | AH39: 0 | AI39: 5.2 | AK39: 0 | AL39: 5.6 | AM39: 7.4 | AN39: 5.2 | AO39: 0 | AQ39: 0 | AR39: 8 | AT39: 7.3 | AV39: 1.7 | AW39: 6.4 | AX39: 4.2 | AY39: 5.9 | AZ39: 0 | BA39: 5.9 | BB39: 3.2 | BF39: 2 | BG39: =VLOOKUP(B39,'66DCDT'!$C$10:$G$58,3,0) -> #N/A
A40: 35 | B40: 66DCDT20749 | D40: HOÀNG VĂN | E40: ĐÔ | F40: 35498 | G40: 120 | H40: 118 | I40: 106 | J40: 5.5728814 | K40: 1.7627119 | L40: 5 | M40: 14 | N40: 0.11666667 | O40: K | P40: 4.5 | R40: 3.8 | S40: 5.6 | T40: 5.1 | U40: 6.1 | V40: 4.2 | W40: 7.3 | X40: 7.9 | Y40: 5 | Z40: 7.3 | AA40: 6.1 | AB40: 4 | AC40: 4.6 | AD40: 4.3 | AE40: 3.7 | AF40: 7.9 | AG40: 4.9 | AH40: 3.6 | AI40: 4.6 | AJ40: 6 | AK40: 5.1 | AL40: 5 | AM40: 5.2 | AN40: 5.8 | AO40: 6.2 | AP40: 7.1 | AQ40: 4.4 | AR40: 4.4 | AS40: 8.2 | AT40: 7.3 | AU40: 8.2 | AV40: 5.6 | AW40: 5.1 | AX40: 4.9 | AY40: 4 | AZ40: 4.9 | BA40: 5.2 | BB40: 6.1 | BC40: 3.4 | BD40: 6.8 | BE40: 5.7 | BF40: 6.6 | BG40: =VLOOKUP(B40,'66DCDT'!$C$10:$G$58,3,0) -> #N/A
A41: 36 | B41: 66DCDT20576 | D41: PHẠM VĂN | E41: HẢI | F41: 16/10/1996 | G41: 120 | H41: 118 | I41: 112 | J41: 5.7313559 | K41: 1.9533898 | L41: 4 | M41: 8 | N41: 0.066666667 | O41: K | P41: 5.7 | R41: 1.8 | S41: 4.1 | T41: 3.7 | U41: 6 | V41: 7.6 | W41: 7.6 | X41: 0 | Y41: 7.1 | Z41: 5 | AA41: 6 | AB41: 4 | AC41: 7.6 | AD41: 4.1 | AE41: 4.6 | AF41: 7.5 | AG41: 5.9 | AH41: 5.9 | AI41: 4.6 | AJ41: 6 | AK41: 5.7 | AL41: 4.7 | AM41: 7.1 | AN41: 4.8 | AO41: 5.4 | AP41: 6.7 | AQ41: 6.5 | AR41: 7.3 | AS41: 7.8 | AT41: 7.6 | AU41: 7.8 | AV41: 5.7 | AW41: 4.5 | AX41: 5.6 | AY41: 6 | AZ41: 4.6 | BA41: 5.4 | BB41: 7.2 | BC41: 4.1 | BD41: 4.1 | BE41: 4.3 | BF41: 6.8 | BG41: =VLOOKUP(B41,'66DCDT'!$C$10:$G$58,3,0) -> #N/A
A42: 37 | B42: 66DCDT20660 | D42: ĐỖ THỊ THUÝ | E42: HIỀN | F42: 35586 | G42: 120 | H42: 110 | I42: 110 | J42: 6.7436364 | K42: 2.5590909 | L42: 2 | M42: 10 | N42: 0.083333333 | O42: K | P42: 6.6 | Q42: 5.5 | R42: 8.9 | S42: 4.8 | T42: 5.6 | U42: 6.9 | V42: 6.9 | W42: 8 | X42: 7.8 | Y42: 6.3 | Z42: 7 | AA42: 7.5 | AB42: 8.1 | AC42: 6.8 | AD42: 4.2 | AE42: 6.5 | AF42: 5.9 | AG42: 9.6 | AH42: 6.1 | AI42: 8.5 | AJ42: 8.4 | AK42: 7.7 | AL42: 7.1 | AM42: 6.9 | AN42: 6.5 | AO42: 6.8 | AP42: 4.7 | AQ42: 5.6 | AR42: 8.3 | AT42: 8 | AV42: 5.4 | AW42: 4.9 | AX42: 5.6 | AY42: 5.3 | AZ42: 8.4 | BA42: 6.3 | BB42: 8.3 | BC42: 6.3 | BD42: 8.4 | BE42: 5.7 | BF42: 8.3 | BG42: =VLOOKUP(B42,'66DCDT'!$C$10:$G$58,3,0) -> 06/05/1997
A43: 38 | B43: 66DCDT21034 | D43: TÔ VĂN | E43: HÒA | F43: 35742 | G43: 120 | H43: 108 | I43: 102 | J43: 5.5407407 | K43: 1.8009259 | L43: 5 | M43: 18 | N43: 0.15 | O43: K | P43: 6.1 | R43: 5.5 | S43: 4.9 | T43: 6.6 | U43: 4.9 | V43: 5.9 | W43: 7.3 | X43: 5 | Y43: 6 | Z43: 4.4 | AA43: 8 | AB43: 4 | AC43: 5 | AD43: 6.3 | AE43: 5.4 | AF43: 4.6 | AG43: 4.7 | AH43: 4.3 | AI43: 4.6 | AJ43: 6.6 | AK43: 5.9 | AL43: 6.4 | AM43: 7 | AN43: 4.8 | AO43: 6 | AP43: 5.6 | AQ43: 2.9 | AR43: 6.9 | AT43: 7 | AV43: 4.7 | AW43: 6.4 | AX43: 6.3 | AY43: 7 | AZ43: 5.2 | BA43: 6.1 | BB43: 7.5 | BC43: 5.8 | BD43: 5.3 | BE43: 3.9 | BF43: 4.4 | BG43: =VLOOKUP(B43,'66DCDT'!$C$10:$G$58,3,0) -> #N/A
A44: 39 | B44: 66DCDT20668 | D44: NGUYỄN QUANG | E44: HUY | F44: 35712 | G44: 120 | H44: 108 | I44: 108 | J44: 7.4101852 | K44: 3 | L44: 3 | M44: 12 | N44: 0.1 | O44: K | P44: 7.7 | R44: 7.3 | S44: 7.1 | T44: 7.7 | U44: 6.9 | V44: 4.4 | W44: 9 | X44: 8 | Y44: 7 | Z44: 5.1 | AA44: 8.2 | AB44: 6.9 | AC44: 9 | AD44: 6.9 | AE44: 7 | AF44: 8.3 | AG44: 8.4 | AH44: 7.7 | AI44: 9.4 | AJ44: 8.3 | AK44: 6.8 | AL44: 7.5 | AM44: 7.7 | AN44: 7.2 | AO44: 6.3 | AP44: 6.1 | AQ44: 6.8 | AR44: 7.4 | AT44: 8.3 | AV44: 5.9 | AW44: 8.6 | AX44: 8.1 | AY44: 8 | AZ44: 8 | BA44: 6.8 | BB44: 7.8 | BC44: 8.2 | BD44: 8.8 | BE44: 8.1 | BF44: 5.8 | BG44: =VLOOKUP(B44,'66DCDT'!$C$10:$G$58,3,0) -> #N/A
A45: 40 | B45: 66DCDT20384 | D45: NGUYỄN HỮU | E45: KIÊN | F45: 22/09/1997 | G45: 120 | H45: 118 | I45: 108 | J45: 5.2355932 | K45: 1.6694915 | L45: 4 | M45: 12 | N45: 0.1 | O45: K | P45: 4.8 | R45: 5.5 | S45: 4.1 | T45: 5.7 | U45: 4.1 | V45: 4.8 | W45: 8 | X45: 5 | Y45: 6.3 | Z45: 4 | AA45: 5.4 | AB45: 5.7 | AC45: 4.1 | AD45: 6.2 | AE45: 0 | AF45: 6.3 | AG45: 6 | AH45: 5.1 | AI45: 4.5 | AJ45: 5.9 | AK45: 6.6 | AL45: 6.8 | AM45: 5.8 | AN45: 4.4 | AO45: 5.5 | AP45: 4.3 | AQ45: 5.5 | AR45: 7 | AS45: 6.4 | AT45: 7.3 | AU45: 6.4 | AV45: 3.8 | AW45: 4.6 | AX45: 4.6 | AY45: 4.9 | AZ45: 5 | BA45: 4.4 | BB45: 7.1 | BC45: 3.7 | BD45: 7.5 | BE45: 4.6 | BF45: 5.9 | BG45: =VLOOKUP(B45,'66DCDT'!$C$10:$G$58,3,0) -> #N/A
A46: 41 | B46: 66DCDT21022 | D46: NGUYỄN TRUNG | E46: KIÊN | F46: 35440 | G46: 120 | H46: 110 | I46: 110 | J46: 6.5854545 | K46: 2.4636364 | L46: 2 | M46: 10 | N46: 0.083333333 | O46: K | P46: 5.1 | Q46: 5.3 | R46: 7.9 | S46: 5.7 | T46: 6.8 | U46: 6.8 | V46: 5.9 | W46: 7.3 | X46: 6 | Y46: 7.8 | Z46: 6.3 | AA46: 6.8 | AB46: 4.7 | AC46: 7.7 | AD46: 4.2 | AE46: 4.7 | AF46: 6.2 | AG46: 8.2 | AH46: 8 | AI46: 7.1 | AJ46: 8.3 | AK46: 7.7 | AL46: 6.9 | AM46: 7.8 | AN46: 6.9 | AO46: 5.9 | AP46: 6.3 | AQ46: 4.2 | AR46: 7 | AT46: 7.3 | AV46: 5.9 | AW46: 5.6 | AX46: 6.3 | AY46: 6.9 | AZ46: 8.9 | BA46: 6.8 | BB46: 8.4 | BC46: 7.3 | BD46: 6.5 | BE46: 5.6 | BF46: 7.5 | BG46: =VLOOKUP(B46,'66DCDT'!$C$10:$G$58,3,0) -> #N/A
A47: 42 | B47: 66DCDT20475 | D47: TRẦN VĂN | E47: LƯU | F47: 35126 | G47: 120 | H47: 118 | I47: 97 | J47: 4.9584746 | K47: 1.4533898 | L47: 8 | M47: 23 | N47: 0.19166667 | O47: K | P47: 2.7 | R47: 5.7 | S47: 4.5 | T47: 6.3 | U47: 4.5 | V47: 5.2 | W47: 7.4 | X47: 7 | Y47: 4.4 | Z47: 3.3 | AA47: 3.3 | AB47: 4.7 | AC47: 4.7 | AD47: 4.6 | AE47: 4.6 | AF47: 0 | AG47: 7.2 | AH47: 5.8 | AI47: 4.6 | AJ47: 5.9 | AK47: 4.7 | AL47: 5.9 | AM47: 5.1 | AN47: 5.5 | AO47: 2.1 | AP47: 5.9 | AQ47: 2.3 | AR47: 7.3 | AS47: 6 | AT47: 7.7 | AU47: 6 | AV47: 5 | AW47: 6.7 | AX47: 5.3 | AY47: 4.6 | AZ47: 4.3 | BA47: 5 | BB47: 6.8 | BC47: 6.7 | BD47: 4.4 | BE47: 5.3 | BF47: 3 | BG47: =VLOOKUP(B47,'66DCDT'!$C$10:$G$58,3,0) -> #N/A
A48: 43 | B48: 66DCDT21032 | D48: ĐÀO HUY | E48: NGỌC | F48: 35591 | G48: 120 | H48: 120 | I48: 83 | J48: 4.3958333 | K48: 1.3125 | L48: 13 | M48: 37 | N48: 0.30833333 | O48: K | P48: 0 | Q48: 0 | R48: 6.1 | S48: 4.1 | T48: 4.2 | U48: 6 | V48: 5.4 | W48: 2.8 | X48: 4.2 | Y48: 4.8 | Z48: 4.2 | AA48: 9.8 | AB48: 5 | AC48: 5.3 | AD48: 5 | AE48: 2.5 | AF48: 9.3 | AG48: 6.4 | AH48: 0 | AI48: 8.9 | AJ48: 6 | AK48: 4.7 | AL48: 5.8 | AM48: 4.9 | AN48: 4.1 | AO48: 3.5 | AP48: 5.7 | AQ48: 0 | AR48: 7.6 | AS48: 6 | AT48: 7.3 | AU48: 6 | AV48: 4.3 | AW48: 4.2 | AX48: 4.6 | AY48: 2.7 | AZ48: 1.9 | BA48: 4.5 | BB48: 7.3 | BC48: 3.2 | BD48: 0 | BE48: 3.9 | BF48: 0 | BG48: =VLOOKUP(B48,'66DCDT'!$C$10:$G$58,3,0) -> #N/A
A49: 44 | B49: 66DCDT23006 | D49: NGUYỄN TRỌNG | E49: NGHĨA | F49: 35684 | G49: 120 | H49: 118 | I49: 107 | J49: 5.4144068 | K49: 1.809322 | L49: 5 | M49: 13 | N49: 0.10833333 | O49: K | P49: 6.3 | R49: 4.6 | S49: 3.7 | T49: 5.1 | U49: 4 | V49: 4.8 | W49: 7.2 | X49: 0 | Y49: 2.5 | Z49: 0 | AA49: 6.5 | AB49: 5.7 | AC49: 4.6 | AD49: 4.5 | AE49: 4.2 | AF49: 5.1 | AG49: 7.1 | AH49: 4.9 | AI49: 6 | AJ49: 6.5 | AK49: 4.7 | AL49: 6.5 | AM49: 5 | AN49: 5.5 | AO49: 5.7 | AP49: 6.1 | AQ49: 4.1 | AR49: 7.6 | AS49: 8.7 | AT49: 7.3 | AU49: 8.7 | AV49: 5.7 | AW49: 5.3 | AX49: 6.3 | AY49: 4.8 | AZ49: 6.7 | BA49: 5.2 | BB49: 6.5 | BC49: 6.3 | BD49: 5.6 | BE49: 4.6 | BF49: 4.4 | BG49: =VLOOKUP(B49,'66DCDT'!$C$10:$G$58,3,0) -> #N/A
A50: 45 | B50: 66DCDT20491 | D50: VŨ VĂN | E50: QUYẾT | F50: 35588 | G50: 120 | H50: 108 | I50: 98 | J50: 5.2148148 | K50: 1.5555556 | L50: 7 | M50: 22 | N50: 0.18333333 | O50: K | P50: 5.2 | R50: 6.8 | S50: 6.3 | T50: 4.4 | U50: 5 | V50: 5.5 | W50: 6.3 | X50: 0 | Y50: 4.2 | Z50: 6.3 | AA50: 3.3 | AB50: 4.3 | AC50: 4.8 | AD50: 4.8 | AE50: 5.4 | AF50: 4.3 | AG50: 5.2 | AH50: 6.6 | AI50: 4.5 | AJ50: 5.7 | AK50: 5.4 | AL50: 6.2 | AM50: 7.2 | AN50: 5.8 | AO50: 4.7 | AP50: 6.6 | AQ50: 4.5 | AR50: 6.3 | AT50: 7.7 | AV50: 4.2 | AW50: 5.9 | AX50: 5.3 | AY50: 5 | AZ50: 3.5 | BA50: 5 | BB50: 5.9 | BC50: 4.6 | BD50: 4.8 | BE50: 3.9 | BF50: 6.4 | BG50: =VLOOKUP(B50,'66DCDT'!$C$10:$G$58,3,0) -> #N/A
A51: 46 | B51: 66DCDT20566 | D51: VŨ NGỌC | E51: TÂN | F51: 27/04/1997 | G51: 120 | H51: 108 | I51: 99 | J51: 5.7175926 | K51: 1.912037 | L51: 6 | M51: 21 | N51: 0.175 | O51: K | P51: 5.7 | R51: 7.8 | S51: 3.7 | T51: 6.1 | U51: 7.6 | V51: 5.2 | W51: 8.4 | X51: 4.2 | Y51: 5 | Z51: 7.2 | AA51: 6.1 | AB51: 4.6 | AC51: 7.4 | AD51: 4.8 | AE51: 5.5 | AF51: 4.2 | AG51: 4.4 | AH51: 6.7 | AI51: 5.7 | AJ51: 6.5 | AK51: 5 | AL51: 5.2 | AM51: 8 | AN51: 5.9 | AO51: 5.1 | AP51: 6.6 | AQ51: 4.5 | AR51: 6.6 | AT51: 7 | AV51: 6.1 | AW51: 3.7 | AX51: 5.6 | AY51: 4.1 | AZ51: 3.4 | BA51: 4.3 | BB51: 6.6 | BC51: 5.7 | BD51: 6 | BE51: 5.3 | BF51: 7 | BG51: =VLOOKUP(B51,'66DCDT'!$C$10:$G$58,3,0) -> #N/A
A52: 47 | B52: 66DCDT20794 | D52: LÊ VĂN | E52: THANH | F52: 35591 | G52: 120 | H52: 118 | I52: 97 | J52: 5.0788136 | K52: 1.5805085 | L52: 8 | M52: 23 | N52: 0.19166667 | O52: K | P52: 5.9 | R52: 5.3 | S52: 3.4 | T52: 5.6 | U52: 4.9 | V52: 6.5 | W52: 6.9 | X52: 7 | Y52: 6.1 | Z52: 0 | AA52: 2.8 | AB52: 3.7 | AC52: 4.1 | AD52: 5.5 | AE52: 5.4 | AF52: 4.8 | AG52: 5.4 | AH52: 0 | AI52: 5.1 | AJ52: 6.9 | AK52: 5 | AL52: 5.2 | AM52: 6.8 | AN52: 6.2 | AO52: 4.2 | AP52: 5.4 | AQ52: 4.9 | AR52: 6.3 | AS52: 8.7 | AT52: 7.7 | AU52: 8.7 | AV52: 2.9 | AW52: 4.2 | AX52: 4.9 | AY52: 5.3 | AZ52: 4.2 | BA52: 4 | BB52: 7.3 | BC52: 4.2 | BD52: 7.2 | BE52: 4.5 | BF52: 1.3 | BG52: =VLOOKUP(B52,'66DCDT'!$C$10:$G$58,3,0) -> #N/A
A53: 48 | B53: 66DCDT21043 | D53: PHẠM BÁ | E53: TOÀN | F53: 35097 | G53: 120 | H53: 108 | I53: 108 | J53: 6.1444444 | K53: 2.2083333 | L53: 3 | M53: 12 | N53: 0.1 | O53: K | P53: 6.1 | R53: 7.3 | S53: 5.7 | T53: 7.3 | U53: 5.8 | V53: 4.5 | W53: 7.6 | X53: 8 | Y53: 7.4 | Z53: 6.1 | AA53: 7.3 | AB53: 4.4 | AC53: 5 | AD53: 4.2 | AE53: 4.1 | AF53: 5 | AG53: 9.1 | AH53: 6.8 | AI53: 5.2 | AJ53: 7.4 | AK53: 6.3 | AL53: 5.7 | AM53: 6.4 | AN53: 6.9 | AO53: 7.7 | AP53: 5.2 | AQ53: 6.7 | AR53: 7.3 | AT53: 8 | AV53: 4.1 | AW53: 4.8 | AX53: 5.6 | AY53: 5.9 | AZ53: 5.6 | BA53: 7.5 | BB53: 7.7 | BC53: 6.9 | BD53: 6.9 | BE53: 7.3 | BF53: 5.2 | BG53: =VLOOKUP(B53,'66DCDT'!$C$10:$G$58,3,0) -> #N/A
A54: 49 | B54: 66DCDT21020 | D54: NGUYỄN VĂN | E54: TUẤN | F54: 27/08/1996 | G54: 120 | H54: 118 | I54: 111 | J54: 5.709322 | K54: 1.9661017 | L54: 4 | M54: 9 | N54: 0.075 | O54: K | P54: 4.3 | R54: 7.9 | S54: 5.4 | T54: 4.8 | U54: 4.1 | V54: 0 | W54: 7.6 | X54: 0.9 | Y54: 6.8 | Z54: 6.6 | AA54: 9.1 | AB54: 4.5 | AC54: 6.3 | AD54: 7 | AE54: 5.2 | AF54: 4.6 | AG54: 5.9 | AH54: 4 | AI54: 7 | AJ54: 7.9 | AK54: 6.8 | AL54: 4.5 | AM54: 7 | AN54: 4.1 | AO54: 6.1 | AP54: 5.2 | AQ54: 5.3 | AR54: 0 | AS54: 9.1 | AT54: 7.2 | AU54: 9.1 | AV54: 4.7 | AW54: 5.9 | AX54: 5.3 | AY54: 4.6 | AZ54: 4.8 | BA54: 4.9 | BB54: 4.8 | BC54: 4 | BD54: 6.1 | BE54: 6 | BF54: 7.9 | BG54: =VLOOKUP(B54,'66DCDT'!$C$10:$G$58,3,0) -> #N/A
A55: 50 | B55: 66DCDT20008 | D55: NGUYỄN PHÚ | E55: VIỆT | F55: 25/12/1997 | G55: 120 | H55: 108 | I55: 95 | J55: 5.3814815 | K55: 1.6435185 | L55: 8 | M55: 25 | N55: 0.20833333 | O55: K | P55: 4.3 | R55: 3.9 | S55: 4.1 | T55: 5.8 | U55: 5.6 | V55: 5.9 | W55: 5.9 | X55: 0.9 | Y55: 5.7 | Z55: 7.7 | AA55: 5.9 | AB55: 3.8 | AC55: 4.2 | AD55: 7.8 | AE55: 5.8 | AF55: 4.2 | AG55: 5.2 | AH55: 5.1 | AI55: 4.6 | AJ55: 5.7 | AK55: 3.6 | AL55: 6.5 | AM55: 4.7 | AN55: 5.8 | AO55: 6.2 | AP55: 6.3 | AQ55: 2.1 | AR55: 6.9 | AT55: 8.3 | AV55: 4.2 | AW55: 4.5 | AX55: 6.7 | AY55: 4.8 | AZ55: 4.5 | BA55: 4.1 | BB55: 7.7 | BC55: 4.8 | BD55: 8.3 | BE55: 5.3 | BF55: 7.9 | BG55: =VLOOKUP(B55,'66DCDT'!$C$10:$G$58,3,0) -> #N/A
B57: Tổng hợp: | AO57: Hà Nội, ngày tháng năm 2019
K58: Số SV | N58: Tỷ lệ (%) | W58: PHÒNG ĐÀO TẠO | AO58: PHÒNG KHẢO THÍ VÀ ĐẢM BẢO CHẤT LƯỢNG ĐÀO TẠO
D59: Đủ điều kiện nhận ĐÁ/KLTN: | K59: 24 | N59: 0.48 | P59: 15
D60: Không đủ điều kiện nhận ĐÁ/KLTN: | K60: 26 | N60: 0.52
K61: 50

Sheet 66DCDT22
X1: BẢNG ĐIỂM TOÀN KHÓA XÉT ĐIỀU KIỆN NHẬN ĐỒ ÁN/KHÓA LUẬN TỐT NGHIỆP
V2: LỚP 66DCDT22
A4: STT | B4: Mã sinh viên | D4: Họ đệm | E4: Tên | F4: Ngày sinh | G4: Tổng số TC | H4: Số tín chỉ tính điểm | I4: Số tín chỉ tích lũy | J4: Điểm TBC (hệ 10) | K4: Điểm TBC (hệ 4) | L4: Số môn không đạt | M4: Số Tín chỉ không đạt | N4: Tỷ lệ % không đạt | O4: Đề nghị xét | P4: DC2DT55_Anten và truyền sóng (3) | Q4: DC3DT81_Công nghệ Multimedia (2) | R4: DC3DT82_Công nghệ vi điện tử (2) | S4: DC2DT45_Cơ sở điều khiển tự động (3) | T4: DC3DT34_Cơ sở truyền số liệu (2) | U4: DC2DT51_Điện tử số (3) | V4: DC2DT26_Đo lường điện tử (2) | W4: DC2DT24_Đồ án Điện tử (2) | X4: DC3DT70_Đồ án Viễn thông (2) | Y4: DC1LL04_Đường lối cách mạng của Đảng cộng sản Việt Nam (3) | Z4: DC3DT63_Hệ thống viễn thông (3) | AA4: DC2DT57_Kiến trúc máy tính (2) | AB4: DC2DT29_Kỹ thuật vi xử lý và ứng dụng (3) | AC4: DC2DT23_Lập trình C/C++ (4) | AD4: DC2DT41_Linh kiện điện tử (3) | AE4: DC2DT27_Lý thuyết mạch (4) | AF4: DC2DT43_Lý thuyết truyền tin (3) | AG4: DC1CB20_Lý thuyết xác suất - thống kê (2) | AH4: DC3DT36_Mạng viễn thông (3) | AI4: DC1TH48_Matlab và ứng dụng (2) | AJ4: DC3DT39_Mô phỏng hệ thống truyền thông (2) | AK4: DC3DT37_Ứng dụng điện tử truyền thông trong ITS (3) | AL4: DC1LL01_Những nguyên lý cơ bản của CN Mác - Lênin 1 (2) | AM4: DC1LL02_Những nguyên lý cơ bản của CN Mác - Lênin 2 (3) | AN4: DC1LL05_Pháp luật Việt Nam đại cương (2) | AO4: DC3DT73_Thông tin di động (3) | AP4: DC3DT71_Thông tin số (3) | AQ4: DC3DT72_Thông tin vô tuyến (3) | AR4: DC4DT21_Thực tập Điện tử cơ bản (3) | AS4: DC4DT23_Thực tập Điện tử viễn thông (3) | AT4: DC4DT22_Thực tập Lắp ráp điện tử (2) | AU4: DC4DT71_Thực tập tốt nghiệp (7) | AV4: DC1CB35_Tiếng anh (3) | AW4: DC1TT42_Tin học đại cương (3) | AX4: DC1CB11_Toán 1 (4) | AY4: DC1CB41_Toán 2 (2) | AZ4: DC1CB57_Toán 3 (3) | BA4: DC2DT28_Trường điện từ (2) | BB4: DC1LL03_Tư tưởng Hồ Chí Minh (2) | BC4: DC1DT21_Vật lý đại cương 1 (3) | BD4: DC1DT22_Vật lý đại cương 2 (2) | BE4: DC3DT35_Xử lý ảnh số và video số (3) | BF4: DC2DT65_Xử lý tín hiệu số (4)
P5: 3 | Q5: 2 | R5: 2 | S5: 3 | T5: 2 | U5: 3 | V5: 2 | W5: 2 | X5: 2 | Y5: 3 | Z5: 3 | AA5: 2 | AB5: 3 | AC5: 4 | AD5: 3 | AE5: 4 | AF5: 3 | AG5: 2 | AH5: 3 | AI5: 2 | AJ5: 2 | AK5: 3 | AL5: 2 | AM5: 3 | AN5: 2 | AO5: 3 | AP5: 3 | AQ5: 3 | AR5: 3 | AS5: 3 | AT5: 2 | AU5: 7 | AV5: 3 | AW5: 3 | AX5: 4 | AY5: 2 | AZ5: 3 | BA5: 2 | BB5: 2 | BC5: 3 | BD5: 2 | BE5: 3 | BF5: 4
A6: 1 | B6: 66DCDT21195 | D6: TRẦN THỊ PHƯƠNG | E6: DUNG | F6: 15/07/1997 | G6: 120 | H6: 120 | I6: 120 | J6: 6.5608333 | K6: 2.4625 | L6: 0 | M6: 0 | N6: 0 | O6: Đ | P6: 7.3 | Q6: 6.5 | R6: 7.5 | S6: 4.4 | T6: 6.3 | U6: 5.2 | V6: 7.1 | W6: 6.6 | X6: 8.1 | Y6: 6 | Z6: 5 | AA6: 8.4 | AB6: 4.3 | AC6: 5.1 | AD6: 4.5 | AE6: 6 | AF6: 8 | AG6: 6.9 | AH6: 7.5 | AI6: 5.3 | AJ6: 7.2 | AK6: 8.6 | AL6: 6.1 | AM6: 7.8 | AN6: 6.5 | AO6: 6.6 | AP6: 5.3 | AQ6: 8.3 | AR6: 8.3 | AS6: 7.3 | AT6: 9.3 | AU6: 7.3 | AV6: 4.9 | AW6: 6.9 | AX6: 6.6 | AY6: 4.2 | AZ6: 5.5 | BA6: 4.6 | BB6: 7.8 | BC6: 6.6 | BD6: 6.8 | BE6: 6.7 | BF6: 7.5 | BG6: =VLOOKUP(B6,'66DCDT'!$C$10:$G$58,3,0) -> #N/A
A7: 2 | B7: 66DCDT21695 | C7: =D7&" "&E7 -> ĐÀO XUÂN ĐỨC | D7: ĐÀO XUÂN | E7: ĐỨC | F7: 22/06/1997 | G7: 120 | H7: 118 | I7: 118 | J7: 6.6855932 | K7: 2.5466102 | L7: 1 | M7: 2 | N7: 0.016666667 | O7: Đ | P7: 5.3 | R7: 5.4 | S7: 4.3 | T7: 6.2 | U7: 7.1 | V7: 6 | W7: 7.3 | X7: 7.8 | Y7: 5 | Z7: 4 | AA7: 8.3 | AB7: 7.2 | AC7: 7.1 | AD7: 4.1 | AE7: 6.6 | AF7: 6.4 | AG7: 8.6 | AH7: 7.9 | AI7: 5.6 | AJ7: 8.6 | AK7: 7.9 | AL7: 7.5 | AM7: 8 | AN7: 4.9 | AO7: 7 | AP7: 4.1 | AQ7: 5.7 | AR7: 7.1 | AS7: 9.6 | AT7: 6.3 | AU7: 9.6 | AV7: 7.5 | AW7: 7.6 | AX7: 6.7 | AY7: 4.5 | AZ7: 6 | BA7: 5 | BB7: 6.6 | BC7: 4.3 | BD7: 8.1 | BE7: 4.4 | BF7: 8.8 | BG7: =VLOOKUP(B7,'66DCDT'!$C$10:$G$58,3,0) -> 22/06/1997
A8: 3 | B8: 66DCDT21528 | D8: ĐỖ VĂN | E8: HẢI | F8: 21/03/1993 | G8: 120 | H8: 118 | I8: 115 | J8: 6.2957627 | K8: 2.309322 | L8: 2 | M8: 5 | N8: 0.041666667 | O8: Đ | P8: 5.7 | R8: 6.1 | S8: 5.6 | T8: 5.3 | U8: 5.3 | V8: 7.5 | W8: 7 | X8: 7 | Y8: 4.9 | Z8: 3.8 | AA8: 8.2 | AB8: 4 | AC8: 4.1 | AD8: 4.6 | AE8: 4.4 | AF8: 4.5 | AG8: 9.1 | AH8: 5.9 | AI8: 5 | AJ8: 7.4 | AK8: 6.5 | AL8: 6.4 | AM8: 7.3 | AN8: 6.2 | AO8: 6.4 | AP8: 6.2 | AQ8: 4.5 | AR8: 8.6 | AS8: 9.1 | AT8: 7.2 | AU8: 9.1 | AV8: 4.7 | AW8: 5.5 | AX8: 6.4 | AY8: 5.1 | AZ8: 6 | BA8: 8.1 | BB8: 7.8 | BC8: 8.4 | BD8: 8.1 | BE8: 6.3 | BF8: 6.3 | BG8: =VLOOKUP(B8,'66DCDT'!$C$10:$G$58,3,0) -> #N/A
A9: 4 | B9: 66DCDT21135 | C9: =D9&" "&E9 -> BÙI TRỌNG HIẾU | D9: BÙI TRỌNG | E9: HIẾU | F9: 30/06/1997 | G9: 120 | H9: 118 | I9: 115 | J9: 6.0025424 | K9: 2.1059322 | L9: 2 | M9: 5 | N9: 0.041666667 | O9: Đ | P9: 4.2 | R9: 4.9 | S9: 4.3 | T9: 5.3 | U9: 6.7 | V9: 6.5 | W9: 7.3 | X9: 7.8 | Y9: 6.6 | Z9: 2.4 | AA9: 8.5 | AB9: 4.9 | AC9: 4.2 | AD9: 4.1 | AE9: 6.4 | AF9: 4.5 | AG9: 8.4 | AH9: 7.3 | AI9: 6 | AJ9: 8.3 | AK9: 6.5 | AL9: 5.2 | AM9: 7.2 | AN9: 6.5 | AO9: 4.5 | AP9: 4.3 | AQ9: 4.2 | AR9: 8.6 | AS9: 8.2 | AT9: 7.2 | AU9: 8.2 | AV9: 5.3 | AW9: 6.9 | AX9: 4.3 | AY9: 6.7 | AZ9: 5.8 | BA9: 5.4 | BB9: 7.1 | BC9: 5 | BD9: 6.7 | BE9: 5.2 | BF9: 6.4 | BG9: =VLOOKUP(B9,'66DCDT'!$C$10:$G$58,3,0) -> 30/06/1997
A10: 5 | B10: 66DCDT21623 | C10: =D10&" "&E10 -> VŨ MINH HIẾU | D10: VŨ MINH | E10: HIẾU | F10: 16/10/1997 | G10: 120 | H10: 120 | I10: 117 | J10: 5.8358333 | K10: 1.9291667 | L10: 1 | M10: 3 | N10: 0.025 | O10: Đ | P10: 4.9 | Q10: 5.5 | R10: 4.9 | S10: 4.6 | T10: 5.2 | U10: 7.2 | V10: 6.4 | W10: 6.9 | X10: 7.1 | Y10: 5.9 | Z10: 4.7 | AA10: 7.4 | AB10: 5 | AC10: 4.7 | AD10: 4.6 | AE10: 4.8 | AF10: 5.8 | AG10: 6.3 | AH10: 3.8 | AI10: 6.4 | AJ10: 6.2 | AK10: 6.5 | AL10: 6.1 | AM10: 6.2 | AN10: 5.5 | AO10: 4.2 | AP10: 4.4 | AQ10: 5.2 | AR10: 6.6 | AS10: 9.1 | AT10: 7.7 | AU10: 9.1 | AV10: 6.5 | AW10: 4.9 | AX10: 4.5 | AY10: 4.7 | AZ10: 5.9 | BA10: 4.4 | BB10: 5.9 | BC10: 5.1 | BD10: 5.3 | BE10: 5.7 | BF10: 6.6 | BG10: =VLOOKUP(B10,'66DCDT'!$C$10:$G$58,3,0) -> 16/10/1997
A11: 6 | B11: 65DCDT24432 | C11: =D11&" "&E11 -> Đinh Xuân Huy | D11: Đinh Xuân | E11: Huy | F11: 26/06/1996 | G11: 120 | H11: 120 | I11: 114 | J11: 6.3208333 | K11: 2.3583333 | L11: 2 | M11: 6 | N11: 0.05 | O11: Đ | P11: 7 | Q11: 4.8 | R11: 7.3 | S11: 5.2 | T11: 6.1 | U11: 8.6 | V11: 6.5 | W11: 8.2 | X11: 7 | Y11: 7.1 | Z11: 6.2 | AA11: 9.2 | AB11: 4.8 | AC11: 4.5 | AD11: 4.3 | AE11: 5.5 | AF11: 5 | AG11: 5.7 | AH11: 8 | AI11: 7.3 | AJ11: 7.5 | AK11: 7.9 | AL11: 5.3 | AM11: 7.9 | AN11: 6.1 | AO11: 5.8 | AP11: 5.9 | AQ11: 5.2 | AR11: 8.3 | AS11: 9.6 | AT11: 7.2 | AU11: 9.6 | AV11: 6.8 | AW11: 0 | AX11: 5.6 | AY11: 6.3 | AZ11: 4.3 | BA11: 4.2 | BB11: 6.2 | BC11: 1.8 | BD11: 6.5 | BE11: 5 | BF11: 8 | BG11: =VLOOKUP(B11,'66DCDT'!$C$10:$G$58,3,0) -> 26/06/1996
A12: 7 | B12: 66DCDT21645 | D12: ỨNG THỊ LAN | E12: HƯƠNG | F12: 28/07/1997 | G12: 120 | H12: 120 | I12: 115 | J12: 6.6725 | K12: 2.5083333 | L12: 2 | M12: 5 | N12: 0.041666667 | O12: Đ | P12: 7.3 | Q12: 3.4 | R12: 7.8 | S12: 4.7 | T12: 7.4 | U12: 6.3 | V12: 7.9 | W12: 6.6 | X12: 8.1 | Y12: 8.1 | Z12: 5.4 | AA12: 8.1 | AB12: 7.6 | AC12: 5.8 | AD12: 5 | AE12: 4 | AF12: 8.8 | AG12: 7.5 | AH12: 6.1 | AI12: 4.8 | AJ12: 7.9 | AK12: 7.9 | AL12: 4.4 | AM12: 8.7 | AN12: 6.8 | AO12: 6.4 | AP12: 5.4 | AQ12: 5 | AR12: 7.7 | AS12: 8.7 | AT12: 6.9 | AU12: 8.7 | AV12: 5.6 | AW12: 5.9 | AX12: 8.3 | AY12: 4.5 | AZ12: 6.7 | BA12: 7.9 | BB12: 8.7 | BC12: 6.1 | BD12: 5.1 | BE12: 3.2 | BF12: 7.5 | BG12: =VLOOKUP(B12,'66DCDT'!$C$10:$G$58,3,0) -> #N/A
A13: 8 | B13: 66DCDT21619 | C13: =D13&" "&E13 -> NGUYỄN DUY KHÁNH | D13: NGUYỄN DUY | E13: KHÁNH | F13: 18/05/1997 | G13: 120 | H13: 118 | I13: 115 | J13: 6.0779661 | K13: 2.1567797 | L13: 2 | M13: 5 | N13: 0.041666667 | O13: Đ | P13: 6 | R13: 6.5 | S13: 5 | T13: 6 | U13: 5 | V13: 7.9 | W13: 8.3 | X13: 7.8 | Y13: 5.4 | Z13: 4.5 | AA13: 7.4 | AB13: 4.7 | AC13: 7.2 | AD13: 6.4 | AE13: 6.1 | AF13: 6 | AG13: 6.3 | AH13: 6.6 | AI13: 5.3 | AJ13: 7.1 | AK13: 6.5 | AL13: 5.6 | AM13: 7.7 | AN13: 4.4 | AO13: 5.3 | AP13: 5.6 | AQ13: 3.5 | AR13: 7.7 | AS13: 8.2 | AT13: 6.9 | AU13: 8.2 | AV13: 4.6 | AW13: 6.4 | AX13: 4.9 | AY13: 5.5 | AZ13: 4.5 | BA13: 4.7 | BB13: 7.1 | BC13: 5.8 | BD13: 6.3 | BE13: 6.2 | BF13: 4 | BG13: =VLOOKUP(B13,'66DCDT'!$C$10:$G$58,3,0) -> 18/05/1997
A14: 9 | B14: 66DCDT21183 | D14: BÙI THỊ | E14: MINH | F14: 35552 | G14: 120 | H14: 120 | I14: 120 | J14: 6.7875 | K14: 2.5916667 | L14: 0 | M14: 0 | N14: 0 | O14: Đ | P14: 8.4 | Q14: 4.8 | R14: 9 | S14: 4.5 | T14: 7.5 | U14: 7.9 | V14: 8.2 | W14: 8 | X14: 7 | Y14: 7 | Z14: 7.1 | AA14: 7.6 | AB14: 5.8 | AC14: 6.5 | AD14: 5.3 | AE14: 6.4 | AF14: 5.7 | AG14: 5.9 | AH14: 8.4 | AI14: 5.2 | AJ14: 6.6 | AK14: 8.6 | AL14: 6.9 | AM14: 6.8 | AN14: 5.8 | AO14: 7.8 | AP14: 6.1 | AQ14: 5.3 | AR14: 8.3 | AS14: 7.8 | AT14: 7.2 | AU14: 7.8 | AV14: 4.6 | AW14: 5.7 | AX14: 7.3 | AY14: 6.4 | AZ14: 5.8 | BA14: 8.3 | BB14: 8 | BC14: 6.1 | BD14: 6.3 | BE14: 4.9 | BF14: 7 | BG14: =VLOOKUP(B14,'66DCDT'!$C$10:$G$58,3,0) -> #N/A
A15: 10 | B15: 66DCDT21386 | D15: ĐINH BẢO | E15: NGỌC | F15: 28/10/1997 | G15: 120 | H15: 117 | I15: 115 | J15: 6.1239316 | K15: 2.2179487 | L15: 2 | M15: 5 | N15: 0.041666667 | O15: Đ | P15: 4.2 | Q15: 6.2 | R15: 5.9 | S15: 4.9 | T15: 6.2 | U15: 5 | V15: 6.6 | W15: 8 | X15: 0 | Y15: 6.4 | Z15: 6.8 | AA15: 7.3 | AB15: 5.7 | AC15: 7.7 | AD15: 4.2 | AE15: 4.2 | AF15: 8.4 | AG15: 6.8 | AH15: 6.1 | AI15: 4.8 | AJ15: 6.2 | AK15: 6.5 | AL15: 4.4 | AM15: 5.3 | AN15: 5.1 | AO15: 5.9 | AP15: 7.3 | AQ15: 4.4 | AR15: 8 | AS15: 9.1 | AT15: 9.3 | AU15: 9.1 | AV15: 4.6 | AW15: 8.1 | AX15: 4 | AY15: 6.2 | AZ15: 4.3 | BA15: 5.3 | BB15: 6.2 | BC15: 4.2 | BD15: 6.4 | BF15: 7.3 | BG15: =VLOOKUP(B15,'66DCDT'!$C$10:$G$58,3,0) -> #N/A
A16: 11 | B16: 66DCDT21111 | D16: HỒ THANH | E16: PHONG | F16: 24/12/1997 | G16: 120 | H16: 118 | I16: 116 | J16: 5.6966102 | K16: 1.8644068 | L16: 2 | M16: 4 | N16: 0.033333333 | O16: Đ | P16: 5.7 | R16: 8.1 | S16: 4.7 | T16: 4.8 | U16: 4.2 | V16: 6.1 | W16: 10 | X16: 0 | Y16: 4.8 | Z16: 7.3 | AA16: 6.6 | AB16: 4.9 | AC16: 5.6 | AD16: 4.3 | AE16: 4.8 | AF16: 4.4 | AG16: 6.8 | AH16: 5.8 | AI16: 4.3 | AJ16: 6.3 | AK16: 5 | AL16: 6.7 | AM16: 7.8 | AN16: 6.5 | AO16: 4.4 | AP16: 4.4 | AQ16: 5.1 | AR16: 7.3 | AS16: 7.8 | AT16: 4.9 | AU16: 7.8 | AV16: 4.2 | AW16: 5.2 | AX16: 7.3 | AY16: 5.1 | AZ16: 5.1 | BA16: 4.2 | BB16: 5.7 | BC16: 4.2 | BD16: 5.7 | BE16: 4.6 | BF16: 7.4 | BG16: =VLOOKUP(B16,'66DCDT'!$C$10:$G$58,3,0) -> #N/A
A17: 12 | B17: 66DCDT21571 | C17: =D17&" "&E17 -> BÙI HỮU THÀNH | D17: BÙI HỮU | E17: THÀNH | F17: 35347 | G17: 120 | H17: 120 | I17: 120 | J17: 7.6458333 | K17: 3.1125 | L17: 0 | M17: 0 | N17: 0 | O17: Đ | P17: 8 | Q17: 5.5 | R17: 8.3 | S17: 8 | T17: 8 | U17: 7.2 | V17: 8.1 | W17: 10 | X17: 7.9 | Y17: 8.7 | Z17: 7.1 | AA17: 7.9 | AB17: 10 | AC17: 6.5 | AD17: 7.5 | AE17: 6.4 | AF17: 4.6 | AG17: 9.3 | AH17: 8.4 | AI17: 7.7 | AJ17: 7 | AK17: 6.7 | AL17: 6.5 | AM17: 8.7 | AN17: 5.8 | AO17: 6.6 | AP17: 7.8 | AQ17: 7.4 | AR17: 9 | AS17: 9.6 | AT17: 9.3 | AU17: 9.6 | AV17: 5.3 | AW17: 5.1 | AX17: 7.6 | AY17: 8.4 | AZ17: 8.9 | BA17: 7 | BB17: 8.1 | BC17: 8.6 | BD17: 8.8 | BE17: 5.7 | BF17: 6.1 | BG17: =VLOOKUP(B17,'66DCDT'!$C$10:$G$58,3,0) -> 10/09/1996
A18: 13 | B18: 66DCDT21300 | C18: =D18&" "&E18 -> NGUYỄN MINH TÚ | D18: NGUYỄN MINH | E18: TÚ | F18: 35619 | G18: 120 | H18: 120 | I18: 120 | J18: 6.0116667 | K18: 2.075 | L18: 0 | M18: 0 | N18: 0 | O18: Đ | P18: 5.6 | Q18: 4.4 | R18: 6.3 | S18: 4.6 | T18: 6.2 | U18: 5.3 | V18: 7.5 | W18: 6.9 | X18: 7.1 | Y18: 5.9 | Z18: 6.4 | AA18: 6.7 | AB18: 5.7 | AC18: 5.8 | AD18: 5 | AE18: 5.9 | AF18: 5.6 | AG18: 6.6 | AH18: 4.8 | AI18: 5.2 | AJ18: 6.2 | AK18: 6.7 | AL18: 5.9 | AM18: 4.1 | AN18: 5.8 | AO18: 6.7 | AP18: 5.7 | AQ18: 4.4 | AR18: 7.7 | AS18: 9.1 | AT18: 5.6 | AU18: 9.1 | AV18: 6.1 | AW18: 4.7 | AX18: 5.4 | AY18: 5.2 | AZ18: 4.9 | BA18: 6.4 | BB18: 6 | BC18: 7.9 | BD18: 5.4 | BE18: 4.6 | BF18: 4.5 | BG18: =VLOOKUP(B18,'66DCDT'!$C$10:$G$58,3,0) -> 07/08/1997
A19: 14 | B19: 66DCDT21363 | D19: NGUYỄN ĐẮC | E19: VUI | F19: 17/09/1997 | G19: 120 | H19: 118 | I19: 116 | J19: 6.2101695 | K19: 2.2754237 | L19: 2 | M19: 4 | N19: 0.033333333 | O19: Đ | P19: 4.9 | R19: 4.1 | S19: 4 | T19: 6.4 | U19: 7.2 | V19: 4.4 | W19: 8.9 | X19: 0 | Y19: 5.9 | Z19: 6.9 | AA19: 9.3 | AB19: 5 | AC19: 4 | AD19: 4.5 | AE19: 6.1 | AF19: 8.5 | AG19: 5.4 | AH19: 6.8 | AI19: 6 | AJ19: 6.6 | AK19: 6.7 | AL19: 5 | AM19: 5.8 | AN19: 6.5 | AO19: 6.6 | AP19: 5.1 | AQ19: 5.9 | AR19: 7.4 | AS19: 9.1 | AT19: 6.3 | AU19: 9.1 | AV19: 6.1 | AW19: 4.3 | AX19: 4.8 | AY19: 5.1 | AZ19: 5.9 | BA19: 6 | BB19: 6.5 | BC19: 7.1 | BD19: 9 | BE19: 4.6 | BF19: 8.4 | BG19: =VLOOKUP(B19,'66DCDT'!$C$10:$G$58,3,0) -> #N/A
A20: 15 | B20: 66DCDT21565 | D20: ĐÀO DUY | E20: ANH | F20: 35654 | G20: 120 | H20: 118 | I20: 113 | J20: 5.8110169 | K20: 2.0042373 | L20: 3 | M20: 7 | N20: 0.058333333 | O20: K | P20: 4.6 | R20: 6.2 | S20: 4.9 | T20: 6.4 | U20: 6.6 | V20: 6.4 | W20: 4.3 | X20: 0 | Y20: 2.1 | Z20: 4.9 | AA20: 6.8 | AB20: 4 | AC20: 6.1 | AD20: 5.5 | AE20: 5.6 | AF20: 8.3 | AG20: 8.6 | AH20: 4.5 | AI20: 5.3 | AJ20: 5.8 | AK20: 4.8 | AL20: 4.5 | AM20: 7.1 | AN20: 6.9 | AO20: 6.1 | AP20: 5.5 | AQ20: 5.6 | AR20: 7 | AS20: 9.1 | AT20: 6.9 | AU20: 9.1 | AV20: 4.4 | AW20: 4.1 | AX20: 5.4 | AY20: 5.9 | AZ20: 7.4 | BA20: 5.3 | BB20: 7.3 | BC20: 4.7 | BD20: 7.9 | BE20: 4.6 | BF20: 4.3 | BG20: =VLOOKUP(B20,'66DCDT'!$C$10:$G$58,3,0) -> #N/A
A21: 16 | B21: 66DCDT21783 | D21: ĐÀO HOÀNG | E21: ANH | F21: 35490 | G21: 120 | H21: 100 | I21: 31 | J21: 2.43 | K21: 0.495 | L21: 31 | M21: 89 | N21: 0.74166667 | O21: K | P21: 0 | R21: 3.9 | S21: 2.3 | T21: 5.3 | U21: 0 | V21: 5.3 | W21: 0 | X21: 0 | Y21: 0 | Z21: 4 | AA21: 2.4 | AB21: 0 | AC21: 4.3 | AD21: 3.2 | AE21: 0 | AF21: 4.6 | AG21: 5.7 | AH21: 2.3 | AI21: 2.1 | AJ21: 1.6 | AK21: 2.3 | AL21: 5.2 | AM21: 0 | AO21: 2.1 | AQ21: 5.4 | AR21: 7.3 | AT21: 6.3 | AV21: 0 | AW21: 4.3 | AX21: 3.9 | AY21: 2.8 | AZ21: 0 | BA21: 0 | BB21: 0 | BC21: 1 | BD21: 6.3 | BF21: 0 | BG21: =VLOOKUP(B21,'66DCDT'!$C$10:$G$58,3,0) -> #N/A
A22: 17 | B22: 66DCDT21458 | D22: NGUYỄN TUẤN | E22: ANH | F22: 26/09/1997 | G22: 120 | H22: 108 | I22: 103 | J22: 5.6537037 | K22: 1.8518519 | L22: 5 | M22: 17 | N22: 0.14166667 | O22: K | P22: 4.9 | R22: 5.4 | S22: 4.3 | T22: 5 | U22: 6.5 | V22: 8.1 | W22: 5.6 | X22: 0 | Y22: 4.9 | Z22: 4 | AA22: 6.1 | AB22: 5.6 | AC22: 4.3 | AD22: 4.7 | AE22: 4.7 | AF22: 4.6 | AG22: 6.9 | AH22: 6.1 | AI22: 5.3 | AJ22: 5.9 | AK22: 7.9 | AL22: 5.8 | AM22: 5.9 | AN22: 5 | AO22: 3.8 | AP22: 6.6 | AQ22: 7.5 | AR22: 7 | AT22: 6.5 | AV22: 4.1 | AW22: 4.8 | AX22: 5.6 | AY22: 4.5 | AZ22: 5.9 | BA22: 7.9 | BB22: 7.1 | BC22: 7.8 | BD22: 7.3 | BE22: 6.5 | BF22: 6.8 | BG22: =VLOOKUP(B22,'66DCDT'!$C$10:$G$58,3,0) -> 26/09/1997
A23: 18 | B23: 66DCDT21058 | D23: ĐINH VĂN | E23: CHÍNH | F23: 29/11/1997 | G23: 120 | H23: 99 | I23: 50 | J23: 3.0828283 | K23: 0.73232323 | L23: 23 | M23: 70 | N23: 0.58333333 | O23: K | P23: 4 | R23: 3.7 | S23: 2.5 | T23: 5.5 | U23: 4.9 | V23: 7.7 | W23: 5.6 | X23: 0 | Y23: 1.8 | Z23: 1.6 | AA23: 2.4 | AB23: 4.1 | AC23: 0 | AD23: 4 | AE23: 5.3 | AF23: 0 | AG23: 5.1 | AH23: 0 | AI23: 4.5 | AJ23: 5.8 | AK23: 0 | AL23: 6 | AM23: 4.3 | AN23: 4.4 | AQ23: 0.4 | AR23: 6.7 | AT23: 2.1 | AV23: 4.3 | AW23: 4.1 | AX23: 3.5 | AY23: 4.3 | AZ23: 1.9 | BA23: 4.2 | BB23: 5.6 | BC23: 0 | BD23: 1.2 | BF23: 0 | BG23: =VLOOKUP(B23,'66DCDT'!$C$10:$G$58,3,0) -> #N/A
A24: 19 | B24: 66DCDT21218 | D24: LÊ MẠNH | E24: CƯỜNG | F24: 14/07/1997 | G24: 120 | H24: 108 | I24: 106 | J24: 6.0435185 | K24: 2.1759259 | L24: 4 | M24: 14 | N24: 0.11666667 | O24: K | P24: 6.3 | R24: 4.3 | S24: 9.1 | T24: 4.4 | U24: 6.1 | V24: 8.7 | W24: 5.6 | X24: 0 | Y24: 6.8 | Z24: 4.3 | AA24: 8.5 | AB24: 5.7 | AC24: 4.2 | AD24: 4 | AE24: 5.4 | AF24: 8.6 | AG24: 4.7 | AH24: 6.8 | AI24: 5.2 | AJ24: 6.5 | AK24: 4.4 | AL24: 5.4 | AM24: 5.8 | AN24: 5.8 | AO24: 5.3 | AP24: 7.3 | AQ24: 8.4 | AR24: 6.7 | AT24: 6.6 | AV24: 4.3 | AW24: 4.6 | AX24: 8.4 | AY24: 8.6 | AZ24: 6.2 | BA24: 4.3 | BB24: 7.1 | BC24: 7.5 | BD24: 7.5 | BE24: 5.9 | BF24: 5.5 | BG24: =VLOOKUP(B24,'66DCDT'!$C$10:$G$58,3,0) -> #N/A
A25: 20 | B25: 66DCDT21442 | D25: LÊ VĂN | E25: GIANG | F25: 20/07/1997 | G25: 120 | H25: 118 | I25: 113 | J25: 5.8542373 | K25: 1.9915254 | L25: 3 | M25: 7 | N25: 0.058333333 | O25: K | P25: 4.9 | R25: 6 | S25: 7.8 | T25: 4.9 | U25: 6.4 | V25: 4.7 | W25: 5.9 | X25: 0 | Y25: 4.5 | Z25: 4.5 | AA25: 8 | AB25: 4.1 | AC25: 6.5 | AD25: 4.3 | AE25: 4.6 | AF25: 5.4 | AG25: 5.7 | AH25: 4.3 | AI25: 6.9 | AJ25: 6.2 | AK25: 5.8 | AL25: 6.1 | AM25: 6.7 | AN25: 4.3 | AO25: 3.4 | AP25: 4.5 | AQ25: 5.1 | AR25: 7.7 | AS25: 8.7 | AT25: 6.6 | AU25: 8.7 | AV25: 6.3 | AW25: 6.2 | AX25: 4.7 | AY25: 5.6 | AZ25: 7.5 | BA25: 4.9 | BB25: 7.1 | BC25: 5.9 | BD25: 6.9 | BE25: 4.9 | BF25: 7.6 | BG25: =VLOOKUP(B25,'66DCDT'!$C$10:$G$58,3,0) -> 20/07/1997
A26: 21 | B26: 66DCDT21532 | D26: NGUYỄN ĐỨC | E26: HIẾU | F26: 35584 | G26: 120 | H26: 97 | I26: 79 | J26: 4.7134021 | K26: 1.4226804 | L26: 14 | M26: 41 | N26: 0.34166667 | O26: K | P26: 6.1 | R26: 2.3 | T26: 3 | U26: 5.5 | V26: 6.4 | W26: 6.6 | X26: 0 | Y26: 4.9 | Z26: 4 | AA26: 6.7 | AB26: 4.1 | AD26: 2.2 | AE26: 4.2 | AF26: 5.2 | AH26: 5.8 | AI26: 5.6 | AJ26: 6.5 | AK26: 7.2 | AL26: 4.7 | AM26: 5.5 | AN26: 4.1 | AO26: 4.1 | AP26: 4.8 | AQ26: 4.2 | AR26: 7.7 | AT26: 5.2 | AV26: 4.9 | AW26: 5.7 | AX26: 8 | AY26: 2.4 | AZ26: 4.2 | BA26: 4.6 | BB26: 7.2 | BC26: 2.4 | BE26: 4.1 | BF26: 0 | BG26: =VLOOKUP(B26,'66DCDT'!$C$10:$G$58,3,0) -> #N/A
A27: 22 | B27: 66DCDT21052 | D27: NGUYỄN THỊ | E27: HỒNG | F27: 35614 | G27: 120 | H27: 110 | I27: 107 | J27: 5.9990909 | K27: 2.1227273 | L27: 3 | M27: 13 | N27: 0.10833333 | O27: K | P27: 6.6 | Q27: 5.5 | R27: 5.6 | S27: 7.5 | T27: 5 | U27: 6.9 | V27: 6.5 | W27: 6.9 | X27: 8.1 | Y27: 7.8 | Z27: 4.7 | AA27: 6.8 | AB27: 2.7 | AC27: 5.6 | AD27: 4.3 | AE27: 4 | AF27: 4.7 | AG27: 6.6 | AH27: 6.1 | AI27: 4.8 | AJ27: 7.2 | AK27: 6.5 | AL27: 5.6 | AM27: 6.7 | AN27: 6.1 | AO27: 8 | AP27: 6.6 | AQ27: 7.2 | AR27: 6.6 | AT27: 5.6 | AV27: 4.6 | AW27: 4.8 | AX27: 6.1 | AY27: 7 | AZ27: 4.7 | BA27: 8.1 | BB27: 7.3 | BC27: 6.6 | BD27: 4.5 | BE27: 5.7 | BF27: 6.2 | BG27: =VLOOKUP(B27,'66DCDT'!$C$10:$G$58,3,0) -> #N/A
A28: 23 | B28: 66DCDT21791 | D28: LÊ MINH | E28: HOÀN | F28: 20/11/1997 | G28: 120 | H28: 108 | I28: 105 | J28: 5.2675926 | K28: 1.5925926 | L28: 4 | M28: 15 | N28: 0.125 | O28: K | P28: 4.3 | R28: 4.4 | S28: 4.3 | T28: 5.1 | U28: 5.7 | V28: 6.5 | W28: 5.6 | X28: 4.2 | Y28: 5 | Z28: 2.9 | AA28: 6.5 | AB28: 4.1 | AC28: 4.4 | AD28: 4.7 | AE28: 5.7 | AF28: 8.3 | AG28: 4.2 | AH28: 4.1 | AI28: 4.5 | AJ28: 8.1 | AK28: 5.8 | AL28: 5.6 | AM28: 4.7 | AN28: 5.4 | AO28: 5.2 | AP28: 4.1 | AQ28: 4.1 | AR28: 6.6 | AT28: 5.6 | AV28: 4.7 | AW28: 6.9 | AX28: 4.7 | AY28: 4.5 | AZ28: 5.9 | BA28: 6.4 | BB28: 4.8 | BC28: 6.3 | BD28: 7.9 | BE28: 4.8 | BF28: 5.9 | BG28: =VLOOKUP(B28,'66DCDT'!$C$10:$G$58,3,0) -> #N/A
A29: 24 | B29: 66DCDT21558 | D29: VŨ VĂN | E29: KHIÊM | F29: 25/05/1997 | G29: 120 | H29: 118 | I29: 75 | J29: 4.6084746 | K29: 1.3347458 | L29: 16 | M29: 45 | N29: 0.375 | O29: K | P29: 3.7 | R29: 4.9 | S29: 2 | T29: 3.2 | U29: 3.5 | V29: 5.8 | W29: 7.6 | X29: 0 | Y29: 3.1 | Z29: 2 | AA29: 8.7 | AB29: 4.2 | AC29: 7.3 | AD29: 5.4 | AE29: 4 | AF29: 0 | AG29: 6.8 | AH29: 3.1 | AI29: 4.5 | AJ29: 5 | AK29: 5.1 | AL29: 6.7 | AM29: 4.8 | AN29: 5.6 | AO29: 2.5 | AP29: 0 | AQ29: 1.8 | AR29: 7.7 | AS29: 8.2 | AT29: 6.3 | AU29: 8.2 | AV29: 2.1 | AW29: 4 | AX29: 4.9 | AY29: 5.9 | AZ29: 1.5 | BA29: 4 | BB29: 6.1 | BC29: 5.2 | BD29: 5.5 | BE29: 2.9 | BF29: 7.5 | BG29: =VLOOKUP(B29,'66DCDT'!$C$10:$G$58,3,0) -> #N/A
A30: 25 | B30: 66DCDT21611 | D30: TRẦN VĂN | E30: LINH | F30: 21/09/1997 | G30: 120 | H30: 118 | I30: 112 | J30: 6.0872881 | K30: 2.1398305 | L30: 3 | M30: 8 | N30: 0.066666667 | O30: K | P30: 5.7 | R30: 6.3 | S30: 4.4 | T30: 4.6 | U30: 5.2 | V30: 6.1 | W30: 7.6 | X30: 7 | Y30: 7.1 | Z30: 4.8 | AA30: 7.1 | AB30: 4.2 | AC30: 4.3 | AD30: 4.3 | AE30: 5 | AF30: 5.1 | AG30: 8.9 | AH30: 7.7 | AI30: 6.3 | AJ30: 8 | AK30: 4.8 | AL30: 4.6 | AM30: 6.3 | AN30: 5.8 | AO30: 3.8 | AP30: 6.5 | AQ30: 3.9 | AR30: 7 | AS30: 9.1 | AT30: 6.5 | AU30: 9.1 | AV30: 6 | AW30: 5.3 | AX30: 7 | AY30: 6.5 | AZ30: 5.2 | BA30: 4.6 | BB30: 7.2 | BC30: 8 | BD30: 5 | BE30: 5.2 | BF30: 6.6 | BG30: =VLOOKUP(B30,'66DCDT'!$C$10:$G$58,3,0) -> 21/09/1997
A31: 26 | B31: 66DCDT21804 | D31: ĐỖ ĐỨC | E31: LĨNH | F31: 24/06/1997 | G31: 120 | H31: 111 | I31: 96 | J31: 4.8405405 | K31: 1.4144144 | L31: 7 | M31: 24 | N31: 0.2 | O31: K | P31: 5.7 | R31: 5.6 | S31: 5.3 | T31: 5 | U31: 4.6 | V31: 4.9 | W31: 4.9 | X31: 0 | Y31: 5.2 | Z31: 4.5 | AA31: 7.9 | AB31: 4.3 | AC31: 5 | AD31: 6.4 | AE31: 3.6 | AF31: 4.9 | AG31: 4.5 | AH31: 4.7 | AI31: 5.4 | AJ31: 4.9 | AK31: 5.8 | AL31: 4 | AM31: 7.6 | AN31: 5.4 | AO31: 4.4 | AP31: 7.1 | AQ31: 4 | AR31: 7.9 | AS31: 8.2 | AT31: 2.4 | AV31: 4.6 | AW31: 7.7 | AX31: 4.4 | AY31: 4.7 | AZ31: 4.3 | BA31: 4.2 | BB31: 5.6 | BC31: 0 | BD31: 6 | BE31: 4.3 | BF31: 0 | BG31: =VLOOKUP(B31,'66DCDT'!$C$10:$G$58,3,0) -> #N/A
A32: 27 | B32: 66DCDT21094 | D32: ĐÀO THÀNH | E32: LONG | F32: 19/02/1997 | G32: 120 | H32: 101 | I32: 17 | J32: 1.6316832 | K32: 0.24257426 | L32: 37 | M32: 103 | N32: 0.85833333 | O32: K | P32: 0 | Q32: 0 | R32: 0 | S32: 2.2 | T32: 1.6 | U32: 1.4 | V32: 0 | W32: 0 | X32: 0 | Y32: 0 | Z32: 1.6 | AA32: 0 | AB32: 0.6 | AC32: 5.4 | AD32: 3.7 | AE32: 2 | AF32: 0 | AG32: 4.1 | AH32: 0 | AI32: 1.4 | AJ32: 0 | AK32: 1.6 | AL32: 5.1 | AM32: 6 | AO32: 0 | AP32: 0 | AQ32: 1.6 | AR32: 0 | AT32: 0 | AV32: 4.3 | AW32: 4.3 | AX32: 2.8 | AZ32: 2.9 | BA32: 0 | BB32: 0 | BC32: 3 | BF32: 0 | BG32: =VLOOKUP(B32,'66DCDT'!$C$10:$G$58,3,0) -> #N/A
A33: 28 | B33: 66DCDT21168 | D33: NGUYỄN THẾ | E33: NAM | F33: 35647 | G33: 120 | H33: 108 | I33: 85 | J33: 4.9712963 | K33: 1.5046296 | L33: 11 | M33: 35 | N33: 0.29166667 | O33: K | P33: 4.6 | R33: 7.4 | S33: 2.5 | T33: 6.2 | U33: 6.3 | V33: 5.7 | W33: 5.6 | X33: 0 | Y33: 4.6 | Z33: 6.8 | AA33: 4.5 | AB33: 3.3 | AC33: 6.9 | AD33: 4.7 | AE33: 3.4 | AF33: 8.2 | AG33: 5.7 | AH33: 4 | AI33: 2.4 | AJ33: 5.8 | AK33: 7.9 | AL33: 5 | AM33: 6.7 | AN33: 5.8 | AO33: 4.3 | AP33: 0 | AQ33: 6 | AR33: 6.4 | AT33: 2.1 | AV33: 5.3 | AW33: 4.7 | AX33: 4.7 | AY33: 6.5 | AZ33: 5.4 | BA33: 4.6 | BB33: 5.5 | BC33: 6 | BD33: 8 | BE33: 4.6 | BF33: 2.1 | BG33: =VLOOKUP(B33,'66DCDT'!$C$10:$G$58,3,0) -> #N/A
A34: 29 | B34: 66DCDT21281 | D34: CAO ĐĂNG | E34: NGỌC | F34: 35501 | G34: 120 | H34: 99 | I34: 27 | J34: 2.1444444 | K34: 0.37878788 | L34: 33 | M34: 93 | N34: 0.775 | O34: K | P34: 2.4 | R34: 3.5 | S34: 0 | T34: 1.1 | U34: 0 | V34: 0 | W34: 0 | X34: 0 | Y34: 2.5 | Z34: 0 | AA34: 2.2 | AB34: 0.7 | AC34: 3.2 | AD34: 4.2 | AE34: 1.8 | AF34: 4.1 | AG34: 4 | AH34: 0 | AI34: 3.1 | AJ34: 1.5 | AK34: 1.4 | AL34: 5.3 | AM34: 0 | AO34: 0.6 | AP34: 3.3 | AQ34: 0 | AR34: 6.7 | AT34: 5.2 | AV34: 0 | AW34: 4 | AX34: 5.1 | AZ34: 0 | BA34: 0 | BB34: 5.5 | BC34: 4.2 | BF34: 1.7 | BG34: =VLOOKUP(B34,'66DCDT'!$C$10:$G$58,3,0) -> #N/A
A35: 30 | B35: 66DCDT21809 | D35: LÊ PHƯỚC MINH | E35: NGỌC | F35: 13/01/1995 | G35: 120 | H35: 118 | I35: 99 | J35: 5.5533898 | K35: 1.7966102 | L35: 8 | M35: 21 | N35: 0.175 | O35: K | P35: 5.6 | R35: 5.5 | S35: 4.2 | T35: 3 | U35: 5.4 | V35: 4.6 | W35: 8 | X35: 0 | Y35: 5.7 | Z35: 6.9 | AA35: 5.7 | AB35: 8.2 | AC35: 4 | AD35: 4.1 | AE35: 2.4 | AF35: 7.2 | AG35: 5 | AH35: 4.5 | AI35: 6.3 | AJ35: 7.2 | AK35: 6.5 | AL35: 5.7 | AM35: 4.9 | AN35: 5.1 | AO35: 3.7 | AP35: 6.5 | AQ35: 2.5 | AR35: 8 | AS35: 9.6 | AT35: 9.3 | AU35: 9.6 | AV35: 7.1 | AW35: 4.1 | AX35: 4.1 | AY35: 3.1 | AZ35: 4 | BA35: 5.6 | BB35: 5.4 | BC35: 4.8 | BD35: 4.9 | BE35: 3.2 | BF35: 6.8 | BG35: =VLOOKUP(B35,'66DCDT'!$C$10:$G$58,3,0) -> #N/A
A36: 31 | B36: 66DCDT21258 | D36: ĐOÀN VĂN | E36: NHÂN | F36: 35014 | G36: 120 | H36: 118 | I36: 98 | J36: 5.1805085 | K36: 1.6101695 | L36: 9 | M36: 22 | N36: 0.18333333 | O36: K | P36: 7.5 | R36: 6.5 | S36: 4.2 | T36: 2.6 | U36: 6.8 | V36: 3.5 | W36: 0 | X36: 0 | Y36: 4.2 | Z36: 6.4 | AA36: 5 | AB36: 4.3 | AC36: 4.3 | AD36: 4.7 | AE36: 5.4 | AF36: 3.7 | AG36: 5.1 | AH36: 4.7 | AI36: 6.6 | AJ36: 5.5 | AK36: 6 | AL36: 6.9 | AM36: 6.6 | AN36: 5.1 | AO36: 4.2 | AP36: 5.7 | AQ36: 3.6 | AR36: 6.7 | AS36: 8.7 | AT36: 5.9 | AU36: 8.7 | AV36: 6 | AW36: 4.4 | AX36: 4 | AY36: 4.1 | AZ36: 2.2 | BA36: 5.2 | BB36: 6.8 | BC36: 3.8 | BD36: 4.2 | BE36: 4.8 | BF36: 5.5 | BG36: =VLOOKUP(B36,'66DCDT'!$C$10:$G$58,3,0) -> #N/A
A37: 32 | B37: 66DCDT21479 | D37: ĐỖ HỮU | E37: PHƯỚC | F37: 29/04/1997 | G37: 120 | H37: 118 | I37: 101 | J37: 5.529661 | K37: 1.7457627 | L37: 8 | M37: 19 | N37: 0.15833333 | O37: K | P37: 2.6 | R37: 4.6 | S37: 6.5 | T37: 3.4 | U37: 5.8 | V37: 4.9 | W37: 5.2 | X37: 0 | Y37: 5.9 | Z37: 5.9 | AA37: 5.7 | AB37: 4.1 | AC37: 7.9 | AD37: 4.3 | AE37: 4.8 | AF37: 8.4 | AG37: 3 | AH37: 4.9 | AI37: 5.2 | AJ37: 6.2 | AK37: 6 | AL37: 4.7 | AM37: 7.5 | AN37: 5.8 | AO37: 5.7 | AP37: 6.7 | AQ37: 2.4 | AR37: 7.3 | AS37: 9.6 | AT37: 7.2 | AU37: 9.6 | AV37: 4.3 | AW37: 4 | AX37: 5.8 | AY37: 3.6 | AZ37: 4.5 | BA37: 4.2 | BB37: 6.7 | BC37: 4.4 | BD37: 4.2 | BE37: 3.1 | BF37: 5.1 | BG37: =VLOOKUP(B37,'66DCDT'!$C$10:$G$58,3,0) -> #N/A
A38: 33 | B38: 66DCDT21733 | D38: LÊ HỒNG | E38: SƠN | F38: 18/02/1997 | G38: 120 | H38: 108 | I38: 108 | J38: 5.8166667 | K38: 2 | L38: 3 | M38: 12 | N38: 0.1 | O38: K | P38: 6.1 | R38: 8.3 | S38: 5.2 | T38: 6.6 | U38: 5.3 | V38: 4.7 | W38: 6.6 | X38: 6 | Y38: 5 | Z38: 6.4 | AA38: 5.2 | AB38: 4.3 | AC38: 4.1 | AD38: 4 | AE38: 4.4 | AF38: 8.3 | AG38: 4.5 | AH38: 4.7 | AI38: 5.7 | AJ38: 8.2 | AK38: 7.4 | AL38: 6.3 | AM38: 7 | AN38: 6.8 | AO38: 4.8 | AP38: 5.1 | AQ38: 6.3 | AR38: 8.6 | AT38: 8.3 | AV38: 6.1 | AW38: 4.1 | AX38: 6.7 | AY38: 4.2 | AZ38: 5.9 | BA38: 4.3 | BB38: 6.9 | BC38: 4 | BD38: 6.8 | BE38: 5.2 | BF38: 6.8 | BG38: =VLOOKUP(B38,'66DCDT'!$C$10:$G$58,3,0) -> #N/A
A39: 34 | B39: 66DCDT21451 | D39: TRẦN | E39: SƠN | F39: 13/11/1997 | G39: 120 | H39: 108 | I39: 94 | J39: 5.1435185 | K39: 1.625 | L39: 8 | M39: 26 | N39: 0.21666667 | O39: K | P39: 5.3 | R39: 6.2 | S39: 3.8 | T39: 4.7 | U39: 6.8 | V39: 4 | W39: 4.3 | X39: 7.1 | Y39: 5.1 | Z39: 6.1 | AA39: 8 | AB39: 4.3 | AC39: 4 | AD39: 6.7 | AE39: 3.4 | AF39: 7.8 | AG39: 5 | AH39: 5.3 | AI39: 6.6 | AJ39: 6.5 | AK39: 6.7 | AL39: 5.7 | AM39: 4.7 | AN39: 5.1 | AO39: 4.6 | AP39: 6.5 | AQ39: 5.6 | AR39: 0 | AT39: 0 | AV39: 6.5 | AW39: 4.1 | AX39: 5.3 | AY39: 5 | AZ39: 7.1 | BA39: 1.7 | BB39: 5.8 | BC39: 4.4 | BD39: 6.3 | BE39: 5.5 | BF39: 5 | BG39: =VLOOKUP(B39,'66DCDT'!$C$10:$G$58,3,0) -> #N/A
A40: 35 | B40: 66DCDT21550 | D40: LÊ HỮU | E40: THẮNG | F40: 35435 | G40: 120 | H40: 108 | I40: 106 | J40: 5.5259259 | K40: 1.7824074 | L40: 4 | M40: 14 | N40: 0.11666667 | O40: K | P40: 4.7 | R40: 6 | S40: 4.5 | T40: 3.8 | U40: 5.5 | V40: 4 | W40: 5.5 | X40: 4.2 | Y40: 5 | Z40: 6.8 | AA40: 9.3 | AB40: 4.3 | AC40: 6.5 | AD40: 4.8 | AE40: 5 | AF40: 8.3 | AG40: 5.7 | AH40: 5.9 | AI40: 4.6 | AJ40: 8.5 | AK40: 6.7 | AL40: 6.1 | AM40: 4.8 | AN40: 4.4 | AO40: 6 | AP40: 4 | AQ40: 4.5 | AR40: 7 | AT40: 6.3 | AV40: 4.5 | AW40: 4.6 | AX40: 4 | AY40: 5.9 | AZ40: 4.3 | BA40: 4.5 | BB40: 7.8 | BC40: 5.4 | BD40: 7.1 | BE40: 5.4 | BF40: 6.6 | BG40: =VLOOKUP(B40,'66DCDT'!$C$10:$G$58,3,0) -> #N/A
A41: 36 | B41: 66DCDT21177 | D41: NGUYỄN VĂN | E41: TIẾN | F41: 14/10/1997 | G41: 120 | H41: 108 | I41: 108 | J41: 6.6583333 | K41: 2.5324074 | L41: 3 | M41: 12 | N41: 0.1 | O41: K | P41: 5.4 | R41: 8.5 | S41: 4.3 | T41: 8.9 | U41: 6.2 | V41: 6.8 | W41: 7.3 | X41: 7 | Y41: 8 | Z41: 7 | AA41: 7.6 | AB41: 5.1 | AC41: 7 | AD41: 4.9 | AE41: 6.3 | AF41: 6.7 | AG41: 4.7 | AH41: 8.4 | AI41: 6.2 | AJ41: 8.9 | AK41: 7.4 | AL41: 6.6 | AM41: 6.6 | AN41: 7.5 | AO41: 6.6 | AP41: 7.5 | AQ41: 6.9 | AR41: 8.6 | AT41: 7.2 | AV41: 4.9 | AW41: 6.1 | AX41: 6.7 | AY41: 5.1 | AZ41: 6.3 | BA41: 8.1 | BB41: 8.7 | BC41: 4.7 | BD41: 7 | BE41: 7.5 | BF41: 4.9 | BG41: =VLOOKUP(B41,'66DCDT'!$C$10:$G$58,3,0) -> 14/10/1997
A42: 37 | B42: 66DCDT21350 | D42: NGUYỄN QUỐC | E42: TOẢN | F42: 14/11/1997 | G42: 120 | H42: 110 | I42: 101 | J42: 5.6027273 | K42: 1.8636364 | L42: 6 | M42: 19 | N42: 0.15833333 | O42: K | P42: 4.9 | Q42: 3.7 | R42: 2.1 | S42: 5.7 | T42: 5.3 | U42: 6.4 | V42: 6.8 | W42: 6.6 | X42: 0 | Y42: 4.3 | Z42: 7.1 | AA42: 6.5 | AB42: 4 | AC42: 4.8 | AD42: 5.4 | AE42: 6.1 | AF42: 6 | AG42: 7.7 | AH42: 5.9 | AI42: 5.2 | AJ42: 8 | AK42: 5 | AL42: 6.4 | AM42: 7 | AN42: 6.2 | AO42: 6.7 | AP42: 6.9 | AQ42: 4.7 | AR42: 6.3 | AT42: 7.6 | AV42: 5.1 | AW42: 6.5 | AX42: 5.9 | AY42: 5.9 | AZ42: 5 | BA42: 6 | BB42: 4.7 | BC42: 7.7 | BD42: 5.9 | BE42: 3.5 | BF42: 4.4 | BG42: =VLOOKUP(B42,'66DCDT'!$C$10:$G$58,3,0) -> #N/A
A43: 38 | B43: 66DCDT21360 | D43: TRẦN NGỌC | E43: TÚ | F43: 35713 | G43: 120 | H43: 108 | I43: 88 | J43: 4.7481481 | K43: 1.462963 | L43: 10 | M43: 32 | N43: 0.26666667 | O43: K | P43: 3.9 | R43: 7.8 | S43: 4.2 | T43: 6.4 | U43: 6.4 | V43: 5.6 | W43: 4.9 | X43: 0 | Y43: 4.9 | Z43: 6.9 | AA43: 6.7 | AB43: 4.2 | AC43: 4.2 | AD43: 4 | AE43: 4.7 | AF43: 5.7 | AG43: 5.7 | AH43: 0 | AI43: 5.3 | AJ43: 5 | AK43: 6 | AL43: 4.2 | AM43: 5.5 | AN43: 6.3 | AO43: 4.2 | AP43: 6.4 | AQ43: 5.5 | AR43: 7.3 | AT43: 9 | AV43: 3.3 | AW43: 7.9 | AX43: 6 | AY43: 0 | AZ43: 4 | BA43: 4.2 | BB43: 4.1 | BC43: 4.5 | BD43: 4.1 | BE43: 3.4 | BF43: 0 | BG43: =VLOOKUP(B43,'66DCDT'!$C$10:$G$58,3,0) -> #N/A
A44: 39 | B44: 66DCDT21496 | D44: ĐẶNG QUANG | E44: VINH | F44: 23/09/1997 | G44: 120 | H44: 118 | I44: 110 | J44: 5.4025424 | K44: 1.7415254 | L44: 4 | M44: 10 | N44: 0.083333333 | O44: K | P44: 4.4 | R44: 5.4 | S44: 4.4 | T44: 4.6 | U44: 7 | V44: 6.7 | W44: 5.2 | X44: 0 | Y44: 4.7 | Z44: 6.1 | AA44: 6.1 | AB44: 4.1 | AC44: 4.8 | AD44: 4.3 | AE44: 6.5 | AF44: 6.5 | AG44: 4.1 | AH44: 4.4 | AI44: 4.9 | AJ44: 6.2 | AK44: 6 | AL44: 4.7 | AM44: 4.4 | AN44: 7 | AO44: 4.6 | AP44: 5.4 | AQ44: 4.7 | AR44: 7.3 | AS44: 8.2 | AT44: 7.2 | AU44: 8.2 | AV44: 4.8 | AW44: 4.7 | AX44: 5.3 | AY44: 3 | AZ44: 4.5 | BA44: 6 | BB44: 7.3 | BC44: 7.3 | BD44: 5.8 | BE44: 5.3 | BF44: 1.5 | BG44: =VLOOKUP(B44,'66DCDT'!$C$10:$G$58,3,0) -> #N/A
A45: 40 | B45: 66DCDT21570 | D45: TRẦN DUY | E45: VIẾT | F45: 17/06/1997 | G45: 120 | H45: 118 | I45: 113 | J45: 6.0008475 | K45: 2.0847458 | L45: 3 | M45: 7 | N45: 0.058333333 | O45: K | P45: 4.7 | R45: 5.8 | S45: 3.4 | T45: 5 | U45: 5.7 | V45: 5.4 | W45: 6.3 | X45: 0 | Y45: 4.5 | Z45: 6.8 | AA45: 6.6 | AB45: 4 | AC45: 7.7 | AD45: 4.5 | AE45: 5.1 | AF45: 8.4 | AG45: 5.6 | AH45: 6.6 | AI45: 5.5 | AJ45: 6.2 | AK45: 6.7 | AL45: 7.3 | AM45: 5.1 | AN45: 6.2 | AO45: 5.3 | AP45: 4.7 | AQ45: 4 | AR45: 6.7 | AS45: 9.1 | AT45: 6.5 | AU45: 9.1 | AV45: 4.6 | AW45: 6.6 | AX45: 7.8 | AY45: 4.4 | AZ45: 6 | BA45: 7.3 | BB45: 4.9 | BC45: 6.5 | BD45: 9.1 | BE45: 5.9 | BF45: 4.6 | BG45: =VLOOKUP(B45,'66DCDT'!$C$10:$G$58,3,0) -> #N/A
A46: 41 | B46: 66DCDT21252 | D46: NGUYỄN VĂN | E46: VIỆT | F46: 15/07/1997 | G46: 120 | H46: 108 | I46: 104 | J46: 5.4888889 | K46: 1.7731481 | L46: 5 | M46: 16 | N46: 0.13333333 | O46: K | P46: 4.2 | R46: 5.6 | S46: 4.1 | T46: 3.9 | U46: 6.6 | V46: 5.3 | W46: 5.5 | X46: 0 | Y46: 4.9 | Z46: 6.8 | AA46: 6 | AB46: 5.4 | AC46: 4 | AD46: 4.7 | AE46: 6.8 | AF46: 4.9 | AG46: 4.3 | AH46: 6.6 | AI46: 5.5 | AJ46: 5.9 | AK46: 6.7 | AL46: 5.9 | AM46: 6.6 | AN46: 5.5 | AO46: 5.3 | AP46: 6.1 | AQ46: 4 | AR46: 7 | AT46: 6.3 | AV46: 4.6 | AW46: 4.5 | AX46: 6.8 | AY46: 6.5 | AZ46: 4.5 | BA46: 4.2 | BB46: 6.9 | BC46: 6.9 | BD46: 7.5 | BE46: 4.8 | BF46: 6.3 | BG46: =VLOOKUP(B46,'66DCDT'!$C$10:$G$58,3,0) -> #N/A
B48: Tổng hợp: | AO48: Hà Nội, ngày tháng năm 2019
K49: Số SV | N49: Tỷ lệ (%) | W49: PHÒNG ĐÀO TẠO | AO49: PHÒNG KHẢO THÍ VÀ ĐẢM BẢO CHẤT LƯỢNG ĐÀO TẠO
D50: Đủ điều kiện nhận ĐÁ/KLTN: | K50: 14 | N50: 0.34146341 | P50: 7
D51: Không đủ điều kiện nhận ĐÁ/KLTN: | K51: 27 | N51: 0.65853659
K52: 41

Sheet 66DCDT23
X1: BẢNG ĐIỂM TOÀN KHÓA XÉT ĐIỀU KIỆN NHẬN ĐỒ ÁN/KHÓA LUẬN TỐT NGHIỆP
V2: LỚP 66DCDT23
A4: STT | B4: Mã sinh viên | D4: Họ đệm | E4: Tên | F4: Ngày sinh | G4: Tổng số TC | H4: Số tín chỉ tính điểm | I4: Số tín chỉ tích lũy | J4: Điểm TBC (hệ 10) | K4: Điểm TBC (hệ 4) | L4: Số môn không đạt | M4: Số Tín chỉ không đạt | N4: Tỷ lệ % không đạt | O4: Đề nghị xét | P4: DC2DT55_Anten và truyền sóng (3) | Q4: DC3DT81_Công nghệ Multimedia (2) | R4: DC3DT82_Công nghệ vi điện tử (2) | S4: DC2DT45_Cơ sở điều khiển tự động (3) | T4: DC3DT34_Cơ sở truyền số liệu (2) | U4: DC2DT51_Điện tử số (3) | V4: DC2DT26_Đo lường điện tử (2) | W4: DC2DT24_Đồ án Điện tử (2) | X4: DC3DT70_Đồ án Viễn thông (2) | Y4: DC1LL04_Đường lối cách mạng của Đảng cộng sản Việt Nam (3) | Z4: DC3DT63_Hệ thống viễn thông (3) | AA4: DC2DT57_Kiến trúc máy tính (2) | AB4: DC2DT29_Kỹ thuật vi xử lý và ứng dụng (3) | AC4: DC2DT23_Lập trình C/C++ (4) | AD4: DC2DT41_Linh kiện điện tử (3) | AE4: DC2DT27_Lý thuyết mạch (4) | AF4: DC2DT43_Lý thuyết truyền tin (3) | AG4: DC1CB20_Lý thuyết xác suất - thống kê (2) | AH4: DC3DT36_Mạng viễn thông (3) | AI4: DC1TH48_Matlab và ứng dụng (2) | AJ4: DC3DT39_Mô phỏng hệ thống truyền thông (2) | AK4: DC3DT37_Ứng dụng điện tử truyền thông trong ITS (3) | AL4: DC1LL01_Những nguyên lý cơ bản của CN Mác - Lênin 1 (2) | AM4: DC1LL02_Những nguyên lý cơ bản của CN Mác - Lênin 2 (3) | AN4: DC1LL05_Pháp luật Việt Nam đại cương (2) | AO4: DC3DT73_Thông tin di động (3) | AP4: DC3DT71_Thông tin số (3) | AQ4: DC3DT72_Thông tin vô tuyến (3) | AR4: DC4DT21_Thực tập Điện tử cơ bản (3) | AS4: DC4DT23_Thực tập Điện tử viễn thông (3) | AT4: DC4DT22_Thực tập Lắp ráp điện tử (2) | AU4: DC4DT71_Thực tập tốt nghiệp (7) | AV4: DC1CB35_Tiếng anh (3) | AW4: DC1TT42_Tin học đại cương (3) | AX4: DC1CB11_Toán 1 (4) | AY4: DC1CB41_Toán 2 (2) | AZ4: DC1CB57_Toán 3 (3) | BA4: DC2DT28_Trường điện từ (2) | BB4: DC1LL03_Tư tưởng Hồ Chí Minh (2) | BC4: DC1DT21_Vật lý đại cương 1 (3) | BD4: DC1DT22_Vật lý đại cương 2 (2) | BE4: DC3DT35_Xử lý ảnh số và video số (3) | BF4: DC2DT65_Xử lý tín hiệu số (4)
P5: 3 | Q5: 2 | R5: 2 | S5: 3 | T5: 2 | U5: 3 | V5: 2 | W5: 2 | X5: 2 | Y5: 3 | Z5: 3 | AA5: 2 | AB5: 3 | AC5: 4 | AD5: 3 | AE5: 4 | AF5: 3 | AG5: 2 | AH5: 3 | AI5: 2 | AJ5: 2 | AK5: 3 | AL5: 2 | AM5: 3 | AN5: 2 | AO5: 3 | AP5: 3 | AQ5: 3 | AR5: 3 | AS5: 3 | AT5: 2 | AU5: 7 | AV5: 3 | AW5: 3 | AX5: 4 | AY5: 2 | AZ5: 3 | BA5: 2 | BB5: 2 | BC5: 3 | BD5: 2 | BE5: 3 | BF5: 4
A6: 1 | B6: 66DCDT21938 | D6: NGUYỄN PHÚ | E6: AN | F6: 35744 | G6: 120 | H6: 118 | I6: 115 | J6: 5.9152542 | K6: 1.9576271 | L6: 2 | M6: 5 | N6: 0.041666667 | O6: Đ | P6: 4.6 | R6: 4.6 | S6: 4.5 | T6: 4.2 | U6: 5.6 | V6: 4.6 | W6: 7.1 | X6: 8 | Y6: 5.3 | Z6: 4.5 | AA6: 8.2 | AB6: 5.4 | AC6: 4.4 | AD6: 4.4 | AE6: 4.3 | AF6: 4.5 | AG6: 6.3 | AH6: 4.7 | AI6: 4.2 | AJ6: 5.8 | AK6: 6.8 | AL6: 4.8 | AM6: 6.9 | AN6: 4.7 | AO6: 7.5 | AP6: 5.6 | AQ6: 5.2 | AR6: 6.6 | AS6: 9.1 | AT6: 7.6 | AU6: 9.1 | AV6: 4.9 | AW6: 4.8 | AX6: 6.6 | AY6: 4.9 | AZ6: 8.6 | BA6: 5.4 | BB6: 7.6 | BC6: 3.9 | BD6: 4.2 | BE6: 5.5 | BF6: 8 | BG6: =VLOOKUP(B6,'66DCDT'!$C$10:$G$58,3,0) -> #N/A
A7: 2 | B7: 66DCDT21989 | C7: =D7&" "&E7 -> PHẠM NGỌC DOANH | D7: PHẠM NGỌC | E7: DOANH | F7: 20/03/1995 | G7: 120 | H7: 118 | I7: 115 | J7: 5.5754237 | K7: 1.8135593 | L7: 2 | M7: 5 | N7: 0.041666667 | O7: Đ | P7: 5.5 | R7: 5.3 | S7: 4.3 | T7: 7.7 | U7: 4.1 | V7: 5.8 | W7: 7.3 | X7: 5 | Y7: 6.4 | Z7: 6.6 | AA7: 6.1 | AB7: 5.1 | AC7: 4.4 | AD7: 3.3 | AE7: 4.2 | AF7: 5 | AG7: 6.5 | AH7: 4.3 | AI7: 4.3 | AJ7: 6 | AK7: 4.6 | AL7: 6 | AM7: 7.9 | AN7: 6.1 | AO7: 6.6 | AP7: 4.4 | AQ7: 6.8 | AR7: 5.6 | AS7: 7.8 | AT7: 7 | AU7: 7.8 | AV7: 4.4 | AW7: 6.6 | AX7: 4.2 | AY7: 4.3 | AZ7: 6.9 | BA7: 6.2 | BB7: 6.8 | BC7: 4.1 | BD7: 4.6 | BE7: 4.4 | BF7: 4.5 | BG7: =VLOOKUP(B7,'66DCDT'!$C$10:$G$58,3,0) -> 20/03/1995
A8: 3 | B8: 66DCDT21928 | D8: HOÀNG NGỌC | E8: DŨNG | F8: 23/02/1997 | G8: 120 | H8: 118 | I8: 115 | J8: 5.6237288 | K8: 1.9067797 | L8: 2 | M8: 5 | N8: 0.041666667 | O8: Đ | P8: 4.9 | R8: 6 | S8: 4.5 | T8: 6.1 | U8: 7.2 | V8: 5.7 | W8: 8 | X8: 5.2 | Y8: 4.3 | Z8: 5.3 | AA8: 4.2 | AB8: 5 | AC8: 4.2 | AD8: 6.7 | AE8: 5.4 | AF8: 5.3 | AG8: 5.1 | AH8: 4.1 | AI8: 5 | AJ8: 6.2 | AK8: 0 | AL8: 6 | AM8: 7.2 | AN8: 4 | AO8: 7.6 | AP8: 4.3 | AQ8: 4.9 | AR8: 6.6 | AS8: 9.1 | AT8: 7.3 | AU8: 9.1 | AV8: 4.2 | AW8: 4.8 | AX8: 6.3 | AY8: 4.2 | AZ8: 6.8 | BA8: 5.1 | BB8: 7.1 | BC8: 4 | BD8: 5.5 | BE8: 5.5 | BF8: 4.5 | BG8: =VLOOKUP(B8,'66DCDT'!$C$10:$G$58,3,0) -> #N/A
A9: 4 | B9: 66DCDT22666 | C9: =D9&" "&E9 -> NGÔ CÔNG ĐÀ | D9: NGÔ CÔNG | E9: ĐÀ | F9: 17/11/1997 | G9: 120 | H9: 118 | I9: 118 | J9: 6.5915254 | K9: 2.4661017 | L9: 1 | M9: 2 | N9: 0.016666667 | O9: Đ | P9: 6.5 | R9: 5.2 | S9: 4.7 | T9: 5.1 | U9: 5.5 | V9: 7.1 | W9: 7.4 | X9: 6.1 | Y9: 6.4 | Z9: 4.4 | AA9: 7.3 | AB9: 5.8 | AC9: 6.2 | AD9: 5.3 | AE9: 7.3 | AF9: 4.4 | AG9: 6.3 | AH9: 5.2 | AI9: 8.5 | AJ9: 6.2 | AK9: 6.5 | AL9: 5.3 | AM9: 5.1 | AN9: 6.4 | AO9: 6.4 | AP9: 7.6 | AQ9: 8.2 | AR9: 7.3 | AS9: 9.6 | AT9: 7.7 | AU9: 9.6 | AV9: 6.5 | AW9: 7.5 | AX9: 6.9 | AY9: 7.7 | AZ9: 7.2 | BA9: 4.9 | BB9: 7.8 | BC9: 5.4 | BD9: 8.5 | BE9: 4.5 | BF9: 6 | BG9: =VLOOKUP(B9,'66DCDT'!$C$10:$G$58,3,0) -> 17/11/1997
A10: 5 | B10: 66DCDT23156 | C10: =D10&" "&E10 -> PHẠM VĂN HIỆP | D10: PHẠM VĂN | E10: HIỆP | F10: 35591 | G10: 120 | H10: 120 | I10: 114 | J10: 5.6208333 | K10: 1.8625 | L10: 2 | M10: 6 | N10: 0.05 | O10: Đ | P10: 4.2 | Q10: 5.5 | R10: 4.9 | S10: 5.2 | T10: 5.1 | U10: 5.4 | V10: 6.4 | W10: 6.6 | X10: 6.1 | Y10: 4.9 | Z10: 4.5 | AA10: 6.6 | AB10: 5.3 | AC10: 4.2 | AD10: 7.1 | AE10: 5.8 | AF10: 5.7 | AG10: 4.2 | AH10: 4.3 | AI10: 4.3 | AJ10: 5.8 | AK10: 0 | AL10: 6.9 | AM10: 5.5 | AN10: 5.5 | AO10: 3.5 | AP10: 7.4 | AQ10: 4.5 | AR10: 7.6 | AS10: 9.1 | AT10: 8.3 | AU10: 9.1 | AV10: 5.1 | AW10: 4.9 | AX10: 4.6 | AY10: 4.8 | AZ10: 5 | BA10: 5.1 | BB10: 6.3 | BC10: 4.1 | BD10: 7.1 | BE10: 5.7 | BF10: 6.6 | BG10: =VLOOKUP(B10,'66DCDT'!$C$10:$G$58,3,0) -> 06/10/1997
A11: 6 | B11: 66DCDT22637 | C11: =D11&" "&E11 -> ĐINH THỊ HẰNG | D11: ĐINH THỊ | E11: HẰNG | F11: 35076 | G11: 120 | H11: 120 | I11: 120 | J11: 7.6766667 | K11: 3.1 | L11: 0 | M11: 0 | N11: 0 | O11: Đ | P11: 6.7 | Q11: 8.3 | R11: 5.9 | S11: 5.6 | T11: 7.3 | U11: 8.6 | V11: 8 | W11: 9.1 | X11: 8.1 | Y11: 9 | Z11: 7.9 | AA11: 9.1 | AB11: 7.2 | AC11: 5.2 | AD11: 4.4 | AE11: 4.3 | AF11: 7.3 | AG11: 9.8 | AH11: 8.9 | AI11: 5.9 | AJ11: 9.2 | AK11: 8 | AL11: 6.7 | AM11: 8.5 | AN11: 6.8 | AO11: 5.8 | AP11: 6.5 | AQ11: 7.9 | AR11: 8.3 | AS11: 9.6 | AT11: 6.2 | AU11: 9.6 | AV11: 4.6 | AW11: 9 | AX11: 10 | AY11: 8.4 | AZ11: 9.6 | BA11: 5.1 | BB11: 8.9 | BC11: 8.7 | BD11: 7.9 | BE11: 8.5 | BF11: 8.2 | BG11: =VLOOKUP(B11,'66DCDT'!$C$10:$G$58,3,0) -> 01/12/1996
A12: 7 | B12: 66DCDT22473 | C12: =D12&" "&E12 -> NGUYỄN THỊ HUỆ | D12: NGUYỄN THỊ | E12: HUỆ | F12: 35464 | G12: 120 | H12: 118 | I12: 118 | J12: 7.2508475 | K12: 2.9237288 | L12: 1 | M12: 2 | N12: 0.016666667 | O12: Đ | P12: 6.7 | R12: 6.2 | S12: 6.8 | T12: 5.9 | U12: 9.3 | V12: 6.2 | W12: 8.2 | X12: 8 | Y12: 7.4 | Z12: 7 | AA12: 8.2 | AB12: 5.6 | AC12: 6 | AD12: 6 | AE12: 5.2 | AF12: 5 | AG12: 8.2 | AH12: 8.2 | AI12: 8.2 | AJ12: 8.8 | AK12: 8.6 | AL12: 6 | AM12: 6.6 | AN12: 6.6 | AO12: 7.8 | AP12: 6.1 | AQ12: 7.9 | AR12: 9.3 | AS12: 8.2 | AT12: 9.7 | AU12: 8.2 | AV12: 4.7 | AW12: 4.3 | AX12: 7.9 | AY12: 7.9 | AZ12: 7 | BA12: 7 | BB12: 9.1 | BC12: 7.4 | BD12: 7 | BE12: 8.3 | BF12: 8.7 | BG12: =VLOOKUP(B12,'66DCDT'!$C$10:$G$58,3,0) -> 02/03/1997
A13: 8 | B13: 66DCDT23136 | C13: =D13&" "&E13 -> PHÙNG VĂN HUẤN | D13: PHÙNG VĂN | E13: HUẤN | F13: 22/04/1996 | G13: 120 | H13: 118 | I13: 118 | J13: 7.1169492 | K13: 2.7923729 | L13: 1 | M13: 2 | N13: 0.016666667 | O13: Đ | P13: 6.2 | R13: 8 | S13: 6.4 | T13: 7 | U13: 7.9 | V13: 6.5 | W13: 9.1 | X13: 6.9 | Y13: 8.8 | Z13: 7 | AA13: 8.2 | AB13: 7.2 | AC13: 4.4 | AD13: 4.6 | AE13: 6.2 | AF13: 7.2 | AG13: 7.8 | AH13: 7.9 | AI13: 8 | AJ13: 7.8 | AK13: 5.1 | AL13: 8.1 | AM13: 7.2 | AN13: 5.3 | AO13: 7.3 | AP13: 6.8 | AQ13: 4.2 | AR13: 8.4 | AS13: 9.6 | AT13: 8.4 | AU13: 9.6 | AV13: 4.9 | AW13: 4.1 | AX13: 6.5 | AY13: 9.5 | AZ13: 9.1 | BA13: 5.2 | BB13: 8.8 | BC13: 6.1 | BD13: 6.7 | BE13: 6 | BF13: 8.9 | BG13: =VLOOKUP(B13,'66DCDT'!$C$10:$G$58,3,0) -> 22/04/1996
A14: 9 | B14: 66DCDT22414 | C14: =D14&" "&E14 -> ĐOÀN VĂN HUY | D14: ĐOÀN VĂN | E14: HUY | F14: 30/08/1995 | G14: 120 | H14: 120 | I14: 120 | J14: 6.5291667 | K14: 2.4125 | L14: 0 | M14: 0 | N14: 0 | O14: Đ | P14: 4.9 | Q14: 7.2 | R14: 8.5 | S14: 5.9 | T14: 5.1 | U14: 5.1 | V14: 5.6 | W14: 8.2 | X14: 8.1 | Y14: 6.3 | Z14: 5.7 | AA14: 6.8 | AB14: 8.1 | AC14: 5.9 | AD14: 7.2 | AE14: 5 | AF14: 9 | AG14: 7 | AH14: 8.5 | AI14: 4.6 | AJ14: 6.7 | AK14: 6.9 | AL14: 6.6 | AM14: 4.1 | AN14: 5 | AO14: 6.8 | AP14: 6.8 | AQ14: 4.9 | AR14: 6.6 | AS14: 9.6 | AT14: 4.2 | AU14: 9.6 | AV14: 5.7 | AW14: 4.8 | AX14: 6.4 | AY14: 4.1 | AZ14: 5.5 | BA14: 6 | BB14: 6.6 | BC14: 4.5 | BD14: 6.8 | BE14: 7.4 | BF14: 7.5 | BG14: =VLOOKUP(B14,'66DCDT'!$C$10:$G$58,3,0) -> 30/08/1995
A15: 10 | B15: 66DCDT22076 | C15: =D15&" "&E15 -> NGUYỄN THỊ THANH HUYỀN | D15: NGUYỄN THỊ THANH | E15: HUYỀN | F15: 35651 | G15: 120 | H15: 118 | I15: 118 | J15: 6.8898305 | K15: 2.6864407 | L15: 1 | M15: 2 | N15: 0.016666667 | O15: Đ | P15: 6.7 | R15: 8.1 | S15: 5.6 | T15: 7.3 | U15: 7 | V15: 5.4 | W15: 8.2 | X15: 8 | Y15: 7.8 | Z15: 5.9 | AA15: 8.2 | AB15: 5.6 | AC15: 4.9 | AD15: 5.9 | AE15: 4.6 | AF15: 4.7 | AG15: 8.7 | AH15: 6.1 | AI15: 5 | AJ15: 8.1 | AK15: 8 | AL15: 6.3 | AM15: 8.7 | AN15: 6.8 | AO15: 5.6 | AP15: 6.1 | AQ15: 4.7 | AR15: 7.4 | AS15: 8.7 | AT15: 8.3 | AU15: 8.7 | AV15: 5.4 | AW15: 4.8 | AX15: 8.5 | AY15: 7.4 | AZ15: 6.3 | BA15: 7.2 | BB15: 8.3 | BC15: 6.8 | BD15: 8.2 | BE15: 8.3 | BF15: 8.2 | BG15: =VLOOKUP(B15,'66DCDT'!$C$10:$G$58,3,0) -> 08/09/1997
A16: 11 | B16: 66DCDT22399 | C16: =D16&" "&E16 -> QUẢN NHẬT LỆ | D16: QUẢN NHẬT | E16: LỆ | F16: 26/06/1997 | G16: 120 | H16: 118 | I16: 115 | J16: 7.1279661 | K16: 2.7966102 | L16: 2 | M16: 5 | N16: 0.041666667 | O16: Đ | P16: 6.5 | R16: 6.3 | S16: 4.7 | T16: 5.6 | U16: 9.1 | V16: 6.5 | W16: 7.5 | X16: 8 | Y16: 7.4 | Z16: 5.8 | AA16: 8.2 | AB16: 7.2 | AC16: 6.3 | AD16: 6.9 | AE16: 4.6 | AF16: 6 | AG16: 9.8 | AH16: 8.9 | AI16: 6.8 | AJ16: 7.6 | AK16: 8.4 | AL16: 8.1 | AM16: 7.5 | AN16: 6.3 | AO16: 6.6 | AP16: 6.8 | AQ16: 3.5 | AR16: 10 | AS16: 9.1 | AT16: 7.6 | AU16: 9.1 | AV16: 6.6 | AW16: 6.2 | AX16: 8.2 | AY16: 4.5 | AZ16: 5.3 | BA16: 8.6 | BB16: 6.8 | BC16: 7 | BD16: 7.4 | BE16: 6.3 | BF16: 8.1 | BG16: =VLOOKUP(B16,'66DCDT'!$C$10:$G$58,3,0) -> 26/06/1997
A17: 12 | B17: 66DCDT21847 | D17: LÊ CAO HOÀNG | E17: LONG | F17: 23/08/1997 | G17: 120 | H17: 120 | I17: 120 | J17: 6.7775 | K17: 2.5916667 | L17: 0 | M17: 0 | N17: 0 | O17: Đ | P17: 6 | Q17: 5.1 | R17: 7.4 | S17: 5.6 | T17: 5.8 | U17: 5.6 | V17: 7.4 | W17: 7.2 | X17: 8 | Y17: 9.9 | Z17: 6.4 | AA17: 7.7 | AB17: 7.3 | AC17: 5.1 | AD17: 4.6 | AE17: 6.3 | AF17: 7.8 | AG17: 6.5 | AH17: 8.7 | AI17: 6 | AJ17: 6.5 | AK17: 8.4 | AL17: 7.5 | AM17: 7.9 | AN17: 6.5 | AO17: 5.9 | AP17: 5.5 | AQ17: 4.9 | AR17: 7.7 | AS17: 9.1 | AT17: 5.6 | AU17: 9.1 | AV17: 6 | AW17: 6.7 | AX17: 8.2 | AY17: 5.4 | AZ17: 6.5 | BA17: 6.7 | BB17: 7.6 | BC17: 4.6 | BD17: 4.3 | BE17: 5.7 | BF17: 6.6 | BG17: =VLOOKUP(B17,'66DCDT'!$C$10:$G$58,3,0) -> #N/A
A18: 13 | B18: 66DCDT22335 | C18: =D18&" "&E18 -> VŨ KHÁNH LY | D18: VŨ KHÁNH | E18: LY | F18: 23/09/1997 | G18: 120 | H18: 120 | I18: 120 | J18: 7.3866667 | K18: 2.9416667 | L18: 0 | M18: 0 | N18: 0 | O18: Đ | P18: 7.8 | Q18: 6.5 | R18: 8.7 | S18: 6.8 | T18: 7.3 | U18: 6.9 | V18: 6.8 | W18: 9.1 | X18: 8 | Y18: 7.7 | Z18: 7.3 | AA18: 8.7 | AB18: 7.2 | AC18: 4.6 | AD18: 5 | AE18: 4.7 | AF18: 7.5 | AG18: 8.2 | AH18: 8.9 | AI18: 7.1 | AJ18: 9 | AK18: 8 | AL18: 8.1 | AM18: 6.9 | AN18: 6.5 | AO18: 6.4 | AP18: 7.4 | AQ18: 6.4 | AR18: 8.4 | AS18: 10 | AT18: 7.7 | AU18: 10 | AV18: 5.1 | AW18: 7.1 | AX18: 6.3 | AY18: 8 | AZ18: 6.3 | BA18: 7.8 | BB18: 8.6 | BC18: 6 | BD18: 8.4 | BE18: 6.7 | BF18: 8.9 | BG18: =VLOOKUP(B18,'66DCDT'!$C$10:$G$58,3,0) -> 23/09/1997
A19: 14 | B19: 66DCDT21884 | D19: NGUYỄN VIẾT | E19: NGỌC | F19: 17/04/1997 | G19: 120 | H19: 118 | I19: 115 | J19: 5.9644068 | K19: 2.1567797 | L19: 2 | M19: 5 | N19: 0.041666667 | O19: Đ | P19: 6.7 | R19: 7 | S19: 6.1 | T19: 5.1 | U19: 6.7 | V19: 6.7 | W19: 7.2 | X19: 5 | Y19: 5.3 | Z19: 6.1 | AA19: 6.3 | AB19: 6.1 | AC19: 5.1 | AD19: 4.1 | AE19: 5.6 | AF19: 6 | AG19: 6.9 | AH19: 6.8 | AI19: 5 | AJ19: 6 | AK19: 8.4 | AL19: 6.2 | AM19: 4.3 | AN19: 4.1 | AO19: 1.8 | AP19: 5.6 | AQ19: 4 | AR19: 8.3 | AS19: 8.2 | AT19: 6.2 | AU19: 8.2 | AV19: 5.5 | AW19: 5.2 | AX19: 5.5 | AY19: 4.9 | AZ19: 6.1 | BA19: 4.4 | BB19: 6.4 | BC19: 4.9 | BD19: 6.1 | BE19: 5.2 | BF19: 7.6 | BG19: =VLOOKUP(B19,'66DCDT'!$C$10:$G$58,3,0) -> #N/A
A20: 15 | B20: 66DCDT22059 | C20: =D20&" "&E20 -> NGUYỄN NGỌC QUANG | D20: NGUYỄN NGỌC | E20: QUANG | F20: 35582 | G20: 120 | H20: 118 | I20: 115 | J20: 6.590678 | K20: 2.470339 | L20: 2 | M20: 5 | N20: 0.041666667 | O20: Đ | P20: 7.8 | R20: 5.2 | S20: 4.7 | T20: 4.2 | U20: 6.8 | V20: 6.8 | W20: 7.7 | X20: 6.9 | Y20: 7.1 | Z20: 7 | AA20: 7.9 | AB20: 5.6 | AC20: 5.1 | AD20: 8.3 | AE20: 6.8 | AF20: 5.3 | AG20: 8.2 | AH20: 7 | AI20: 8.5 | AJ20: 6.6 | AK20: 5.1 | AL20: 6.4 | AM20: 5.6 | AN20: 5.4 | AO20: 2.4 | AP20: 4.3 | AQ20: 4.5 | AR20: 7.9 | AS20: 9.1 | AT20: 8 | AU20: 9.1 | AV20: 5.5 | AW20: 5.1 | AX20: 8.8 | AY20: 6.1 | AZ20: 6.3 | BA20: 4.8 | BB20: 7.8 | BC20: 7.8 | BD20: 6.1 | BE20: 6.8 | BF20: 7 | BG20: =VLOOKUP(B20,'66DCDT'!$C$10:$G$58,3,0) -> 06/01/1997
A21: 16 | B21: 66DCDT22074 | C21: =D21&" "&E21 -> HOÀNG NHƯ QUỲNH | D21: HOÀNG NHƯ | E21: QUỲNH | F21: 35472 | G21: 120 | H21: 118 | I21: 118 | J21: 7.6025424 | K21: 3.1144068 | L21: 1 | M21: 2 | N21: 0.016666667 | O21: Đ | P21: 8.1 | R21: 8.9 | S21: 8.4 | T21: 6.8 | U21: 9.3 | V21: 8.2 | W21: 8.2 | X21: 8 | Y21: 8.8 | Z21: 7.7 | AA21: 8.9 | AB21: 6.5 | AC21: 4.9 | AD21: 7 | AE21: 5.8 | AF21: 6.9 | AG21: 8.8 | AH21: 8.2 | AI21: 7.7 | AJ21: 8.6 | AK21: 8.9 | AL21: 8.2 | AM21: 8.8 | AN21: 6.7 | AO21: 7 | AP21: 7.5 | AQ21: 5.1 | AR21: 8.6 | AS21: 9.1 | AT21: 8.4 | AU21: 9.1 | AV21: 5 | AW21: 5 | AX21: 6.5 | AY21: 6 | AZ21: 7.4 | BA21: 6.3 | BB21: 7.5 | BC21: 7.8 | BD21: 9.8 | BE21: 8.3 | BF21: 8.1 | BG21: =VLOOKUP(B21,'66DCDT'!$C$10:$G$58,3,0) -> 02/11/1997
A22: 17 | B22: 66DCDT22293 | C22: =D22&" "&E22 -> NGUYỄN VĂN TUẤN | D22: NGUYỄN VĂN | E22: TUẤN | F22: 18/06/1996 | G22: 120 | H22: 118 | I22: 116 | J22: 5.9864407 | K22: 2.1313559 | L22: 2 | M22: 4 | N22: 0.033333333 | O22: Đ | P22: 4 | R22: 5.9 | S22: 4.3 | T22: 5.6 | U22: 5.2 | V22: 5.8 | W22: 8.5 | X22: 0 | Y22: 6.6 | Z22: 6.6 | AA22: 7.7 | AB22: 4.3 | AC22: 6.3 | AD22: 4.3 | AE22: 5.5 | AF22: 5.7 | AG22: 6.2 | AH22: 6.6 | AI22: 7.5 | AJ22: 5.8 | AK22: 6 | AL22: 4.2 | AM22: 7 | AN22: 4.6 | AO22: 5.7 | AP22: 6 | AQ22: 4 | AR22: 7.9 | AS22: 9.6 | AT22: 8.3 | AU22: 9.6 | AV22: 4.8 | AW22: 4.3 | AX22: 5.4 | AY22: 4.5 | AZ22: 4.1 | BA22: 7.1 | BB22: 5.4 | BC22: 4.4 | BD22: 7.7 | BE22: 6.2 | BF22: 7 | BG22: =VLOOKUP(B22,'66DCDT'!$C$10:$G$58,3,0) -> 18/06/1996
A23: 18 | B23: 66DCDT22032 | C23: =D23&" "&E23 -> PHẠM XUÂN TÙNG | D23: PHẠM XUÂN | E23: TÙNG | F23: 25/05/1997 | G23: 120 | H23: 118 | I23: 118 | J23: 6.0415254 | K23: 2.1186441 | L23: 1 | M23: 2 | N23: 0.016666667 | O23: Đ | P23: 7 | R23: 6.5 | S23: 5.2 | T23: 6.5 | U23: 6.3 | V23: 5.3 | W23: 7.8 | X23: 5.1 | Y23: 6 | Z23: 4.1 | AA23: 6.3 | AB23: 4.3 | AC23: 6.3 | AD23: 5.3 | AE23: 5.3 | AF23: 6 | AG23: 8.8 | AH23: 4.1 | AI23: 4 | AJ23: 5.9 | AK23: 6.8 | AL23: 5.5 | AM23: 5.8 | AN23: 6.3 | AO23: 4.3 | AP23: 6.5 | AQ23: 4.4 | AR23: 7.9 | AS23: 8.2 | AT23: 8.3 | AU23: 8.2 | AV23: 4.6 | AW23: 4.9 | AX23: 7.8 | AY23: 5.3 | AZ23: 4.5 | BA23: 6.7 | BB23: 6.9 | BC23: 6.5 | BD23: 8.8 | BE23: 4.6 | BF23: 4.5 | BG23: =VLOOKUP(B23,'66DCDT'!$C$10:$G$58,3,0) -> 25/05/1997
A24: 19 | B24: 66DCDT22315 | C24: =D24&" "&E24 -> HOÀNG QUANG VINH | D24: HOÀNG QUANG | E24: VINH | F24: 16/09/1997 | G24: 120 | H24: 118 | I24: 116 | J24: 5.9559322 | K24: 2 | L24: 2 | M24: 4 | N24: 0.033333333 | O24: Đ | P24: 4.6 | R24: 5.2 | S24: 4.5 | T24: 4.4 | U24: 6.8 | V24: 4 | W24: 8.2 | X24: 3.2 | Y24: 5 | Z24: 4.3 | AA24: 6.1 | AB24: 6.8 | AC24: 4.9 | AD24: 6.3 | AE24: 5.8 | AF24: 6.2 | AG24: 4.5 | AH24: 5.9 | AI24: 5.3 | AJ24: 6.3 | AK24: 6.4 | AL24: 5.7 | AM24: 5.2 | AN24: 5.1 | AO24: 7.1 | AP24: 5.4 | AQ24: 4.9 | AR24: 7.9 | AS24: 9.6 | AT24: 9 | AU24: 9.6 | AV24: 4.1 | AW24: 5.4 | AX24: 5 | AY24: 4.2 | AZ24: 6.8 | BA24: 6.5 | BB24: 6.3 | BC24: 4.6 | BD24: 6.9 | BE24: 5.6 | BF24: 5.2 | BG24: =VLOOKUP(B24,'66DCDT'!$C$10:$G$58,3,0) -> 16/09/1997
A25: 20 | B25: 66DCDT22366 | D25: ĐẶNG ĐỨC | E25: BÌNH | F25: 15/04/1997 | G25: 120 | H25: 108 | I25: 94 | J25: 4.8731481 | K25: 1.4259259 | L25: 8 | M25: 26 | N25: 0.21666667 | O25: K | P25: 2.8 | R25: 4 | S25: 4.2 | T25: 4.9 | U25: 4.3 | V25: 5.7 | W25: 8.2 | X25: 6.1 | Y25: 4.9 | Z25: 6.1 | AA25: 5.4 | AB25: 4.2 | AC25: 4 | AD25: 3.3 | AE25: 4.4 | AF25: 4.3 | AG25: 4.1 | AH25: 4.1 | AI25: 4.4 | AJ25: 7.2 | AK25: 0 | AL25: 7.1 | AM25: 4.3 | AN25: 4.9 | AO25: 6.4 | AP25: 3.7 | AQ25: 7.7 | AR25: 5.2 | AT25: 7.3 | AV25: 4 | AW25: 4 | AX25: 5.5 | AY25: 2.9 | AZ25: 6.3 | BA25: 5.5 | BB25: 7.1 | BC25: 5.2 | BD25: 4.7 | BE25: 6.5 | BF25: 4.3 | BG25: =VLOOKUP(B25,'66DCDT'!$C$10:$G$58,3,0) -> #N/A
A26: 21 | B26: 66DCDT22861 | D26: NGUYỄN VĂN | E26: DÂN | F26: 35434 | G26: 120 | H26: 118 | I26: 93 | J26: 5.4042373 | K26: 1.7033898 | L26: 10 | M26: 27 | N26: 0.225 | O26: K | P26: 4.7 | R26: 5.8 | S26: 5.8 | T26: 3.6 | U26: 5.7 | V26: 5.7 | W26: 8.7 | X26: 0 | Y26: 2.8 | Z26: 3.6 | AA26: 7 | AB26: 4.7 | AC26: 4.7 | AD26: 4.2 | AE26: 0.7 | AF26: 4.8 | AG26: 8.2 | AH26: 3.8 | AI26: 6.6 | AJ26: 6.7 | AK26: 6.8 | AL26: 4.3 | AM26: 3.4 | AN26: 3.9 | AO26: 5.2 | AP26: 5.9 | AQ26: 5.9 | AR26: 7.6 | AS26: 8.7 | AT26: 6.7 | AU26: 8.7 | AV26: 4.7 | AW26: 5.6 | AX26: 6.9 | AY26: 5.2 | AZ26: 7.2 | BA26: 6.2 | BB26: 6 | BC26: 4.4 | BD26: 7.4 | BE26: 3.3 | BF26: 4.3 | BG26: =VLOOKUP(B26,'66DCDT'!$C$10:$G$58,3,0) -> #N/A
A27: 22 | B27: 66DCDT21953 | D27: PHẠM VĂN | E27: DŨNG | F27: 20/01/1995 | G27: 120 | H27: 118 | I27: 110 | J27: 5.8110169 | K27: 1.9661017 | L27: 4 | M27: 10 | N27: 0.083333333 | O27: K | P27: 4.4 | R27: 5.8 | S27: 5.4 | T27: 6.3 | U27: 5 | V27: 5.4 | W27: 7.3 | X27: 0 | Y27: 6.4 | Z27: 4.9 | AA27: 7 | AB27: 4 | AC27: 5.7 | AD27: 7.5 | AE27: 5.1 | AF27: 4.5 | AG27: 7.7 | AH27: 3.8 | AI27: 4.9 | AJ27: 6.1 | AK27: 2.5 | AL27: 6.9 | AM27: 5.2 | AN27: 6.2 | AO27: 6.9 | AP27: 6.1 | AQ27: 5.5 | AR27: 7.7 | AS27: 9.1 | AT27: 7.6 | AU27: 9.1 | AV27: 5.6 | AW27: 6.6 | AX27: 5.2 | AY27: 4.2 | AZ27: 4.7 | BA27: 5.5 | BB27: 8.3 | BC27: 4.8 | BD27: 7.3 | BE27: 5.2 | BF27: 4.4 | BG27: =VLOOKUP(B27,'66DCDT'!$C$10:$G$58,3,0) -> 20/01/1995
A28: 23 | B28: 66DCDT21914 | D28: LÊ TRỌNG | E28: DƯƠNG | F28: 35490 | G28: 120 | H28: 106 | I28: 99 | J28: 5.5509434 | K28: 1.8820755 | L28: 7 | M28: 21 | N28: 0.175 | O28: K | P28: 4.4 | R28: 3.7 | S28: 4.4 | T28: 6.3 | U28: 7.3 | V28: 6.3 | W28: 6.4 | X28: 3.2 | Y28: 4.6 | Z28: 5.7 | AA28: 6.3 | AB28: 5.2 | AC28: 4.6 | AD28: 7 | AE28: 5.6 | AF28: 8.1 | AG28: 6 | AH28: 5.3 | AI28: 4.2 | AJ28: 5.8 | AK28: 0 | AL28: 5.3 | AM28: 5.9 | AN28: 5.4 | AO28: 6.1 | AP28: 4.3 | AQ28: 7 | AR28: 6.6 | AT28: 7.4 | AV28: 4.4 | AW28: 4.7 | AX28: 5.9 | AY28: 4.8 | AZ28: 7.3 | BA28: 6.2 | BB28: 5.5 | BC28: 6 | BE28: 6.5 | BF28: 6.5 | BG28: =VLOOKUP(B28,'66DCDT'!$C$10:$G$58,3,0) -> #N/A
A29: 24 | B29: 66DCDT22469 | D29: TRẦN VŨ TÙNG | E29: DƯƠNG | F29: 29/11/1997 | G29: 120 | H29: 110 | I29: 107 | J29: 5.8854545 | K29: 2.0136364 | L29: 3 | M29: 13 | N29: 0.10833333 | O29: K | P29: 5.7 | Q29: 4.2 | R29: 4.3 | S29: 6.6 | T29: 4.2 | U29: 6.3 | V29: 5.4 | W29: 8.2 | X29: 6.9 | Y29: 7.8 | Z29: 7.3 | AA29: 6.4 | AB29: 7.4 | AC29: 4.8 | AD29: 5.1 | AE29: 5.4 | AF29: 5.5 | AG29: 6.5 | AH29: 5 | AI29: 6.5 | AJ29: 6.1 | AK29: 4.3 | AL29: 4.6 | AM29: 5.2 | AN29: 5.4 | AO29: 6.1 | AP29: 6.2 | AQ29: 6.6 | AR29: 7.7 | AT29: 9 | AV29: 6.1 | AW29: 5.9 | AX29: 4.6 | AY29: 5 | AZ29: 8 | BA29: 5.8 | BB29: 6.5 | BC29: 5.2 | BD29: 6.4 | BE29: 3.8 | BF29: 5 | BG29: =VLOOKUP(B29,'66DCDT'!$C$10:$G$58,3,0) -> 29/11/1997
A30: 25 | B30: 66DCDT22207 | D30: DƯƠNG HỒNG | E30: ĐỨC | F30: 35709 | G30: 120 | H30: 108 | I30: 100 | J30: 5.6990741 | K30: 1.8703704 | L30: 6 | M30: 20 | N30: 0.16666667 | O30: K | P30: 5.2 | R30: 4.3 | S30: 5.4 | T30: 6.5 | U30: 6.1 | V30: 5.4 | W30: 8.2 | X30: 3.3 | Y30: 5.6 | Z30: 6.4 | AA30: 7 | AB30: 4.2 | AC30: 5.3 | AD30: 4.1 | AE30: 5.9 | AF30: 4.3 | AG30: 5.1 | AH30: 3.6 | AI30: 6.8 | AJ30: 6.9 | AK30: 6.4 | AL30: 7.5 | AM30: 7.4 | AN30: 5.4 | AO30: 5.7 | AP30: 6.6 | AQ30: 8.7 | AR30: 7.6 | AT30: 9 | AV30: 4.8 | AW30: 4.7 | AX30: 4.4 | AY30: 4 | AZ30: 4.3 | BA30: 5.5 | BB30: 8.2 | BC30: 3.4 | BD30: 6.8 | BE30: 5.8 | BF30: 5.6 | BG30: =VLOOKUP(B30,'66DCDT'!$C$10:$G$58,3,0) -> #N/A
A31: 26 | B31: 66DCDT21856 | D31: NGUYỄN HUY | E31: ĐÔNG | F31: 28/03/1997 | G31: 120 | H31: 102 | I31: 70 | J31: 4.4372549 | K31: 1.1617647 | L31: 16 | M31: 50 | N31: 0.41666667 | O31: K | P31: 3.2 | R31: 3.5 | S31: 4.1 | T31: 5.8 | U31: 2.9 | V31: 4.1 | W31: 8 | X31: 6.1 | Y31: 5.5 | Z31: 5.4 | AA31: 5.9 | AB31: 5.9 | AC31: 5.3 | AD31: 4.4 | AF31: 5.7 | AG31: 4.8 | AH31: 5.2 | AI31: 5.4 | AJ31: 7.2 | AK31: 5.7 | AL31: 4.2 | AM31: 2 | AN31: 5.1 | AO31: 7.7 | AP31: 5 | AQ31: 4 | AR31: 0 | AT31: 6.7 | AV31: 2.2 | AW31: 4.7 | AX31: 2.4 | AY31: 4.6 | AZ31: 0 | BA31: 5.1 | BB31: 3.2 | BC31: 3.8 | BE31: 3.4 | BF31: 5 | BG31: =VLOOKUP(B31,'66DCDT'!$C$10:$G$58,3,0) -> #N/A
A32: 27 | B32: 66DCDT22337 | D32: NGUYỄN VĂN HOÀN | E32: HẢI | F32: 29/03/1997 | G32: 120 | H32: 118 | I32: 110 | J32: 5.7550847 | K32: 2.0127119 | L32: 4 | M32: 10 | N32: 0.083333333 | O32: K | P32: 5.3 | R32: 6.8 | S32: 7.5 | T32: 6.7 | U32: 5.1 | V32: 6.7 | W32: 6.6 | X32: 0 | Y32: 5.9 | Z32: 6.9 | AA32: 6.8 | AB32: 4.2 | AC32: 4.1 | AD32: 7.2 | AE32: 5.2 | AF32: 8.4 | AG32: 4.4 | AH32: 4.8 | AI32: 5.9 | AJ32: 6.2 | AK32: 0 | AL32: 4.8 | AM32: 6.5 | AN32: 6.6 | AO32: 2 | AP32: 5.6 | AQ32: 7 | AR32: 8.7 | AS32: 7.8 | AT32: 8.7 | AU32: 7.8 | AV32: 4.2 | AW32: 6.4 | AX32: 6.7 | AY32: 4.1 | AZ32: 4 | BA32: 4.2 | BB32: 7 | BC32: 4.5 | BD32: 6.2 | BE32: 6.5 | BF32: 5.4 | BG32: =VLOOKUP(B32,'66DCDT'!$C$10:$G$58,3,0) -> #N/A
A33: 28 | B33: 66DCDT22710 | D33: ĐINH NGUYỄN TRÍ | E33: HIẾU | F33: 17/12/1997 | G33: 120 | H33: 118 | I33: 106 | J33: 5.7152542 | K33: 1.8305085 | L33: 5 | M33: 14 | N33: 0.11666667 | O33: K | P33: 4.9 | R33: 4.9 | S33: 4.5 | T33: 6.3 | U33: 5.9 | V33: 5 | W33: 7.4 | X33: 8.1 | Y33: 4.9 | Z33: 3.2 | AA33: 5.6 | AB33: 8.3 | AC33: 9 | AD33: 4.5 | AE33: 5.8 | AF33: 3.6 | AG33: 5.4 | AH33: 5 | AI33: 8.4 | AJ33: 8.1 | AK33: 5.9 | AL33: 4.5 | AM33: 4.9 | AN33: 5 | AO33: 0.7 | AP33: 5.2 | AQ33: 6.1 | AR33: 7.3 | AS33: 7.8 | AT33: 7.3 | AU33: 7.8 | AV33: 5 | AW33: 8.8 | AX33: 4.7 | AY33: 4.7 | AZ33: 4.8 | BA33: 4.4 | BB33: 7 | BC33: 5.4 | BD33: 4 | BE33: 3.3 | BF33: 4.9 | BG33: =VLOOKUP(B33,'66DCDT'!$C$10:$G$58,3,0) -> #N/A
A34: 29 | B34: 66DCDT21899 | D34: NGUYỄN NGỌC | E34: HÙNG | F34: 15/09/1997 | G34: 120 | H34: 108 | I34: 93 | J34: 5.1037037 | K34: 1.462963 | L34: 8 | M34: 27 | N34: 0.225 | O34: K | P34: 6 | R34: 5.6 | S34: 3.4 | T34: 4.9 | U34: 3.8 | V34: 5.8 | W34: 7.1 | X34: 8.1 | Y34: 5.6 | Z34: 5 | AA34: 6.8 | AB34: 3.8 | AC34: 4.2 | AD34: 4.3 | AE34: 4.8 | AF34: 4.1 | AG34: 5.3 | AH34: 4.6 | AI34: 4.5 | AJ34: 8 | AK34: 7.5 | AL34: 4 | AM34: 4.3 | AN34: 4.2 | AO34: 1.9 | AP34: 7.7 | AQ34: 5.3 | AR34: 6.6 | AT34: 6.8 | AV34: 5.1 | AW34: 5 | AX34: 5.1 | AY34: 7 | AZ34: 4.2 | BA34: 4.9 | BB34: 5.9 | BC34: 4 | BD34: 5.5 | BE34: 3.8 | BF34: 4.5 | BG34: =VLOOKUP(B34,'66DCDT'!$C$10:$G$58,3,0) -> #N/A
A35: 30 | B35: 66DCDT22629 | D35: AN HOÀNG | E35: LINH | F35: 31/12/1997 | G35: 120 | H35: 108 | I35: 100 | J35: 5.3722222 | K35: 1.6666667 | L35: 6 | M35: 20 | N35: 0.16666667 | O35: K | P35: 4.8 | R35: 8.8 | S35: 4.2 | T35: 5.8 | U35: 5 | V35: 6.2 | W35: 6.6 | X35: 3.2 | Y35: 4 | Z35: 4 | AA35: 6.8 | AB35: 3.9 | AC35: 5 | AD35: 3.8 | AE35: 4.8 | AF35: 5.4 | AG35: 4.2 | AH35: 6.1 | AI35: 4.8 | AJ35: 7.2 | AK35: 6.4 | AL35: 6.1 | AM35: 6.9 | AN35: 4.7 | AO35: 5.2 | AP35: 5.1 | AQ35: 5.8 | AR35: 6.3 | AT35: 4.9 | AV35: 5.2 | AW35: 4.1 | AX35: 5.7 | AY35: 5.8 | AZ35: 5.7 | BA35: 4.7 | BB35: 6.4 | BC35: 4.8 | BD35: 6.5 | BE35: 6.1 | BF35: 6.1 | BG35: =VLOOKUP(B35,'66DCDT'!$C$10:$G$58,3,0) -> #N/A
A36: 31 | B36: 66DCDT22565 | D36: TRỊNH HOÀI | E36: LINH | F36: 20/02/1997 | G36: 120 | H36: 108 | I36: 108 | J36: 7.0685185 | K36: 2.7546296 | L36: 3 | M36: 12 | N36: 0.1 | O36: K | P36: 8.4 | R36: 8.9 | S36: 4.7 | T36: 6.5 | U36: 7.9 | V36: 6.8 | W36: 7.5 | X36: 8 | Y36: 8 | Z36: 7.7 | AA36: 8.2 | AB36: 6.5 | AC36: 6.9 | AD36: 8.1 | AE36: 4.7 | AF36: 5.8 | AG36: 8.6 | AH36: 8.2 | AI36: 8.7 | AJ36: 8.1 | AK36: 7.3 | AL36: 7.5 | AM36: 8.6 | AN36: 6 | AO36: 6.6 | AP36: 5.5 | AQ36: 7.9 | AR36: 8.3 | AT36: 7.3 | AV36: 7.3 | AW36: 4.9 | AX36: 6.4 | AY36: 6.8 | AZ36: 5.8 | BA36: 6.6 | BB36: 8.5 | BC36: 4.8 | BD36: 8.4 | BE36: 7.5 | BF36: 6.8 | BG36: =VLOOKUP(B36,'66DCDT'!$C$10:$G$58,3,0) -> 20/02/1997
A37: 32 | B37: 66DCDT22660 | D37: NGUYỄN THỊ | E37: LOAN | F37: 15/06/1997 | G37: 120 | H37: 108 | I37: 108 | J37: 7.3527778 | K37: 2.9490741 | L37: 3 | M37: 12 | N37: 0.1 | O37: K | P37: 6 | R37: 9 | S37: 7.4 | T37: 7.3 | U37: 7.9 | V37: 8.2 | W37: 7.2 | X37: 7 | Y37: 8.6 | Z37: 7.7 | AA37: 8.2 | AB37: 4.9 | AC37: 5 | AD37: 4.4 | AE37: 5.9 | AF37: 6.9 | AG37: 9.5 | AH37: 8 | AI37: 7.8 | AJ37: 8.3 | AK37: 7.3 | AL37: 6.1 | AM37: 8.6 | AN37: 6.8 | AO37: 7.1 | AP37: 8 | AQ37: 7.3 | AR37: 7 | AT37: 9.1 | AV37: 4.5 | AW37: 8.3 | AX37: 9 | AY37: 9.2 | AZ37: 6.5 | BA37: 8.2 | BB37: 9.2 | BC37: 6.9 | BD37: 10 | BE37: 7.2 | BF37: 7.7 | BG37: =VLOOKUP(B37,'66DCDT'!$C$10:$G$58,3,0) -> #N/A
A38: 33 | B38: 66DCDT21997 | D38: TRẦN ĐỨC | E38: LONG | F38: 25/09/1997 | G38: 120 | H38: 108 | I38: 102 | J38: 5.1796296 | K38: 1.5740741 | L38: 5 | M38: 18 | N38: 0.15 | O38: K | P38: 4.6 | R38: 4.9 | S38: 4 | T38: 4.9 | U38: 4.9 | V38: 6.2 | W38: 7.8 | X38: 4.1 | Y38: 7.1 | Z38: 6.5 | AA38: 8.2 | AB38: 4 | AC38: 4.5 | AD38: 4.5 | AE38: 5 | AF38: 6 | AG38: 6.2 | AH38: 5.7 | AI38: 5.5 | AJ38: 6.7 | AK38: 1.4 | AL38: 6.7 | AM38: 6.2 | AN38: 5.4 | AO38: 4 | AP38: 4.2 | AQ38: 4.4 | AR38: 6.6 | AT38: 6.6 | AV38: 4 | AW38: 4.3 | AX38: 4.6 | AY38: 5.4 | AZ38: 4.5 | BA38: 4.8 | BB38: 7.7 | BC38: 4.9 | BD38: 6.1 | BE38: 3.6 | BF38: 5.6 | BG38: =VLOOKUP(B38,'66DCDT'!$C$10:$G$58,3,0) -> #N/A
A39: 34 | B39: 66DCDT21216 | D39: LÊ CÔNG | E39: NAM | F39: 35674 | G39: 120 | H39: 118 | I39: 113 | J39: 5.7542373 | K39: 1.9745763 | L39: 3 | M39: 7 | N39: 0.058333333 | O39: K | P39: 5.3 | R39: 8.4 | S39: 5.6 | T39: 7.2 | U39: 6.4 | V39: 7.1 | W39: 8 | X39: 0 | Y39: 5.2 | Z39: 7.1 | AA39: 5.6 | AB39: 5 | AC39: 5.1 | AD39: 4.1 | AE39: 4.4 | AF39: 5 | AG39: 6 | AH39: 5.2 | AI39: 5.3 | AJ39: 6.2 | AK39: 5 | AL39: 7 | AM39: 4.6 | AN39: 6.1 | AO39: 5.2 | AP39: 4.6 | AQ39: 4.5 | AR39: 6.6 | AS39: 9.1 | AT39: 6.3 | AU39: 9.1 | AV39: 4.3 | AW39: 5.2 | AX39: 6.2 | AY39: 7.3 | AZ39: 4.7 | BA39: 6 | BB39: 6.9 | BC39: 4.1 | BD39: 6.9 | BE39: 3.7 | BF39: 5.1 | BG39: =VLOOKUP(B39,'66DCDT'!$C$10:$G$58,3,0) -> #N/A
A40: 35 | B40: 66DCDT22338 | D40: LÊ VĂN | E40: NGUYÊN | F40: 35466 | G40: 120 | H40: 118 | I40: 113 | J40: 6.0652542 | K40: 2.1101695 | L40: 3 | M40: 7 | N40: 0.058333333 | O40: K | P40: 3.2 | R40: 7.2 | S40: 5.2 | T40: 5.8 | U40: 6.3 | V40: 8.5 | W40: 7.3 | X40: 0 | Y40: 5.3 | Z40: 7.5 | AA40: 7.9 | AB40: 8.4 | AC40: 4.1 | AD40: 6.1 | AE40: 4.9 | AF40: 7.1 | AG40: 7.7 | AH40: 5.2 | AI40: 5 | AJ40: 7 | AK40: 5.4 | AL40: 5 | AM40: 4.7 | AN40: 5.3 | AO40: 5.2 | AP40: 4.8 | AQ40: 4.8 | AR40: 8.4 | AS40: 9.1 | AT40: 7.3 | AU40: 9.1 | AV40: 4.4 | AW40: 7.2 | AX40: 4.2 | AY40: 6.3 | AZ40: 7.7 | BA40: 5.5 | BB40: 5.9 | BC40: 5.9 | BD40: 7.7 | BE40: 5.3 | BF40: 4.7 | BG40: =VLOOKUP(B40,'66DCDT'!$C$10:$G$58,3,0) -> #N/A
A41: 36 | B41: 66DCDT22479 | D41: TRẦN VĂN | E41: PHONG | F41: 35612 | G41: 120 | H41: 108 | I41: 103 | J41: 5.9546296 | K41: 2.0972222 | L41: 5 | M41: 17 | N41: 0.14166667 | O41: K | P41: 5.7 | R41: 2.4 | S41: 5.2 | T41: 4 | U41: 5.9 | V41: 7.9 | W41: 9.1 | X41: 6.1 | Y41: 4.9 | Z41: 6.8 | AA41: 7 | AB41: 6.3 | AC41: 7.1 | AD41: 5.5 | AE41: 5.7 | AF41: 4.4 | AG41: 7.8 | AH41: 4.5 | AI41: 8 | AJ41: 7.1 | AK41: 6 | AL41: 6.7 | AM41: 6.1 | AN41: 6.6 | AO41: 4.5 | AP41: 6.4 | AQ41: 4.1 | AR41: 9.3 | AT41: 7.7 | AV41: 5.2 | AW41: 4 | AX41: 7 | AY41: 8 | AZ41: 6 | BA41: 4.9 | BB41: 7.6 | BC41: 6 | BD41: 5.8 | BE41: 3.9 | BF41: 4.6 | BG41: =VLOOKUP(B41,'66DCDT'!$C$10:$G$58,3,0) -> #N/A
A42: 37 | B42: 66DCDT22944 | D42: ĐOÀN NGỌC | E42: THIỆN | F42: 14/06/1997 | G42: 120 | H42: 108 | I42: 106 | J42: 5.8046296 | K42: 1.9907407 | L42: 4 | M42: 14 | N42: 0.11666667 | O42: K | P42: 5.3 | R42: 8.6 | S42: 5.4 | T42: 5.8 | U42: 5.6 | V42: 5.5 | W42: 9.1 | X42: 0 | Y42: 4.3 | Z42: 7.7 | AA42: 5.4 | AB42: 5.3 | AC42: 5.7 | AD42: 4.5 | AE42: 5.1 | AF42: 5 | AG42: 5.5 | AH42: 7 | AI42: 4.3 | AJ42: 6.3 | AK42: 6.2 | AL42: 5.4 | AM42: 5.7 | AN42: 5.7 | AO42: 7.5 | AP42: 4.6 | AQ42: 6.1 | AR42: 7.6 | AT42: 7.6 | AV42: 4.4 | AW42: 4.4 | AX42: 8 | AY42: 6.5 | AZ42: 4.1 | BA42: 4.5 | BB42: 7.7 | BC42: 4.9 | BD42: 7.1 | BE42: 4.7 | BF42: 7.7 | BG42: =VLOOKUP(B42,'66DCDT'!$C$10:$G$58,3,0) -> #N/A
A43: 38 | B43: 66DCDT22140 | D43: THẨM ĐỨC | E43: THẮNG | F43: 35582 | G43: 120 | H43: 108 | I43: 103 | J43: 5.4268519 | K43: 1.837963 | L43: 5 | M43: 17 | N43: 0.14166667 | O43: K | P43: 5.7 | R43: 7.5 | S43: 4.1 | T43: 6.3 | U43: 4 | V43: 6.2 | W43: 6.1 | X43: 0 | Y43: 5.3 | Z43: 7.1 | AA43: 7.2 | AB43: 4 | AC43: 4.3 | AD43: 4.1 | AE43: 5.1 | AF43: 7.7 | AG43: 4.2 | AH43: 5 | AI43: 4.1 | AJ43: 6.2 | AK43: 5.5 | AL43: 6.2 | AM43: 4.4 | AN43: 4.2 | AO43: 2.2 | AP43: 6.2 | AQ43: 5.9 | AR43: 7.9 | AT43: 7.6 | AV43: 4.9 | AW43: 4.3 | AX43: 5.8 | AY43: 4 | AZ43: 8.7 | BA43: 5.8 | BB43: 7.1 | BC43: 6 | BD43: 6.5 | BE43: 5.3 | BF43: 5.5 | BG43: =VLOOKUP(B43,'66DCDT'!$C$10:$G$58,3,0) -> #N/A
A44: 39 | B44: 66DCDT23288 | D44: ĐỖ NGỌC | E44: TIẾN | F44: 35498 | G44: 120 | H44: 108 | I44: 59 | J44: 4.1157407 | K44: 0.98148148 | L44: 20 | M44: 61 | N44: 0.50833333 | O44: K | P44: 7.4 | R44: 6.1 | S44: 4.4 | T44: 5.5 | U44: 1.9 | V44: 4.2 | W44: 7.3 | X44: 0 | Y44: 2.1 | Z44: 5.8 | AA44: 5.4 | AB44: 3.8 | AC44: 3.6 | AD44: 3.3 | AE44: 5.4 | AF44: 3.4 | AG44: 0 | AH44: 6.6 | AI44: 1.7 | AJ44: 6 | AK44: 0 | AL44: 7.2 | AM44: 4.3 | AN44: 4.6 | AO44: 2.7 | AP44: 0 | AQ44: 3.7 | AR44: 7.9 | AT44: 6.7 | AV44: 3.7 | AW44: 5 | AX44: 4.1 | AY44: 4.2 | AZ44: 3.9 | BA44: 1.8 | BB44: 7.5 | BC44: 4.8 | BD44: 4.5 | BE44: 4.6 | BF44: 2.2 | BG44: =VLOOKUP(B44,'66DCDT'!$C$10:$G$58,3,0) -> #N/A
A45: 40 | B45: 66DCDT22828 | D45: LÊ VĂN | E45: TOÀN | F45: 35466 | G45: 120 | H45: 108 | I45: 105 | J45: 5.5305556 | K45: 1.8564815 | L45: 4 | M45: 15 | N45: 0.125 | O45: K | P45: 4.6 | R45: 8.6 | S45: 5.1 | T45: 4.4 | U45: 4.9 | V45: 8 | W45: 8.2 | X45: 5.2 | Y45: 6.4 | Z45: 6.3 | AA45: 7 | AB45: 4.2 | AC45: 4.2 | AD45: 4.7 | AE45: 5.5 | AF45: 8.5 | AG45: 4.6 | AH45: 5.6 | AI45: 5.4 | AJ45: 6.5 | AK45: 0 | AL45: 5 | AM45: 4.4 | AN45: 5.5 | AO45: 6.6 | AP45: 4.6 | AQ45: 4.7 | AR45: 7.6 | AT45: 7.6 | AV45: 4.3 | AW45: 4.3 | AX45: 7 | AY45: 7.4 | AZ45: 4 | BA45: 4.8 | BB45: 7.3 | BC45: 5.4 | BD45: 4.7 | BE45: 5.7 | BF45: 6.1 | BG45: =VLOOKUP(B45,'66DCDT'!$C$10:$G$58,3,0) -> #N/A
A46: 41 | B46: 66DCDT21855 | D46: PHÙNG VIỆT | E46: TOÀN | F46: 35464 | G46: 120 | H46: 108 | I46: 86 | J46: 4.8407407 | K46: 1.25 | L46: 10 | M46: 34 | N46: 0.28333333 | O46: K | P46: 3.9 | R46: 8.1 | S46: 4.8 | T46: 5.1 | U46: 4.9 | V46: 7.9 | W46: 7.5 | X46: 5 | Y46: 5.1 | Z46: 4.2 | AA46: 7.5 | AB46: 4 | AC46: 5 | AD46: 5.1 | AE46: 5.1 | AF46: 4 | AG46: 2.8 | AH46: 5 | AI46: 5.2 | AJ46: 6 | AK46: 4.3 | AL46: 5.6 | AM46: 5 | AN46: 5 | AO46: 6.6 | AP46: 4 | AQ46: 3.9 | AR46: 6.6 | AT46: 7.7 | AV46: 4.6 | AW46: 4.2 | AX46: 3.9 | AY46: 4.4 | AZ46: 2.7 | BA46: 4.9 | BB46: 4.1 | BC46: 4 | BD46: 4.7 | BE46: 2.9 | BF46: 3.6 | BG46: =VLOOKUP(B46,'66DCDT'!$C$10:$G$58,3,0) -> #N/A
A47: 42 | B47: 66DCDT22301 | D47: TRẦN VĂN | E47: TOẢN | F47: 15/06/1997 | G47: 120 | H47: 108 | I47: 61 | J47: 4.4194444 | K47: 1.125 | L47: 20 | M47: 59 | N47: 0.49166667 | O47: K | P47: 2.8 | R47: 3.6 | S47: 2.3 | T47: 4.2 | U47: 2.6 | V47: 7.5 | W47: 6.4 | X47: 0 | Y47: 5.5 | Z47: 5.3 | AA47: 5.9 | AB47: 3.9 | AC47: 2.9 | AD47: 3.2 | AE47: 6.3 | AF47: 3.1 | AG47: 1.8 | AH47: 5.1 | AI47: 1.8 | AJ47: 6 | AK47: 0 | AL47: 6.1 | AM47: 6.3 | AN47: 5.9 | AO47: 3.9 | AP47: 6 | AQ47: 6.7 | AR47: 6.6 | AT47: 6.3 | AV47: 4.8 | AW47: 4.3 | AX47: 6 | AY47: 3.7 | AZ47: 3.6 | BA47: 6 | BB47: 4.9 | BC47: 4.5 | BD47: 3.3 | BE47: 5 | BF47: 3.3 | BG47: =VLOOKUP(B47,'66DCDT'!$C$10:$G$58,3,0) -> #N/A
A48: 43 | B48: 66DCDT22209 | D48: NGUYỄN HUYỀN | E48: TRANG | F48: 35767 | G48: 120 | H48: 108 | I48: 98 | J48: 5.8166667 | K48: 1.9351852 | L48: 7 | M48: 22 | N48: 0.18333333 | O48: K | P48: 7.8 | R48: 8.3 | S48: 4.2 | T48: 5.1 | U48: 4.3 | V48: 6.5 | W48: 7.8 | X48: 8.1 | Y48: 7 | Z48: 7.7 | AA48: 8.2 | AB48: 8.8 | AC48: 4.2 | AD48: 8.6 | AE48: 5 | AF48: 4.3 | AG48: 6.4 | AH48: 7.5 | AI48: 4.3 | AJ48: 7.9 | AK48: 3.3 | AL48: 5.2 | AM48: 5.8 | AN48: 5.8 | AO48: 4.3 | AP48: 4.2 | AQ48: 5.4 | AR48: 7.6 | AT48: 7.6 | AV48: 4.8 | AW48: 5 | AX48: 5 | AY48: 4.7 | AZ48: 5.2 | BA48: 3.4 | BB48: 7.5 | BC48: 3.8 | BD48: 2.1 | BE48: 6.4 | BF48: 6.4 | BG48: =VLOOKUP(B48,'66DCDT'!$C$10:$G$58,3,0) -> #N/A
A49: 44 | B49: 66DCDT22165 | D49: CUNG ĐỨC ANH | E49: TÚ | F49: 35654 | G49: 120 | H49: 99 | I49: 48 | J49: 3.1606061 | K49: 0.78282828 | L49: 24 | M49: 72 | N49: 0.6 | O49: K | P49: 4.9 | R49: 2.6 | S49: 4.1 | T49: 1.2 | U49: 5.5 | V49: 6.8 | W49: 7.2 | X49: 5 | Y49: 5 | Z49: 0 | AA49: 5.5 | AB49: 4.2 | AD49: 4.6 | AE49: 2 | AF49: 3.4 | AH49: 0 | AI49: 6.6 | AJ49: 0 | AK49: 0 | AL49: 6.3 | AM49: 2.3 | AN49: 5.6 | AO49: 0 | AP49: 1.4 | AQ49: 0 | AR49: 0 | AT49: 0 | AV49: 2.6 | AW49: 4.1 | AX49: 5.7 | AY49: 2.9 | AZ49: 1.6 | BA49: 4.4 | BB49: 6.4 | BC49: 4.2 | BD49: 4.7 | BF49: 2 | BG49: =VLOOKUP(B49,'66DCDT'!$C$10:$G$58,3,0) -> #N/A
A50: 45 | B50: 66DCDT21850 | D50: VÕ VĂN | E50: TUẤN | F50: 25/09/1997 | G50: 120 | H50: 108 | I50: 103 | J50: 5.5166667 | K50: 1.787037 | L50: 5 | M50: 17 | N50: 0.14166667 | O50: K | P50: 4.2 | R50: 6.5 | S50: 4.6 | T50: 4.2 | U50: 6.5 | V50: 8 | W50: 6.1 | X50: 0 | Y50: 3.9 | Z50: 5.7 | AA50: 7 | AB50: 7 | AC50: 5.2 | AD50: 4.7 | AE50: 5.3 | AF50: 6.1 | AG50: 4.4 | AH50: 5.5 | AI50: 5.3 | AJ50: 6.3 | AK50: 5.5 | AL50: 5.3 | AM50: 5.8 | AN50: 5.5 | AO50: 6.6 | AP50: 5.9 | AQ50: 5.3 | AR50: 7.6 | AT50: 7.6 | AV50: 4.5 | AW50: 5 | AX50: 5.1 | AY50: 5.3 | AZ50: 4.6 | BA50: 4.8 | BB50: 5.7 | BC50: 6.9 | BD50: 6.7 | BE50: 4.9 | BF50: 5.9 | BG50: =VLOOKUP(B50,'66DCDT'!$C$10:$G$58,3,0) -> #N/A
A51: 46 | B51: 66DCDT22250 | D51: LÊ TIẾN | E51: VINH | F51: 19/09/1997 | G51: 120 | H51: 118 | I51: 111 | J51: 5.6364407 | K51: 1.9152542 | L51: 3 | M51: 9 | N51: 0.075 | O51: K | P51: 4.3 | R51: 6.2 | S51: 5.9 | T51: 6.3 | U51: 5.9 | V51: 5.4 | W51: 7.5 | X51: 6.1 | Y51: 7.1 | Z51: 5.4 | AA51: 8.2 | AB51: 4 | AC51: 3.3 | AD51: 7.2 | AE51: 6 | AF51: 8 | AG51: 7.5 | AH51: 6.1 | AI51: 4.8 | AJ51: 6.1 | AK51: 0 | AL51: 4.4 | AM51: 5.1 | AN51: 6.2 | AO51: 6.4 | AP51: 4.1 | AQ51: 4.5 | AR51: 7.6 | AS51: 8.2 | AT51: 5.6 | AU51: 8.2 | AV51: 4.3 | AW51: 4.8 | AX51: 5.1 | AY51: 5.8 | AZ51: 4.3 | BA51: 4.9 | BB51: 5.5 | BC51: 4.7 | BD51: 5.9 | BE51: 5.2 | BF51: 4.5 | BG51: =VLOOKUP(B51,'66DCDT'!$C$10:$G$58,3,0) -> 19/09/1997
B53: Tổng hợp: | AO53: Hà Nội, ngày tháng năm 2019
K54: Số SV | N54: Tỷ lệ (%) | W54: PHÒNG ĐÀO TẠO | AO54: PHÒNG KHẢO THÍ VÀ ĐẢM BẢO CHẤT LƯỢNG ĐÀO TẠO
D55: Đủ điều kiện nhận ĐÁ/KLTN: | K55: 19 | N55: 0.41304348 | P55: 15
D56: Không đủ điều kiện nhận ĐÁ/KLTN: | K56: 27 | N56: 0.58695652
K57: 46

Sheet 66DCHT21
X1: BẢNG ĐIỂM TOÀN KHÓA XÉT ĐIỀU KIỆN NHẬN ĐỒ ÁN/KHÓA LUẬN TỐT NGHIỆP
V2: LỚP 66DCHT21
A4: STT | B4: Mã sinh viên | D4: Họ đệm | E4: Tên | F4: Ngày sinh | G4: Tổng số TC | H4: Số tín chỉ tính điểm | I4: Số tín chỉ tích lũy | J4: Điểm TBC (hệ 10) | K4: Điểm TBC (hệ 4) | L4: Số môn không đạt | M4: Số Tín chỉ không đạt | N4: Tỷ lệ % không đạt | O4: Đề nghị xét | P4: DC3HT51_An toàn và bảo mật hệ thống thông tin (2) | Q4: DC2HT26_Cấu trúc dữ liệu và giải thuật (4) | R4: DC2HT38_Công nghệ phần mềm (3) | S4: DC2TT32_Điện toán đám mây (2) | T4: DC3HT52_Đồ án Hệ thống thông tin (3) | U4: DC1LL04_Đường lối cách mạng của Đảng cộng sản Việt Nam (3) | V4: DC3HT34_Giao thông thông minh (ITS) (3) | W4: DC3HT21_Hệ quản trị Cơ sở dữ liệu (3) | X4: DC3HT42_Hệ thống hoạch định nguồn lực doanh nghiệp (ERP) (3) | Y4: DC3HT43_Hệ thống thông tin địa lý - GIS (3) | Z4: DC3HT22_Hệ trợ giúp quyết định (3) | AA4: DC3HT41_Kiểm thử phần mềm (3) | AB4: DC3TH44_Kiến trúc của hệ thống QL, giám sát PTGT (3) | AC4: DC2HT11_Kiến trúc máy tính (3) | AD4: DC1TT31_Kỹ thuật xây dựng và trình bày báo cáo (2) | AE4: DC3HT31_Lập trình di động (3) | AF4: DC2TT35_Lập trình hướng đối tượng C++ (3) | AG4: DC2HT33_Lập trình Java (3) | AH4: DC2HT36_Lập trình trên môi trường Web (3) | AI4: DC2HT34_Lập trình trực quan C# (3) | AJ4: DC2HT25_Lý thuyết đồ thị (2) | AK4: DC1CB20_Lý thuyết xác suất - thống kê (2) | AL4: DC2HT12_Nguyên lý Hệ điều hành (3) | AM4: DC2TT22_Nhập môn Cơ sở dữ liệu (3) | AN4: DC2HT13_Nhập môn mạng máy tính (3) | AO4: DC3HT16_Nhập môn Xử lý ảnh (3) | AP4: DC1LL01_Những nguyên lý cơ bản của CN Mác - Lênin 1 (2) | AQ4: DC1LL02_Những nguyên lý cơ bản của CN Mác - Lênin 2 (3) | AR4: DC1LL05_Pháp luật Việt Nam đại cương (2) | AS4: DC2TT31_Phần mềm mã nguồn mở (2) | AT4: DC3HT60_Phân tích và thiết kế hệ thống thông tin (4) | AU4: DC3HT32_Quản lý dự án phần mềm (3) | AV4: DC3TT47_Quản trị mạng (3) | AW4: DC3HT46_Thiết kế mạng máy tính (3) | AX4: DC4HT22_Thực tập chuyên ngành, thực tập DN (6) | AY4: DC4TH70_Thực tập tốt nghiệp (4) | AZ4: DC1TT43_Tin học đại cương (3) | BA4: DC2TT21_Toán rời rạc (3) | BB4: DC1CB11_Toán 1 (4) | BC4: DC1CB41_Toán 2 (2) | BD4: DC1CB57_Toán 3 (3) | BE4: DC1LL03_Tư tưởng Hồ Chí Minh (2) | BF4: DC1TT21_Vật lý đại cương 1 (2) | BG4: DC1TT22_Vật lý đại cương 2 (2)
P5: 2 | Q5: 4 | R5: 3 | S5: 2 | T5: 3 | U5: 3 | V5: 3 | W5: 3 | X5: 3 | Y5: 3 | Z5: 3 | AA5: 3 | AB5: 3 | AC5: 3 | AD5: 2 | AE5: 3 | AF5: 3 | AG5: 3 | AH5: 3 | AI5: 3 | AJ5: 2 | AK5: 2 | AL5: 3 | AM5: 3 | AN5: 3 | AO5: 3 | AP5: 2 | AQ5: 3 | AR5: 2 | AS5: 2 | AT5: 4 | AU5: 3 | AV5: 3 | AW5: 3 | AX5: 6 | AY5: 4 | AZ5: 3 | BA5: 3 | BB5: 4 | BC5: 2 | BD5: 3 | BE5: 2 | BF5: 2 | BG5: 2
A6: 1 | B6: 66DCHT20657 | C6: =D6&" "&E6 -> ĐỖ THỊ LAN ANH | D6: ĐỖ THỊ LAN | E6: ANH | F6: 29/03/1997 | G6: 127 | H6: 127 | I6: 127 | J6: 7.5606299 | K6: 3.1023622 | L6: 0 | M6: 0 | N6: 0 | O6: Đ | P6: 8 | Q6: 7.6 | R6: 7.2 | S6: 8.6 | T6: 9.1 | U6: 6.7 | V6: 4.2 | W6: 7.5 | X6: 9 | Y6: 8 | Z6: 9.2 | AA6: 8.3 | AB6: 8 | AC6: 8.6 | AD6: 9.7 | AE6: 9.1 | AF6: 8.9 | AG6: 8.2 | AH6: 7.5 | AI6: 7.4 | AJ6: 8.2 | AK6: 5.6 | AL6: 8.4 | AM6: 8.2 | AN6: 6.5 | AO6: 9.1 | AP6: 6 | AQ6: 7 | AR6: 5.3 | AS6: 8.8 | AT6: 8.2 | AU6: 9 | AV6: 5.2 | AW6: 5.1 | AX6: 8 | AY6: 8 | AZ6: 9 | BA6: 6.9 | BB6: 4.5 | BC6: 7.2 | BD6: 5.3 | BE6: 7.6 | BF6: 6.6 | BG6: 8 | BH6: =VLOOKUP(B6,'66DCHT'!$C$10:$G$54,3,0) -> 29/03/1997
A7: 2 | B7: 66DCHT20797 | D7: ĐỖ TỰ | E7: BÌNH | F7: 30/06/1997 | G7: 127 | H7: 127 | I7: 121 | J7: 5.6653543 | K7: 1.8464567 | L7: 2 | M7: 6 | N7: 0.047244094 | O7: Đ | P7: 5.3 | Q7: 5.2 | R7: 6.9 | S7: 5.2 | T7: 6.3 | U7: 6.9 | V7: 4.6 | W7: 4.6 | X7: 7.3 | Y7: 6.6 | Z7: 6.4 | AA7: 7.8 | AB7: 4.9 | AC7: 6.1 | AD7: 9 | AE7: 5.2 | AF7: 4.4 | AG7: 5.8 | AH7: 5.4 | AI7: 5.9 | AJ7: 5.7 | AK7: 4.9 | AL7: 5.8 | AM7: 5.3 | AN7: 4.3 | AO7: 4.2 | AP7: 4.4 | AQ7: 7.8 | AR7: 6.4 | AS7: 4.9 | AT7: 4 | AU7: 2.3 | AV7: 4.6 | AW7: 6.3 | AX7: 7.3 | AY7: 7.3 | AZ7: 4.5 | BA7: 6.1 | BB7: 4 | BC7: 7.8 | BD7: 3.8 | BE7: 6.4 | BF7: 5 | BG7: 6.7 | BH7: =VLOOKUP(B7,'66DCHT'!$C$10:$G$54,3,0) -> #N/A
A8: 3 | B8: 66DCHT20465 | D8: NGUYỄN HOÀNG | E8: DƯƠNG | F8: 16/06/1997 | G8: 127 | H8: 127 | I8: 122 | J8: 5.6826772 | K8: 1.9645669 | L8: 2 | M8: 5 | N8: 0.039370079 | O8: Đ | P8: 4.6 | Q8: 4.1 | R8: 6.4 | S8: 8.8 | T8: 6.5 | U8: 4.8 | V8: 6.3 | W8: 6 | X8: 7 | Y8: 7.1 | Z8: 6 | AA8: 7.1 | AB8: 5.2 | AC8: 4.5 | AD8: 5.7 | AE8: 5.8 | AF8: 4.9 | AG8: 5.9 | AH8: 4.4 | AI8: 1.1 | AJ8: 5.3 | AK8: 5.2 | AL8: 6.3 | AM8: 6.1 | AN8: 5 | AO8: 4.8 | AP8: 5.1 | AQ8: 6.8 | AR8: 4.4 | AS8: 4.8 | AT8: 7.1 | AU8: 6 | AV8: 5.4 | AW8: 6.5 | AX8: 7.3 | AY8: 7.3 | AZ8: 4.1 | BA8: 5.5 | BB8: 6.2 | BC8: 6.8 | BD8: 4.8 | BE8: 5 | BF8: 5.7 | BG8: 2.7 | BH8: =VLOOKUP(B8,'66DCHT'!$C$10:$G$54,3,0) -> #N/A
A9: 4 | B9: 66DCHT20167 | C9: =D9&" "&E9 -> NGUYỄN ANH ĐỨC | D9: NGUYỄN ANH | E9: ĐỨC | F9: 35675 | G9: 127 | H9: 127 | I9: 124 | J9: 6.1661417 | K9: 2.1929134 | L9: 1 | M9: 3 | N9: 0.023622047 | O9: Đ | P9: 5.8 | Q9: 4.8 | R9: 6.2 | S9: 7.6 | T9: 5.5 | U9: 5.2 | V9: 4.1 | W9: 6.7 | X9: 7 | Y9: 7.5 | Z9: 5.7 | AA9: 6.8 | AB9: 6.1 | AC9: 6.9 | AD9: 6.7 | AE9: 6.1 | AF9: 4.6 | AG9: 6.1 | AH9: 5.9 | AI9: 5.9 | AJ9: 4.6 | AK9: 5.1 | AL9: 5.2 | AM9: 5.2 | AN9: 6.4 | AO9: 4.2 | AP9: 4.3 | AQ9: 4.9 | AR9: 4.3 | AS9: 4 | AT9: 7.6 | AU9: 6.8 | AV9: 5 | AW9: 3.8 | AX9: 8 | AY9: 8 | AZ9: 9.4 | BA9: 7 | BB9: 8.4 | BC9: 7.9 | BD9: 7.1 | BE9: 5 | BF9: 4.6 | BG9: 8.1 | BH9: =VLOOKUP(B9,'66DCHT'!$C$10:$G$54,3,0) -> 09/02/1997
A10: 5 | B10: 66DCHT20468 | D10: NGUYỄN TRỌNG | E10: ĐỨC | F10: 14/02/1997 | G10: 127 | H10: 127 | I10: 127 | J10: 6.1220472 | K10: 2.1771654 | L10: 0 | M10: 0 | N10: 0 | O10: Đ | P10: 4.7 | Q10: 4.5 | R10: 6.6 | S10: 4.8 | T10: 8.4 | U10: 7.2 | V10: 6 | W10: 5.5 | X10: 8.1 | Y10: 7.1 | Z10: 9.1 | AA10: 4.6 | AB10: 6.1 | AC10: 5.8 | AD10: 5.9 | AE10: 5.2 | AF10: 6.9 | AG10: 5.9 | AH10: 5.5 | AI10: 4.7 | AJ10: 8.1 | AK10: 5.7 | AL10: 6.8 | AM10: 5.4 | AN10: 6.2 | AO10: 4.6 | AP10: 5.8 | AQ10: 5.5 | AR10: 5.5 | AS10: 4.4 | AT10: 5 | AU10: 7.8 | AV10: 6.7 | AW10: 6.6 | AX10: 6.6 | AY10: 6.6 | AZ10: 5.9 | BA10: 7.7 | BB10: 5.8 | BC10: 5.9 | BD10: 5 | BE10: 6.6 | BF10: 6.2 | BG10: 5.2 | BH10: =VLOOKUP(B10,'66DCHT'!$C$10:$G$54,3,0) -> #N/A
A11: 6 | B11: 66DCHT21330 | C11: =D11&" "&E11 -> BÙI TUẤN ĐẠT | D11: BÙI TUẤN | E11: ĐẠT | F11: 35528 | G11: 127 | H11: 127 | I11: 127 | J11: 8.2291339 | K11: 3.4251969 | L11: 0 | M11: 0 | N11: 0 | O11: Đ | P11: 6.5 | Q11: 8.4 | R11: 8.2 | S11: 9.3 | T11: 9.7 | U11: 8.4 | V11: 6.6 | W11: 9.7 | X11: 8.7 | Y11: 8.2 | Z11: 7.3 | AA11: 8.6 | AB11: 7.8 | AC11: 6.2 | AD11: 10 | AE11: 10 | AF11: 9.9 | AG11: 9.1 | AH11: 8.6 | AI11: 9.3 | AJ11: 8.2 | AK11: 7.5 | AL11: 7.7 | AM11: 6.8 | AN11: 5.5 | AO11: 7.4 | AP11: 6.1 | AQ11: 6.3 | AR11: 5.1 | AS11: 9.1 | AT11: 7.5 | AU11: 9.5 | AV11: 8.1 | AW11: 8 | AX11: 9.7 | AY11: 9.7 | AZ11: 8.7 | BA11: 6.3 | BB11: 9.5 | BC11: 9.1 | BD11: 8.9 | BE11: 6.3 | BF11: 9.5 | BG11: 7.3 | BH11: =VLOOKUP(B11,'66DCHT'!$C$10:$G$54,3,0) -> 04/08/1997
A12: 7 | B12: 66DCHT21029 | D12: LÊ VĂN | E12: ĐẠT | F12: 24/09/1997 | G12: 127 | H12: 127 | I12: 127 | J12: 6.292126 | K12: 2.2283465 | L12: 0 | M12: 0 | N12: 0 | O12: Đ | P12: 4.8 | Q12: 4.8 | R12: 6.2 | S12: 7.7 | T12: 8.1 | U12: 7 | V12: 6 | W12: 5.3 | X12: 8.1 | Y12: 6.4 | Z12: 4.5 | AA12: 7.3 | AB12: 7 | AC12: 4.4 | AD12: 6.9 | AE12: 9.4 | AF12: 6.9 | AG12: 5.8 | AH12: 5.8 | AI12: 5.9 | AJ12: 6.6 | AK12: 5.4 | AL12: 6.7 | AM12: 4 | AN12: 4.3 | AO12: 4.7 | AP12: 8 | AQ12: 4.7 | AR12: 5.7 | AS12: 4.7 | AT12: 7.6 | AU12: 7.9 | AV12: 4.5 | AW12: 5 | AX12: 9.3 | AY12: 9.3 | AZ12: 6.1 | BA12: 4.2 | BB12: 4.6 | BC12: 4.7 | BD12: 7.7 | BE12: 6.7 | BF12: 5.3 | BG12: 6.7 | BH12: =VLOOKUP(B12,'66DCHT'!$C$10:$G$54,3,0) -> #N/A
A13: 8 | B13: 64DCMT3001 | C13: =D13&" "&E13 -> Lê Minh Đức | D13: Lê Minh | E13: Đức | F13: 14/05/1995 | G13: 127 | H13: 127 | I13: 127 | J13: 6.3913386 | K13: 2.2952756 | L13: 0 | M13: 0 | N13: 0 | O13: Đ | P13: 4.8 | Q13: 5.4 | R13: 6.9 | S13: 7.4 | T13: 6.8 | U13: 7.9 | V13: 6.1 | W13: 8 | X13: 7 | Y13: 7.7 | Z13: 4.5 | AA13: 6.9 | AB13: 4.7 | AC13: 5.2 | AD13: 8.4 | AE13: 5.2 | AF13: 4.4 | AG13: 6.4 | AH13: 6.4 | AI13: 5.9 | AJ13: 7.3 | AK13: 6.1 | AL13: 7.7 | AM13: 5.7 | AN13: 6.3 | AO13: 4 | AP13: 5.2 | AQ13: 6.6 | AR13: 5.6 | AS13: 4.8 | AT13: 8.2 | AU13: 8.1 | AV13: 4.5 | AW13: 4.9 | AX13: 9.3 | AY13: 9.3 | AZ13: 7.3 | BA13: 4.6 | BB13: 5.3 | BC13: 6.8 | BD13: 5 | BE13: 7.8 | BF13: 4.1 | BG13: 6.2 | BH13: =VLOOKUP(B13,'66DCHT'!$C$10:$G$54,3,0) -> 14/05/1995
A14: 9 | B14: 66DCHT20766 | C14: =D14&" "&E14 -> ĐỖ THỊ HOA | D14: ĐỖ THỊ | E14: HOA | F14: 35528 | G14: 127 | H14: 127 | I14: 127 | J14: 8.2724409 | K14: 3.515748 | L14: 0 | M14: 0 | N14: 0 | O14: Đ | P14: 7.4 | Q14: 6.5 | R14: 7.5 | S14: 6.8 | T14: 8.7 | U14: 8.9 | V14: 9.7 | W14: 8 | X14: 9 | Y14: 9.1 | Z14: 9.1 | AA14: 9.1 | AB14: 8.3 | AC14: 8.3 | AD14: 9.3 | AE14: 9.1 | AF14: 8.3 | AG14: 7.7 | AH14: 8.6 | AI14: 8.1 | AJ14: 8.9 | AK14: 9.3 | AL14: 9.3 | AM14: 8.2 | AN14: 6.5 | AO14: 8.4 | AP14: 7.2 | AQ14: 8.5 | AR14: 7.2 | AS14: 8.4 | AT14: 9.1 | AU14: 9.1 | AV14: 7.7 | AW14: 6.1 | AX14: 9 | AY14: 9 | AZ14: 7.7 | BA14: 7.9 | BB14: 8.2 | BC14: 6.5 | BD14: 7.7 | BE14: 8.6 | BF14: 7.8 | BG14: 8.4 | BH14: =VLOOKUP(B14,'66DCHT'!$C$10:$G$54,3,0) -> 04/08/1997
A15: 10 | B15: 66DCHT20906 | C15: =D15&" "&E15 -> BÙI CÔNG HUY | D15: BÙI CÔNG | E15: HUY | F15: 35436 | G15: 127 | H15: 127 | I15: 124 | J15: 6.5582677 | K15: 2.4448819 | L15: 1 | M15: 3 | N15: 0.023622047 | O15: Đ | P15: 4.4 | Q15: 5.1 | R15: 7.1 | S15: 8.2 | T15: 8 | U15: 7.4 | V15: 7.8 | W15: 7.6 | X15: 8.1 | Y15: 7 | Z15: 6.5 | AA15: 7 | AB15: 8.1 | AC15: 5.2 | AD15: 7.4 | AE15: 7.9 | AF15: 5.1 | AG15: 5 | AH15: 8.8 | AI15: 7.1 | AJ15: 7.3 | AK15: 5.3 | AL15: 6.4 | AM15: 6.8 | AN15: 4.3 | AO15: 6.6 | AP15: 6.2 | AQ15: 5.9 | AR15: 5.1 | AS15: 7.5 | AT15: 6.4 | AU15: 7.4 | AV15: 4.1 | AW15: 5.3 | AX15: 9.4 | AY15: 9.4 | AZ15: 5.2 | BA15: 6.3 | BB15: 4.1 | BC15: 5.9 | BD15: 3.9 | BE15: 7.1 | BF15: 5.6 | BG15: 4.4 | BH15: =VLOOKUP(B15,'66DCHT'!$C$10:$G$54,3,0) -> 01/06/1997
A16: 11 | B16: 66DCHT20777 | C16: =D16&" "&E16 -> LÊ THẾ KHIẾT | D16: LÊ THẾ | E16: KHIẾT | F16: 35527 | G16: 127 | H16: 127 | I16: 127 | J16: 6.4094488 | K16: 2.3858268 | L16: 0 | M16: 0 | N16: 0 | O16: Đ | P16: 4.1 | Q16: 7.9 | R16: 7.2 | S16: 6.6 | T16: 7.6 | U16: 7.8 | V16: 8 | W16: 4.3 | X16: 7.9 | Y16: 6.4 | Z16: 6.3 | AA16: 6.9 | AB16: 7.9 | AC16: 6 | AD16: 6.1 | AE16: 7.1 | AF16: 5.3 | AG16: 6.1 | AH16: 6.9 | AI16: 7.2 | AJ16: 7.3 | AK16: 4.2 | AL16: 5.7 | AM16: 6.1 | AN16: 5.8 | AO16: 7.3 | AP16: 5.2 | AQ16: 7.5 | AR16: 5.6 | AS16: 5.2 | AT16: 7.4 | AU16: 7 | AV16: 4.5 | AW16: 5 | AX16: 8.1 | AY16: 8.1 | AZ16: 7.5 | BA16: 7.7 | BB16: 4 | BC16: 5 | BD16: 4 | BE16: 4.8 | BF16: 4.1 | BG16: 4.2 | BH16: =VLOOKUP(B16,'66DCHT'!$C$10:$G$54,3,0) -> 04/07/1997
A17: 12 | B17: 66DCHT20778 | C17: =D17&" "&E17 -> NGUYỄN DANH KHOA | D17: NGUYỄN DANH | E17: KHOA | F17: 35618 | G17: 127 | H17: 127 | I17: 127 | J17: 6.4228346 | K17: 2.3779528 | L17: 0 | M17: 0 | N17: 0 | O17: Đ | P17: 5.9 | Q17: 4.5 | R17: 7.7 | S17: 8.5 | T17: 6.8 | U17: 8 | V17: 8.4 | W17: 7.7 | X17: 7 | Y17: 7.5 | Z17: 6.2 | AA17: 7.7 | AB17: 6.4 | AC17: 8 | AD17: 6.7 | AE17: 5.5 | AF17: 4.6 | AG17: 7.8 | AH17: 4.2 | AI17: 5 | AJ17: 6.4 | AK17: 4.5 | AL17: 6.7 | AM17: 6.1 | AN17: 4.7 | AO17: 5.1 | AP17: 6.6 | AQ17: 6.9 | AR17: 6.1 | AS17: 5.8 | AT17: 8.3 | AU17: 8.5 | AV17: 6.4 | AW17: 4.8 | AX17: 6.6 | AY17: 6.6 | AZ17: 4.1 | BA17: 6.9 | BB17: 6.3 | BC17: 5.2 | BD17: 5 | BE17: 5.5 | BF17: 8 | BG17: 6.9 | BH17: =VLOOKUP(B17,'66DCHT'!$C$10:$G$54,3,0) -> 07/07/1997
A18: 13 | B18: 66DCHT21304 | C18: =D18&" "&E18 -> ĐOÀN TRẦN MINH | D18: ĐOÀN TRẦN | E18: MINH | F18: 22/09/1996 | G18: 127 | H18: 124 | I18: 124 | J18: 6.391129 | K18: 2.358871 | L18: 1 | M18: 3 | N18: 0.023622047 | O18: Đ | P18: 5.7 | Q18: 4.2 | R18: 6.9 | S18: 7.5 | T18: 5.6 | U18: 7.7 | V18: 8.6 | W18: 6.8 | X18: 7 | Y18: 8.1 | AA18: 7.2 | AB18: 6.1 | AC18: 5.9 | AD18: 7.9 | AE18: 5.3 | AF18: 7.8 | AG18: 6.5 | AH18: 6 | AI18: 5.8 | AJ18: 8.7 | AK18: 8.2 | AL18: 5.1 | AM18: 6.6 | AN18: 4.4 | AO18: 4.2 | AP18: 5.6 | AQ18: 4.9 | AR18: 4.2 | AS18: 4 | AT18: 7.7 | AU18: 8.1 | AV18: 4.9 | AW18: 4 | AX18: 6.8 | AY18: 6.8 | AZ18: 8.1 | BA18: 8.7 | BB18: 6.9 | BC18: 6 | BD18: 4.4 | BE18: 6.2 | BF18: 6.6 | BG18: 7 | BH18: =VLOOKUP(B18,'66DCHT'!$C$10:$G$54,3,0) -> 22/09/1996
A19: 14 | B19: 66DCHT21312 | D19: PHẠM THỊ | E19: MẾN | F19: 35501 | G19: 127 | H19: 127 | I19: 127 | J19: 8.5834646 | K19: 3.6456693 | L19: 0 | M19: 0 | N19: 0 | O19: Đ | P19: 9.1 | Q19: 9.3 | R19: 7.4 | S19: 9.1 | T19: 9.7 | U19: 8.2 | V19: 9.5 | W19: 8.2 | X19: 9.1 | Y19: 9 | Z19: 8.2 | AA19: 8.6 | AB19: 8.3 | AC19: 9.8 | AD19: 9.3 | AE19: 9.1 | AF19: 9 | AG19: 9.3 | AH19: 9.3 | AI19: 8.3 | AJ19: 9.1 | AK19: 7.3 | AL19: 8.8 | AM19: 7.7 | AN19: 7.8 | AO19: 9.1 | AP19: 7.4 | AQ19: 7.5 | AR19: 5.7 | AS19: 8.1 | AT19: 9.1 | AU19: 8.3 | AV19: 8.8 | AW19: 8.6 | AX19: 9.4 | AY19: 9.4 | AZ19: 7.9 | BA19: 9.1 | BB19: 7.9 | BC19: 6.8 | BD19: 9.3 | BE19: 7.6 | BF19: 7 | BG19: 8.1 | BH19: =VLOOKUP(B19,'66DCHT'!$C$10:$G$54,3,0) -> #N/A
A20: 15 | B20: 66DCHT21206 | C20: =D20&" "&E20 -> NGUYỄN THỊ PHƯỢNG | D20: NGUYỄN THỊ | E20: PHƯỢNG | F20: 29/07/1997 | G20: 127 | H20: 127 | I20: 127 | J20: 7.3700787 | K20: 2.9606299 | L20: 0 | M20: 0 | N20: 0 | O20: Đ | P20: 7.4 | Q20: 7.1 | R20: 7.1 | S20: 8.4 | T20: 7.9 | U20: 8.4 | V20: 8.8 | W20: 7.4 | X20: 8.3 | Y20: 8.3 | Z20: 9.1 | AA20: 8.7 | AB20: 8.4 | AC20: 6 | AD20: 9.6 | AE20: 7.6 | AF20: 4.5 | AG20: 8.9 | AH20: 4.3 | AI20: 7.5 | AJ20: 9.1 | AK20: 6.5 | AL20: 9.5 | AM20: 6.8 | AN20: 6.5 | AO20: 7.7 | AP20: 7.7 | AQ20: 6.3 | AR20: 6.8 | AS20: 6.3 | AT20: 8.4 | AU20: 8.5 | AV20: 4.4 | AW20: 5.1 | AX20: 8.8 | AY20: 9.2 | AZ20: 4.5 | BA20: 5.6 | BB20: 8.2 | BC20: 5.8 | BD20: 6.5 | BE20: 5.7 | BF20: 5.9 | BG20: 7.7 | BH20: =VLOOKUP(B20,'66DCHT'!$C$10:$G$54,3,0) -> 29/07/1997
A21: 16 | B21: 66DCHT20674 | C21: =D21&" "&E21 -> LÊ HƯƠNG QUỲNH | D21: LÊ HƯƠNG | E21: QUỲNH | F21: 21/11/1997 | G21: 127 | H21: 127 | I21: 127 | J21: 7.4897638 | K21: 3.0314961 | L21: 0 | M21: 0 | N21: 0 | O21: Đ | P21: 7.3 | Q21: 7.8 | R21: 7.9 | S21: 9.1 | T21: 7.9 | U21: 8.2 | V21: 8.7 | W21: 6.3 | X21: 8.1 | Y21: 8.1 | Z21: 5.2 | AA21: 7.1 | AB21: 8.4 | AC21: 7.6 | AD21: 9.2 | AE21: 9.1 | AF21: 7.5 | AG21: 5.6 | AH21: 7.9 | AI21: 7.9 | AJ21: 7.5 | AK21: 5.9 | AL21: 6.6 | AM21: 5.1 | AN21: 7.9 | AO21: 9 | AP21: 7.4 | AQ21: 7.3 | AR21: 5.8 | AS21: 8.7 | AT21: 8.5 | AU21: 8.8 | AV21: 5.6 | AW21: 5.4 | AX21: 9.4 | AY21: 9.4 | AZ21: 7.1 | BA21: 7 | BB21: 6.3 | BC21: 8 | BD21: 6.1 | BE21: 5.5 | BF21: 5.2 | BG21: 7.7 | BH21: =VLOOKUP(B21,'66DCHT'!$C$10:$G$54,3,0) -> 21/11/1997
A22: 17 | B22: 66DCHT20190 | C22: =D22&" "&E22 -> ĐỖ ĐỨC SƠN | D22: ĐỖ ĐỨC | E22: SƠN | F22: 17/09/1997 | G22: 127 | H22: 127 | I22: 127 | J22: 6.2724409 | K22: 2.2440945 | L22: 0 | M22: 0 | N22: 0 | O22: Đ | P22: 5 | Q22: 5.4 | R22: 7.3 | S22: 6.9 | T22: 7 | U22: 8.3 | V22: 7 | W22: 7.1 | X22: 7.7 | Y22: 6 | Z22: 6.8 | AA22: 5.9 | AB22: 6.4 | AC22: 7.5 | AD22: 8.3 | AE22: 6.4 | AF22: 6.1 | AG22: 7.2 | AH22: 7.6 | AI22: 5.5 | AJ22: 7.9 | AK22: 6.6 | AL22: 7.5 | AM22: 5.9 | AN22: 7.5 | AO22: 4.1 | AP22: 4.1 | AQ22: 4.1 | AR22: 4.9 | AS22: 4.1 | AT22: 6.8 | AU22: 7.9 | AV22: 6.4 | AW22: 5.9 | AX22: 6.9 | AY22: 6.9 | AZ22: 4.8 | BA22: 6.9 | BB22: 4.6 | BC22: 4.5 | BD22: 4.4 | BE22: 5.4 | BF22: 4.3 | BG22: 5.4 | BH22: =VLOOKUP(B22,'66DCHT'!$C$10:$G$54,3,0) -> 17/09/1997
A23: 18 | B23: 66DCHT21162 | C23: =D23&" "&E23 -> PHẠM THÁI SƠN | D23: PHẠM THÁI | E23: SƠN | F23: 28/07/1997 | G23: 127 | H23: 127 | I23: 127 | J23: 5.9433071 | K23: 2.0708661 | L23: 0 | M23: 0 | N23: 0 | O23: Đ | P23: 5 | Q23: 5.8 | R23: 6.9 | S23: 6.2 | T23: 7.5 | U23: 7 | V23: 8.6 | W23: 5.5 | X23: 7 | Y23: 8.4 | Z23: 4.3 | AA23: 5.1 | AB23: 5.4 | AC23: 8.8 | AD23: 6.5 | AE23: 6.1 | AF23: 4.7 | AG23: 6.9 | AH23: 6.2 | AI23: 6.6 | AJ23: 5.2 | AK23: 5.6 | AL23: 5.8 | AM23: 5.2 | AN23: 6.4 | AO23: 4.2 | AP23: 4.4 | AQ23: 7 | AR23: 7.1 | AS23: 4.6 | AT23: 8.4 | AU23: 8.6 | AV23: 4.3 | AW23: 4.5 | AX23: 5.4 | AY23: 5.4 | AZ23: 4.5 | BA23: 5.8 | BB23: 4.6 | BC23: 4 | BD23: 4.3 | BE23: 5.7 | BF23: 5.5 | BG23: 4.6 | BH23: =VLOOKUP(B23,'66DCHT'!$C$10:$G$54,3,0) -> 28/07/1997
A24: 19 | B24: 66DCHT20818 | C24: =D24&" "&E24 -> NGUYỄN VĂN TÁM | D24: NGUYỄN VĂN | E24: TÁM | F24: 21/01/1997 | G24: 127 | H24: 127 | I24: 127 | J24: 6.0598425 | K24: 2.1535433 | L24: 0 | M24: 0 | N24: 0 | O24: Đ | P24: 4.3 | Q24: 5.7 | R24: 7.1 | S24: 4.7 | T24: 7.2 | U24: 6.2 | V24: 7.9 | W24: 4.4 | X24: 7.7 | Y24: 5.9 | Z24: 4.4 | AA24: 5.2 | AB24: 4.7 | AC24: 4.5 | AD24: 6.2 | AE24: 6.1 | AF24: 5.5 | AG24: 5.8 | AH24: 6.9 | AI24: 5.9 | AJ24: 5.9 | AK24: 6.1 | AL24: 6.1 | AM24: 4.5 | AN24: 5.1 | AO24: 4 | AP24: 6.7 | AQ24: 8 | AR24: 5.5 | AS24: 5.6 | AT24: 7.2 | AU24: 8.5 | AV24: 4.6 | AW24: 5.8 | AX24: 8.4 | AY24: 8.4 | AZ24: 5.3 | BA24: 7.5 | BB24: 4.4 | BC24: 4.7 | BD24: 6.2 | BE24: 5.5 | BF24: 7.2 | BG24: 4.3 | BH24: =VLOOKUP(B24,'66DCHT'!$C$10:$G$54,3,0) -> 21/01/1997
A25: 20 | B25: 66DCHT20102 | C25: =D25&" "&E25 -> MAI TIẾN THẮNG | D25: MAI TIẾN | E25: THẮNG | F25: 30/12/1997 | G25: 127 | H25: 127 | I25: 127 | J25: 6.2480315 | K25: 2.2874016 | L25: 0 | M25: 0 | N25: 0 | O25: Đ | P25: 4.4 | Q25: 4.6 | R25: 7.8 | S25: 6.7 | T25: 8.7 | U25: 6.1 | V25: 6.7 | W25: 6.2 | X25: 7.7 | Y25: 6.8 | Z25: 9.4 | AA25: 6.9 | AB25: 5 | AC25: 5.4 | AD25: 5.8 | AE25: 6.7 | AF25: 8.6 | AG25: 6 | AH25: 4 | AI25: 6.6 | AJ25: 6.5 | AK25: 4 | AL25: 5.7 | AM25: 5.1 | AN25: 4 | AO25: 6.2 | AP25: 4 | AQ25: 6.6 | AR25: 4.5 | AS25: 5.7 | AT25: 7 | AU25: 8.8 | AV25: 7.3 | AW25: 4.3 | AX25: 9.2 | AY25: 9.2 | AZ25: 4.3 | BA25: 5.5 | BB25: 5.1 | BC25: 5.8 | BD25: 4.1 | BE25: 5 | BF25: 4 | BG25: 5.2 | BH25: =VLOOKUP(B25,'66DCHT'!$C$10:$G$54,3,0) -> 30/12/1997
A26: 21 | B26: 66DCHT20721 | C26: =D26&" "&E26 -> NGUYỄN THỊ THƠM | D26: NGUYỄN THỊ | E26: THƠM | F26: 29/08/1997 | G26: 127 | H26: 127 | I26: 127 | J26: 7.5401575 | K26: 3.0905512 | L26: 0 | M26: 0 | N26: 0 | O26: Đ | P26: 7 | Q26: 6.5 | R26: 6.5 | S26: 8.4 | T26: 8.1 | U26: 8.8 | V26: 8.9 | W26: 5.8 | X26: 8.1 | Y26: 8.1 | Z26: 8.9 | AA26: 7.8 | AB26: 8.4 | AC26: 8.4 | AD26: 7.9 | AE26: 7.1 | AF26: 6.8 | AG26: 6.1 | AH26: 4 | AI26: 6.1 | AJ26: 8.2 | AK26: 9.5 | AL26: 6.2 | AM26: 8.2 | AN26: 6.9 | AO26: 7.3 | AP26: 7.1 | AQ26: 7.6 | AR26: 6.8 | AS26: 6.1 | AT26: 9.1 | AU26: 8.9 | AV26: 6.7 | AW26: 6.7 | AX26: 9.2 | AY26: 9.2 | AZ26: 7.5 | BA26: 7.7 | BB26: 5.7 | BC26: 8.7 | BD26: 8.2 | BE26: 7.9 | BF26: 6.8 | BG26: 6.1 | BH26: =VLOOKUP(B26,'66DCHT'!$C$10:$G$54,3,0) -> 29/08/1997
A27: 22 | B27: 66DCHT20483 | D27: TẠ MẠNH | E27: TIỀN | F27: 35522 | G27: 127 | H27: 127 | I27: 127 | J27: 7.0291339 | K27: 2.7125984 | L27: 0 | M27: 0 | N27: 0 | O27: Đ | P27: 4.8 | Q27: 4.4 | R27: 6.5 | S27: 9.3 | T27: 6.1 | U27: 8.2 | V27: 8.8 | W27: 6.8 | X27: 8.7 | Y27: 9 | Z27: 7.9 | AA27: 9.5 | AB27: 7.5 | AC27: 5.8 | AD27: 8.6 | AE27: 7.5 | AF27: 6.9 | AG27: 7 | AH27: 5.4 | AI27: 6 | AJ27: 7.4 | AK27: 7.4 | AL27: 6.7 | AM27: 7.4 | AN27: 4.8 | AO27: 7.5 | AP27: 5.3 | AQ27: 8.2 | AR27: 6.1 | AS27: 7.2 | AT27: 7.6 | AU27: 9.1 | AV27: 4.6 | AW27: 6.1 | AX27: 9.7 | AY27: 9 | AZ27: 5.1 | BA27: 7.6 | BB27: 4.6 | BC27: 4 | BD27: 4 | BE27: 9.7 | BF27: 6.4 | BG27: 6.8 | BH27: =VLOOKUP(B27,'66DCHT'!$C$10:$G$54,3,0) -> #N/A
A28: 23 | B28: 66DCHT21329 | C28: =D28&" "&E28 -> BÙI THÙY TRANG | D28: BÙI THÙY | E28: TRANG | F28: 35224 | G28: 127 | H28: 127 | I28: 127 | J28: 8.0653543 | K28: 3.3818898 | L28: 0 | M28: 0 | N28: 0 | O28: Đ | P28: 7.5 | Q28: 6.2 | R28: 7.4 | S28: 7.9 | T28: 9 | U28: 8.8 | V28: 8.1 | W28: 8.3 | X28: 9 | Y28: 8.3 | Z28: 8.4 | AA28: 8.4 | AB28: 8.2 | AC28: 5.5 | AD28: 9.3 | AE28: 9.4 | AF28: 7.6 | AG28: 7 | AH28: 5.8 | AI28: 8.2 | AJ28: 9.1 | AK28: 9.3 | AL28: 8.1 | AM28: 8.2 | AN28: 8.3 | AO28: 8.1 | AP28: 5.6 | AQ28: 8.7 | AR28: 6.5 | AS28: 7.6 | AT28: 9.1 | AU28: 9.1 | AV28: 8.3 | AW28: 7.6 | AX28: 9.2 | AY28: 9.2 | AZ28: 5.4 | BA28: 9.8 | BB28: 8.4 | BC28: 8 | BD28: 7.3 | BE28: 8.1 | BF28: 8 | BG28: 7.4 | BH28: =VLOOKUP(B28,'66DCHT'!$C$10:$G$54,3,0) -> 06/08/1996
A29: 24 | B29: 66DCHT20174 | C29: =D29&" "&E29 -> TRƯƠNG THỊ HÀ TRANG | D29: TRƯƠNG THỊ HÀ | E29: TRANG | F29: 18/04/1997 | G29: 127 | H29: 127 | I29: 127 | J29: 8.6527559 | K29: 3.6771654 | L29: 0 | M29: 0 | N29: 0 | O29: Đ | P29: 7.9 | Q29: 7.2 | R29: 8.2 | S29: 8.4 | T29: 9.7 | U29: 9 | V29: 9.1 | W29: 8.5 | X29: 9.1 | Y29: 9.1 | Z29: 9 | AA29: 9.7 | AB29: 8.4 | AC29: 8.9 | AD29: 9.7 | AE29: 9.8 | AF29: 8.5 | AG29: 8.4 | AH29: 9.3 | AI29: 8.2 | AJ29: 9.1 | AK29: 9.1 | AL29: 6.8 | AM29: 7.5 | AN29: 5.5 | AO29: 9 | AP29: 8.2 | AQ29: 7.5 | AR29: 6.1 | AS29: 8.3 | AT29: 9.1 | AU29: 10 | AV29: 8.4 | AW29: 8.6 | AX29: 10 | AY29: 10 | AZ29: 9.1 | BA29: 9.8 | BB29: 8.7 | BC29: 8.7 | BD29: 8.6 | BE29: 7.9 | BF29: 7.2 | BG29: 8.3 | BH29: =VLOOKUP(B29,'66DCHT'!$C$10:$G$54,3,0) -> 18/04/1997
A30: 25 | B30: 66DCHT21223 | C30: =D30&" "&E30 -> NGUYỄN THẾ TRỊNH | D30: NGUYỄN THẾ | E30: TRỊNH | F30: 28/05/1997 | G30: 127 | H30: 127 | I30: 127 | J30: 7.4629921 | K30: 3 | L30: 0 | M30: 0 | N30: 0 | O30: Đ | P30: 6.5 | Q30: 5.7 | R30: 7.1 | S30: 8.4 | T30: 8.5 | U30: 7.9 | V30: 7.5 | W30: 9 | X30: 8.3 | Y30: 9.1 | Z30: 6 | AA30: 8.7 | AB30: 6.3 | AC30: 7.9 | AD30: 8.4 | AE30: 6.3 | AF30: 6.9 | AG30: 7.7 | AH30: 7.7 | AI30: 9.4 | AJ30: 8.9 | AK30: 8.2 | AL30: 5.1 | AM30: 6.1 | AN30: 6.5 | AO30: 8.5 | AP30: 6 | AQ30: 7.7 | AR30: 5.9 | AS30: 7.3 | AT30: 5.5 | AU30: 7.5 | AV30: 4.2 | AW30: 9.1 | AX30: 9.9 | AY30: 9.9 | AZ30: 6.4 | BA30: 9.6 | BB30: 6.8 | BC30: 5.4 | BD30: 6.2 | BE30: 6.8 | BF30: 8.1 | BG30: 6.7 | BH30: =VLOOKUP(B30,'66DCHT'!$C$10:$G$54,3,0) -> 28/05/1997
A31: 26 | B31: 66DCHT20310 | C31: =D31&" "&E31 -> DƯƠNG ĐỨC TRUNG | D31: DƯƠNG ĐỨC | E31: TRUNG | F31: 35468 | G31: 127 | H31: 127 | I31: 121 | J31: 5.9779528 | K31: 2.0590551 | L31: 3 | M31: 6 | N31: 0.047244094 | O31: Đ | P31: 3.7 | Q31: 5.2 | R31: 7.1 | S31: 7.4 | T31: 6 | U31: 5.3 | V31: 4.8 | W31: 5.1 | X31: 7.9 | Y31: 6.4 | Z31: 5.4 | AA31: 6.8 | AB31: 4.7 | AC31: 8.3 | AD31: 6.5 | AE31: 6.1 | AF31: 5.2 | AG31: 5.7 | AH31: 6.7 | AI31: 6 | AJ31: 6 | AK31: 4.9 | AL31: 4 | AM31: 5.4 | AN31: 5.1 | AO31: 6.7 | AP31: 4.1 | AQ31: 6.8 | AR31: 4.1 | AS31: 2.8 | AT31: 7.1 | AU31: 7.7 | AV31: 6.5 | AW31: 5 | AX31: 8.2 | AY31: 8.2 | AZ31: 4.5 | BA31: 7.6 | BB31: 6.6 | BC31: 5.1 | BD31: 5.6 | BE31: 4.3 | BF31: 3.4 | BG31: 4.9 | BH31: =VLOOKUP(B31,'66DCHT'!$C$10:$G$54,3,0) -> 02/07/1997
A32: 27 | B32: 66DCHT20999 | C32: =D32&" "&E32 -> NGUYỄN MINH TÚ | D32: NGUYỄN MINH | E32: TÚ | F32: 29/03/1997 | G32: 127 | H32: 127 | I32: 127 | J32: 6.6393701 | K32: 2.5393701 | L32: 0 | M32: 0 | N32: 0 | O32: Đ | P32: 7.4 | Q32: 4.9 | R32: 6.4 | S32: 6.3 | T32: 8.8 | U32: 8.4 | V32: 8 | W32: 5.5 | X32: 8.1 | Y32: 6.3 | Z32: 8.8 | AA32: 8.1 | AB32: 5.9 | AC32: 5.5 | AD32: 7.1 | AE32: 4.2 | AF32: 5.5 | AG32: 8.4 | AH32: 8.6 | AI32: 5.9 | AJ32: 6 | AK32: 4.6 | AL32: 6.2 | AM32: 4 | AN32: 4.4 | AO32: 5.3 | AP32: 6 | AQ32: 6.9 | AR32: 7.5 | AS32: 5.5 | AT32: 5.2 | AU32: 7.2 | AV32: 6.7 | AW32: 7.3 | AX32: 8.4 | AY32: 8.4 | AZ32: 4.3 | BA32: 9 | BB32: 5.8 | BC32: 4.8 | BD32: 7.1 | BE32: 5.7 | BF32: 8.9 | BG32: 6.8 | BH32: =VLOOKUP(B32,'66DCHT'!$C$10:$G$54,3,0) -> 29/03/1997
A33: 28 | B33: 66DCHT20878 | C33: =D33&" "&E33 -> BÙI VĂN TUYÊN | D33: BÙI VĂN | E33: TUYÊN | F33: 27/09/1997 | G33: 127 | H33: 127 | I33: 127 | J33: 8.1897638 | K33: 3.4645669 | L33: 0 | M33: 0 | N33: 0 | O33: Đ | P33: 7.9 | Q33: 8.2 | R33: 7.4 | S33: 6.3 | T33: 8.3 | U33: 7.9 | V33: 7.5 | W33: 7.6 | X33: 8.3 | Y33: 9 | Z33: 7.1 | AA33: 9.1 | AB33: 9 | AC33: 6.8 | AD33: 7.8 | AE33: 10 | AF33: 8.4 | AG33: 9.1 | AH33: 9.9 | AI33: 8 | AJ33: 8.9 | AK33: 8.8 | AL33: 7.5 | AM33: 8.4 | AN33: 7.2 | AO33: 6.6 | AP33: 8.1 | AQ33: 8.2 | AR33: 6.3 | AS33: 7.3 | AT33: 8.1 | AU33: 8.4 | AV33: 8 | AW33: 8.4 | AX33: 8.6 | AY33: 8.6 | AZ33: 6.9 | BA33: 9 | BB33: 8.7 | BC33: 9 | BD33: 8.9 | BE33: 8.1 | BF33: 9.8 | BG33: 7.4 | BH33: =VLOOKUP(B33,'66DCHT'!$C$10:$G$54,3,0) -> 27/09/1997
A34: 29 | B34: 66DCHT20967 | D34: BÙI THỌ | E34: ANH | F34: 26/06/1997 | G34: 127 | H34: 117 | I34: 91 | J34: 4.8333333 | K34: 1.5897436 | L34: 11 | M34: 36 | N34: 0.28346457 | O34: K | P34: 4.6 | Q34: 5 | R34: 4.8 | S34: 6.5 | T34: 1.7 | U34: 6.5 | V34: 2.8 | W34: 5.3 | X34: 0 | Y34: 7.1 | Z34: 8.5 | AA34: 1.9 | AB34: 0 | AC34: 6 | AD34: 7.1 | AE34: 5.9 | AF34: 4.9 | AG34: 7.4 | AH34: 6.4 | AI34: 6.4 | AJ34: 6.6 | AK34: 0 | AL34: 4.9 | AM34: 6.5 | AN34: 4.8 | AO34: 4.9 | AP34: 5.1 | AQ34: 7 | AR34: 4.9 | AS34: 4 | AT34: 0 | AU34: 6.4 | AV34: 2.7 | AW34: 5.9 | AZ34: 5.6 | BA34: 4.4 | BB34: 7.5 | BC34: 6.6 | BD34: 6.2 | BE34: 4.2 | BF34: 5.8 | BG34: 0 | BH34: =VLOOKUP(B34,'66DCHT'!$C$10:$G$54,3,0) -> #N/A
A35: 30 | B35: 66DCHT21095 | D35: ĐẶNG TUẤN | E35: ANH | F35: 35683 | G35: 127 | H35: 125 | I35: 113 | J35: 5.6736 | K35: 1.884 | L35: 6 | M35: 14 | N35: 0.11023622 | O35: K | P35: 6.3 | Q35: 3.6 | R35: 6.5 | S35: 6 | T35: 6.5 | U35: 5.2 | V35: 5.4 | W35: 7.1 | X35: 7 | Y35: 7.2 | Z35: 4.8 | AA35: 7.4 | AB35: 4.7 | AC35: 5.1 | AD35: 8.1 | AE35: 6.6 | AF35: 4.9 | AG35: 5.5 | AH35: 5.6 | AI35: 5.5 | AJ35: 5.1 | AK35: 0 | AL35: 5.4 | AM35: 4.6 | AN35: 4.3 | AO35: 4 | AP35: 4.1 | AQ35: 6.2 | AR35: 3.6 | AS35: 5 | AT35: 7.4 | AU35: 4.8 | AV35: 7.8 | AW35: 6.3 | AX35: 8.2 | AY35: 8.2 | AZ35: 6 | BA35: 4.6 | BB35: 4.7 | BC35: 3.1 | BD35: 5 | BE35: 6.1 | BF35: 3.8 | BH35: =VLOOKUP(B35,'66DCHT'!$C$10:$G$54,3,0) -> 09/10/1997
A36: 31 | B36: 66DCHT21276 | D36: KHUẤT VĂN | E36: BẮC | F36: 19/10/1997 | G36: 127 | H36: 121 | I36: 76 | J36: 3.9140496 | K36: 1.1322314 | L36: 16 | M36: 51 | N36: 0.4015748 | O36: K | P36: 4.1 | Q36: 4.9 | R36: 5.5 | S36: 7.2 | T36: 1.7 | U36: 4.7 | V36: 4.5 | W36: 5 | X36: 8.1 | Y36: 3.2 | Z36: 4.8 | AA36: 7.4 | AB36: 0 | AC36: 4.5 | AD36: 0.8 | AE36: 7.1 | AF36: 4.5 | AH36: 7.9 | AI36: 0 | AJ36: 5.6 | AK36: 5.4 | AM36: 5.7 | AN36: 6.1 | AO36: 3.5 | AP36: 0 | AQ36: 7.5 | AR36: 5.4 | AS36: 1.8 | AT36: 0 | AU36: 4.9 | AV36: 0 | AW36: 6.3 | AX36: 0 | AY36: 0 | AZ36: 4.9 | BA36: 4.4 | BB36: 3.6 | BC36: 5.7 | BD36: 0 | BE36: 4.3 | BF36: 4.8 | BG36: 6.4 | BH36: =VLOOKUP(B36,'66DCHT'!$C$10:$G$54,3,0) -> #N/A
A37: 32 | B37: 66DCHT21163 | D37: TRỊNH QUỐC | E37: DŨNG | F37: 35766 | G37: 127 | H37: 127 | I37: 115 | J37: 5.6850394 | K37: 1.9488189 | L37: 4 | M37: 12 | N37: 0.094488189 | O37: K | P37: 4.4 | Q37: 4.6 | R37: 5 | S37: 6.9 | T37: 7.9 | U37: 5.4 | V37: 6.7 | W37: 5.8 | X37: 8.1 | Y37: 5.7 | Z37: 6.8 | AA37: 2.5 | AB37: 6.6 | AC37: 5.3 | AD37: 8.1 | AE37: 5.6 | AF37: 4.2 | AG37: 6.2 | AH37: 7 | AI37: 5.6 | AJ37: 5.2 | AK37: 5.6 | AL37: 5.2 | AM37: 8.2 | AN37: 5.3 | AO37: 5 | AP37: 7.1 | AQ37: 6.2 | AR37: 5.6 | AS37: 7.1 | AT37: 4.6 | AU37: 9.1 | AV37: 4.7 | AW37: 2.4 | AX37: 7.6 | AY37: 7.6 | AZ37: 2.5 | BA37: 5.6 | BB37: 4.3 | BC37: 5.8 | BD37: 0 | BE37: 6 | BF37: 5.7 | BG37: 5.6 | BH37: =VLOOKUP(B37,'66DCHT'!$C$10:$G$54,3,0) -> #N/A
A38: 33 | B38: 66DCHT20753 | D38: NGUYỄN ĐỨC | E38: DUY | F38: 24/11/1997 | G38: 127 | H38: 127 | I38: 117 | J38: 6.3566929 | K38: 2.4566929 | L38: 2 | M38: 10 | N38: 0.078740157 | O38: K | P38: 7.6 | Q38: 7.8 | R38: 7 | S38: 8.9 | T38: 7 | U38: 8.1 | V38: 6.7 | W38: 7.6 | X38: 8.3 | Y38: 7.3 | Z38: 8.6 | AA38: 7.9 | AB38: 8.1 | AC38: 4.5 | AD38: 7.3 | AE38: 7.6 | AF38: 5.3 | AG38: 6.7 | AH38: 7.3 | AI38: 7.5 | AJ38: 6.7 | AK38: 4.6 | AL38: 7.7 | AM38: 5.1 | AN38: 7.4 | AO38: 8.7 | AP38: 5.4 | AQ38: 7.2 | AR38: 6.4 | AS38: 6.6 | AT38: 6.4 | AU38: 6.5 | AV38: 7.2 | AW38: 6.9 | AX38: 0 | AY38: 0 | AZ38: 7.3 | BA38: 5.4 | BB38: 5.6 | BC38: 6.6 | BD38: 4.8 | BE38: 5.1 | BF38: 8.6 | BG38: 5.7 | BH38: =VLOOKUP(B38,'66DCHT'!$C$10:$G$54,3,0) -> #N/A
A39: 34 | B39: 66DCHT20782 | D39: ĐỖ THÀNH | E39: ĐẠT | F39: 22/10/1997 | G39: 127 | H39: 125 | I39: 100 | J39: 5.1144 | K39: 1.632 | L39: 10 | M39: 27 | N39: 0.21259843 | O39: K | P39: 6.2 | Q39: 3.4 | R39: 4.8 | S39: 4.7 | T39: 6.2 | U39: 6.2 | V39: 5.4 | W39: 5.1 | X39: 8.1 | Y39: 3.9 | Z39: 6.6 | AA39: 7.3 | AB39: 6.2 | AC39: 1.5 | AD39: 6.8 | AE39: 7.5 | AF39: 6.6 | AG39: 6.6 | AH39: 8.4 | AI39: 5.7 | AJ39: 4.5 | AK39: 0 | AL39: 5.8 | AM39: 6.5 | AN39: 4 | AO39: 4.6 | AQ39: 4.7 | AR39: 4.6 | AS39: 4.9 | AT39: 4.6 | AU39: 5.2 | AV39: 4.4 | AW39: 4.3 | AX39: 7.6 | AY39: 7.6 | AZ39: 6.1 | BA39: 6 | BB39: 0 | BC39: 1.7 | BD39: 0 | BE39: 4.7 | BF39: 3.9 | BG39: 2.1 | BH39: =VLOOKUP(B39,'66DCHT'!$C$10:$G$54,3,0) -> #N/A
A40: 35 | B40: 66DCHT20222 | D40: NGÔ THỊ TRÀ | E40: GIANG | F40: 22/08/1997 | G40: 127 | H40: 115 | I40: 115 | J40: 7.026087 | K40: 2.7478261 | L40: 3 | M40: 12 | N40: 0.094488189 | O40: K | P40: 6.5 | Q40: 5.2 | R40: 7.9 | S40: 8.6 | T40: 8.8 | U40: 8 | V40: 7.5 | W40: 6.2 | X40: 8.7 | Y40: 8.9 | Z40: 8.9 | AA40: 8.3 | AB40: 8.2 | AC40: 5.5 | AD40: 9 | AE40: 9.1 | AF40: 4.8 | AG40: 8.9 | AH40: 7.6 | AI40: 8.3 | AJ40: 7.5 | AK40: 6.9 | AL40: 6.9 | AM40: 5.9 | AN40: 5.8 | AO40: 6.7 | AP40: 5.8 | AQ40: 6.8 | AR40: 6.2 | AS40: 8.1 | AT40: 8.6 | AU40: 9.1 | AV40: 4.9 | AW40: 6.1 | AZ40: 5.7 | BA40: 4.9 | BB40: 5.3 | BC40: 6.1 | BD40: 5.2 | BF40: 5.2 | BG40: 5.5 | BH40: =VLOOKUP(B40,'66DCHT'!$C$10:$G$54,3,0) -> #N/A
A41: 36 | B41: 65DCMT24452 | D41: Phạm Đình | E41: Hòa | F41: 13/09/1996 | G41: 127 | H41: 116 | I41: 116 | J41: 6.7836207 | K41: 2.5862069 | L41: 4 | M41: 11 | N41: 0.086614173 | O41: K | P41: 4.9 | Q41: 8.1 | R41: 7.2 | S41: 7.3 | T41: 8.8 | U41: 5.2 | V41: 6.8 | W41: 6.1 | X41: 7 | Y41: 7.9 | Z41: 7.7 | AA41: 7.6 | AB41: 6.7 | AC41: 6.7 | AD41: 9.5 | AE41: 6 | AG41: 5.5 | AH41: 7.7 | AI41: 7 | AJ41: 7.7 | AK41: 5.1 | AL41: 6.3 | AM41: 6.6 | AN41: 5 | AO41: 4.1 | AP41: 4.5 | AQ41: 4.6 | AS41: 4.1 | AT41: 8.5 | AU41: 8.8 | AV41: 4.1 | AW41: 5.2 | AX41: 9.7 | AY41: 9.7 | AZ41: 7.3 | BB41: 5.9 | BC41: 5.2 | BE41: 6.5 | BF41: 6 | BG41: 5.3 | BH41: =VLOOKUP(B41,'66DCHT'!$C$10:$G$54,3,0) -> 13/09/1996
A42: 37 | B42: 66DCHT23016 | D42: TRẦN QUANG | E42: HƯNG | F42: 35684 | G42: 127 | H42: 117 | I42: 113 | J42: 5.7641026 | K42: 1.9487179 | L42: 4 | M42: 14 | N42: 0.11023622 | O42: K | P42: 4 | Q42: 7.9 | R42: 7.2 | S42: 7.7 | T42: 6.2 | U42: 4 | V42: 8 | W42: 6.9 | X42: 7 | Y42: 8.1 | Z42: 4.7 | AA42: 7.2 | AB42: 6.7 | AC42: 4.7 | AD42: 8.5 | AE42: 5.7 | AF42: 4.4 | AG42: 5.8 | AH42: 6.1 | AI42: 6.2 | AJ42: 7.2 | AK42: 6.8 | AL42: 5 | AM42: 4 | AN42: 5.9 | AO42: 4.2 | AP42: 5.7 | AQ42: 4.1 | AR42: 4.9 | AS42: 3.6 | AT42: 7 | AU42: 4.4 | AV42: 4.3 | AW42: 4.8 | AZ42: 7.4 | BA42: 7.8 | BB42: 4.4 | BC42: 4.1 | BD42: 4.6 | BE42: 4 | BF42: 3.2 | BG42: 5.8 | BH42: =VLOOKUP(B42,'66DCHT'!$C$10:$G$54,3,0) -> #N/A
A43: 38 | B43: 66DCHT20175 | D43: NGUYỄN CAO SƠN | E43: LÂM | F43: 35522 | G43: 127 | H43: 127 | I43: 107 | J43: 5.4188976 | K43: 1.7047244 | L43: 7 | M43: 20 | N43: 0.15748031 | O43: K | P43: 6.2 | Q43: 2.7 | R43: 5.5 | S43: 6.3 | T43: 6.8 | U43: 7.7 | V43: 6.3 | W43: 6.7 | X43: 7 | Y43: 6.4 | Z43: 4.9 | AA43: 6.9 | AB43: 5.7 | AC43: 5.2 | AD43: 7.7 | AE43: 6 | AF43: 3.6 | AG43: 6.9 | AH43: 6.2 | AI43: 4.5 | AJ43: 5.2 | AK43: 5.9 | AL43: 5.6 | AM43: 4.7 | AN43: 4.3 | AO43: 3.1 | AP43: 7.3 | AQ43: 7.7 | AR43: 5.2 | AS43: 2.4 | AT43: 6.9 | AU43: 5 | AV43: 5.9 | AW43: 5.1 | AX43: 5.9 | AY43: 5.9 | AZ43: 2.5 | BA43: 4 | BB43: 5 | BC43: 4.8 | BD43: 2.6 | BE43: 3.9 | BF43: 4.2 | BG43: 6.1 | BH43: =VLOOKUP(B43,'66DCHT'!$C$10:$G$54,3,0) -> #N/A
A44: 39 | B44: 66DCHT20134 | D44: NGUYỄN THÀNH | E44: LỘC | F44: 27/11/1997 | G44: 127 | H44: 127 | I44: 117 | J44: 5.4314961 | K44: 1.9094488 | L44: 2 | M44: 10 | N44: 0.078740157 | O44: K | P44: 4.2 | Q44: 8.1 | R44: 7.2 | S44: 6 | T44: 6.5 | U44: 6.2 | V44: 7.6 | W44: 5.7 | X44: 7 | Y44: 6.7 | Z44: 4.1 | AA44: 5 | AB44: 4.6 | AC44: 6 | AD44: 5.9 | AE44: 5.7 | AF44: 5.2 | AG44: 5.7 | AH44: 5.2 | AI44: 6.5 | AJ44: 4.5 | AK44: 7.5 | AL44: 5.9 | AM44: 4.7 | AN44: 6 | AO44: 5.8 | AP44: 7.2 | AQ44: 5.7 | AR44: 4.2 | AS44: 4.4 | AT44: 6.9 | AU44: 5.8 | AV44: 4.5 | AW44: 6.3 | AX44: 0 | AY44: 0 | AZ44: 7.2 | BA44: 5.4 | BB44: 5.5 | BC44: 8.5 | BD44: 4.6 | BE44: 4.7 | BF44: 5.7 | BG44: 5.9 | BH44: =VLOOKUP(B44,'66DCHT'!$C$10:$G$54,3,0) -> #N/A
A45: 40 | B45: 66DCHT21201 | D45: TRẦN PHƯƠNG | E45: NAM | F45: 20/05/1997 | G45: 127 | H45: 127 | I45: 119 | J45: 5.8551181 | K45: 1.976378 | L45: 3 | M45: 8 | N45: 0.062992126 | O45: K | P45: 3.4 | Q45: 4.4 | R45: 6.5 | S45: 7.2 | T45: 6.1 | U45: 7.9 | V45: 7.8 | W45: 5.4 | X45: 0 | Y45: 6.9 | Z45: 4.5 | AA45: 7.2 | AB45: 5 | AC45: 6.5 | AD45: 6.5 | AE45: 6.8 | AF45: 4.3 | AG45: 5.5 | AH45: 7.9 | AI45: 6.3 | AJ45: 4.5 | AK45: 6.8 | AL45: 6.6 | AM45: 7.3 | AN45: 5.1 | AO45: 5.2 | AP45: 4.3 | AQ45: 6.3 | AR45: 5.1 | AS45: 5.2 | AT45: 5.9 | AU45: 8 | AV45: 5.5 | AW45: 4.3 | AX45: 7.9 | AY45: 7.9 | AZ45: 5.4 | BA45: 7.8 | BB45: 5 | BC45: 4.9 | BD45: 3.5 | BE45: 4.7 | BF45: 4.3 | BG45: 5.4 | BH45: =VLOOKUP(B45,'66DCHT'!$C$10:$G$54,3,0) -> #N/A
A46: 41 | B46: 66DCHT20684 | D46: NGUYỄN THIÊN | E46: NGỌC | F46: 20/01/1996 | G46: 127 | H46: 117 | I46: 117 | J46: 6.6529915 | K46: 2.534188 | L46: 2 | M46: 10 | N46: 0.078740157 | O46: K | P46: 4.4 | Q46: 4.6 | R46: 6.2 | S46: 7.1 | T46: 7.5 | U46: 8.3 | V46: 8.7 | W46: 8.8 | X46: 9 | Y46: 7.6 | Z46: 7.1 | AA46: 7.8 | AB46: 6.2 | AC46: 6.5 | AD46: 8.3 | AE46: 6.1 | AF46: 5.2 | AG46: 7.4 | AH46: 10 | AI46: 9.3 | AJ46: 6.6 | AK46: 9.1 | AL46: 7.1 | AM46: 4.5 | AN46: 5.5 | AO46: 5 | AP46: 7 | AQ46: 5.5 | AR46: 6.5 | AS46: 7.7 | AT46: 5.7 | AU46: 8.1 | AV46: 7.1 | AW46: 4.3 | AZ46: 5.4 | BA46: 5.9 | BB46: 5.3 | BC46: 4.2 | BD46: 4.3 | BE46: 6.1 | BF46: 6.3 | BG46: 8.1 | BH46: =VLOOKUP(B46,'66DCHT'!$C$10:$G$54,3,0) -> #N/A
A47: 42 | B47: 66DCHT20227 | D47: MAI HỒNG | E47: QUANG | F47: 23/10/1997 | G47: 127 | H47: 127 | I47: 119 | J47: 5.8244094 | K47: 2.0354331 | L47: 3 | M47: 8 | N47: 0.062992126 | O47: K | P47: 4.4 | Q47: 4.9 | R47: 6.9 | S47: 4.4 | T47: 6.8 | U47: 6.8 | V47: 8.2 | W47: 5.4 | X47: 0 | Y47: 5.9 | Z47: 3.6 | AA47: 6.8 | AB47: 4.8 | AC47: 5.2 | AD47: 6.7 | AE47: 6.3 | AF47: 5.2 | AG47: 6.9 | AH47: 7.5 | AI47: 6 | AJ47: 5.2 | AK47: 0 | AL47: 5.6 | AM47: 5.1 | AN47: 5.1 | AO47: 5 | AP47: 6 | AQ47: 6.5 | AR47: 5.9 | AS47: 4.3 | AT47: 5.7 | AU47: 7.5 | AV47: 7.2 | AW47: 4.6 | AX47: 8.5 | AY47: 8.5 | AZ47: 4.3 | BA47: 6.2 | BB47: 5.2 | BC47: 4 | BD47: 8.3 | BE47: 5.6 | BF47: 4.8 | BG47: 7.9 | BH47: =VLOOKUP(B47,'66DCHT'!$C$10:$G$54,3,0) -> #N/A
A48: 43 | B48: 66DCHT20220 | D48: NGUYỄN ĐỨC | E48: THANH | F48: 35623 | G48: 127 | H48: 127 | I48: 117 | J48: 5.6377953 | K48: 2.023622 | L48: 2 | M48: 10 | N48: 0.078740157 | O48: K | P48: 6 | Q48: 4 | R48: 4.4 | S48: 5.4 | T48: 7 | U48: 6.1 | V48: 8.7 | W48: 6.6 | X48: 8 | Y48: 6.1 | Z48: 6.9 | AA48: 6 | AB48: 6.2 | AC48: 5.5 | AD48: 5.7 | AE48: 5.3 | AF48: 5.7 | AG48: 7.3 | AH48: 9.6 | AI48: 6 | AJ48: 5.8 | AK48: 8.6 | AL48: 7.4 | AM48: 5.8 | AN48: 4.7 | AO48: 6.6 | AP48: 4.8 | AQ48: 5.9 | AR48: 4.9 | AS48: 5.1 | AT48: 4.6 | AU48: 7.9 | AV48: 4.8 | AW48: 5.1 | AX48: 0 | AY48: 0 | AZ48: 5.2 | BA48: 7.5 | BB48: 6.2 | BC48: 6.4 | BD48: 4.7 | BE48: 4.7 | BF48: 5.6 | BG48: 8.9 | BH48: =VLOOKUP(B48,'66DCHT'!$C$10:$G$54,3,0) -> #N/A
A49: 44 | B49: 66DCHT20452 | D49: ĐỖ TRƯỜNG | E49: THÀNH | F49: 17/06/1997 | G49: 127 | H49: 127 | I49: 110 | J49: 5.1692913 | K49: 1.6496063 | L49: 6 | M49: 17 | N49: 0.13385827 | O49: K | P49: 4.1 | Q49: 4.6 | R49: 5.7 | S49: 7 | T49: 6.5 | U49: 6.8 | V49: 7.2 | W49: 5.1 | X49: 0 | Y49: 7.1 | Z49: 5.7 | AA49: 2.4 | AB49: 4.8 | AC49: 4.9 | AD49: 6.7 | AE49: 4 | AF49: 4.2 | AG49: 4 | AH49: 4.6 | AI49: 0 | AJ49: 5.4 | AK49: 4.3 | AL49: 6.3 | AM49: 5.1 | AN49: 3.7 | AO49: 2.3 | AP49: 5.6 | AQ49: 6.6 | AR49: 5.5 | AS49: 4.7 | AT49: 5.3 | AU49: 7.9 | AV49: 5.3 | AW49: 6.5 | AX49: 7.3 | AY49: 7.3 | AZ49: 4.3 | BA49: 6.9 | BB49: 7 | BC49: 4.8 | BD49: 4 | BE49: 4.8 | BF49: 1.6 | BG49: 5.6 | BH49: =VLOOKUP(B49,'66DCHT'!$C$10:$G$54,3,0) -> #N/A
A50: 45 | B50: 66DCHT20585 | D50: ĐỖ THỊ | E50: THẢO | F50: 23/11/1997 | G50: 127 | H50: 124 | I50: 111 | J50: 6.4120968 | K50: 2.5040323 | L50: 4 | M50: 16 | N50: 0.12598425 | O50: K | P50: 6.9 | Q50: 6.1 | R50: 5.5 | S50: 5.3 | T50: 5.4 | U50: 8.1 | V50: 7 | W50: 6.9 | X50: 8 | Y50: 4.7 | AA50: 8.6 | AB50: 7.2 | AC50: 8 | AD50: 7 | AE50: 7.2 | AF50: 6.3 | AG50: 4.9 | AH50: 5.7 | AI50: 3.6 | AJ50: 9.1 | AK50: 9.7 | AL50: 5.2 | AM50: 9.1 | AN50: 7.6 | AO50: 7.6 | AP50: 6.7 | AQ50: 7.1 | AR50: 5.3 | AS50: 5.5 | AT50: 7.6 | AU50: 9 | AV50: 5.9 | AW50: 8 | AX50: 0 | AY50: 0 | AZ50: 7.7 | BA50: 8.9 | BB50: 6 | BC50: 7.1 | BD50: 6.9 | BE50: 7.1 | BF50: 9.5 | BG50: 8.8 | BH50: =VLOOKUP(B50,'66DCHT'!$C$10:$G$54,3,0) -> #N/A
A51: 46 | B51: 66DCHT21110 | D51: DƯƠNG TIẾN | E51: THƯỞNG | F51: 35107 | G51: 127 | H51: 117 | I51: 117 | J51: 7.1 | K51: 2.8247863 | L51: 2 | M51: 10 | N51: 0.078740157 | O51: K | P51: 6.3 | Q51: 7.7 | R51: 7.9 | S51: 8.3 | T51: 9.1 | U51: 8 | V51: 6.1 | W51: 9 | X51: 8.1 | Y51: 6.1 | Z51: 7.2 | AA51: 9 | AB51: 8.3 | AC51: 8.7 | AD51: 8.8 | AE51: 8.1 | AF51: 4.6 | AG51: 6.5 | AH51: 5.1 | AI51: 4.2 | AJ51: 8.9 | AK51: 6.1 | AL51: 7.5 | AM51: 8.2 | AN51: 5.5 | AO51: 6.1 | AP51: 5.1 | AQ51: 7 | AR51: 6.6 | AS51: 6.8 | AT51: 6.5 | AU51: 8.2 | AV51: 7.5 | AW51: 5.7 | AZ51: 5.5 | BA51: 9.8 | BB51: 7.8 | BC51: 5.4 | BD51: 5.7 | BE51: 5.6 | BF51: 7.5 | BG51: 6.9 | BH51: =VLOOKUP(B51,'66DCHT'!$C$10:$G$54,3,0) -> #N/A
A52: 47 | B52: 66DCHT20525 | D52: NGUYỄN THẾ | E52: TIẾN | F52: 35735 | G52: 127 | H52: 123 | I52: 89 | J52: 4.7918699 | K52: 1.3577236 | L52: 12 | M52: 38 | N52: 0.2992126 | O52: K | P52: 3.4 | Q52: 4.3 | R52: 5.5 | S52: 6.5 | T52: 1.9 | U52: 6.4 | V52: 7.2 | W52: 4.2 | X52: 0 | Y52: 6.2 | Z52: 3.8 | AA52: 6.9 | AB52: 4.8 | AC52: 5.2 | AD52: 8.7 | AE52: 5.3 | AF52: 5 | AG52: 6.6 | AH52: 7 | AI52: 0 | AJ52: 5.3 | AK52: 4.3 | AL52: 4.5 | AM52: 6.7 | AN52: 4.8 | AO52: 2.8 | AP52: 3.8 | AQ52: 7.2 | AR52: 4.9 | AS52: 5.4 | AT52: 5.3 | AU52: 7.8 | AV52: 3.2 | AW52: 2.6 | AX52: 2.3 | AZ52: 4.1 | BA52: 7.6 | BB52: 5.3 | BC52: 5 | BD52: 3.1 | BE52: 4.3 | BF52: 5.4 | BG52: 5.4 | BH52: =VLOOKUP(B52,'66DCHT'!$C$10:$G$54,3,0) -> #N/A
A53: 48 | B53: 66DCHT20396 | D53: VŨ XUÂN | E53: TIỆP | F53: 21/10/1995 | G53: 127 | H53: 123 | I53: 117 | J53: 6.9504065 | K53: 2.7886179 | L53: 2 | M53: 10 | N53: 0.078740157 | O53: K | P53: 6.2 | Q53: 5.5 | R53: 6.5 | S53: 8.3 | T53: 8.7 | U53: 8.2 | V53: 9.5 | W53: 5.5 | X53: 8.3 | Y53: 8.2 | Z53: 8.2 | AA53: 8 | AB53: 6.1 | AC53: 7.6 | AD53: 8.3 | AE53: 4.2 | AF53: 7.2 | AG53: 8.4 | AH53: 6.3 | AI53: 6.8 | AJ53: 8.4 | AK53: 9.1 | AL53: 7.6 | AM53: 6.3 | AN53: 4.4 | AO53: 6.9 | AP53: 7.4 | AQ53: 8.3 | AR53: 6.8 | AS53: 7.8 | AT53: 4.2 | AU53: 8.3 | AV53: 8.1 | AW53: 6.3 | AX53: 0 | AZ53: 8.1 | BA53: 8.4 | BB53: 6.3 | BC53: 9.5 | BD53: 7.7 | BE53: 10 | BF53: 7.7 | BG53: 8.8 | BH53: =VLOOKUP(B53,'66DCHT'!$C$10:$G$54,3,0) -> #N/A
A54: 49 | B54: 66DCHT20947 | D54: LÊ THỊ THU | E54: TRÀ | F54: 35073 | G54: 127 | H54: 123 | I54: 117 | J54: 7.8658537 | K54: 3.2764228 | L54: 2 | M54: 10 | N54: 0.078740157 | O54: K | P54: 7.5 | Q54: 7.9 | R54: 6.7 | S54: 9.3 | T54: 8.5 | U54: 8.9 | V54: 9.1 | W54: 9.4 | X54: 9 | Y54: 9 | Z54: 7.5 | AA54: 8.6 | AB54: 8.4 | AC54: 9.8 | AD54: 9.5 | AE54: 9.2 | AF54: 8.4 | AG54: 7.7 | AH54: 7.9 | AI54: 7.9 | AJ54: 8.4 | AK54: 7.6 | AL54: 8.6 | AM54: 8.2 | AN54: 7.9 | AO54: 9 | AP54: 6.8 | AQ54: 7.6 | AR54: 7.5 | AS54: 7.3 | AT54: 8.4 | AU54: 8.3 | AV54: 7 | AW54: 7.9 | AX54: 0 | AZ54: 8.2 | BA54: 9.8 | BB54: 6.7 | BC54: 9 | BD54: 9.2 | BE54: 7.5 | BF54: 7.4 | BG54: 8.4 | BH54: =VLOOKUP(B54,'66DCHT'!$C$10:$G$54,3,0) -> #N/A
A55: 50 | B55: 66DCHT21324 | D55: TRẦN LƯƠNG NGỌC | E55: TRÂM | F55: 35709 | G55: 127 | H55: 123 | I55: 117 | J55: 7.6512195 | K55: 3.1626016 | L55: 2 | M55: 10 | N55: 0.078740157 | O55: K | P55: 6.9 | Q55: 5.2 | R55: 7.4 | S55: 8.9 | T55: 9.7 | U55: 8.4 | V55: 9.6 | W55: 8.1 | X55: 9.1 | Y55: 8.9 | Z55: 9.8 | AA55: 9.7 | AB55: 8.2 | AC55: 7.9 | AD55: 9.2 | AE55: 10 | AF55: 9.3 | AG55: 9.1 | AH55: 8.6 | AI55: 8.6 | AJ55: 8.2 | AK55: 7.5 | AL55: 6.6 | AM55: 7.5 | AN55: 4.8 | AO55: 8.9 | AP55: 6.1 | AQ55: 7.8 | AR55: 6.4 | AS55: 8.4 | AT55: 9.1 | AU55: 8.6 | AV55: 8.2 | AW55: 9.3 | AX55: 0 | AZ55: 6.7 | BA55: 7.6 | BB55: 6.7 | BC55: 8.2 | BD55: 5.5 | BE55: 6.1 | BF55: 8.2 | BG55: 8.6 | BH55: =VLOOKUP(B55,'66DCHT'!$C$10:$G$54,3,0) -> #N/A
A56: 51 | B56: 66DCHT20756 | D56: NGUYỄN HOÀNG ĐĂNG | E56: TRUNG | F56: 15/07/1997 | G56: 127 | H56: 106 | I56: 62 | J56: 3.6311321 | K56: 1.0424528 | L56: 21 | M56: 65 | N56: 0.51181102 | O56: K | P56: 4.5 | Q56: 0 | R56: 4.8 | S56: 8.1 | T56: 1.7 | U56: 4.8 | V56: 5.3 | W56: 1 | X56: 7.1 | Y56: 8.5 | AA56: 2.9 | AB56: 6.4 | AC56: 4.1 | AD56: 0.8 | AE56: 5.2 | AF56: 6.2 | AH56: 5.8 | AI56: 4.5 | AJ56: 3.1 | AM56: 5.8 | AN56: 4.1 | AO56: 5.4 | AP56: 5.9 | AR56: 4.5 | AS56: 5 | AT56: 0 | AU56: 2.3 | AW56: 0 | AX56: 0 | AZ56: 7.3 | BA56: 4.1 | BB56: 0 | BC56: 4.7 | BD56: 1 | BE56: 0 | BF56: 3.7 | BG56: 4.7 | BH56: =VLOOKUP(B56,'66DCHT'!$C$10:$G$54,3,0) -> #N/A
A57: 52 | B57: 66DCHT20911 | D57: LÊ VĂN | E57: TRƯỜNG | F57: 17/12/1996 | G57: 127 | H57: 127 | I57: 120 | J57: 5.9653543 | K57: 2.1102362 | L57: 3 | M57: 7 | N57: 0.05511811 | O57: K | P57: 4.2 | Q57: 4.8 | R57: 6.4 | S57: 7.2 | T57: 6.1 | U57: 6.8 | V57: 7 | W57: 5.4 | X57: 0 | Y57: 8 | Z57: 5.8 | AA57: 7.2 | AB57: 4.7 | AC57: 8.1 | AD57: 7.1 | AE57: 6.5 | AF57: 6 | AG57: 4.9 | AH57: 7.6 | AI57: 6.3 | AJ57: 3.9 | AK57: 6 | AL57: 4.2 | AM57: 4.6 | AN57: 4.8 | AO57: 5.2 | AP57: 5.2 | AQ57: 6.7 | AR57: 4.4 | AS57: 3.5 | AT57: 5.9 | AU57: 8.5 | AV57: 6.8 | AW57: 6.2 | AX57: 9 | AY57: 9 | AZ57: 4 | BA57: 8.1 | BB57: 4.3 | BC57: 4.2 | BD57: 5.9 | BE57: 4.1 | BF57: 4.9 | BG57: 6.4 | BH57: =VLOOKUP(B57,'66DCHT'!$C$10:$G$54,3,0) -> #N/A
A58: 53 | B58: 66DCHT20975 | D58: NGUYỄN VĂN | E58: TUẤN | F58: 20/12/1997 | G58: 127 | H58: 117 | I58: 117 | J58: 8.174359 | K58: 3.4230769 | L58: 2 | M58: 10 | N58: 0.078740157 | O58: K | P58: 8 | Q58: 8 | R58: 5.8 | S58: 9.3 | T58: 8.4 | U58: 8.8 | V58: 8.9 | W58: 9.7 | X58: 8.7 | Y58: 8.3 | Z58: 8.3 | AA58: 7.8 | AB58: 6.1 | AC58: 7 | AD58: 9.3 | AE58: 7.1 | AF58: 9.2 | AG58: 10 | AH58: 9.5 | AI58: 9.6 | AJ58: 8.9 | AK58: 9.3 | AL58: 9.1 | AM58: 9.1 | AN58: 8.6 | AO58: 6.4 | AP58: 8.2 | AQ58: 8.2 | AR58: 7.6 | AS58: 5.5 | AT58: 8.9 | AU58: 7.4 | AV58: 7.8 | AW58: 5.4 | AZ58: 10 | BA58: 8.8 | BB58: 8.3 | BC58: 5.3 | BD58: 7 | BE58: 10 | BF58: 7.2 | BG58: 7.7 | BH58: =VLOOKUP(B58,'66DCHT'!$C$10:$G$54,3,0) -> #N/A
A59: 54 | B59: 66DCHT20431 | D59: NGUYỄN THANH | E59: TÙNG | F59: 31/01/1997 | G59: 127 | H59: 120 | I59: 72 | J59: 4.5841667 | K59: 1.2625 | L59: 18 | M59: 55 | N59: 0.43307087 | O59: K | P59: 3.3 | Q59: 2.6 | R59: 6.4 | S59: 5.3 | T59: 7.7 | U59: 6.6 | V59: 8.8 | W59: 5 | X59: 0 | Y59: 5.5 | Z59: 3.8 | AA59: 8.1 | AB59: 5 | AC59: 5.4 | AD59: 5 | AE59: 7.5 | AF59: 4.8 | AH59: 7.2 | AI59: 0 | AJ59: 5.1 | AK59: 3.8 | AL59: 2.2 | AM59: 5.1 | AN59: 2.3 | AO59: 3.1 | AP59: 4.3 | AQ59: 7.7 | AR59: 4.3 | AS59: 3.8 | AT59: 0 | AU59: 7.6 | AV59: 7 | AW59: 3.8 | AX59: 2.3 | AZ59: 4.5 | BA59: 7.6 | BB59: 4.6 | BC59: 2.4 | BD59: 3.4 | BE59: 4.6 | BF59: 4.5 | BG59: 3.2 | BH59: =VLOOKUP(B59,'66DCHT'!$C$10:$G$54,3,0) -> #N/A
B61: Tổng hợp: | AO61: Hà Nội, ngày tháng năm 2019
K62: Số SV | N62: Tỷ lệ (%) | W62: PHÒNG ĐÀO TẠO | AO62: PHÒNG KHẢO THÍ VÀ ĐẢM BẢO CHẤT LƯỢNG ĐÀO TẠO
D63: Đủ điều kiện nhận ĐÁ/KLTN: | K63: 28 | N63: 0.51851852 | P63: 22
D64: Không đủ điều kiện nhận ĐÁ/KLTN: | K64: 26 | N64: 0.48148148
K65: 54

Sheet 66DCHT22
X1: BẢNG ĐIỂM TOÀN KHÓA XÉT ĐIỀU KIỆN NHẬN ĐỒ ÁN/KHÓA LUẬN TỐT NGHIỆP
V2: LỚP 66DCHT22
A4: STT | B4: Mã sinh viên | D4: Họ đệm | E4: Tên | F4: Ngày sinh | G4: Tổng số TC | H4: Số tín chỉ tính điểm | I4: Số tín chỉ tích lũy | J4: Điểm TBC (hệ 10) | K4: Điểm TBC (hệ 4) | L4: Số môn không đạt | M4: Số Tín chỉ không đạt | N4: Tỷ lệ % không đạt | O4: Đề nghị xét | P4: DC3HT51_An toàn và bảo mật hệ thống thông tin (2) | Q4: DC2HT26_Cấu trúc dữ liệu và giải thuật (4) | R4: DC2HT38_Công nghệ phần mềm (3) | S4: DC2TT32_Điện toán đám mây (2) | T4: DC3HT52_Đồ án Hệ thống thông tin (3) | U4: DC1LL04_Đường lối cách mạng của Đảng cộng sản Việt Nam (3) | V4: DC3HT34_Giao thông thông minh (ITS) (3) | W4: DC3HT21_Hệ quản trị Cơ sở dữ liệu (3) | X4: DC3HT42_Hệ thống hoạch định nguồn lực doanh nghiệp (ERP) (3) | Y4: DC3HT43_Hệ thống thông tin địa lý - GIS (3) | Z4: DC3HT22_Hệ trợ giúp quyết định (3) | AA4: DC3HT41_Kiểm thử phần mềm (3) | AB4: DC3TH44_Kiến trúc của hệ thống QL, giám sát PTGT (3) | AC4: DC2HT11_Kiến trúc máy tính (3) | AD4: DC1TT31_Kỹ thuật xây dựng và trình bày báo cáo (2) | AE4: DC3HT31_Lập trình di động (3) | AF4: DC2TT35_Lập trình hướng đối tượng C++ (3) | AG4: DC2HT33_Lập trình Java (3) | AH4: DC2HT36_Lập trình trên môi trường Web (3) | AI4: DC2HT34_Lập trình trực quan C# (3) | AJ4: DC2HT25_Lý thuyết đồ thị (2) | AK4: DC1CB20_Lý thuyết xác suất - thống kê (2) | AL4: DC2HT12_Nguyên lý Hệ điều hành (3) | AM4: DC2TT22_Nhập môn Cơ sở dữ liệu (3) | AN4: DC2HT13_Nhập môn mạng máy tính (3) | AO4: DC3HT16_Nhập môn Xử lý ảnh (3) | AP4: DC1LL01_Những nguyên lý cơ bản của CN Mác - Lênin 1 (2) | AQ4: DC1LL02_Những nguyên lý cơ bản của CN Mác - Lênin 2 (3) | AR4: DC1LL05_Pháp luật Việt Nam đại cương (2) | AS4: DC2TT31_Phần mềm mã nguồn mở (2) | AT4: DC3HT60_Phân tích và thiết kế hệ thống thông tin (4) | AU4: DC3HT32_Quản lý dự án phần mềm (3) | AV4: DC3TT47_Quản trị mạng (3) | AW4: DC3HT46_Thiết kế mạng máy tính (3) | AX4: DC4HT22_Thực tập chuyên ngành, thực tập DN (6) | AY4: DC4TH70_Thực tập tốt nghiệp (4) | AZ4: DC1TT43_Tin học đại cương (3) | BA4: DC2TT21_Toán rời rạc (3) | BB4: DC1CB11_Toán 1 (4) | BC4: DC1CB41_Toán 2 (2) | BD4: DC1CB57_Toán 3 (3) | BE4: DC1LL03_Tư tưởng Hồ Chí Minh (2) | BF4: DC1TT21_Vật lý đại cương 1 (2) | BG4: DC1TT22_Vật lý đại cương 2 (2)
P5: 2 | Q5: 4 | R5: 3 | S5: 2 | T5: 3 | U5: 3 | V5: 3 | W5: 3 | X5: 3 | Y5: 3 | Z5: 3 | AA5: 3 | AB5: 3 | AC5: 3 | AD5: 2 | AE5: 3 | AF5: 3 | AG5: 3 | AH5: 3 | AI5: 3 | AJ5: 2 | AK5: 2 | AL5: 3 | AM5: 3 | AN5: 3 | AO5: 3 | AP5: 2 | AQ5: 3 | AR5: 2 | AS5: 2 | AT5: 4 | AU5: 3 | AV5: 3 | AW5: 3 | AX5: 6 | AY5: 4 | AZ5: 3 | BA5: 3 | BB5: 4 | BC5: 2 | BD5: 3 | BE5: 2 | BF5: 2 | BG5: 2
A6: 1 | B6: 66DCHT21790 | C6: =D6&" "&E6 -> NGUYỄN QUANG DŨNG | D6: NGUYỄN QUANG | E6: DŨNG | F6: 29/07/1997 | G6: 127 | H6: 127 | I6: 121 | J6: 6.3716535 | K6: 2.2913386 | L6: 2 | M6: 6 | N6: 0.047244094 | O6: Đ | P6: 4.4 | Q6: 6.8 | R6: 7.5 | S6: 6.2 | T6: 7.9 | U6: 7.5 | V6: 7.4 | W6: 7.2 | X6: 8.3 | Y6: 6.9 | Z6: 6.8 | AA6: 8.2 | AB6: 7.2 | AC6: 6.3 | AD6: 7.9 | AE6: 7.7 | AF6: 4.4 | AG6: 3.9 | AH6: 5.1 | AI6: 6.3 | AJ6: 7.5 | AK6: 4.7 | AL6: 6.8 | AM6: 7 | AN6: 4.1 | AO6: 4.4 | AP6: 4.6 | AQ6: 8.1 | AR6: 4.5 | AS6: 7.8 | AT6: 8 | AU6: 2.2 | AV6: 4.2 | AW6: 5.6 | AX6: 7.8 | AY6: 7.8 | AZ6: 6 | BA6: 7.7 | BB6: 4.4 | BC6: 7.6 | BD6: 4.3 | BE6: 6.8 | BF6: 6.5 | BG6: 5.2 | BH6: =VLOOKUP(B6,'66DCHT'!$C$10:$G$54,3,0) -> 29/07/1997
A7: 2 | B7: 66DCHT21816 | C7: =D7&" "&E7 -> PHẠM THẾ DUYỆT | D7: PHẠM THẾ | E7: DUYỆT | F7: 35312 | G7: 127 | H7: 127 | I7: 127 | J7: 7.5448819 | K7: 3.0944882 | L7: 0 | M7: 0 | N7: 0 | O7: Đ | P7: 7.4 | Q7: 8.9 | R7: 8.1 | S7: 9.3 | T7: 9.7 | U7: 8.8 | V7: 7 | W7: 8 | X7: 9.1 | Y7: 9 | Z7: 6.9 | AA7: 8.4 | AB7: 8.1 | AC7: 6 | AD7: 8.6 | AE7: 9.6 | AF7: 5.5 | AG7: 9 | AH7: 8.5 | AI7: 8.4 | AJ7: 5.3 | AK7: 4.4 | AL7: 9.6 | AM7: 5.9 | AN7: 6.1 | AO7: 7.4 | AP7: 7.6 | AQ7: 6.9 | AR7: 6.4 | AS7: 7.6 | AT7: 8.9 | AU7: 8.8 | AV7: 8.2 | AW7: 5.3 | AX7: 8 | AY7: 8 | AZ7: 5.4 | BA7: 7 | BB7: 6.6 | BC7: 5.2 | BD7: 4.7 | BE7: 8.8 | BF7: 6 | BG7: 5.6 | BH7: =VLOOKUP(B7,'66DCHT'!$C$10:$G$54,3,0) -> 09/04/1996
A8: 3 | B8: 66DCHT21753 | C8: =D8&" "&E8 -> VŨ MINH ĐỨC | D8: VŨ MINH | E8: ĐỨC | F8: 35654 | G8: 127 | H8: 127 | I8: 127 | J8: 6.5590551 | K8: 2.5275591 | L8: 0 | M8: 0 | N8: 0 | O8: Đ | P8: 7.7 | Q8: 6.1 | R8: 5.7 | S8: 9.1 | T8: 7.3 | U8: 7 | V8: 6.7 | W8: 6.3 | X8: 8.1 | Y8: 7.5 | Z8: 8.8 | AA8: 7.9 | AB8: 7.2 | AC8: 6.4 | AD8: 7.2 | AE8: 8.7 | AF8: 6.5 | AG8: 5.7 | AH8: 8.3 | AI8: 7.5 | AJ8: 6 | AK8: 5.5 | AL8: 7 | AM8: 6.6 | AN8: 4.4 | AO8: 7 | AP8: 6.5 | AQ8: 6.9 | AR8: 5.8 | AS8: 5.3 | AT8: 5.2 | AU8: 6.1 | AV8: 4.6 | AW8: 4.4 | AX8: 7.3 | AY8: 7.3 | AZ8: 8.2 | BA8: 5.6 | BB8: 6 | BC8: 5.5 | BD8: 4 | BE8: 5.5 | BF8: 5.9 | BG8: 4.8 | BH8: =VLOOKUP(B8,'66DCHT'!$C$10:$G$54,3,0) -> 08/12/1997
A9: 4 | B9: 66DCHT21752 | C9: =D9&" "&E9 -> NGUYỄN CHẤN HIỆP | D9: NGUYỄN CHẤN | E9: HIỆP | F9: 19/01/1997 | G9: 127 | H9: 127 | I9: 127 | J9: 7.1795276 | K9: 2.8582677 | L9: 0 | M9: 0 | N9: 0 | O9: Đ | P9: 6.7 | Q9: 5.2 | R9: 6.2 | S9: 9.1 | T9: 9.1 | U9: 8.1 | V9: 8.4 | W9: 9.7 | X9: 7.9 | Y9: 8.6 | Z9: 8.4 | AA9: 8.6 | AB9: 7.2 | AC9: 6.7 | AD9: 9.1 | AE9: 9.7 | AF9: 5.4 | AG9: 4 | AH9: 8.3 | AI9: 7.6 | AJ9: 8.1 | AK9: 6.2 | AL9: 7.3 | AM9: 7.3 | AN9: 4.3 | AO9: 7.9 | AP9: 5.8 | AQ9: 6.5 | AR9: 6.2 | AS9: 6.9 | AT9: 8.9 | AU9: 7.7 | AV9: 7 | AW9: 6 | AX9: 8.6 | AY9: 8.6 | AZ9: 7.3 | BA9: 6.8 | BB9: 4.8 | BC9: 5.7 | BD9: 4 | BE9: 5.5 | BF9: 7.1 | BG9: 4.7 | BH9: =VLOOKUP(B9,'66DCHT'!$C$10:$G$54,3,0) -> 19/01/1997
A10: 5 | B10: 66DCHT21690 | D10: NGUYỄN THẾ | E10: HOÀNG | F10: 35614 | G10: 127 | H10: 127 | I10: 127 | J10: 7.3787402 | K10: 3.0275591 | L10: 0 | M10: 0 | N10: 0 | O10: Đ | P10: 7.8 | Q10: 6.6 | R10: 7.8 | S10: 8 | T10: 8.8 | U10: 8.5 | V10: 8.8 | W10: 7.2 | X10: 8.7 | Y10: 6.8 | Z10: 8.9 | AA10: 8.8 | AB10: 8.2 | AC10: 7.2 | AD10: 9.1 | AE10: 9.6 | AF10: 5.1 | AG10: 6.9 | AH10: 7 | AI10: 8.3 | AJ10: 6.1 | AK10: 6.6 | AL10: 8.4 | AM10: 6 | AN10: 8.6 | AO10: 5.2 | AP10: 6 | AQ10: 6 | AR10: 5 | AS10: 6.4 | AT10: 8.7 | AU10: 6.4 | AV10: 8.2 | AW10: 7.4 | AX10: 9 | AY10: 9 | AZ10: 4 | BA10: 8.9 | BB10: 4.9 | BC10: 7.6 | BD10: 5.6 | BE10: 6.5 | BF10: 7.1 | BG10: 5 | BH10: =VLOOKUP(B10,'66DCHT'!$C$10:$G$54,3,0) -> #N/A
A11: 6 | B11: 66DCHT21754 | D11: LÊ THỊ | E11: LEN | F11: 25/03/1997 | G11: 127 | H11: 127 | I11: 127 | J11: 6.8685039 | K11: 2.6181102 | L11: 0 | M11: 0 | N11: 0 | O11: Đ | P11: 8.3 | Q11: 6.8 | R11: 6 | S11: 5.7 | T11: 6.5 | U11: 7.8 | V11: 6.8 | W11: 6.2 | X11: 8.7 | Y11: 7.2 | Z11: 9.1 | AA11: 7.4 | AB11: 7.4 | AC11: 5.5 | AD11: 7.7 | AE11: 6.6 | AF11: 5.1 | AG11: 4.1 | AH11: 4.7 | AI11: 6.6 | AJ11: 7.7 | AK11: 9.3 | AL11: 7.2 | AM11: 4.6 | AN11: 6.4 | AO11: 6.7 | AP11: 8.1 | AQ11: 8.6 | AR11: 6.5 | AS11: 7.4 | AT11: 8 | AU11: 7.9 | AV11: 4.4 | AW11: 5.3 | AX11: 7.9 | AY11: 7.9 | AZ11: 4.1 | BA11: 7.5 | BB11: 4.9 | BC11: 9.3 | BD11: 6.5 | BE11: 8.4 | BF11: 9.3 | BG11: 7.2 | BH11: =VLOOKUP(B11,'66DCHT'!$C$10:$G$54,3,0) -> #N/A
A12: 7 | B12: 66DCHT22149 | C12: =D12&" "&E12 -> ĐẶNG THỊ THUỲ LINH | D12: ĐẶNG THỊ THUỲ | E12: LINH | F12: 35705 | G12: 127 | H12: 127 | I12: 127 | J12: 8.0283465 | K12: 3.3307087 | L12: 0 | M12: 0 | N12: 0 | O12: Đ | P12: 8.5 | Q12: 7.9 | R12: 7.5 | S12: 7.8 | T12: 9 | U12: 8.5 | V12: 9 | W12: 8.7 | X12: 8 | Y12: 9.2 | Z12: 8.6 | AA12: 9 | AB12: 8.3 | AC12: 8.1 | AD12: 9 | AE12: 5.4 | AF12: 5.8 | AG12: 5.6 | AH12: 5.6 | AI12: 6.3 | AJ12: 8.9 | AK12: 9.1 | AL12: 8.8 | AM12: 8.2 | AN12: 7.9 | AO12: 9 | AP12: 8.2 | AQ12: 8.3 | AR12: 6.8 | AS12: 8.3 | AT12: 8.2 | AU12: 8.6 | AV12: 4.9 | AW12: 5.3 | AX12: 9.7 | AY12: 9.7 | AZ12: 5.4 | BA12: 9 | BB12: 8.4 | BC12: 8.4 | BD12: 8 | BE12: 8.6 | BF12: 10 | BG12: 9.7 | BH12: =VLOOKUP(B12,'66DCHT'!$C$10:$G$54,3,0) -> 10/02/1997
A13: 8 | B13: 66DCHT21541 | D13: NGÔ THỊ | E13: LUYẾN | F13: 35490 | G13: 127 | H13: 127 | I13: 127 | J13: 7.4874016 | K13: 3.0629921 | L13: 0 | M13: 0 | N13: 0 | O13: Đ | P13: 7.4 | Q13: 7.5 | R13: 5.7 | S13: 5.7 | T13: 8.8 | U13: 8.1 | V13: 9.1 | W13: 7.4 | X13: 8.8 | Y13: 8.3 | Z13: 8.4 | AA13: 8.4 | AB13: 7.9 | AC13: 8.1 | AD13: 8.9 | AE13: 8.2 | AF13: 7.2 | AG13: 7 | AH13: 7 | AI13: 6.3 | AJ13: 8.9 | AK13: 9.1 | AL13: 8.2 | AM13: 8 | AN13: 7.9 | AO13: 8.1 | AP13: 6 | AQ13: 6.2 | AR13: 6.5 | AS13: 7.4 | AT13: 7.9 | AU13: 7.2 | AV13: 6 | AW13: 5.1 | AX13: 7.9 | AY13: 7.9 | AZ13: 7.8 | BA13: 8.1 | BB13: 6 | BC13: 5.1 | BD13: 7.2 | BE13: 5.8 | BF13: 8.2 | BG13: 7.4 | BH13: =VLOOKUP(B13,'66DCHT'!$C$10:$G$54,3,0) -> #N/A
A14: 9 | B14: 66DCHT21490 | D14: PHẠM THỊ | E14: MAI | F14: 13/03/1996 | G14: 127 | H14: 127 | I14: 127 | J14: 7.3251969 | K14: 2.9409449 | L14: 0 | M14: 0 | N14: 0 | O14: Đ | P14: 6.8 | Q14: 7.5 | R14: 5.8 | S14: 5.7 | T14: 8.5 | U14: 8.3 | V14: 8.9 | W14: 8.9 | X14: 8.8 | Y14: 7 | Z14: 7.5 | AA14: 8.6 | AB14: 8.3 | AC14: 7.8 | AD14: 8.6 | AE14: 5.6 | AF14: 5.1 | AG14: 6.7 | AH14: 4.7 | AI14: 6.2 | AJ14: 8.4 | AK14: 10 | AL14: 8.2 | AM14: 5.8 | AN14: 5.8 | AO14: 8 | AP14: 6.8 | AQ14: 8.3 | AR14: 5.8 | AS14: 7.5 | AT14: 8.1 | AU14: 8.7 | AV14: 6.1 | AW14: 4.6 | AX14: 7.9 | AY14: 7.9 | AZ14: 5.8 | BA14: 8.1 | BB14: 6.7 | BC14: 7.2 | BD14: 6.2 | BE14: 7.7 | BF14: 9.1 | BG14: 9 | BH14: =VLOOKUP(B14,'66DCHT'!$C$10:$G$54,3,0) -> #N/A
A15: 10 | B15: 66DCHT21747 | D15: DƯƠNG THỊ | E15: MINH | F15: 28/09/1997 | G15: 127 | H15: 127 | I15: 127 | J15: 6.980315 | K15: 2.7559055 | L15: 0 | M15: 0 | N15: 0 | O15: Đ | P15: 7.4 | Q15: 9.1 | R15: 5.1 | S15: 7.3 | T15: 8.1 | U15: 8.6 | V15: 9 | W15: 5.3 | X15: 8.7 | Y15: 8.4 | Z15: 6.9 | AA15: 8.4 | AB15: 7.2 | AC15: 5.6 | AD15: 9.5 | AE15: 5.8 | AF15: 5.1 | AG15: 4.6 | AH15: 4.4 | AI15: 4 | AJ15: 6.8 | AK15: 6.1 | AL15: 7.5 | AM15: 8 | AN15: 6.5 | AO15: 7.2 | AP15: 7.2 | AQ15: 5.3 | AR15: 6.1 | AS15: 6 | AT15: 7.2 | AU15: 8.3 | AV15: 6.5 | AW15: 5.7 | AX15: 7.2 | AY15: 7.2 | AZ15: 6.8 | BA15: 8.1 | BB15: 7.1 | BC15: 4.6 | BD15: 9 | BE15: 7.7 | BF15: 8.1 | BG15: 7.5 | BH15: =VLOOKUP(B15,'66DCHT'!$C$10:$G$54,3,0) -> #N/A
A16: 11 | B16: 66DCHT21595 | C16: =D16&" "&E16 -> NGUYỄN KHÁNH NAM | D16: NGUYỄN KHÁNH | E16: NAM | F16: 13/04/1997 | G16: 127 | H16: 127 | I16: 127 | J16: 7.3708661 | K16: 2.8858268 | L16: 0 | M16: 0 | N16: 0 | O16: Đ | P16: 7.7 | Q16: 6.8 | R16: 7.5 | S16: 8.6 | T16: 9.3 | U16: 7.4 | V16: 8.9 | W16: 7.4 | X16: 9.1 | Y16: 9.1 | Z16: 9 | AA16: 9.5 | AB16: 8.9 | AC16: 7.6 | AD16: 7.9 | AE16: 9.3 | AF16: 5.8 | AG16: 4.1 | AH16: 8.4 | AI16: 5.6 | AJ16: 7.5 | AK16: 7.8 | AL16: 5.2 | AM16: 4.4 | AN16: 5.1 | AO16: 8.7 | AP16: 5.9 | AQ16: 7.5 | AR16: 5.4 | AS16: 8.7 | AT16: 6.8 | AU16: 8.5 | AV16: 8.9 | AW16: 4.6 | AX16: 10 | AY16: 10 | AZ16: 7.6 | BA16: 8.7 | BB16: 4.8 | BC16: 4 | BD16: 4.4 | BE16: 5 | BF16: 6.2 | BG16: 5.8 | BH16: =VLOOKUP(B16,'66DCHT'!$C$10:$G$54,3,0) -> 13/04/1997
A17: 12 | B17: 66DCHT21453 | D17: VŨ THỊ THU | E17: NGÂN | F17: 13/10/1997 | G17: 127 | H17: 127 | I17: 127 | J17: 7.1669291 | K17: 2.8779528 | L17: 0 | M17: 0 | N17: 0 | O17: Đ | P17: 6.9 | Q17: 7.5 | R17: 6 | S17: 5.5 | T17: 6.5 | U17: 8.7 | V17: 8.4 | W17: 5.9 | X17: 8.7 | Y17: 8.9 | Z17: 7 | AA17: 7.2 | AB17: 7.6 | AC17: 7.6 | AD17: 9.1 | AE17: 4 | AF17: 5.1 | AG17: 6 | AH17: 4.7 | AI17: 6.6 | AJ17: 6.8 | AK17: 9.3 | AL17: 5.4 | AM17: 5.3 | AN17: 5.8 | AO17: 8.6 | AP17: 6.9 | AQ17: 7.3 | AR17: 7.1 | AS17: 7.7 | AT17: 8 | AU17: 8.2 | AV17: 8.2 | AW17: 7.2 | AX17: 8.2 | AY17: 8.2 | AZ17: 5.7 | BA17: 8.7 | BB17: 8.3 | BC17: 5.9 | BD17: 6.1 | BE17: 6.6 | BF17: 8.2 | BG17: 8.4 | BH17: =VLOOKUP(B17,'66DCHT'!$C$10:$G$54,3,0) -> #N/A
A18: 13 | B18: 66DCHT22097 | D18: NGUYỄN THỊ | E18: NHẠN | F18: 27/04/1997 | G18: 127 | H18: 127 | I18: 127 | J18: 6.6629921 | K18: 2.507874 | L18: 0 | M18: 0 | N18: 0 | O18: Đ | P18: 6.9 | Q18: 6.7 | R18: 7.4 | S18: 7.1 | T18: 6.8 | U18: 8 | V18: 6.7 | W18: 5.5 | X18: 8.7 | Y18: 7 | Z18: 6.1 | AA18: 7.2 | AB18: 7.6 | AC18: 5.4 | AD18: 8.2 | AE18: 4.6 | AF18: 5.1 | AG18: 6 | AH18: 4.5 | AI18: 5.5 | AJ18: 5.4 | AK18: 7.5 | AL18: 5.2 | AM18: 8.1 | AN18: 5.8 | AO18: 7.3 | AP18: 6.4 | AQ18: 6.4 | AR18: 6.8 | AS18: 6.8 | AT18: 7.9 | AU18: 8.5 | AV18: 6.7 | AW18: 4.8 | AX18: 7.9 | AY18: 7.9 | AZ18: 5 | BA18: 6.9 | BB18: 6.3 | BC18: 9.2 | BD18: 4.2 | BE18: 5.1 | BF18: 8.2 | BG18: 7.7 | BH18: =VLOOKUP(B18,'66DCHT'!$C$10:$G$54,3,0) -> #N/A
A19: 14 | B19: 66DCHT21966 | C19: =D19&" "&E19 -> PHẠM DUY PHI | D19: PHẠM DUY | E19: PHI | F19: 25/06/1997 | G19: 127 | H19: 127 | I19: 127 | J19: 7.1149606 | K19: 2.7637795 | L19: 0 | M19: 0 | N19: 0 | O19: Đ | P19: 6.5 | Q19: 7.5 | R19: 8.1 | S19: 7.1 | T19: 8.7 | U19: 7.9 | V19: 8.2 | W19: 9.7 | X19: 8.1 | Y19: 8.3 | Z19: 6.7 | AA19: 8.6 | AB19: 7.3 | AC19: 4.9 | AD19: 7.9 | AE19: 9.3 | AF19: 4.4 | AG19: 5.9 | AH19: 5.4 | AI19: 6.4 | AJ19: 8.2 | AK19: 8 | AL19: 8.2 | AM19: 6.8 | AN19: 4.4 | AO19: 5 | AP19: 5.2 | AQ19: 6.9 | AR19: 6.6 | AS19: 5.2 | AT19: 7.3 | AU19: 7 | AV19: 5.4 | AW19: 5.1 | AX19: 9.2 | AY19: 9.2 | AZ19: 5 | BA19: 7.4 | BB19: 4.3 | BC19: 8.2 | BD19: 9.5 | BE19: 5.2 | BF19: 8 | BG19: 8.6 | BH19: =VLOOKUP(B19,'66DCHT'!$C$10:$G$54,3,0) -> 25/06/1997
A20: 15 | B20: 66DCHT22030 | C20: =D20&" "&E20 -> NGUYỄN THỊ NHƯ QUỲNH | D20: NGUYỄN THỊ NHƯ | E20: QUỲNH | F20: 28/11/1997 | G20: 127 | H20: 127 | I20: 127 | J20: 8.5637795 | K20: 3.5984252 | L20: 0 | M20: 0 | N20: 0 | O20: Đ | P20: 10 | Q20: 7.5 | R20: 8.2 | S20: 8 | T20: 9.2 | U20: 8.9 | V20: 9.1 | W20: 9 | X20: 9.1 | Y20: 9.8 | Z20: 9 | AA20: 9.7 | AB20: 9.3 | AC20: 8.2 | AD20: 10 | AE20: 7.5 | AF20: 7.2 | AG20: 8.4 | AH20: 4.9 | AI20: 7 | AJ20: 8.9 | AK20: 10 | AL20: 9.3 | AM20: 9.5 | AN20: 7.9 | AO20: 9.7 | AP20: 7.7 | AQ20: 8.2 | AR20: 7.2 | AS20: 8.3 | AT20: 8.7 | AU20: 8.8 | AV20: 8.2 | AW20: 6 | AX20: 9.7 | AY20: 9.7 | AZ20: 6.4 | BA20: 8.1 | BB20: 9.2 | BC20: 10 | BD20: 9 | BE20: 7 | BF20: 9.3 | BG20: 9.7 | BH20: =VLOOKUP(B20,'66DCHT'!$C$10:$G$54,3,0) -> 28/11/1997
A21: 16 | B21: 66DCHT21432 | D21: TRẦN VĂN | E21: QUYỀN | F21: 17/08/1997 | G21: 127 | H21: 127 | I21: 121 | J21: 6.0007874 | K21: 2.1220472 | L21: 2 | M21: 6 | N21: 0.047244094 | O21: Đ | P21: 4.4 | Q21: 5.4 | R21: 5.7 | S21: 6.9 | T21: 8.8 | U21: 7.1 | V21: 7.5 | W21: 7.7 | X21: 8.1 | Y21: 7 | Z21: 7.9 | AA21: 7.7 | AB21: 6.8 | AC21: 4.7 | AD21: 5.9 | AE21: 7.7 | AF21: 5.1 | AG21: 4.1 | AH21: 5.4 | AI21: 5.5 | AJ21: 7.4 | AK21: 5.4 | AL21: 4.9 | AM21: 4.3 | AN21: 7.1 | AO21: 4.1 | AP21: 6.4 | AQ21: 5.8 | AR21: 4.6 | AS21: 4.3 | AT21: 7.2 | AU21: 7.4 | AV21: 4.1 | AW21: 5.4 | AX21: 8 | AY21: 8 | AZ21: 6.1 | BA21: 6.7 | BB21: 0 | BC21: 3.5 | BD21: 4.4 | BE21: 4.8 | BF21: 6.7 | BG21: 4.9 | BH21: =VLOOKUP(B21,'66DCHT'!$C$10:$G$54,3,0) -> #N/A
A22: 17 | B22: 66DCHT21947 | C22: =D22&" "&E22 -> TRIỆU QUANG SƠN | D22: TRIỆU QUANG | E22: SƠN | F22: 29/06/1997 | G22: 127 | H22: 127 | I22: 123 | J22: 6.123622 | K22: 2.1653543 | L22: 1 | M22: 4 | N22: 0.031496063 | O22: Đ | P22: 5.8 | Q22: 5.8 | R22: 7.5 | S22: 7.7 | T22: 6.8 | U22: 6 | V22: 7.4 | W22: 4.8 | X22: 8.1 | Y22: 7.2 | Z22: 7.6 | AA22: 7.7 | AB22: 7.4 | AC22: 6.8 | AD22: 4.9 | AE22: 5.4 | AF22: 5.8 | AG22: 4.1 | AH22: 5.7 | AI22: 4.8 | AJ22: 7.4 | AK22: 5.4 | AL22: 4.3 | AM22: 5.6 | AN22: 5.5 | AO22: 4.8 | AP22: 5.5 | AQ22: 6.1 | AR22: 4.9 | AS22: 5.7 | AT22: 6.7 | AU22: 5.6 | AV22: 7.1 | AW22: 6.3 | AX22: 7.2 | AY22: 7.2 | AZ22: 7.2 | BA22: 4.9 | BB22: 3.1 | BC22: 7.5 | BD22: 5 | BE22: 5.5 | BF22: 7.8 | BG22: 5.3 | BH22: =VLOOKUP(B22,'66DCHT'!$C$10:$G$54,3,0) -> 29/06/1997
A23: 18 | B23: 66DCHT21489 | D23: NGUYỄN VĂN | E23: TÂN | F23: 16/08/1997 | G23: 127 | H23: 127 | I23: 127 | J23: 6.2952756 | K23: 2.2480315 | L23: 0 | M23: 0 | N23: 0 | O23: Đ | P23: 4.4 | Q23: 4.4 | R23: 7.5 | S23: 6.4 | T23: 7.9 | U23: 6.7 | V23: 8.9 | W23: 7.9 | X23: 8.8 | Y23: 7.7 | Z23: 5.6 | AA23: 6.9 | AB23: 7.8 | AC23: 4.3 | AD23: 8 | AE23: 7.3 | AF23: 5.1 | AG23: 4.1 | AH23: 5.2 | AI23: 5.5 | AJ23: 9.1 | AK23: 6.9 | AL23: 5.6 | AM23: 5.2 | AN23: 4.8 | AO23: 6.4 | AP23: 4.6 | AQ23: 6.9 | AR23: 6.3 | AS23: 6.1 | AT23: 7.4 | AU23: 7.6 | AV23: 6.1 | AW23: 6.7 | AX23: 7.6 | AY23: 7.6 | AZ23: 4.5 | BA23: 5.7 | BB23: 4.8 | BC23: 4.5 | BD23: 4.2 | BE23: 5.2 | BF23: 5.5 | BG23: 5.2 | BH23: =VLOOKUP(B23,'66DCHT'!$C$10:$G$54,3,0) -> #N/A
A24: 19 | B24: 66DCHT21668 | C24: =D24&" "&E24 -> PHAN TRỊNH NHẬT TÂN | D24: PHAN TRỊNH NHẬT | E24: TÂN | F24: 23/10/1996 | G24: 127 | H24: 127 | I24: 123 | J24: 6.5220472 | K24: 2.4488189 | L24: 1 | M24: 4 | N24: 0.031496063 | O24: Đ | P24: 4.2 | Q24: 6.8 | R24: 7.1 | S24: 4.1 | T24: 8.9 | U24: 6.2 | V24: 6.5 | W24: 4.6 | X24: 8.7 | Y24: 7.5 | Z24: 8 | AA24: 7.7 | AB24: 7 | AC24: 5.9 | AD24: 7 | AE24: 6.1 | AF24: 4.4 | AG24: 7.7 | AH24: 6.5 | AI24: 6.2 | AJ24: 7.4 | AK24: 6.8 | AL24: 4.5 | AM24: 7 | AN24: 5.5 | AO24: 5.3 | AP24: 4.3 | AQ24: 7.6 | AR24: 5.9 | AS24: 5.3 | AT24: 6.3 | AU24: 7.6 | AV24: 7 | AW24: 6.7 | AX24: 9 | AY24: 9 | AZ24: 5 | BA24: 7.7 | BB24: 3.2 | BC24: 5.6 | BD24: 5.2 | BE24: 6.3 | BF24: 7.6 | BG24: 4.9 | BH24: =VLOOKUP(B24,'66DCHT'!$C$10:$G$54,3,0) -> 23/10/1996
A25: 20 | B25: 66DCHT21881 | C25: =D25&" "&E25 -> PHẠM TẤT THẮNG | D25: PHẠM TẤT | E25: THẮNG | F25: 19/10/1997 | G25: 127 | H25: 127 | I25: 127 | J25: 6.9992126 | K25: 2.7716535 | L25: 0 | M25: 0 | N25: 0 | O25: Đ | P25: 5 | Q25: 8.9 | R25: 6.4 | S25: 6.2 | T25: 8.6 | U25: 8.1 | V25: 8.8 | W25: 7.9 | X25: 8.4 | Y25: 8.8 | Z25: 6.9 | AA25: 8.7 | AB25: 7.8 | AC25: 5.5 | AD25: 7 | AE25: 7.6 | AF25: 5.8 | AG25: 6.2 | AH25: 6.8 | AI25: 6.3 | AJ25: 5.3 | AK25: 6.6 | AL25: 7 | AM25: 7.9 | AN25: 5.8 | AO25: 8.3 | AP25: 7.5 | AQ25: 6.9 | AR25: 6 | AS25: 7.1 | AT25: 7.2 | AU25: 8 | AV25: 5.4 | AW25: 5.5 | AX25: 7.8 | AY25: 7.8 | AZ25: 6.8 | BA25: 5.5 | BB25: 7 | BC25: 6.2 | BD25: 4 | BE25: 6.3 | BF25: 5.4 | BG25: 6.1 | BH25: =VLOOKUP(B25,'66DCHT'!$C$10:$G$54,3,0) -> 19/10/1997
A26: 21 | B26: 66DCHT22129 | D26: NGUYỄN THỊ | E26: THÚY | F26: 35678 | G26: 127 | H26: 127 | I26: 127 | J26: 7.3606299 | K26: 2.9251969 | L26: 0 | M26: 0 | N26: 0 | O26: Đ | P26: 7.3 | Q26: 8.9 | R26: 7.5 | S26: 6.6 | T26: 8.4 | U26: 9.1 | V26: 7.7 | W26: 6.9 | X26: 9.1 | Y26: 8.4 | Z26: 7.3 | AA26: 8.4 | AB26: 7.8 | AC26: 6.8 | AD26: 7.9 | AE26: 8.2 | AF26: 5.1 | AG26: 7 | AH26: 4.5 | AI26: 7 | AJ26: 8.9 | AK26: 7.7 | AL26: 7.5 | AM26: 8.2 | AN26: 5.8 | AO26: 8.5 | AP26: 7.5 | AQ26: 7.4 | AR26: 7.5 | AS26: 6.9 | AT26: 8 | AU26: 8.6 | AV26: 6.8 | AW26: 5.3 | AX26: 9.2 | AY26: 9.2 | AZ26: 5.2 | BA26: 5.6 | BB26: 5.7 | BC26: 7.7 | BD26: 4.7 | BE26: 5.9 | BF26: 7.7 | BG26: 5.4 | BH26: =VLOOKUP(B26,'66DCHT'!$C$10:$G$54,3,0) -> #N/A
A27: 22 | B27: 66DCHT22357 | D27: TRIỆU THỊ | E27: THÚY | F27: 35226 | G27: 127 | H27: 127 | I27: 127 | J27: 7.123622 | K27: 2.8267717 | L27: 0 | M27: 0 | N27: 0 | O27: Đ | P27: 6.7 | Q27: 5.9 | R27: 6 | S27: 7.1 | T27: 7.8 | U27: 7.6 | V27: 7.7 | W27: 6.2 | X27: 9.1 | Y27: 7.7 | Z27: 7.7 | AA27: 7.1 | AB27: 8.3 | AC27: 6.2 | AD27: 8.4 | AE27: 6.8 | AF27: 4.4 | AG27: 8.1 | AH27: 4.2 | AI27: 6.6 | AJ27: 8.2 | AK27: 8.2 | AL27: 8.2 | AM27: 6.1 | AN27: 5.8 | AO27: 6.1 | AP27: 6 | AQ27: 7.9 | AR27: 7.2 | AS27: 7.5 | AT27: 8 | AU27: 7.3 | AV27: 5.4 | AW27: 8.6 | AX27: 8.3 | AY27: 8.3 | AZ27: 5.5 | BA27: 6.2 | BB27: 6.9 | BC27: 9 | BD27: 7.7 | BE27: 4.9 | BF27: 8.8 | BG27: 7.8 | BH27: =VLOOKUP(B27,'66DCHT'!$C$10:$G$54,3,0) -> #N/A
A28: 23 | B28: 66DCHT21384 | D28: LÊ THỊ NGỌC | E28: TRINH | F28: 13/07/1997 | G28: 127 | H28: 127 | I28: 127 | J28: 6.8590551 | K28: 2.6811024 | L28: 0 | M28: 0 | N28: 0 | O28: Đ | P28: 8.4 | Q28: 6.1 | R28: 8.1 | S28: 7.3 | T28: 8 | U28: 6.7 | V28: 8.4 | W28: 5.9 | X28: 8.7 | Y28: 8.5 | Z28: 7.4 | AA28: 8.7 | AB28: 8.2 | AC28: 6.1 | AD28: 7.7 | AE28: 6 | AF28: 4.4 | AG28: 5.1 | AH28: 5.2 | AI28: 5.7 | AJ28: 7.5 | AK28: 5.1 | AL28: 6 | AM28: 5.4 | AN28: 7.2 | AO28: 7.8 | AP28: 6.2 | AQ28: 7.4 | AR28: 6 | AS28: 4.8 | AT28: 8.9 | AU28: 8.6 | AV28: 7.2 | AW28: 5.3 | AX28: 8.3 | AY28: 8.3 | AZ28: 4.9 | BA28: 6.7 | BB28: 6.5 | BC28: 4.5 | BD28: 5.7 | BE28: 6.6 | BF28: 5.1 | BG28: 6.9 | BH28: =VLOOKUP(B28,'66DCHT'!$C$10:$G$54,3,0) -> #N/A
A29: 24 | B29: 66DCHT21409 | D29: TRẦN VĂN | E29: TUÂN | F29: 30/11/1997 | G29: 127 | H29: 127 | I29: 124 | J29: 6.4834646 | K29: 2.3976378 | L29: 1 | M29: 3 | N29: 0.023622047 | O29: Đ | P29: 5.8 | Q29: 6.6 | R29: 5.4 | S29: 4.3 | T29: 6.7 | U29: 7.2 | V29: 8.9 | W29: 5.2 | X29: 8 | Y29: 6.3 | Z29: 7.7 | AA29: 7 | AB29: 7.5 | AC29: 6.6 | AD29: 8.4 | AE29: 7.5 | AF29: 5.8 | AG29: 5.3 | AH29: 5.4 | AI29: 3.1 | AJ29: 8.2 | AK29: 6.1 | AL29: 7.3 | AM29: 6.1 | AN29: 5.8 | AO29: 5.8 | AP29: 5.8 | AQ29: 7.6 | AR29: 6.8 | AS29: 5.3 | AT29: 6.8 | AU29: 6.3 | AV29: 7.8 | AW29: 5.2 | AX29: 8.2 | AY29: 8.2 | AZ29: 4.8 | BA29: 9.1 | BB29: 4.4 | BC29: 6.8 | BD29: 4 | BE29: 7.1 | BF29: 6.4 | BG29: 4 | BH29: =VLOOKUP(B29,'66DCHT'!$C$10:$G$54,3,0) -> #N/A
A30: 25 | B30: 66DCHT22237 | C30: =D30&" "&E30 -> LÊ VĂN TÙNG | D30: LÊ VĂN | E30: TÙNG | F30: 13/12/1997 | G30: 127 | H30: 127 | I30: 127 | J30: 7.3417323 | K30: 2.9212598 | L30: 0 | M30: 0 | N30: 0 | O30: Đ | P30: 4.4 | Q30: 8 | R30: 6.9 | S30: 8 | T30: 9.7 | U30: 8.5 | V30: 5.6 | W30: 7.7 | X30: 8.8 | Y30: 7.2 | Z30: 7.7 | AA30: 8.2 | AB30: 7.3 | AC30: 5.8 | AD30: 7.4 | AE30: 9.1 | AF30: 7.9 | AG30: 9.8 | AH30: 9.7 | AI30: 8.8 | AJ30: 8.2 | AK30: 4.7 | AL30: 4.5 | AM30: 7.6 | AN30: 4.4 | AO30: 8.4 | AP30: 5.7 | AQ30: 7.2 | AR30: 5.8 | AS30: 7.7 | AT30: 8.2 | AU30: 8.1 | AV30: 4 | AW30: 6.7 | AX30: 9.2 | AY30: 9.2 | AZ30: 8.9 | BA30: 6.3 | BB30: 5.7 | BC30: 5.6 | BD30: 5.6 | BE30: 5.4 | BF30: 7.1 | BG30: 5.8 | BH30: =VLOOKUP(B30,'66DCHT'!$C$10:$G$54,3,0) -> 13/12/1997
A31: 26 | B31: 66DCHT21331 | D31: CAO NGỌC TUẤN | E31: ANH | F31: 35683 | G31: 127 | H31: 127 | I31: 119 | J31: 6.4992126 | K31: 2.4055118 | L31: 3 | M31: 8 | N31: 0.062992126 | O31: K | P31: 5.1 | Q31: 6.8 | R31: 6.9 | S31: 7.7 | T31: 8.2 | U31: 8.7 | V31: 5.4 | W31: 8.6 | X31: 8.5 | Y31: 1.4 | Z31: 9.1 | AA31: 8.3 | AB31: 6.8 | AC31: 5.9 | AD31: 8.4 | AE31: 8.4 | AF31: 5.1 | AG31: 8.8 | AH31: 5.5 | AI31: 8.2 | AJ31: 5.9 | AK31: 5.7 | AL31: 8.2 | AM31: 5.2 | AN31: 7.9 | AO31: 4.8 | AP31: 5.3 | AQ31: 6.9 | AR31: 6 | AS31: 6.7 | AT31: 7.2 | AU31: 1.7 | AV31: 5.8 | AW31: 4.3 | AX31: 7.6 | AY31: 7.6 | AZ31: 8.4 | BA31: 5.3 | BB31: 5 | BC31: 4.4 | BD31: 5.9 | BE31: 5.1 | BF31: 5.3 | BG31: 3.8 | BH31: =VLOOKUP(B31,'66DCHT'!$C$10:$G$54,3,0) -> #N/A
A32: 27 | B32: 66DCHT21885 | D32: NGUYỄN DUY | E32: ANH | F32: 15/06/1997 | G32: 127 | H32: 127 | I32: 114 | J32: 5.8779528 | K32: 2.1889764 | L32: 3 | M32: 13 | N32: 0.1023622 | O32: K | P32: 5.1 | Q32: 7.3 | R32: 6.2 | S32: 4.8 | T32: 6.4 | U32: 7.4 | V32: 6.1 | W32: 4.3 | X32: 8.3 | Y32: 5.8 | Z32: 9.5 | AA32: 7.7 | AB32: 7.5 | AC32: 6.3 | AD32: 7.4 | AE32: 5.6 | AF32: 4.4 | AG32: 7.2 | AH32: 7.6 | AI32: 5.7 | AJ32: 7.4 | AK32: 6.6 | AL32: 8.7 | AM32: 7.4 | AN32: 5.5 | AO32: 4.6 | AP32: 5.1 | AQ32: 6.9 | AR32: 5.1 | AS32: 4.8 | AT32: 7.2 | AU32: 2.1 | AV32: 5.8 | AW32: 8.8 | AX32: 0 | AY32: 0 | AZ32: 5.3 | BA32: 5.2 | BB32: 6.6 | BC32: 5.9 | BD32: 7.2 | BE32: 5.6 | BF32: 7 | BG32: 6 | BH32: =VLOOKUP(B32,'66DCHT'!$C$10:$G$54,3,0) -> #N/A
A33: 28 | B33: 66DCHT21506 | D33: VŨ THỊ ĐÔNG | E33: ANH | F33: 30/07/1997 | G33: 127 | H33: 127 | I33: 101 | J33: 5.676378 | K33: 2.1259843 | L33: 9 | M33: 26 | N33: 0.20472441 | O33: K | P33: 0 | Q33: 7.7 | R33: 8.1 | S33: 5.8 | T33: 5.7 | U33: 8 | V33: 8.4 | W33: 5.1 | X33: 0 | Y33: 6.5 | Z33: 9.3 | AA33: 0 | AB33: 0 | AC33: 8.2 | AD33: 8.2 | AE33: 0 | AF33: 5.1 | AG33: 7.8 | AH33: 0 | AI33: 3.5 | AJ33: 9.1 | AK33: 7.7 | AL33: 8.6 | AM33: 4.4 | AN33: 6.5 | AO33: 6 | AP33: 6.3 | AQ33: 7.8 | AR33: 6.8 | AS33: 6.1 | AT33: 7.2 | AU33: 7 | AV33: 3.2 | AW33: 3.2 | AX33: 6.5 | AY33: 6.5 | AZ33: 6.9 | BA33: 5.6 | BB33: 5.2 | BC33: 7.2 | BD33: 4.2 | BE33: 6.2 | BF33: 7.1 | BG33: 8.6 | BH33: =VLOOKUP(B33,'66DCHT'!$C$10:$G$54,3,0) -> #N/A
A34: 29 | B34: 66DCHT21336 | D34: NGUYỄN VĂN | E34: CHIẾN | F34: 22/04/1997 | G34: 127 | H34: 127 | I34: 111 | J34: 6.1409449 | K34: 2.3818898 | L34: 4 | M34: 16 | N34: 0.12598425 | O34: K | P34: 6.2 | Q34: 7.5 | R34: 7.1 | S34: 6.2 | T34: 5.9 | U34: 8.5 | V34: 8.8 | W34: 7 | X34: 8.3 | Y34: 7 | Z34: 6.9 | AA34: 8.1 | AB34: 6.8 | AC34: 5.6 | AD34: 9.1 | AE34: 2.4 | AF34: 5.1 | AG34: 4.2 | AH34: 4.7 | AI34: 4.8 | AJ34: 8.2 | AK34: 8.1 | AL34: 9.3 | AM34: 6 | AN34: 5.8 | AO34: 6.6 | AP34: 6.7 | AQ34: 8.2 | AR34: 5.8 | AS34: 7 | AT34: 7.2 | AU34: 2.2 | AV34: 7.3 | AW34: 8.1 | AX34: 0 | AY34: 0 | AZ34: 5.3 | BA34: 7 | BB34: 6.2 | BC34: 7.5 | BD34: 6.9 | BE34: 7.2 | BF34: 8.2 | BG34: 7.1 | BH34: =VLOOKUP(B34,'66DCHT'!$C$10:$G$54,3,0) -> #N/A
A35: 30 | B35: 66DCHT21455 | D35: TRẦN VĂN | E35: GIANG | F35: 35583 | G35: 127 | H35: 127 | I35: 117 | J35: 6.2905512 | K35: 2.4527559 | L35: 2 | M35: 10 | N35: 0.078740157 | O35: K | P35: 6.2 | Q35: 7 | R35: 5.1 | S35: 8 | T35: 7.2 | U35: 8.8 | V35: 8.3 | W35: 7.4 | X35: 8.7 | Y35: 7.6 | Z35: 9 | AA35: 8.1 | AB35: 7.5 | AC35: 7.3 | AD35: 8.8 | AE35: 6.8 | AF35: 5.1 | AG35: 5 | AH35: 5.3 | AI35: 6.8 | AJ35: 7.5 | AK35: 4.1 | AL35: 9.3 | AM35: 5.9 | AN35: 5.8 | AO35: 5.8 | AP35: 6.7 | AQ35: 7 | AR35: 5.7 | AS35: 7.4 | AT35: 8 | AU35: 8.6 | AV35: 7.5 | AW35: 5.2 | AX35: 0 | AY35: 0 | AZ35: 4.8 | BA35: 6.1 | BB35: 4.3 | BC35: 5.8 | BD35: 6.3 | BE35: 7.9 | BF35: 6.3 | BG35: 7 | BH35: =VLOOKUP(B35,'66DCHT'!$C$10:$G$54,3,0) -> #N/A
A36: 31 | B36: 66DCHT21372 | D36: NGUYỄN HUY | E36: HOÀNG | F36: 19/09/1997 | G36: 127 | H36: 117 | I36: 112 | J36: 6.0076923 | K36: 2.0598291 | L36: 4 | M36: 15 | N36: 0.11811024 | O36: K | P36: 4.8 | Q36: 4.9 | R36: 6.9 | S36: 7.7 | T36: 7.6 | U36: 6.5 | V36: 7.9 | W36: 3.1 | X36: 8.1 | Y36: 6.8 | Z36: 8.9 | AA36: 7.9 | AB36: 7.3 | AC36: 5.4 | AD36: 7.2 | AE36: 5.6 | AF36: 7.6 | AG36: 5.4 | AH36: 4.1 | AI36: 5.6 | AJ36: 5.3 | AK36: 0 | AL36: 7.5 | AM36: 5.8 | AN36: 4.7 | AO36: 5.4 | AP36: 8.3 | AQ36: 5.5 | AR36: 4.8 | AS36: 6.1 | AT36: 6.8 | AU36: 7 | AV36: 7.4 | AW36: 6.9 | AZ36: 4.1 | BA36: 4.8 | BB36: 5.9 | BC36: 4.5 | BD36: 4.5 | BE36: 5.2 | BF36: 5.7 | BG36: 4.2 | BH36: =VLOOKUP(B36,'66DCHT'!$C$10:$G$54,3,0) -> #N/A
A37: 32 | B37: 66DCHT21419 | D37: TRẦN VIỆT | E37: HOÀNG | F37: 35531 | G37: 127 | H37: 127 | I37: 117 | J37: 5.5677165 | K37: 1.9251969 | L37: 2 | M37: 10 | N37: 0.078740157 | O37: K | P37: 5.2 | Q37: 4.3 | R37: 7.6 | S37: 8.1 | T37: 6.7 | U37: 7.2 | V37: 7 | W37: 6.9 | X37: 7.8 | Y37: 8.3 | Z37: 6.8 | AA37: 8.4 | AB37: 6.3 | AC37: 4.7 | AD37: 8.1 | AE37: 7.7 | AF37: 5.1 | AG37: 6.1 | AH37: 4.8 | AI37: 5.5 | AJ37: 7.3 | AK37: 5.2 | AL37: 4 | AM37: 5 | AN37: 5.1 | AO37: 4.9 | AP37: 4.6 | AQ37: 4 | AR37: 4.8 | AS37: 5.6 | AT37: 6.8 | AU37: 8.4 | AV37: 5.8 | AW37: 8.1 | AX37: 0 | AY37: 0 | AZ37: 5.2 | BA37: 5.5 | BB37: 5.4 | BC37: 4.4 | BD37: 4.8 | BE37: 4.7 | BF37: 7 | BG37: 4 | BH37: =VLOOKUP(B37,'66DCHT'!$C$10:$G$54,3,0) -> #N/A
A38: 33 | B38: 66DCHT22131 | D38: NGUYỄN ĐĂNG | E38: HUẾ | F38: 35736 | G38: 127 | H38: 127 | I38: 117 | J38: 6.4496063 | K38: 2.511811 | L38: 2 | M38: 10 | N38: 0.078740157 | O38: K | P38: 6.9 | Q38: 6.7 | R38: 5.8 | S38: 7.1 | T38: 6.8 | U38: 8.6 | V38: 6.7 | W38: 5.9 | X38: 8.3 | Y38: 8.4 | Z38: 6.8 | AA38: 8.4 | AB38: 6.8 | AC38: 7 | AD38: 7.5 | AE38: 9.4 | AF38: 7.6 | AG38: 5.1 | AH38: 8.2 | AI38: 8.4 | AJ38: 5.3 | AK38: 7.3 | AL38: 5.7 | AM38: 5.9 | AN38: 9.2 | AO38: 7.4 | AP38: 5.6 | AQ38: 6.2 | AR38: 6.2 | AS38: 7.4 | AT38: 7.2 | AU38: 7.8 | AV38: 7.4 | AW38: 7.5 | AX38: 0 | AY38: 0 | AZ38: 5.5 | BA38: 8 | BB38: 7.4 | BC38: 5.2 | BD38: 4.9 | BE38: 6.8 | BF38: 7 | BG38: 4.1 | BH38: =VLOOKUP(B38,'66DCHT'!$C$10:$G$54,3,0) -> #N/A
A39: 34 | B39: 66DCHT21338 | D39: NGUYỄN QUỐC | E39: HÙNG | F39: 35467 | G39: 127 | H39: 127 | I39: 117 | J39: 7.0653543 | K39: 2.8858268 | L39: 2 | M39: 10 | N39: 0.078740157 | O39: K | P39: 6.5 | Q39: 8.9 | R39: 7.5 | S39: 7.3 | T39: 8.6 | U39: 8 | V39: 7.7 | W39: 9.6 | X39: 9.1 | Y39: 7.2 | Z39: 8.3 | AA39: 9 | AB39: 8.4 | AC39: 7.9 | AD39: 9.3 | AE39: 9.1 | AF39: 7.9 | AG39: 9.1 | AH39: 7.7 | AI39: 8.3 | AJ39: 8.8 | AK39: 8.6 | AL39: 7.5 | AM39: 8 | AN39: 7.9 | AO39: 6.5 | AP39: 4.9 | AQ39: 6.6 | AR39: 5.6 | AS39: 7.2 | AT39: 8.9 | AU39: 7.2 | AV39: 7.5 | AW39: 4.4 | AX39: 0 | AY39: 0 | AZ39: 7.4 | BA39: 9 | BB39: 6.3 | BC39: 8 | BD39: 4.5 | BE39: 7.2 | BF39: 6.9 | BG39: 5.3 | BH39: =VLOOKUP(B39,'66DCHT'!$C$10:$G$54,3,0) -> #N/A
A40: 35 | B40: 66DCHT21601 | D40: DOÃN THẾ | E40: HƯNG | F40: 15/03/1997 | G40: 127 | H40: 117 | I40: 97 | J40: 5.657265 | K40: 1.8376068 | L40: 9 | M40: 30 | N40: 0.23622047 | O40: K | P40: 4.2 | Q40: 5.9 | R40: 5.5 | S40: 4.3 | T40: 7.8 | U40: 6.4 | V40: 7.7 | W40: 6.7 | X40: 7.8 | Y40: 1.4 | Z40: 8.2 | AA40: 8.1 | AB40: 6.9 | AC40: 3.8 | AD40: 7.2 | AE40: 6.2 | AF40: 4.8 | AG40: 3.1 | AH40: 4.2 | AI40: 4.9 | AJ40: 6.7 | AK40: 5 | AL40: 7.3 | AM40: 6.5 | AN40: 3.7 | AO40: 5.4 | AP40: 6 | AQ40: 7.1 | AR40: 5.1 | AS40: 4.7 | AT40: 6.5 | AU40: 6.9 | AV40: 6 | AW40: 2.9 | AZ40: 2.5 | BA40: 7.3 | BB40: 4.9 | BC40: 6.9 | BD40: 4.2 | BE40: 6.6 | BF40: 3.4 | BG40: 6.3 | BH40: =VLOOKUP(B40,'66DCHT'!$C$10:$G$54,3,0) -> #N/A
A41: 36 | B41: 66DCHT21407 | D41: PHÙNG VĂN | E41: KIÊN | F41: 35494 | G41: 127 | H41: 117 | I41: 117 | J41: 8.1717949 | K41: 3.4273504 | L41: 2 | M41: 10 | N41: 0.078740157 | O41: K | P41: 9.1 | Q41: 9.1 | R41: 8.1 | S41: 9.1 | T41: 9.3 | U41: 8.8 | V41: 6.3 | W41: 9.7 | X41: 8.8 | Y41: 9.2 | Z41: 9.5 | AA41: 8.8 | AB41: 7.8 | AC41: 8.1 | AD41: 9.3 | AE41: 8.8 | AF41: 5.8 | AG41: 8.3 | AH41: 5.9 | AI41: 8 | AJ41: 9.1 | AK41: 9.7 | AL41: 9.1 | AM41: 9.3 | AN41: 7.9 | AO41: 6.7 | AP41: 7.3 | AQ41: 8.3 | AR41: 6.5 | AS41: 6.9 | AT41: 9.1 | AU41: 8.6 | AV41: 8 | AW41: 5.3 | AZ41: 6.8 | BA41: 8.6 | BB41: 7.2 | BC41: 9.6 | BD41: 7.9 | BE41: 7.2 | BF41: 9.3 | BG41: 7.6 | BH41: =VLOOKUP(B41,'66DCHT'!$C$10:$G$54,3,0) -> 03/05/1997
A42: 37 | B42: 66DCHT22026 | D42: TRẦN HOÀNG | E42: LONG | F42: 26/04/1997 | G42: 127 | H42: 127 | I42: 117 | J42: 6.6724409 | K42: 2.511811 | L42: 2 | M42: 10 | N42: 0.078740157 | O42: K | P42: 6.9 | Q42: 5.4 | R42: 7.9 | S42: 6.4 | T42: 8.2 | U42: 7.9 | V42: 7.7 | W42: 8 | X42: 8.8 | Y42: 9 | Z42: 5.8 | AA42: 8.6 | AB42: 7.2 | AC42: 6.4 | AD42: 8.9 | AE42: 6.5 | AF42: 7.2 | AG42: 7 | AH42: 4.4 | AI42: 7 | AJ42: 6.8 | AK42: 7.4 | AL42: 9.1 | AM42: 8.8 | AN42: 5.1 | AO42: 6.9 | AP42: 4.7 | AQ42: 6.1 | AR42: 4.9 | AS42: 8.3 | AT42: 9.1 | AU42: 7 | AV42: 4.8 | AW42: 4.6 | AX42: 2.7 | AY42: 2.7 | AZ42: 6.6 | BA42: 9.1 | BB42: 6.3 | BC42: 7.6 | BD42: 4.5 | BE42: 4.9 | BF42: 8.8 | BG42: 7.7 | BH42: =VLOOKUP(B42,'66DCHT'!$C$10:$G$54,3,0) -> #N/A
A43: 38 | B43: 66DCHT21931 | D43: ĐỖ QUANG | E43: NAM | F43: 35593 | G43: 127 | H43: 127 | I43: 117 | J43: 6.396063 | K43: 2.515748 | L43: 2 | M43: 10 | N43: 0.078740157 | O43: K | P43: 5.8 | Q43: 6.6 | R43: 7.2 | S43: 8.2 | T43: 7.3 | U43: 8.3 | V43: 6.8 | W43: 9.7 | X43: 7.8 | Y43: 7.7 | Z43: 6.8 | AA43: 8.7 | AB43: 6.8 | AC43: 4.5 | AD43: 9.2 | AE43: 8.3 | AF43: 5.5 | AG43: 9.1 | AH43: 6.1 | AI43: 8.6 | AJ43: 7.5 | AK43: 9.4 | AL43: 6.6 | AM43: 6 | AN43: 7.6 | AO43: 4.4 | AP43: 6 | AQ43: 7.2 | AR43: 5.2 | AS43: 6.3 | AT43: 6.6 | AU43: 7.3 | AV43: 8.8 | AW43: 6 | AX43: 0 | AY43: 0 | AZ43: 5.1 | BA43: 7.5 | BB43: 6.1 | BC43: 4.5 | BD43: 5.2 | BE43: 5.8 | BF43: 7.3 | BG43: 6 | BH43: =VLOOKUP(B43,'66DCHT'!$C$10:$G$54,3,0) -> #N/A
A44: 39 | B44: 66DCHT21818 | D44: TRẦN HỮU BẢO | E44: NGỌC | F44: 25/06/1997 | G44: 127 | H44: 127 | I44: 85 | J44: 4.6543307 | K44: 1.3307087 | L44: 15 | M44: 42 | N44: 0.33070866 | O44: K | P44: 3.6 | Q44: 4.7 | R44: 2.9 | S44: 5.4 | T44: 7.5 | U44: 3.9 | V44: 2.1 | W44: 0 | X44: 7.1 | Y44: 2.6 | Z44: 7 | AA44: 2.2 | AB44: 6 | AC44: 1.8 | AD44: 0 | AE44: 4.6 | AF44: 5.1 | AG44: 4.7 | AH44: 5.7 | AI44: 3.3 | AJ44: 7.5 | AK44: 0 | AL44: 8.3 | AM44: 4.1 | AN44: 3.7 | AO44: 5.6 | AP44: 4.2 | AQ44: 5.3 | AR44: 5.1 | AS44: 2.1 | AT44: 1.9 | AU44: 7.5 | AV44: 5.3 | AW44: 5.2 | AX44: 7.2 | AY44: 7.2 | AZ44: 4.9 | BA44: 5.6 | BB44: 5.1 | BC44: 4.2 | BD44: 2.9 | BE44: 5.3 | BF44: 7.1 | BG44: 4.3 | BH44: =VLOOKUP(B44,'66DCHT'!$C$10:$G$54,3,0) -> #N/A
A45: 40 | B45: 66DCHT21447 | D45: NGUYỄN VĂN | E45: THIÊN | F45: 35643 | G45: 127 | H45: 127 | I45: 97 | J45: 4.7669291 | K45: 1.2716535 | L45: 10 | M45: 30 | N45: 0.23622047 | O45: K | P45: 3.8 | Q45: 4.7 | R45: 4.3 | S45: 4.1 | T45: 7.6 | U45: 6.5 | V45: 2.1 | W45: 7 | X45: 7.3 | Y45: 3.5 | Z45: 6.1 | AA45: 2 | AB45: 5.4 | AC45: 3.8 | AD45: 5.7 | AE45: 6.6 | AF45: 4.1 | AG45: 5.3 | AH45: 7.3 | AI45: 4.7 | AJ45: 3.3 | AK45: 4.4 | AL45: 4.5 | AM45: 4.8 | AN45: 5.1 | AO45: 4.2 | AP45: 5.8 | AQ45: 6.5 | AR45: 4.4 | AS45: 3.7 | AT45: 5.6 | AU45: 5.8 | AV45: 4.6 | AW45: 5.3 | AX45: 2.3 | AY45: 2.3 | AZ45: 4.1 | BA45: 5.5 | BB45: 4.7 | BC45: 2.9 | BD45: 5 | BE45: 4.8 | BF45: 4.8 | BG45: 5 | BH45: =VLOOKUP(B45,'66DCHT'!$C$10:$G$54,3,0) -> #N/A
A46: 41 | B46: 66DCHT22014 | D46: NGUYỄN VĂN | E46: TRUNG | F46: 35500 | G46: 127 | H46: 121 | I46: 98 | J46: 5.4214876 | K46: 1.7561983 | L46: 10 | M46: 29 | N46: 0.22834646 | O46: K | P46: 4.9 | Q46: 4.8 | R46: 4.3 | S46: 5.5 | T46: 8.8 | U46: 5.9 | W46: 4.5 | X46: 7.5 | Y46: 1.9 | AA46: 7.8 | AB46: 7 | AC46: 4.4 | AD46: 6.8 | AE46: 8.6 | AF46: 4.1 | AG46: 4.5 | AH46: 7.2 | AI46: 6.8 | AJ46: 5.3 | AK46: 0 | AL46: 6.4 | AM46: 4.2 | AN46: 2.9 | AO46: 6.9 | AP46: 5.8 | AQ46: 4.2 | AR46: 5.3 | AS46: 5.2 | AT46: 6.8 | AU46: 5.4 | AV46: 3.9 | AW46: 5.2 | AX46: 9.7 | AY46: 9.7 | AZ46: 5.9 | BA46: 0 | BB46: 0.9 | BC46: 4.1 | BD46: 3.3 | BE46: 5.1 | BF46: 2.5 | BG46: 6.6 | BH46: =VLOOKUP(B46,'66DCHT'!$C$10:$G$54,3,0) -> #N/A
A47: 42 | B47: 66DCHT22170 | D47: TRẦN ĐÌNH | E47: TRUNG | F47: 31/10/1997 | G47: 127 | H47: 124 | I47: 100 | J47: 5.5991935 | K47: 1.9435484 | L47: 10 | M47: 27 | N47: 0.21259843 | O47: K | P47: 1.7 | Q47: 4.9 | R47: 5.5 | S47: 5 | T47: 2 | U47: 7.1 | V47: 6.3 | W47: 7.8 | X47: 8.3 | Y47: 7.5 | Z47: 2.8 | AA47: 7 | AB47: 6.4 | AC47: 6.2 | AD47: 5.6 | AE47: 2.1 | AF47: 7 | AG47: 3.1 | AH47: 5.7 | AJ47: 8.2 | AK47: 0 | AL47: 4.4 | AM47: 8.3 | AN47: 2.9 | AO47: 5.1 | AP47: 4.7 | AQ47: 8.1 | AR47: 5.7 | AS47: 2.3 | AT47: 8.2 | AU47: 2.3 | AV47: 6.7 | AW47: 4.4 | AX47: 8.8 | AY47: 8.8 | AZ47: 5 | BA47: 6.6 | BB47: 4.1 | BC47: 4.1 | BD47: 4.1 | BE47: 6 | BF47: 5 | BG47: 6.4 | BH47: =VLOOKUP(B47,'66DCHT'!$C$10:$G$54,3,0) -> #N/A
A48: 43 | B48: 66DCHT21963 | D48: PHÙNG GIA | E48: VĨ | F48: 22/02/1997 | G48: 127 | H48: 117 | I48: 102 | J48: 5.1726496 | K48: 1.6282051 | L48: 8 | M48: 25 | N48: 0.19685039 | O48: K | P48: 2.1 | Q48: 8.1 | R48: 4.3 | S48: 6.4 | T48: 8.3 | U48: 4.3 | V48: 6.7 | W48: 6.7 | X48: 0 | Y48: 6.3 | Z48: 5.8 | AA48: 7.8 | AB48: 7.2 | AC48: 4.2 | AD48: 8.5 | AE48: 5.8 | AF48: 4.7 | AG48: 5.1 | AH48: 4.3 | AI48: 3.2 | AJ48: 6.1 | AK48: 0 | AL48: 5.9 | AM48: 4.3 | AN48: 4.3 | AO48: 3.4 | AP48: 5.2 | AQ48: 5.9 | AR48: 5.8 | AS48: 5.4 | AT48: 6.7 | AU48: 4.7 | AV48: 4.6 | AW48: 5.5 | AZ48: 5.7 | BA48: 4.2 | BB48: 4.9 | BC48: 7.3 | BD48: 4 | BE48: 4 | BF48: 4.1 | BG48: 2.5 | BH48: =VLOOKUP(B48,'66DCHT'!$C$10:$G$54,3,0) -> #N/A
B50: Tổng hợp: | AO50: Hà Nội, ngày tháng năm 2019
K51: Số SV | N51: Tỷ lệ (%) | W51: PHÒNG ĐÀO TẠO | AO51: PHÒNG KHẢO THÍ VÀ ĐẢM BẢO CHẤT LƯỢNG ĐÀO TẠO
D52: Đủ điều kiện nhận ĐÁ/KLTN: | K52: 25 | N52: 0.58139535 | P52: 12
D53: Không đủ điều kiện nhận ĐÁ/KLTN: | K53: 18 | N53: 0.41860465
K54: 43

Sheet 66DCHT23
X1: BẢNG ĐIỂM TOÀN KHÓA XÉT ĐIỀU KIỆN NHẬN ĐỒ ÁN/KHÓA LUẬN TỐT NGHIỆP
V2: LỚP 66DCHT23
A4: STT | B4: Mã sinh viên | D4: Họ đệm | E4: Tên | F4: Ngày sinh | G4: Tổng số TC | H4: Số tín chỉ tính điểm | I4: Số tín chỉ tích lũy | J4: Điểm TBC (hệ 10) | K4: Điểm TBC (hệ 4) | L4: Số môn không đạt | M4: Số Tín chỉ không đạt | N4: Tỷ lệ % không đạt | O4: Đề nghị xét | P4: DC3HT51_An toàn và bảo mật hệ thống thông tin (2) | Q4: DC2HT26_Cấu trúc dữ liệu và giải thuật (4) | R4: DC2HT38_Công nghệ phần mềm (3) | S4: DC2TT32_Điện toán đám mây (2) | T4: DC3HT52_Đồ án Hệ thống thông tin (3) | U4: DC1LL04_Đường lối cách mạng của Đảng cộng sản Việt Nam (3) | V4: DC3HT34_Giao thông thông minh (ITS) (3) | W4: DC3HT21_Hệ quản trị Cơ sở dữ liệu (3) | X4: DC3HT42_Hệ thống hoạch định nguồn lực doanh nghiệp (ERP) (3) | Y4: DC3HT43_Hệ thống thông tin địa lý - GIS (3) | Z4: DC3HT22_Hệ trợ giúp quyết định (3) | AA4: DC3HT41_Kiểm thử phần mềm (3) | AB4: DC3TH44_Kiến trúc của hệ thống QL, giám sát PTGT (3) | AC4: DC2HT11_Kiến trúc máy tính (3) | AD4: DC1TT31_Kỹ thuật xây dựng và trình bày báo cáo (2) | AE4: DC3HT31_Lập trình di động (3) | AF4: DC2TT35_Lập trình hướng đối tượng C++ (3) | AG4: DC2HT33_Lập trình Java (3) | AH4: DC2HT36_Lập trình trên môi trường Web (3) | AI4: DC2HT34_Lập trình trực quan C# (3) | AJ4: DC2HT25_Lý thuyết đồ thị (2) | AK4: DC1CB20_Lý thuyết xác suất - thống kê (2) | AL4: DC2HT12_Nguyên lý Hệ điều hành (3) | AM4: DC2TT22_Nhập môn Cơ sở dữ liệu (3) | AN4: DC2HT13_Nhập môn mạng máy tính (3) | AO4: DC3HT16_Nhập môn Xử lý ảnh (3) | AP4: DC1LL01_Những nguyên lý cơ bản của CN Mác - Lênin 1 (2) | AQ4: DC1LL02_Những nguyên lý cơ bản của CN Mác - Lênin 2 (3) | AR4: DC1LL05_Pháp luật Việt Nam đại cương (2) | AS4: DC2TT31_Phần mềm mã nguồn mở (2) | AT4: DC3HT60_Phân tích và thiết kế hệ thống thông tin (4) | AU4: DC3HT32_Quản lý dự án phần mềm (3) | AV4: DC3TT47_Quản trị mạng (3) | AW4: DC3HT46_Thiết kế mạng máy tính (3) | AX4: DC4HT22_Thực tập chuyên ngành, thực tập DN (6) | AY4: DC4TH70_Thực tập tốt nghiệp (4) | AZ4: DC1TT43_Tin học đại cương (3) | BA4: DC2TT21_Toán rời rạc (3) | BB4: DC1CB11_Toán 1 (4) | BC4: DC1CB41_Toán 2 (2) | BD4: DC1CB57_Toán 3 (3) | BE4: DC1LL03_Tư tưởng Hồ Chí Minh (2) | BF4: DC1TT21_Vật lý đại cương 1 (2) | BG4: DC1TT22_Vật lý đại cương 2 (2)
P5: 2 | Q5: 4 | R5: 3 | S5: 2 | T5: 3 | U5: 3 | V5: 3 | W5: 3 | X5: 3 | Y5: 3 | Z5: 3 | AA5: 3 | AB5: 3 | AC5: 3 | AD5: 2 | AE5: 3 | AF5: 3 | AG5: 3 | AH5: 3 | AI5: 3 | AJ5: 2 | AK5: 2 | AL5: 3 | AM5: 3 | AN5: 3 | AO5: 3 | AP5: 2 | AQ5: 3 | AR5: 2 | AS5: 2 | AT5: 4 | AU5: 3 | AV5: 3 | AW5: 3 | AX5: 6 | AY5: 4 | AZ5: 3 | BA5: 3 | BB5: 4 | BC5: 2 | BD5: 3 | BE5: 2 | BF5: 2 | BG5: 2
A6: 1 | B6: 66DCHT23206 | D6: NGÔ QUỐC | E6: ANH | F6: 35620 | G6: 127 | H6: 127 | I6: 127 | J6: 6.7559055 | K6: 2.6299213 | L6: 0 | M6: 0 | N6: 0 | O6: Đ | P6: 7.2 | Q6: 8.6 | R6: 6 | S6: 7.7 | T6: 6 | U6: 4.8 | V6: 6.6 | W6: 9.1 | X6: 8.9 | Y6: 8.2 | Z6: 8.1 | AA6: 8 | AB6: 7.5 | AC6: 6.2 | AD6: 7.9 | AE6: 8.1 | AF6: 5.2 | AG6: 7 | AH6: 8 | AI6: 6.3 | AJ6: 9.1 | AK6: 6.3 | AL6: 7 | AM6: 8.4 | AN6: 4.4 | AO6: 5.9 | AP6: 6.4 | AQ6: 7.6 | AR6: 4.9 | AS6: 7.3 | AT6: 7.7 | AU6: 5.7 | AV6: 6.5 | AW6: 5 | AX6: 8 | AY6: 8 | AZ6: 6.1 | BA6: 5.2 | BB6: 4.1 | BC6: 4.5 | BD6: 4.2 | BE6: 5.9 | BF6: 6.8 | BG6: 4.2 | BH6: =VLOOKUP(B6,'66DCHT'!$C$10:$G$54,3,0) -> #N/A
A7: 2 | B7: 66DCHT22447 | D7: TRẦN ĐÌNH | E7: CÔNG | F7: 35771 | G7: 127 | H7: 127 | I7: 127 | J7: 6.7393701 | K7: 2.6102362 | L7: 0 | M7: 0 | N7: 0 | O7: Đ | P7: 5.6 | Q7: 6 | R7: 6.4 | S7: 4.6 | T7: 9.2 | U7: 8.5 | V7: 5.9 | W7: 7.3 | X7: 8.9 | Y7: 7.5 | Z7: 8.8 | AA7: 7.3 | AB7: 8.2 | AC7: 5.6 | AD7: 7.1 | AE7: 10 | AF7: 5.1 | AG7: 8.3 | AH7: 6.8 | AI7: 6.7 | AJ7: 4.7 | AK7: 6.9 | AL7: 4.6 | AM7: 6.1 | AN7: 4.4 | AO7: 5.6 | AP7: 5.9 | AQ7: 7 | AR7: 5.7 | AS7: 7.3 | AT7: 8 | AU7: 6 | AV7: 7.3 | AW7: 4.3 | AX7: 8.7 | AY7: 8.7 | AZ7: 4.9 | BA7: 8 | BB7: 6.6 | BC7: 5.6 | BD7: 4 | BE7: 5.6 | BF7: 4.8 | BG7: 5.4 | BH7: =VLOOKUP(B7,'66DCHT'!$C$10:$G$54,3,0) -> #N/A
A8: 3 | B8: 66DCHT22767 | C8: =D8&" "&E8 -> TRẦN QUỐC ĐẠT | D8: TRẦN QUỐC | E8: ĐẠT | F8: 22/05/1996 | G8: 127 | H8: 127 | I8: 127 | J8: 7.0527559 | K8: 2.8149606 | L8: 0 | M8: 0 | N8: 0 | O8: Đ | P8: 6.3 | Q8: 7.4 | R8: 7.2 | S8: 6.9 | T8: 8.8 | U8: 8.5 | V8: 6.5 | W8: 8.8 | X8: 8.9 | Y8: 9.1 | Z8: 7.3 | AA8: 8 | AB8: 8.2 | AC8: 5.1 | AD8: 7.9 | AE8: 8.4 | AF8: 5.1 | AG8: 7.2 | AH8: 4.8 | AI8: 6.7 | AJ8: 5.3 | AK8: 7.2 | AL8: 7 | AM8: 6.7 | AN8: 4.1 | AO8: 7.4 | AP8: 4.9 | AQ8: 5.9 | AR8: 4.3 | AS8: 6.5 | AT8: 8.7 | AU8: 7.4 | AV8: 6.4 | AW8: 6.8 | AX8: 8.7 | AY8: 8.7 | AZ8: 4.2 | BA8: 7.3 | BB8: 6.6 | BC8: 8.5 | BD8: 6.5 | BE8: 5.3 | BF8: 7.3 | BG8: 6.1 | BH8: =VLOOKUP(B8,'66DCHT'!$C$10:$G$54,3,0) -> 22/05/1996
A9: 4 | B9: 66DCHT23255 | D9: TRẦN TIẾN | E9: ĐẠT | F9: 35431 | G9: 127 | H9: 127 | I9: 123 | J9: 6.5850394 | K9: 2.4448819 | L9: 1 | M9: 4 | N9: 0.031496063 | O9: Đ | P9: 7.9 | Q9: 7.2 | R9: 5.4 | S9: 6.9 | T9: 8.6 | U9: 8.1 | V9: 6.9 | W9: 7 | X9: 8.3 | Y9: 9 | Z9: 5.2 | AA9: 8.4 | AB9: 7.8 | AC9: 4.8 | AD9: 8.5 | AE9: 6 | AF9: 5.5 | AG9: 8.1 | AH9: 7 | AI9: 7.2 | AJ9: 4.6 | AK9: 4.5 | AL9: 5.8 | AM9: 6 | AN9: 5.8 | AO9: 4.6 | AP9: 5.4 | AQ9: 4.8 | AR9: 4 | AS9: 7.6 | AT9: 9.1 | AU9: 5.2 | AV9: 8 | AW9: 5.7 | AX9: 8.4 | AY9: 8.4 | AZ9: 5.8 | BA9: 4.4 | BB9: 3.8 | BC9: 6.1 | BD9: 7.3 | BE9: 4 | BF9: 4.9 | BG9: 6.5 | BH9: =VLOOKUP(B9,'66DCHT'!$C$10:$G$54,3,0) -> #N/A
A10: 5 | B10: 66DCHT22873 | C10: =D10&" "&E10 -> ĐỖ MẠNH HÙNG | D10: ĐỖ MẠNH | E10: HÙNG | F10: 34792 | G10: 127 | H10: 127 | I10: 127 | J10: 7.576378 | K10: 3.1535433 | L10: 0 | M10: 0 | N10: 0 | O10: Đ | P10: 7.6 | Q10: 6.6 | R10: 7.2 | S10: 7.6 | T10: 8.8 | U10: 7.5 | V10: 8.2 | W10: 9.7 | X10: 7.9 | Y10: 7.6 | Z10: 8 | AA10: 8.2 | AB10: 8.2 | AC10: 6.5 | AD10: 9.1 | AE10: 9.3 | AF10: 5.9 | AG10: 8.2 | AH10: 7.1 | AI10: 9.1 | AJ10: 7.5 | AK10: 8.4 | AL10: 6.9 | AM10: 8 | AN10: 7.2 | AO10: 7.1 | AP10: 8.1 | AQ10: 7.3 | AR10: 6.6 | AS10: 8.8 | AT10: 8.2 | AU10: 8.5 | AV10: 8.7 | AW10: 7.1 | AX10: 7 | AY10: 7 | AZ10: 7 | BA10: 7.2 | BB10: 6 | BC10: 6.6 | BD10: 6.4 | BE10: 8.4 | BF10: 7.3 | BG10: 5.3 | BH10: =VLOOKUP(B10,'66DCHT'!$C$10:$G$54,3,0) -> 04/03/1995
A11: 6 | B11: 66DCHT23138 | C11: =D11&" "&E11 -> CHU MINH KHẢI | D11: CHU MINH | E11: KHẢI | F11: 20/09/1997 | G11: 127 | H11: 127 | I11: 127 | J11: 7.2590551 | K11: 2.9566929 | L11: 0 | M11: 0 | N11: 0 | O11: Đ | P11: 7 | Q11: 7.7 | R11: 7.4 | S11: 9.3 | T11: 9.1 | U11: 8.5 | V11: 9 | W11: 8.1 | X11: 8.6 | Y11: 8.9 | Z11: 7.1 | AA11: 8 | AB11: 8.2 | AC11: 5.1 | AD11: 9.8 | AE11: 9.1 | AF11: 4 | AG11: 8.1 | AH11: 8.2 | AI11: 8.5 | AJ11: 8.4 | AK11: 6 | AL11: 7.1 | AM11: 8.4 | AN11: 4.1 | AO11: 6.8 | AP11: 7.4 | AQ11: 7.3 | AR11: 6.6 | AS11: 6.7 | AT11: 8.4 | AU11: 6.7 | AV11: 6.1 | AW11: 7.6 | AX11: 7 | AY11: 7 | AZ11: 8.6 | BA11: 5.6 | BB11: 4.5 | BC11: 4.4 | BD11: 6.3 | BE11: 6.6 | BF11: 4.5 | BG11: 7.3 | BH11: =VLOOKUP(B11,'66DCHT'!$C$10:$G$54,3,0) -> 20/09/1997
A12: 7 | B12: 66DCHT23092 | C12: =D12&" "&E12 -> LƯU TRUNG KIÊN | D12: LƯU TRUNG | E12: KIÊN | F12: 25/09/1997 | G12: 127 | H12: 127 | I12: 122 | J12: 5.9535433 | K12: 2.003937 | L12: 2 | M12: 5 | N12: 0.039370079 | O12: Đ | P12: 6.4 | Q12: 6.5 | R12: 4.8 | S12: 6.9 | T12: 6.5 | U12: 7.9 | V12: 5.2 | W12: 5.3 | X12: 8.2 | Y12: 8.5 | Z12: 4.7 | AA12: 8 | AB12: 7.3 | AC12: 7.7 | AD12: 8.6 | AE12: 6 | AF12: 5.2 | AG12: 3.9 | AH12: 5.3 | AI12: 6.8 | AJ12: 5.4 | AK12: 5.6 | AL12: 4.7 | AM12: 8 | AN12: 4.4 | AO12: 4.2 | AP12: 4.9 | AQ12: 6.7 | AR12: 4.5 | AS12: 4.4 | AT12: 7.3 | AU12: 5.1 | AV12: 5.8 | AW12: 7.8 | AX12: 5.9 | AY12: 5.9 | AZ12: 4.4 | BA12: 6.6 | BB12: 4.6 | BC12: 2.4 | BD12: 4.7 | BE12: 6.7 | BF12: 5.5 | BG12: 4.9 | BH12: =VLOOKUP(B12,'66DCHT'!$C$10:$G$54,3,0) -> 25/09/1997
A13: 8 | B13: 66DCHT22557 | C13: =D13&" "&E13 -> PHẠM THỊ THÚY KIỀU | D13: PHẠM THỊ THÚY | E13: KIỀU | F13: 35551 | G13: 127 | H13: 127 | I13: 127 | J13: 7.5086614 | K13: 3.1102362 | L13: 0 | M13: 0 | N13: 0 | O13: Đ | P13: 7.2 | Q13: 9.3 | R13: 6.3 | S13: 8.4 | T13: 9 | U13: 8.6 | V13: 6.2 | W13: 8.8 | X13: 8.5 | Y13: 9 | Z13: 8.5 | AA13: 8 | AB13: 8.3 | AC13: 6.2 | AD13: 9.8 | AE13: 8.1 | AF13: 5.9 | AG13: 4.4 | AH13: 8.1 | AI13: 6.1 | AJ13: 8.2 | AK13: 9.1 | AL13: 7.7 | AM13: 7.4 | AN13: 6.5 | AO13: 8.9 | AP13: 7 | AQ13: 8.7 | AR13: 6 | AS13: 7.7 | AT13: 8.3 | AU13: 7.7 | AV13: 8 | AW13: 4.4 | AX13: 8 | AY13: 8 | AZ13: 4.4 | BA13: 5.9 | BB13: 7.2 | BC13: 5.1 | BD13: 9.8 | BE13: 7.5 | BF13: 6.1 | BG13: 6 | BH13: =VLOOKUP(B13,'66DCHT'!$C$10:$G$54,3,0) -> 05/01/1997
A14: 9 | B14: 66DCHT23063 | C14: =D14&" "&E14 -> VŨ ĐÌNH QUANG | D14: VŨ ĐÌNH | E14: QUANG | F14: 35530 | G14: 127 | H14: 127 | I14: 127 | J14: 7.4173228 | K14: 3 | L14: 0 | M14: 0 | N14: 0 | O14: Đ | P14: 8.6 | Q14: 8.3 | R14: 7.3 | S14: 7.6 | T14: 8 | U14: 7.3 | V14: 8.8 | W14: 9.7 | X14: 8.3 | Y14: 8.4 | Z14: 8.1 | AA14: 7.7 | AB14: 7.2 | AC14: 6.5 | AD14: 9.5 | AE14: 9.3 | AF14: 7.1 | AG14: 9 | AH14: 8.3 | AI14: 7.3 | AJ14: 6.2 | AK14: 4.8 | AL14: 7.2 | AM14: 8.1 | AN14: 7.9 | AO14: 4 | AP14: 6.9 | AQ14: 7.3 | AR14: 4.9 | AS14: 4.2 | AT14: 8.9 | AU14: 6.8 | AV14: 8.8 | AW14: 6.4 | AX14: 8 | AY14: 8.3 | AZ14: 8.1 | BA14: 5.9 | BB14: 5.8 | BC14: 4.4 | BD14: 8.6 | BE14: 4 | BF14: 7.3 | BG14: 4.9 | BH14: =VLOOKUP(B14,'66DCHT'!$C$10:$G$54,3,0) -> 04/10/1997
A15: 10 | B15: 66DCHT22717 | C15: =D15&" "&E15 -> LÊ VĂN TUẤN | D15: LÊ VĂN | E15: TUẤN | F15: 20/01/1997 | G15: 127 | H15: 127 | I15: 127 | J15: 7.1787402 | K15: 2.8740157 | L15: 0 | M15: 0 | N15: 0 | O15: Đ | P15: 6.5 | Q15: 8.3 | R15: 7.2 | S15: 8.4 | T15: 8.8 | U15: 8.3 | V15: 6.8 | W15: 7.2 | X15: 8.9 | Y15: 8.4 | Z15: 8.1 | AA15: 8 | AB15: 7.5 | AC15: 5.5 | AD15: 8.9 | AE15: 9.2 | AF15: 5.5 | AG15: 8.8 | AH15: 9 | AI15: 6.8 | AJ15: 6.7 | AK15: 6.1 | AL15: 6.6 | AM15: 7.3 | AN15: 5.8 | AO15: 6.1 | AP15: 5.2 | AQ15: 7.7 | AR15: 5.7 | AS15: 5.3 | AT15: 7.5 | AU15: 7.2 | AV15: 6.4 | AW15: 6.5 | AX15: 8.7 | AY15: 8.7 | AZ15: 7.8 | BA15: 7.7 | BB15: 4.4 | BC15: 4 | BD15: 4.8 | BE15: 7 | BF15: 4.5 | BG15: 6.8 | BH15: =VLOOKUP(B15,'66DCHT'!$C$10:$G$54,3,0) -> 20/01/1997
