Workbook
Name _DS: IF('66DCDT'!$A1="","",VLOOKUP('66DCDT'!$C$4&'66DCDT'!$A1,[1]Sheet1!$G$1:$M$65536,'66DCDT'!#REF!,0))
Name _DS: IF('66DCTM'!$A1="","",VLOOKUP('66DCTM'!$C$4&'66DCTM'!$A1,[1]Sheet1!$G$1:$M$65536,'66DCTM'!#REF!,0))
Name _DS: IF('66DCHT'!$A1="","",VLOOKUP('66DCHT'!$C$4&'66DCHT'!$A1,[1]Sheet1!$G$1:$M$65536,'66DCHT'!#REF!,0))
Name _DS: IF(#REF!="","",VLOOKUP(#REF!&#REF!,[1]Sheet1!$G$1:$M$65536,#REF!,0))
Name _Loc: IF('65DCDT23'!$A1="","",VLOOKUP('65DCDT23'!$A1,[2]DIEM!$A:$CT,'65DCDT23'!A$1,0))
Name _Loc: IF('65DCHT21'!$A1="","",VLOOKUP('65DCHT21'!$A1,[2]DIEM!$A:$CT,'65DCHT21'!A$1,0))
Name _Loc: IF('65DCHT22'!$A1="","",VLOOKUP('65DCHT22'!$A1,[2]DIEM!$A:$CT,'65DCHT22'!A$1,0))
Name _Loc: IF('65DCHT23'!$A1="","",VLOOKUP('65DCHT23'!$A1,[2]DIEM!$A:$CT,'65DCHT23'!A$1,0))
Name _Loc: IF('66DCDT21'!$A1="","",VLOOKUP('66DCDT21'!$A1,[2]DIEM!$A:$CT,'66DCDT21'!A$1,0))
Name _Loc: IF('66DCDT22'!$A1="","",VLOOKUP('66DCDT22'!$A1,[2]DIEM!$A:$CT,'66DCDT22'!A$1,0))
Name _Loc: IF('66DCDT23'!$A1="","",VLOOKUP('66DCDT23'!$A1,[2]DIEM!$A:$CT,'66DCDT23'!A$1,0))
Name _Loc: IF('66DCTM21'!$A1="","",VLOOKUP('66DCTM21'!$A1,[2]DIEM!$A:$CT,'66DCTM21'!A$1,0))
Name _Loc: IF('66DCTM22'!$A1="","",VLOOKUP('66DCTM22'!$A1,[2]DIEM!$A:$CT,'66DCTM22'!A$1,0))
Name _Loc: IF('66DCTM23'!$A1="","",VLOOKUP('66DCTM23'!$A1,[2]DIEM!$A:$CT,'66DCTM23'!A$1,0))
Name _Loc: IF('66DCHT21'!$A1="","",VLOOKUP('66DCHT21'!$A1,[2]DIEM!$A:$CT,'66DCHT21'!A$1,0))
Name _Loc: IF('66DCHT22'!$A1="","",VLOOKUP('66DCHT22'!$A1,[2]DIEM!$A:$CT,'66DCHT22'!A$1,0))
Name _Loc: IF('66DCHT23'!$A1="","",VLOOKUP('66DCHT23'!$A1,[2]DIEM!$A:$CT,'66DCHT23'!A$1,0))
Name _STC: IFERROR(VALUE(MID('65DCDT23'!A1048576,LEN('65DCDT23'!A1048576)-1,1)),"")
Name _STC: IFERROR(VALUE(MID('65DCHT21'!A1048576,LEN('65DCHT21'!A1048576)-1,1)),"")
Name _STC: IFERROR(VALUE(MID('65DCHT22'!A1048576,LEN('65DCHT22'!A1048576)-1,1)),"")
Name _STC: IFERROR(VALUE(MID('65DCHT23'!A1048576,LEN('65DCHT23'!A1048576)-1,1)),"")
Name _STC: IFERROR(VALUE(MID('66DCDT21'!A1048576,LEN('66DCDT21'!A1048576)-1,1)),"")
Name _STC: IFERROR(VALUE(MID('66DCDT22'!A1048576,LEN('66DCDT22'!A1048576)-1,1)),"")
Name _STC: IFERROR(VALUE(MID('66DCDT23'!A1048576,LEN('66DCDT23'!A1048576)-1,1)),"")
Name _STC: IFERROR(VALUE(MID('66DCTM21'!A1048576,LEN('66DCTM21'!A1048576)-1,1)),"")
Name _STC: IFERROR(VALUE(MID('66DCTM22'!A1048576,LEN('66DCTM22'!A1048576)-1,1)),"")
Name _STC: IFERROR(VALUE(MID('66DCTM23'!A1048576,LEN('66DCTM23'!A1048576)-1,1)),"")
Name _STC: IFERROR(VALUE(MID('66DCHT21'!A1048576,LEN('66DCHT21'!A1048576)-1,1)),"")
Name _STC: IFERROR(VALUE(MID('66DCHT22'!A1048576,LEN('66DCHT22'!A1048576)-1,1)),"")
Name _STC: IFERROR(VALUE(MID('66DCHT23'!A1048576,LEN('66DCHT23'!A1048576)-1,1)),"")
Name _stt: IF('66DCDT'!#REF!="","",IF('66DCDT'!#REF!+1>'66DCDT'!$J$1,"",'66DCDT'!#REF!+1))
Name _stt: IF('66DCTM'!#REF!="","",IF('66DCTM'!#REF!+1>'66DCTM'!$J$1,"",'66DCTM'!#REF!+1))
Name _stt: IF('66DCHT'!#REF!="","",IF('66DCHT'!#REF!+1>'66DCHT'!$J$1,"",'66DCHT'!#REF!+1))
Name _stt: IF(#REF!="","",IF(#REF!+1>#REF!,"",#REF!+1))
Name _TenHP: IF('65DCDT23'!A1048571="","",INDEX([2]DIEM!$1:$1048576,10,MATCH('65DCDT23'!A1048571,[2]DIEM!1048568:1048568,0)))
Name _TenHP: IF('65DCHT21'!A1048571="","",INDEX([2]DIEM!$1:$1048576,10,MATCH('65DCHT21'!A1048571,[2]DIEM!1048568:1048568,0)))
Name _TenHP: IF('65DCHT22'!A1048571="","",INDEX([2]DIEM!$1:$1048576,10,MATCH('65DCHT22'!A1048571,[2]DIEM!1048568:1048568,0)))
Name _TenHP: IF('65DCHT23'!A1048571="","",INDEX([2]DIEM!$1:$1048576,10,MATCH('65DCHT23'!A1048571,[2]DIEM!1048568:1048568,0)))
Name _TenHP: IF('66DCDT21'!A1048571="","",INDEX([2]DIEM!$1:$1048576,10,MATCH('66DCDT21'!A1048571,[2]DIEM!1048568:1048568,0)))
Name _TenHP: IF('66DCDT22'!A1048571="","",INDEX([2]DIEM!$1:$1048576,10,MATCH('66DCDT22'!A1048571,[2]DIEM!1048568:1048568,0)))
Name _TenHP: IF('66DCDT23'!A1048571="","",INDEX([2]DIEM!$1:$1048576,10,MATCH('66DCDT23'!A1048571,[2]DIEM!1048568:1048568,0)))
Name _TenHP: IF('66DCTM21'!A1048571="","",INDEX([2]DIEM!$1:$1048576,10,MATCH('66DCTM21'!A1048571,[2]DIEM!1048568:1048568,0)))
Name _TenHP: IF('66DCTM22'!A1048571="","",INDEX([2]DIEM!$1:$1048576,10,MATCH('66DCTM22'!A1048571,[2]DIEM!1048568:1048568,0)))
Name _TenHP: IF('66DCTM23'!A1048571="","",INDEX([2]DIEM!$1:$1048576,10,MATCH('66DCTM23'!A1048571,[2]DIEM!1048568:1048568,0)))
Name _TenHP: IF('66DCHT21'!A1048571="","",INDEX([2]DIEM!$1:$1048576,10,MATCH('66DCHT21'!A1048571,[2]DIEM!1048568:1048568,0)))
Name _TenHP: IF('66DCHT22'!A1048571="","",INDEX([2]DIEM!$1:$1048576,10,MATCH('66DCHT22'!A1048571,[2]DIEM!1048568:1048568,0)))
Name _TenHP: IF('66DCHT23'!A1048571="","",INDEX([2]DIEM!$1:$1048576,10,MATCH('66DCHT23'!A1048571,[2]DIEM!1048568:1048568,0)))
Name a: IF(#REF!="","",VLOOKUP(#REF!&#REF!,[1]Sheet1!$G$1:$M$65536,#REF!,0))
Name a: IF(#REF!="","",VLOOKUP(#REF!&#REF!,[1]Sheet1!$G$1:$M$65536,#REF!,0))
Name a: IF(#REF!="","",VLOOKUP(#REF!&#REF!,[1]Sheet1!$G$1:$M$65536,#REF!,0))
Name a: IF(#REF!="","",VLOOKUP(#REF!&#REF!,[1]Sheet1!$G$1:$M$65536,#REF!,0))

Sheet 66DCDT21
X1: BẢNG ĐIỂM TOÀN KHÓA XÉT ĐIỀU KIỆN NHẬN ĐỒ ÁN/KHÓA LUẬN TỐT NGHIỆP
V2: LỚP 66DCDT21
A4: STT | B4: Mã sinh viên | D4: Họ đệm | E4: Tên | F4: Ngày sinh | G4: Tổng số TC | H4: Số tín chỉ tính điểm | I4: Số tín chỉ tích lũy | J4: Điểm TBC (hệ 10) | K4: Điểm TBC (hệ 4) | L4: Số môn không đạt | M4: Số Tín chỉ không đạt | N4: Tỷ lệ % không đạt | O4: Đề nghị xét | P4: DC2DT55_Anten và truyền sóng (3) | Q4: DC3DT81_Công nghệ Multimedia (2) | R4: DC3DT82_Công nghệ vi điện tử (2) | S4: DC2DT45_Cơ sở điều khiển tự động (3) | T4: DC3DT34_Cơ sở truyền số liệu (2) | U4: DC2DT51_Điện tử số (3) | V4: DC2DT26_Đo lường điện tử (2) | W4: DC2DT24_Đồ án Điện tử (2) | X4: DC3DT70_Đồ án Viễn thông (2) | Y4: DC1LL04_Đường lối cách mạng của Đảng cộng sản Việt Nam (3) | Z4: DC3DT63_Hệ thống viễn thông (3) | AA4: DC2DT57_Kiến trúc máy tính (2) | AB4: DC2DT29_Kỹ thuật vi xử lý và ứng dụng (3) | AC4: DC2DT23_Lập trình C/C++ (4) | AD4: DC2DT41_Linh kiện điện tử (3) | AE4: DC2DT27_Lý thuyết mạch (4) | AF4: DC2DT43_Lý thuyết truyền tin (3) | AG4: DC1CB20_Lý thuyết xác suất - thống kê (2) | AH4: DC3DT36_Mạng viễn thông (3) | AI4: DC1TH48_Matlab và ứng dụng (2) | AJ4: DC3DT39_Mô phỏng hệ thống truyền thông (2) | AK4: DC3DT37_Ứng dụng điện tử truyền thông trong ITS (3) | AL4: DC1LL01_Những nguyên lý cơ bản của CN Mác - Lênin 1 (2) | AM4: DC1LL02_Những nguyên lý cơ bản của CN Mác - Lênin 2 (3) | AN4: DC1LL05_Pháp luật Việt Nam đại cương (2) | AO4: DC3DT73_Thông tin di động (3) | AP4: DC3DT71_Thông tin số (3) | AQ4: DC3DT72_Thông tin vô tuyến (3) | AR4: DC4DT21_Thực tập Điện tử cơ bản (3) | AS4: DC4DT23_Thực tập Điện tử viễn thông (3) | AT4: DC4DT22_Thực tập Lắp ráp điện tử (2) | AU4: DC4DT71_Thực tập tốt nghiệp (7) | AV4: DC1CB35_Tiếng anh (3) | AW4: DC1TT42_Tin học đại cương (3) | AX4: DC1CB11_Toán 1 (4) | AY4: DC1CB41_Toán 2 (2) | AZ4: DC1CB57_Toán 3 (3) | BA4: DC2DT28_Trường điện từ (2) | BB4: DC1LL03_Tư tưởng Hồ Chí Minh (2) | BC4: DC1DT21_Vật lý đại cương 1 (3) | BD4: DC1DT22_Vật lý đại cương 2 (2) | BE4: DC3DT35_Xử lý ảnh số và video số (3) | BF4: DC2DT65_Xử lý tín hiệu số (4)
P5: 3 | Q5: 2 | R5: 2 | S5: 3 | T5: 2 | U5: 3 | V5: 2 | W5: 2 | X5: 2 | Y5: 3 | Z5: 3 | AA5: 2 | AB5: 3 | AC5: 4 | AD5: 3 | AE5: 4 | AF5: 3 | AG5: 2 | AH5: 3 | AI5: 2 | AJ5: 2 | AK5: 3 | AL5: 2 | AM5: 3 | AN5: 2 | AO5: 3 | AP5: 3 | AQ5: 3 | AR5: 3 | AS5: 3 | AT5: 2 | AU5: 7 | AV5: 3 | AW5: 3 | AX5: 4 | AY5: 2 | AZ5: 3 | BA5: 2 | BB5: 2 | BC5: 3 | BD5: 2 | BE5: 3 | BF5: 4
A6: 1 | B6: 66DCDT20982 | C6: =D6&" "&E6 -> KHUẤT NGỌC ANH | D6: KHUẤT NGỌC | E6: ANH | F6: 35649 | G6: 120 | H6: 120 | I6: 120 | J6: 6.855 | K6: 2.6583333 | L6: 0 | M6: 0 | N6: 0 | O6: Đ | P6: 8.2 | Q6: 6.2 | R6: 8.3 | S6: 5.9 | T6: 6.8 | U6: 5.1 | V6: 5.8 | W6: 8.3 | X6: 8 | Y6: 8.5 | Z6: 7.5 | AA6: 7.5 | AB6: 5.6 | AC6: 7.5 | AD6: 5.3 | AE6: 4.5 | AF6: 4.1 | AG6: 8.2 | AH6: 7.7 | AI6: 8.1 | AJ6: 8.6 | AK6: 7 | AL6: 6.5 | AM6: 8.6 | AN6: 4.8 | AO6: 8 | AP6: 4.5 | AQ6: 6.1 | AR6: 8 | AS6: 9.1 | AT6: 8 | AU6: 9.1 | AV6: 4.3 | AW6: 4.9 | AX6: 6.3 | AY6: 5.3 | AZ6: 6.6 | BA6: 6.8 | BB6: 8.2 | BC6: 5.5 | BD6: 8.3 | BE6: 6.4 | BF6: 6.9 | BG6: =VLOOKUP(B6,'66DCDT'!$C$10:$G$58,3,0) -> 08/07/1997
A7: 2 | B7: 66DCDT20572 | D7: BÙI XUÂN | E7: BẮC | F7: 28/03/1997 | G7: 120 | H7: 118 | I7: 116 | J7: 5.9364407 | K7: 2.0254237 | L7: 2 | M7: 4 | N7: 0.033333333 | O7: Đ | P7: 4.8 | R7: 4.5 | S7: 5.9 | T7: 6.3 | U7: 4.2 | V7: 4.8 | W7: 6.3 | X7: 5 | Y7: 6.7 | Z7: 4.5 | AA7: 8.1 | AB7: 5.9 | AC7: 7.2 | AD7: 6.8 | AE7: 4.6 | AF7: 7.3 | AG7: 2.6 | AH7: 5 | AI7: 4.9 | AJ7: 6.6 | AK7: 5.2 | AL7: 4.3 | AM7: 5.7 | AN7: 4.5 | AO7: 6.4 | AP7: 4.8 | AQ7: 5.8 | AR7: 7.3 | AS7: 8.7 | AT7: 7.3 | AU7: 8.7 | AV7: 4.8 | AW7: 4.3 | AX7: 4.2 | AY7: 8.4 | AZ7: 7.7 | BA7: 5.5 | BB7: 4.5 | BC7: 5.2 | BD7: 8.2 | BE7: 4.6 | BF7: 6.8 | BG7: =VLOOKUP(B7,'66DCDT'!$C$10:$G$58,3,0) -> #N/A
A8: 3 | B8: 66DCDT20298 | D8: PHAN THỊ | E8: BÌNH | F8: 19/09/1997 | G8: 120 | H8: 120 | I8: 120 | J8: 6.6658333 | K8: 2.5541667 | L8: 0 | M8: 0 | N8: 0 | O8: Đ | P8: 6.2 | Q8: 4.3 | R8: 8.7 | S8: 7 | T8: 6.9 | U8: 5.8 | V8: 8.3 | W8: 8 | X8: 8 | Y8: 5.9 | Z8: 5.1 | AA8: 7.5 | AB8: 5.6 | AC8: 4.8 | AD8: 4.4 | AE8: 5 | AF8: 5.3 | AG8: 8.2 | AH8: 6.1 | AI8: 6.4 | AJ8: 6.5 | AK8: 7.7 | AL8: 6.8 | AM8: 4.6 | AN8: 6.8 | AO8: 8.6 | AP8: 6.6 | AQ8: 6.1 | AR8: 9 | AS8: 8.7 | AT8: 8 | AU8: 8.7 | AV8: 5.6 | AW8: 5.3 | AX8: 5.6 | AY8: 4.6 | AZ8: 5.8 | BA8: 6.8 | BB8: 7.8 | BC8: 8.4 | BD8: 9 | BE8: 6 | BF8: 7.7 | BG8: =VLOOKUP(B8,'66DCDT'!$C$10:$G$58,3,0) -> #N/A
A9: 4 | B9: 66DCDT20079 | D9: PHẠM VĂN | E9: DIỆN | F9: 28/10/1996 | G9: 120 | H9: 118 | I9: 116 | J9: 6.6584746 | K9: 2.5338983 | L9: 2 | M9: 4 | N9: 0.033333333 | O9: Đ | P9: 6 | R9: 2.9 | S9: 4.8 | T9: 7.5 | U9: 6.1 | V9: 7 | W9: 9 | X9: 7 | Y9: 6.4 | Z9: 5.9 | AA9: 6.1 | AB9: 9.3 | AC9: 6.4 | AD9: 5.6 | AE9: 6.2 | AF9: 8.2 | AG9: 4.6 | AH9: 6.6 | AI9: 6.9 | AJ9: 7.8 | AK9: 6.1 | AL9: 6.3 | AM9: 7.3 | AN9: 6.5 | AO9: 6.9 | AP9: 5.1 | AQ9: 6.7 | AR9: 6.6 | AS9: 9.1 | AT9: 7.7 | AU9: 9.1 | AV9: 4.6 | AW9: 6.8 | AX9: 5.3 | AY9: 5 | AZ9: 8.9 | BA9: 5.9 | BB9: 7.8 | BC9: 6.7 | BD9: 5.9 | BE9: 4.5 | BF9: 7 | BG9: =VLOOKUP(B9,'66DCDT'!$C$10:$G$58,3,0) -> #N/A
A10: 5 | B10: 66DCDT20389 | D10: VŨ TIẾN | E10: DƯƠNG | F10: 35431 | G10: 120 | H10: 118 | I10: 116 | J10: 6.1008475 | K10: 2.1483051 | L10: 2 | M10: 4 | N10: 0.033333333 | O10: Đ | P10: 5.9 | R10: 3.8 | S10: 6 | T10: 6 | U10: 7.6 | V10: 5.4 | W10: 8 | X10: 7 | Y10: 5.1 | Z10: 5.4 | AA10: 7.9 | AB10: 4.3 | AC10: 7.1 | AD10: 4.3 | AE10: 4.7 | AF10: 8.2 | AG10: 5.4 | AH10: 5.9 | AI10: 6.6 | AJ10: 5.6 | AK10: 6.1 | AL10: 6.4 | AM10: 5.6 | AN10: 5.8 | AO10: 7.7 | AP10: 4.5 | AQ10: 4.4 | AR10: 8.3 | AS10: 8.2 | AT10: 8 | AU10: 8.2 | AV10: 4 | AW10: 4.3 | AX10: 5.3 | AY10: 6.3 | AZ10: 5.4 | BA10: 5 | BB10: 6.9 | BC10: 5 | BD10: 5.2 | BE10: 6.7 | BF10: 6.7 | BG10: =VLOOKUP(B10,'66DCDT'!$C$10:$G$58,3,0) -> #N/A
A11: 6 | B11: 66DCDT20957 | C11: =D11&" "&E11 -> TRỊNH XUÂN ĐỨC | D11: TRỊNH XUÂN | E11: ĐỨC | F11: 35772 | G11: 120 | H11: 118 | I11: 118 | J11: 6.3923729 | K11: 2.3347458 | L11: 1 | M11: 2 | N11: 0.016666667 | O11: Đ | P11: 5.7 | R11: 4.3 | S11: 6.6 | T11: 6.1 | U11: 5.3 | V11: 6.3 | W11: 7.3 | X11: 9.9 | Y11: 4.3 | Z11: 7.7 | AA11: 7.7 | AB11: 6.1 | AC11: 6.5 | AD11: 6.8 | AE11: 6.4 | AF11: 8.5 | AG11: 5.7 | AH11: 5.9 | AI11: 5.7 | AJ11: 7.4 | AK11: 5.2 | AL11: 4.9 | AM11: 7.7 | AN11: 5.1 | AO11: 5.7 | AP11: 5.2 | AQ11: 8.3 | AR11: 7.6 | AS11: 8.2 | AT11: 7.3 | AU11: 8.2 | AV11: 5.3 | AW11: 8.9 | AX11: 4.6 | AY11: 7.1 | AZ11: 4 | BA11: 6.6 | BB11: 6.9 | BC11: 4.3 | BD11: 4.9 | BE11: 5 | BF11: 5.9 | BG11: =VLOOKUP(B11,'66DCDT'!$C$10:$G$58,3,0) -> 12/08/1997
A12: 7 | B12: 66DCDT23133 | D12: ĐỖ VIẾT | E12: ĐẠI | F12: 21/10/1997 | G12: 120 | H12: 118 | I12: 116 | J12: 5.9 | K12: 2.0508475 | L12: 2 | M12: 4 | N12: 0.033333333 | O12: Đ | P12: 5.8 | R12: 3.6 | S12: 5 | T12: 5.7 | U12: 4 | V12: 6.2 | W12: 8 | X12: 7.9 | Y12: 5.3 | Z12: 4.4 | AA12: 8.6 | AB12: 4.1 | AC12: 4.5 | AD12: 4.3 | AE12: 5.3 | AF12: 4.5 | AG12: 5.4 | AH12: 7.1 | AI12: 6 | AJ12: 6.2 | AK12: 5.9 | AL12: 4.2 | AM12: 5.1 | AN12: 6.2 | AO12: 5.6 | AP12: 4.6 | AQ12: 7.1 | AR12: 7.3 | AS12: 8.7 | AT12: 8.3 | AU12: 8.7 | AV12: 4.5 | AW12: 6.6 | AX12: 6.3 | AY12: 4.9 | AZ12: 5.6 | BA12: 5.9 | BB12: 6.6 | BC12: 6.9 | BD12: 4.9 | BE12: 6.7 | BF12: 4.1 | BG12: =VLOOKUP(B12,'66DCDT'!$C$10:$G$58,3,0) -> #N/A
A13: 8 | B13: 66DCDT20212 | C13: =D13&" "&E13 -> KIỀU THỊ HIỀN | D13: KIỀU THỊ | E13: HIỀN | F13: 30/05/1997 | G13: 120 | H13: 118 | I13: 118 | J13: 8.1830508 | K13: 3.4322034 | L13: 1 | M13: 2 | N13: 0.016666667 | O13: Đ | P13: 8.2 | R13: 8.9 | S13: 8.9 | T13: 7.6 | U13: 8.6 | V13: 9.1 | W13: 8.3 | X13: 8 | Y13: 8.8 | Z13: 7.3 | AA13: 8.6 | AB13: 8.8 | AC13: 8.4 | AD13: 7.7 | AE13: 6.7 | AF13: 8.7 | AG13: 9.8 | AH13: 7.9 | AI13: 8.7 | AJ13: 6.7 | AK13: 7.7 | AL13: 7.5 | AM13: 7.9 | AN13: 7.5 | AO13: 7 | AP13: 7.5 | AQ13: 6.7 | AR13: 6.6 | AS13: 9.6 | AT13: 8.3 | AU13: 9.6 | AV13: 6.2 | AW13: 7.4 | AX13: 9.8 | AY13: 8.3 | AZ13: 8.3 | BA13: 7.5 | BB13: 8.8 | BC13: 9.4 | BD13: 8.6 | BE13: 8 | BF13: 8.2 | BG13: =VLOOKUP(B13,'66DCDT'!$C$10:$G$58,3,0) -> 30/05/1997
A14: 9 | B14: 66DCDT20607 | D14: HOÀNG VĂN | E14: HIỆU | F14: 14/05/1996 | G14: 120 | H14: 118 | I14: 118 | J14: 5.9915254 | K14: 2.1398305 | L14: 1 | M14: 2 | N14: 0.016666667 | O14: Đ | P14: 6.7 | R14: 4.3 | S14: 6 | T14: 6.5 | U14: 4.6 | V14: 5.5 | W14: 8.3 | X14: 6.9 | Y14: 7 | Z14: 5.1 | AA14: 6.3 | AB14: 4.3 | AC14: 6.1 | AD14: 4.4 | AE14: 5.6 | AF14: 4.2 | AG14: 9.1 | AH14: 5.6 | AI14: 6.3 | AJ14: 7.8 | AK14: 5 | AL14: 5.9 | AM14: 7.3 | AN14: 6.5 | AO14: 5.7 | AP14: 4.9 | AQ14: 4.2 | AR14: 7.3 | AS14: 7.3 | AT14: 8.7 | AU14: 7.3 | AV14: 4.6 | AW14: 5.8 | AX14: 6.7 | AY14: 8.6 | AZ14: 5.2 | BA14: 4.1 | BB14: 5.7 | BC14: 5.5 | BD14: 6.1 | BE14: 4.6 | BF14: 5.8 | BG14: =VLOOKUP(B14,'66DCDT'!$C$10:$G$58,3,0) -> #N/A
A15: 10 | B15: 66DCDT20950 | C15: =D15&" "&E15 -> ĐỖ HOÀNH HUỲNH | D15: ĐỖ HOÀNH | E15: HUỲNH | F15: 35431 | G15: 120 | H15: 118 | I15: 118 | J15: 6.0805085 | K15: 2.1694915 | L15: 1 | M15: 2 | N15: 0.016666667 | O15: Đ | P15: 4.2 | R15: 6.6 | S15: 4.1 | T15: 4.9 | U15: 5.9 | V15: 4 | W15: 8.1 | X15: 5 | Y15: 5 | Z15: 6.4 | AA15: 4.9 | AB15: 7.5 | AC15: 9.2 | AD15: 5.9 | AE15: 5.2 | AF15: 5.9 | AG15: 6.8 | AH15: 6.6 | AI15: 4.1 | AJ15: 6.2 | AK15: 5.2 | AL15: 4.1 | AM15: 5.8 | AN15: 6.1 | AO15: 5.7 | AP15: 6.7 | AQ15: 4.8 | AR15: 6.9 | AS15: 8.7 | AT15: 8 | AU15: 8.7 | AV15: 5.6 | AW15: 6.9 | AX15: 4.2 | AY15: 6.5 | AZ15: 7.1 | BA15: 4.1 | BB15: 7.4 | BC15: 5.2 | BD15: 5.9 | BE15: 5.5 | BF15: 5 | BG15: =VLOOKUP(B15,'66DCDT'!$C$10:$G$58,3,0) -> 01/01/1997
A16: 11 | B16: 66DCDT20675 | C16: =D16&" "&E16 -> BÙI HUY KHANG | D16: BÙI HUY | E16: KHANG | F16: 27/01/1997 | G16: 120 | H16: 118 | I16: 118 | J16: 6.2711864 | K16: 2.309322 | L16: 1 | M16: 2 | N16: 0.016666667 | O16: Đ | P16: 4.5 | R16: 7 | S16: 4.2 | T16: 6.6 | U16: 4 | V16: 6.1 | W16: 7.3 | X16: 6.9 | Y16: 5.9 | Z16: 6.6 | AA16: 7.5 | AB16: 5.6 | AC16: 4.6 | AD16: 5.6 | AE16: 6.9 | AF16: 8.5 | AG16: 6.6 | AH16: 6.6 | AI16: 6.8 | AJ16: 6.9 | AK16: 6.8 | AL16: 4.9 | AM16: 7.6 | AN16: 5.1 | AO16: 5 | AP16: 5.1 | AQ16: 4.6 | AR16: 7 | AS16: 8.7 | AT16: 8 | AU16: 8.7 | AV16: 4.1 | AW16: 7.2 | AX16: 6 | AY16: 5.6 | AZ16: 5.4 | BA16: 7 | BB16: 7.6 | BC16: 5.9 | BD16: 5.3 | BE16: 6.4 | BF16: 5.7 | BG16: =VLOOKUP(B16,'66DCDT'!$C$10:$G$58,3,0) -> 27/01/1997
A17: 12 | B17: 66DCDT20847 | C17: =D17&" "&E17 -> NGUYỄN ĐÌNH KHÁNH | D17: NGUYỄN ĐÌNH | E17: KHÁNH | F17: 28/02/1997 | G17: 120 | H17: 120 | I17: 120 | J17: 7.1683333 | K17: 2.8458333 | L17: 0 | M17: 0 | N17: 0 | O17: Đ | P17: 6.6 | Q17: 4.6 | R17: 7.8 | S17: 4.3 | T17: 7.7 | U17: 5.1 | V17: 8.1 | W17: 9 | X17: 9.9 | Y17: 8.8 | Z17: 5.2 | AA17: 8.9 | AB17: 8.6 | AC17: 7.6 | AD17: 5 | AE17: 4.5 | AF17: 8.6 | AG17: 7.7 | AH17: 8.2 | AI17: 8.9 | AJ17: 8.7 | AK17: 8.4 | AL17: 6.5 | AM17: 8.6 | AN17: 6.5 | AO17: 4.5 | AP17: 5 | AQ17: 4.6 | AR17: 8.3 | AS17: 9.1 | AT17: 7 | AU17: 9.1 | AV17: 9 | AW17: 9 | AX17: 4.2 | AY17: 8 | AZ17: 6.3 | BA17: 5.7 | BB17: 7.1 | BC17: 7 | BD17: 8.9 | BE17: 4.9 | BF17: 8.5 | BG17: =VLOOKUP(B17,'66DCDT'!$C$10:$G$58,3,0) -> 28/02/1997
A18: 13 | B18: 66DCDT23170 | C18: =D18&" "&E18 -> LÊ VĂN KIÊN | D18: LÊ VĂN | E18: KIÊN | F18: 35530 | G18: 120 | H18: 118 | I18: 118 | J18: 6.2389831 | K18: 2.2881356 | L18: 1 | M18: 2 | N18: 0.016666667 | O18: Đ | P18: 4.9 | R18: 6.9 | S18: 4.3 | T18: 6.4 | U18: 5.7 | V18: 7.1 | W18: 7.3 | X18: 7.1 | Y18: 8.1 | Z18: 4.5 | AA18: 6.5 | AB18: 7.3 | AC18: 6.5 | AD18: 8.4 | AE18: 5.3 | AF18: 7.8 | AG18: 6.4 | AH18: 6.5 | AI18: 5.9 | AJ18: 7 | AK18: 5 | AL18: 6.9 | AM18: 8.2 | AN18: 5.8 | AO18: 6.3 | AP18: 8 | AQ18: 4.4 | AR18: 7.3 | AS18: 6 | AT18: 7.7 | AU18: 6 | AV18: 7 | AW18: 5 | AX18: 7.7 | AY18: 4.5 | AZ18: 4.5 | BA18: 4.3 | BB18: 8 | BC18: 5.9 | BD18: 5.9 | BE18: 5.7 | BF18: 4.1 | BG18: =VLOOKUP(B18,'66DCDT'!$C$10:$G$58,3,0) -> 04/10/1997
A19: 14 | B19: 66DCDT23131 | C19: =D19&" "&E19 -> NGUYỄN THỊ LƯƠNG | D19: NGUYỄN THỊ | E19: LƯƠNG | F19: 35674 | G19: 120 | H19: 118 | I19: 118 | J19: 7.229661 | K19: 2.8898305 | L19: 1 | M19: 2 | N19: 0.016666667 | O19: Đ | P19: 8.9 | R19: 8.5 | S19: 7.6 | T19: 7 | U19: 7.1 | V19: 6.2 | W19: 8 | X19: 7 | Y19: 8.5 | Z19: 6.8 | AA19: 7.5 | AB19: 5.5 | AC19: 7.5 | AD19: 5.5 | AE19: 7.3 | AF19: 4.9 | AG19: 8.6 | AH19: 8.2 | AI19: 7.3 | AJ19: 7.6 | AK19: 6.3 | AL19: 8.2 | AM19: 8.6 | AN19: 7.5 | AO19: 7.9 | AP19: 8.2 | AQ19: 7.8 | AR19: 6.9 | AS19: 8.2 | AT19: 8.7 | AU19: 6.8 | AV19: 5.6 | AW19: 6.6 | AX19: 6.7 | AY19: 7.3 | AZ19: 6.9 | BA19: 7.8 | BB19: 9 | BC19: 7 | BD19: 9.1 | BE19: 6.9 | BF19: 4.8 | BG19: =VLOOKUP(B19,'66DCDT'!$C$10:$G$58,3,0) -> 09/01/1997
A20: 15 | B20: 66DCDT20584 | C20: =D20&" "&E20 -> DƯƠNG ĐẠI NGHĨA | D20: DƯƠNG ĐẠI | E20: NGHĨA | F20: 26/02/1997 | G20: 120 | H20: 118 | I20: 118 | J20: 6.9686441 | K20: 2.7584746 | L20: 1 | M20: 2 | N20: 0.016666667 | O20: Đ | P20: 6.4 | R20: 7.5 | S20: 5.9 | T20: 7.6 | U20: 6.5 | V20: 6.7 | W20: 7.3 | X20: 7.9 | Y20: 7.8 | Z20: 6.6 | AA20: 8 | AB20: 6.2 | AC20: 5.4 | AD20: 6.5 | AE20: 5.8 | AF20: 8 | AG20: 7.3 | AH20: 6.4 | AI20: 6.5 | AJ20: 6.9 | AK20: 5.2 | AL20: 7.8 | AM20: 8.1 | AN20: 6.2 | AO20: 6.4 | AP20: 5.8 | AQ20: 8.6 | AR20: 7.6 | AS20: 8.2 | AT20: 8 | AU20: 8.2 | AV20: 4.1 | AW20: 6.1 | AX20: 6 | AY20: 7 | AZ20: 8.4 | BA20: 6.8 | BB20: 8.5 | BC20: 7.4 | BD20: 6.8 | BE20: 8.1 | BF20: 7.4 | BG20: =VLOOKUP(B20,'66DCDT'!$C$10:$G$58,3,0) -> 26/02/1997
A21: 16 | B21: 66DCDT20550 | C21: =D21&" "&E21 -> NGUYỄN KHẮC NGHĨA | D21: NGUYỄN KHẮC | E21: NGHĨA | F21: 31/08/1996 | G21: 120 | H21: 118 | I21: 118 | J21: 6.6279661 | K21: 2.5254237 | L21: 1 | M21: 2 | N21: 0.016666667 | O21: Đ | P21: 4.5 | R21: 6.6 | S21: 4.7 | T21: 7.5 | U21: 5.2 | V21: 5 | W21: 8.3 | X21: 7.9 | Y21: 7.1 | Z21: 6.8 | AA21: 7.5 | AB21: 5.5 | AC21: 6.1 | AD21: 5.6 | AE21: 5.2 | AF21: 4.1 | AG21: 8.2 | AH21: 8.9 | AI21: 6.1 | AJ21: 7.2 | AK21: 7.2 | AL21: 6.7 | AM21: 8 | AN21: 6.1 | AO21: 5.8 | AP21: 5.4 | AQ21: 6.6 | AR21: 8.6 | AS21: 9.1 | AT21: 8 | AU21: 9.1 | AV21: 4.2 | AW21: 7.6 | AX21: 5.3 | AY21: 5.5 | AZ21: 7.1 | BA21: 5.4 | BB21: 7.2 | BC21: 7.3 | BD21: 7 | BE21: 6.7 | BF21: 5.9 | BG21: =VLOOKUP(B21,'66DCDT'!$C$10:$G$58,3,0) -> 31/08/1996
A22: 17 | B22: 66DCDT20498 | D22: TRƯƠNG CÔNG | E22: NGUYÊN | F22: 18/11/1997 | G22: 120 | H22: 118 | I22: 116 | J22: 6.1237288 | K22: 2.2161017 | L22: 2 | M22: 4 | N22: 0.033333333 | O22: Đ | P22: 5.8 | R22: 7.1 | S22: 5.8 | T22: 5.3 | U22: 5.3 | V22: 5.9 | W22: 7.9 | X22: 0 | Y22: 4.1 | Z22: 7.4 | AA22: 6.1 | AB22: 5.9 | AC22: 4.5 | AD22: 5.4 | AE22: 5.3 | AF22: 5.3 | AG22: 8.9 | AH22: 7.1 | AI22: 6 | AJ22: 6.9 | AK22: 5.2 | AL22: 8.1 | AM22: 7.4 | AN22: 5.5 | AO22: 5.6 | AP22: 8.6 | AQ22: 7.7 | AR22: 7.3 | AS22: 7.3 | AT22: 7.3 | AU22: 7.3 | AV22: 4.1 | AW22: 5.2 | AX22: 8.1 | AY22: 4.6 | AZ22: 6.9 | BA22: 6.3 | BB22: 6.5 | BC22: 4.3 | BD22: 4.5 | BE22: 5 | BF22: 6.5 | BG22: =VLOOKUP(B22,'66DCDT'!$C$10:$G$58,3,0) -> #N/A
A23: 18 | B23: 66DCDT20107 | C23: =D23&" "&E23 -> NGUYỄN VĂN QUANG | D23: NGUYỄN VĂN | E23: QUANG | F23: 35775 | G23: 120 | H23: 118 | I23: 115 | J23: 6.109322 | K23: 2.1949153 | L23: 2 | M23: 5 | N23: 0.041666667 | O23: Đ | P23: 5.7 | R23: 6 | S23: 5 | T23: 6 | U23: 5.3 | V23: 4.4 | W23: 8 | X23: 7.9 | Y23: 6.7 | Z23: 7.5 | AA23: 7.3 | AB23: 4.2 | AC23: 5 | AD23: 5.7 | AE23: 6 | AF23: 6.5 | AG23: 7 | AH23: 7.5 | AI23: 5 | AJ23: 6.3 | AK23: 5.8 | AL23: 6.3 | AM23: 6.5 | AN23: 5.8 | AO23: 2.2 | AP23: 4.4 | AQ23: 4 | AR23: 9 | AS23: 9.1 | AT23: 8 | AU23: 9.1 | AV23: 4.6 | AW23: 4.6 | AX23: 5.3 | AY23: 4.6 | AZ23: 7.7 | BA23: 5 | BB23: 6.5 | BC23: 5.6 | BD23: 7.2 | BE23: 5 | BF23: 5.4 | BG23: =VLOOKUP(B23,'66DCDT'!$C$10:$G$58,3,0) -> 12/11/1997
A24: 19 | B24: 66DCDT20351 | D24: BÙI MINH | E24: THÔNG | F24: 30/03/1997 | G24: 120 | H24: 118 | I24: 118 | J24: 6.0423729 | K24: 2.0932203 | L24: 1 | M24: 2 | N24: 0.016666667 | O24: Đ | P24: 6.8 | R24: 6 | S24: 4.3 | T24: 4.3 | U24: 6.4 | V24: 7.8 | W24: 7.3 | X24: 8 | Y24: 4.2 | Z24: 4.9 | AA24: 6.8 | AB24: 4.7 | AC24: 6.2 | AD24: 4.3 | AE24: 4.8 | AF24: 4.4 | AG24: 7.5 | AH24: 5.4 | AI24: 4.3 | AJ24: 7.3 | AK24: 5.2 | AL24: 4.5 | AM24: 7.9 | AN24: 5.8 | AO24: 5.2 | AP24: 7.2 | AQ24: 4.4 | AR24: 7 | AS24: 7.3 | AT24: 9.3 | AU24: 7.3 | AV24: 4.8 | AW24: 4.4 | AX24: 8.7 | AY24: 4.1 | AZ24: 4.1 | BA24: 4.4 | BB24: 8 | BC24: 7.3 | BD24: 7.7 | BE24: 5.3 | BF24: 7.6 | BG24: =VLOOKUP(B24,'66DCDT'!$C$10:$G$58,3,0) -> #N/A
A25: 20 | B25: 66DCDT20865 | C25: =D25&" "&E25 -> TRẦN THỊ THỦY | D25: TRẦN THỊ | E25: THỦY | F25: 13/11/1997 | G25: 120 | H25: 118 | I25: 118 | J25: 6.6338983 | K25: 2.4915254 | L25: 1 | M25: 2 | N25: 0.016666667 | O25: Đ | P25: 6.9 | R25: 8.6 | S25: 4.1 | T25: 7.5 | U25: 6.9 | V25: 7.2 | W25: 5.9 | X25: 6.9 | Y25: 5.7 | Z25: 7.7 | AA25: 7.5 | AB25: 4.7 | AC25: 4.8 | AD25: 4 | AE25: 6.4 | AF25: 5.8 | AG25: 6.6 | AH25: 8.2 | AI25: 4.6 | AJ25: 7.5 | AK25: 7 | AL25: 7.4 | AM25: 7.6 | AN25: 7.2 | AO25: 8.6 | AP25: 7.4 | AQ25: 5.2 | AR25: 7 | AS25: 8.7 | AT25: 8.6 | AU25: 8.7 | AV25: 5.1 | AW25: 4.9 | AX25: 5.3 | AY25: 6.8 | AZ25: 4.2 | BA25: 5.4 | BB25: 7.1 | BC25: 7.8 | BD25: 6.4 | BE25: 6.6 | BF25: 7.8 | BG25: =VLOOKUP(B25,'66DCDT'!$C$10:$G$58,3,0) -> 13/11/1997
A26: 21 | B26: 66DCDT20470 | C26: =D26&" "&E26 -> BÙI ĐỨC TOÀN | D26: BÙI ĐỨC | E26: TOÀN | F26: 35676 | G26: 120 | H26: 118 | I26: 118 | J26: 6.0652542 | K26: 2.0974576 | L26: 1 | M26: 2 | N26: 0.016666667 | O26: Đ | P26: 4.6 | R26: 6.1 | S26: 4.3 | T26: 4.7 | U26: 5.5 | V26: 5.9 | W26: 7.3 | X26: 7.1 | Y26: 6.2 | Z26: 6.8 | AA26: 7.5 | AB26: 4.9 | AC26: 5.1 | AD26: 5.4 | AE26: 5.3 | AF26: 5.4 | AG26: 6.6 | AH26: 7.9 | AI26: 4.6 | AJ26: 7.7 | AK26: 5.2 | AL26: 5.1 | AM26: 4.5 | AN26: 6.4 | AO26: 4.7 | AP26: 5.1 | AQ26: 4.6 | AR26: 7.3 | AS26: 9.1 | AT26: 8 | AU26: 9.1 | AV26: 5.4 | AW26: 6.7 | AX26: 6 | AY26: 5.7 | AZ26: 5.1 | BA26: 4.9 | BB26: 6.9 | BC26: 7.2 | BD26: 6.1 | BE26: 5.7 | BF26: 5.1 | BG26: =VLOOKUP(B26,'66DCDT'!$C$10:$G$58,3,0) -> 09/03/1997
A27: 22 | B27: 66DCDT20246 | C27: =D27&" "&E27 -> DƯƠNG THỊ HƯƠNG TRANG | D27: DƯƠNG THỊ HƯƠNG | E27: TRANG | F27: 21/04/1997 | G27: 120 | H27: 118 | I27: 118 | J27: 6.7669492 | K27: 2.6101695 | L27: 1 | M27: 2 | N27: 0.016666667 | O27: Đ | P27: 6.6 | R27: 8.4 | S27: 5.4 | T27: 5.4 | U27: 5.6 | V27: 4.5 | W27: 5.9 | X27: 8 | Y27: 7.8 | Z27: 7.9 | AA27: 7.5 | AB27: 5.6 | AC27: 5 | AD27: 4.1 | AE27: 4.2 | AF27: 6.9 | AG27: 8.4 | AH27: 8.9 | AI27: 6.6 | AJ27: 8.4 | AK27: 7 | AL27: 7.4 | AM27: 8 | AN27: 6.6 | AO27: 8.2 | AP27: 6 | AQ27: 5.6 | AR27: 7.3 | AS27: 9.1 | AT27: 8 | AU27: 9.1 | AV27: 6.1 | AW27: 4.1 | AX27: 6 | AY27: 4.6 | AZ27: 5.6 | BA27: 5 | BB27: 8.2 | BC27: 6.4 | BD27: 8.9 | BE27: 7.4 | BF27: 7.9 | BG27: =VLOOKUP(B27,'66DCDT'!$C$10:$G$58,3,0) -> 21/04/1997
A28: 23 | B28: 66DCDT20043 | D28: BÙI VĂN | E28: TUẤN | F28: 18/06/1996 | G28: 120 | H28: 118 | I28: 118 | J28: 6.1279661 | K28: 2.1822034 | L28: 1 | M28: 2 | N28: 0.016666667 | O28: Đ | P28: 4 | R28: 6.9 | S28: 4.1 | T28: 4.6 | U28: 6.1 | V28: 5.7 | W28: 8.7 | X28: 7.1 | Y28: 4.5 | Z28: 6.6 | AA28: 7.4 | AB28: 4.6 | AC28: 5.6 | AD28: 5.3 | AE28: 5.6 | AF28: 8.3 | AG28: 4.5 | AH28: 5 | AI28: 4.6 | AJ28: 6.6 | AK28: 6.8 | AL28: 5.8 | AM28: 6.4 | AN28: 6.8 | AO28: 6.6 | AP28: 5.2 | AQ28: 4.9 | AR28: 7.6 | AS28: 8.2 | AT28: 8.3 | AU28: 8.2 | AV28: 5.5 | AW28: 8.1 | AX28: 4.9 | AY28: 5.4 | AZ28: 4.4 | BA28: 5.4 | BB28: 7 | BC28: 5.2 | BD28: 7.1 | BE28: 7.1 | BF28: 6 | BG28: =VLOOKUP(B28,'66DCDT'!$C$10:$G$58,3,0) -> #N/A
A29: 24 | B29: 66DCDT20595 | C29: =D29&" "&E29 -> PHẠM QUỐC VIỆT | D29: PHẠM QUỐC | E29: VIỆT | F29: 20/01/1997 | G29: 120 | H29: 118 | I29: 118 | J29: 6.1525424 | K29: 2.1694915 | L29: 1 | M29: 2 | N29: 0.016666667 | O29: Đ | P29: 4.3 | R29: 6.8 | S29: 4.1 | T29: 5.3 | U29: 5.1 | V29: 5.8 | W29: 8 | X29: 5 | Y29: 5.3 | Z29: 8.2 | AA29: 6.8 | AB29: 4.3 | AC29: 5.2 | AD29: 4.5 | AE29: 6.9 | AF29: 5.3 | AG29: 6.6 | AH29: 6.4 | AI29: 4.6 | AJ29: 6.2 | AK29: 5.4 | AL29: 6 | AM29: 7.5 | AN29: 6.8 | AO29: 6.4 | AP29: 5.9 | AQ29: 5.2 | AR29: 6.9 | AS29: 9.1 | AT29: 8.3 | AU29: 9.1 | AV29: 5.5 | AW29: 4.3 | AX29: 5.3 | AY29: 4.7 | AZ29: 6.6 | BA29: 4.3 | BB29: 6.6 | BC29: 7.3 | BD29: 6.6 | BE29: 5.7 | BF29: 6.5 | BG29: =VLOOKUP(B29,'66DCDT'!$C$10:$G$58,3,0) -> 20/01/1997
A30: 25 | B30: 66DCDT20631 | D30: BÙI QUỐC | E30: ANH | F30: 24/01/1997 | G30: 120 | H30: 103 | I30: 71 | J30: 4.0194175 | K30: 1.1796117 | L30: 16 | M30: 49 | N30: 0.40833333 | O30: K | P30: 4.8 | R30: 0 | S30: 4.5 | T30: 7.1 | U30: 5.7 | V30: 5.7 | W30: 6.3 | Y30: 4.3 | Z30: 0 | AA30: 5.8 | AB30: 1.8 | AC30: 5 | AD30: 3.1 | AE30: 1.8 | AF30: 4.3 | AG30: 5.1 | AH30: 0 | AI30: 4.1 | AJ30: 1.1 | AK30: 0 | AL30: 4.8 | AM30: 5.1 | AN30: 4.8 | AO30: 0 | AP30: 4.5 | AQ30: 0 | AR30: 8 | AT30: 7.3 | AV30: 8.5 | AW30: 6.8 | AX30: 4.2 | AY30: 4.8 | AZ30: 4.2 | BA30: 6.2 | BB30: 7.6 | BD30: 4.7 | BE30: 2 | BF30: 4.1 | BG30: =VLOOKUP(B30,'66DCDT'!$C$10:$G$58,3,0) -> #N/A
A31: 26 | B31: 66DCDT20501 | D31: ĐỖ HOÀNG | E31: ANH | F31: 27/09/1997 | G31: 120 | H31: 110 | I31: 110 | J31: 7.1581818 | K31: 2.7681818 | L31: 2 | M31: 10 | N31: 0.083333333 | O31: K | P31: 8.4 | Q31: 7.6 | R31: 7.9 | S31: 5.4 | T31: 7.5 | U31: 5.1 | V31: 6.7 | W31: 9 | X31: 8 | Y31: 7.7 | Z31: 8.2 | AA31: 7.5 | AB31: 5.8 | AC31: 6.5 | AD31: 7 | AE31: 4.7 | AF31: 5.1 | AG31: 8.8 | AH31: 6.8 | AI31: 7.4 | AJ31: 7.6 | AK31: 7.9 | AL31: 7.9 | AM31: 8.4 | AN31: 6.2 | AO31: 6.8 | AP31: 7.3 | AQ31: 7.5 | AR31: 8.4 | AT31: 8.7 | AV31: 4.9 | AW31: 4.5 | AX31: 6 | AY31: 7.8 | AZ31: 7.7 | BA31: 7.1 | BB31: 8.2 | BC31: 7.1 | BD31: 9.1 | BE31: 7.8 | BF31: 9.8 | BG31: =VLOOKUP(B31,'66DCDT'!$C$10:$G$58,3,0) -> 27/09/1997
A32: 27 | B32: 66DCDT20658 | D32: NGUYỄN HOÀNG | E32: ANH | F32: 31/08/1997 | G32: 120 | H32: 118 | I32: 91 | J32: 4.6355932 | K32: 1.3813559 | L32: 11 | M32: 29 | N32: 0.24166667 | O32: K | P32: 5.7 | R32: 0 | S32: 5.5 | T32: 3.9 | U32: 5.2 | V32: 5.1 | W32: 2.8 | X32: 0 | Y32: 4.3 | Z32: 3.5 | AA32: 5.7 | AB32: 4.1 | AC32: 4.8 | AD32: 4.1 | AE32: 0 | AF32: 4.9 | AG32: 8.2 | AH32: 4.9 | AI32: 3.8 | AJ32: 5.3 | AK32: 4.7 | AL32: 5.5 | AM32: 6 | AN32: 5.5 | AO32: 6 | AP32: 3.5 | AQ32: 5.1 | AR32: 0 | AS32: 6.4 | AT32: 7.3 | AU32: 6.4 | AV32: 5 | AW32: 4.3 | AX32: 6 | AY32: 4.8 | AZ32: 6.1 | BA32: 5.3 | BB32: 6.7 | BC32: 6.7 | BD32: 4.1 | BE32: 5 | BF32: 2 | BG32: =VLOOKUP(B32,'66DCDT'!$C$10:$G$58,3,0) -> #N/A
A33: 28 | B33: 66DCDT20540 | D33: NGUYỄN TIẾN | E33: ANH | F33: 35529 | G33: 120 | H33: 108 | I33: 108 | J33: 5.9398148 | K33: 2.0648148 | L33: 3 | M33: 12 | N33: 0.1 | O33: K | P33: 5.9 | R33: 5 | S33: 4.1 | T33: 6 | U33: 5.4 | V33: 4.9 | W33: 7.3 | X33: 7 | Y33: 6.4 | Z33: 5.2 | AA33: 8.2 | AB33: 4 | AC33: 4.7 | AD33: 5.4 | AE33: 6.1 | AF33: 5.3 | AG33: 6.5 | AH33: 7.3 | AI33: 5.3 | AJ33: 6.9 | AK33: 5.4 | AL33: 5.4 | AM33: 6.6 | AN33: 6.1 | AO33: 6.4 | AP33: 5.2 | AQ33: 7.9 | AR33: 6.6 | AT33: 8 | AV33: 6.9 | AW33: 4.2 | AX33: 6 | AY33: 5.7 | AZ33: 4 | BA33: 5.9 | BB33: 6.4 | BC33: 7 | BD33: 7.9 | BE33: 6.7 | BF33: 5.4 | BG33: =VLOOKUP(B33,'66DCDT'!$C$10:$G$58,3,0) -> #N/A
A34: 29 | B34: 66DCDT20623 | D34: NGUYỄN TRUNG | E34: ANH | F34: 29/01/1997 | G34: 120 | H34: 108 | I34: 80 | J34: 4.5601852 | K34: 1.3981481 | L34: 14 | M34: 40 | N34: 0.33333333 | O34: K | P34: 5.6 | R34: 5.6 | S34: 4.8 | T34: 0.7 | U34: 0.8 | V34: 0 | W34: 7.3 | X34: 6 | Y34: 6.8 | Z34: 4.2 | AA34: 7 | AB34: 4 | AC34: 5.5 | AD34: 4 | AE34: 3.9 | AF34: 4.7 | AG34: 8.5 | AH34: 6.1 | AI34: 0 | AJ34: 7.7 | AK34: 5.4 | AL34: 7.5 | AM34: 5.9 | AN34: 5.2 | AO34: 6.2 | AP34: 4.8 | AQ34: 5.1 | AR34: 0 | AT34: 0 | AV34: 5.5 | AW34: 4.3 | AX34: 4.2 | AY34: 7.4 | AZ34: 5.2 | BA34: 0.6 | BB34: 0.8 | BC34: 3.8 | BD34: 4.1 | BE34: 3.9 | BF34: 7 | BG34: =VLOOKUP(B34,'66DCDT'!$C$10:$G$58,3,0) -> #N/A
A35: 30 | B35: 66DCDT20786 | D35: VŨ VĂN | E35: CHƯỜNG | F35: 35706 | G35: 120 | H35: 108 | I35: 108 | J35: 5.8175926 | K35: 1.9444444 | L35: 3 | M35: 12 | N35: 0.1 | O35: K | P35: 5 | R35: 5.2 | S35: 5.3 | T35: 5.5 | U35: 4.6 | V35: 7.9 | W35: 8.3 | X35: 8 | Y35: 5.3 | Z35: 4.4 | AA35: 5.6 | AB35: 6.4 | AC35: 4.7 | AD35: 4.1 | AE35: 4.7 | AF35: 6.3 | AG35: 5.9 | AH35: 7 | AI35: 6 | AJ35: 6.4 | AK35: 5.1 | AL35: 4.8 | AM35: 6.7 | AN35: 6.8 | AO35: 4.4 | AP35: 7 | AQ35: 4.8 | AR35: 7.3 | AT35: 8 | AV35: 4.9 | AW35: 7.3 | AX35: 7.4 | AY35: 5.3 | AZ35: 4.5 | BA35: 5 | BB35: 7.9 | BC35: 4.3 | BD35: 5.4 | BE35: 6.6 | BF35: 5.8 | BG35: =VLOOKUP(B35,'66DCDT'!$C$10:$G$58,3,0) -> #N/A
A36: 31 | B36: 66DCDT23096 | D36: NGUYỄN HỒNG | E36: CƯỜNG | F36: 21/09/1997 | G36: 120 | H36: 108 | I36: 108 | J36: 7.4175926 | K36: 2.9675926 | L36: 3 | M36: 12 | N36: 0.1 | O36: K | P36: 7.4 | R36: 6.8 | S36: 7.7 | T36: 7.5 | U36: 7 | V36: 6.3 | W36: 9 | X36: 9.9 | Y36: 7.6 | Z36: 7.2 | AA36: 7.5 | AB36: 9.3 | AC36: 9 | AD36: 5 | AE36: 4.9 | AF36: 6.9 | AG36: 8.9 | AH36: 8.9 | AI36: 9.5 | AJ36: 9 | AK36: 7.9 | AL36: 7.4 | AM36: 8.3 | AN36: 5.1 | AO36: 7.5 | AP36: 7.2 | AQ36: 7.1 | AR36: 6.6 | AT36: 7.7 | AV36: 5.6 | AW36: 8 | AX36: 8.1 | AY36: 7.8 | AZ36: 5.8 | BA36: 5.9 | BB36: 8.6 | BC36: 8 | BD36: 7.5 | BE36: 6.7 | BF36: 6.8 | BG36: =VLOOKUP(B36,'66DCDT'!$C$10:$G$58,3,0) -> 21/09/1997
A37: 32 | B37: 66DCDT21050 | D37: NGUYỄN VĂN | E37: DŨNG | F37: 23/08/1997 | G37: 120 | H37: 108 | I37: 94 | J37: 5.0583333 | K37: 1.5833333 | L37: 8 | M37: 26 | N37: 0.21666667 | O37: K | P37: 4.8 | R37: 3.9 | S37: 5.6 | T37: 5.2 | U37: 4.9 | V37: 5.9 | W37: 6.6 | X37: 0 | Y37: 5.6 | Z37: 3.8 | AA37: 5.9 | AB37: 6.8 | AC37: 4.4 | AD37: 4 | AE37: 0 | AF37: 7 | AG37: 5.7 | AH37: 4.5 | AI37: 4 | AJ37: 5.6 | AK37: 5 | AL37: 7.2 | AM37: 6 | AN37: 5.1 | AO37: 5.6 | AP37: 4.7 | AQ37: 6.5 | AR37: 6.7 | AT37: 7.6 | AV37: 5.3 | AW37: 4.3 | AX37: 4.2 | AY37: 8.2 | AZ37: 2.4 | BA37: 5.7 | BB37: 8 | BC37: 4.1 | BD37: 5.6 | BE37: 4.1 | BF37: 6.6 | BG37: =VLOOKUP(B37,'66DCDT'!$C$10:$G$58,3,0) -> #N/A
A38: 33 | B38: 66DCDT20446 | D38: ĐẶNG VĂN | E38: ĐỨC | F38: 35652 | G38: 120 | H38: 108 | I38: 73 | J38: 4.2212963 | K38: 1.2314815 | L38: 16 | M38: 47 | N38: 0.39166667 | O38: K | P38: 5.8 | R38: 0 | S38: 5 | T38: 6.7 | U38: 4.4 | V38: 6.1 | W38: 0 | X38: 2.3 | Y38: 4.7 | Z38: 5.4 | AA38: 7 | AB38: 0.6 | AC38: 4.4 | AD38: 4.5 | AE38: 3.6 | AF38: 7 | AG38: 3.7 | AH38: 0 | AI38: 4.6 | AJ38: 5.6 | AK38: 1.9 | AL38: 7.7 | AM38: 8.1 | AN38: 4.8 | AO38: 5.1 | AP38: 7.1 | AQ38: 6.8 | AR38: 6.9 | AT38: 7 | AV38: 4 | AW38: 4.9 | AX38: 4.9 | AY38: 5.4 | AZ38: 0 | BA38: 1.8 | BB38: 6.4 | BC38: 1.9 | BD38: 0 | BE38: 4.6 | BF38: 0 | BG38: =VLOOKUP(B38,'66DCDT'!$C$10:$G$58,3,0) -> #N/A
A39: 34 | B39: 66DCDT20402 | D39: VŨ VĂN | E39: ĐỨC | F39: 28/04/1997 | G39: 120 | H39: 95 | I39: 40 | J39: 3.2147368 | K39: 0.77368421 | L39: 28 | M39: 80 | N39: 0.66666667 | O39: K | P39: 1.5 | R39: 0 | S39: 3.9 | T39: 3.5 | U39: 4.4 | V39: 0 | W39: 2.8 | X39: 0 | Y39: 5 | Z39: 0 | AA39: 3.3 | AB39: 0.7 | AC39: 5 | AD39: 4.5 | AE39: 3.6 | AF39: 3.7 | AG39: 4.4 | AH39: 0 | AI39: 5.2 | AK39: 0 | AL39: 5.6 | AM39: 7.4 | AN39: 5.2 | AO39: 0 | AQ39: 0 | AR39: 8 | AT39: 7.3 | AV39: 1.7 | AW39: 6.4 | AX39: 4.2 | AY39: 5.9 | AZ39: 0 | BA39: 5.9 | BB39: 3.2 | BF39: 2 | BG39: =VLOOKUP(B39,'66DCDT'!$C$10:$G$58,3,0) -> #N/A
A40: 35 | B40: 66DCDT20749 | D40: HOÀNG VĂN | E40: ĐÔ | F40: 35498 | G40: 120 | H40: 118 | I40: 106 | J40: 5.5728814 | K40: 1.7627119 | L40: 5 | M40: 14 | N40: 0.11666667 | O40: K | P40: 4.5 | R40: 3.8 | S40: 5.6 | T40: 5.1 | U40: 6.1 | V40: 4.2 | W40: 7.3 | X40: 7.9 | Y40: 5 | Z40: 7.3 | AA40: 6.1 | AB40: 4 | AC40: 4.6 | AD40: 4.3 | AE40: 3.7 | AF40: 7.9 | AG40: 4.9 | AH40: 3.6 | AI40: 4.6 | AJ40: 6 | AK40: 5.1 | AL40: 5 | AM40: 5.2 | AN40: 5.8 | AO40: 6.2 | AP40: 7.1 | AQ40: 4.4 | AR40: 4.4 | AS40: 8.2 | AT40: 7.3 | AU40: 8.2 | AV40: 5.6 | AW40: 5.1 | AX40: 4.9 | AY40: 4 | AZ40: 4.9 | BA40: 5.2 | BB40: 6.1 | BC40: 3.4 | BD40: 6.8 | BE40: 5.7 | BF40: 6.6 | BG40: =VLOOKUP(B40,'66DCDT'!$C$10:$G$58,3,0) -> #N/A
A41: 36 | B41: 66DCDT20576 | D41: PHẠM VĂN | E41: HẢI | F41: 16/10/1996 | G41: 120 | H41: 118 | I41: 112 | J41: 5.7313559 | K41: 1.9533898 | L41: 4 | M41: 8 | N41: 0.066666667 | O41: K | P41: 5.7 | R41: 1.8 | S41: 4.1 | T41: 3.7 | U41: 6 | V41: 7.6 | W41: 7.6 | X41: 0 | Y41: 7.1 | Z41: 5 | AA41: 6 | AB41: 4 | AC41: 7.6 | AD41: 4.1 | AE41: 4.6 | AF41: 7.5 | AG41: 5.9 | AH41: 5.9 | AI41: 4.6 | AJ41: 6 | AK41: 5.7 | AL41: 4.7 | AM41: 7.1 | AN41: 4.8 | AO41: 5.4 | AP41: 6.7 | AQ41: 6.5 | AR41: 7.3 | AS41: 7.8 | AT41: 7.6 | AU41: 7.8 | AV41: 5.7 | AW41: 4.5 | AX41: 5.6 | AY41: 6 | AZ41: 4.6 | BA41: 5.4 | BB41: 7.2 | BC41: 4.1 | BD41: 4.1 | BE41: 4.3 | BF41: 6.8 | BG41: =VLOOKUP(B41,'66DCDT'!$C$10:$G$58,3,0) -> #N/A
...

Sheet 66DCDT22
X1: BẢNG ĐIỂM TOÀN KHÓA XÉT ĐIỀU KIỆN NHẬN ĐỒ ÁN/KHÓA LUẬN TỐT NGHIỆP
V2: LỚP 66DCDT22
A4: STT | B4: Mã sinh viên | D4: Họ đệm | E4: Tên | F4: Ngày sinh | G4: Tổng số TC | H4: Số tín chỉ tính điểm | I4: Số tín chỉ tích lũy | J4: Điểm TBC (hệ 10) | K4: Điểm TBC (hệ 4) | L4: Số môn không đạt | M4: Số Tín chỉ không đạt | N4: Tỷ lệ % không đạt | O4: Đề nghị xét | P4: DC2DT55_Anten và truyền sóng (3) | Q4: DC3DT81_Công nghệ Multimedia (2) | R4: DC3DT82_Công nghệ vi điện tử (2) | S4: DC2DT45_Cơ sở điều khiển tự động (3) | T4: DC3DT34_Cơ sở truyền số liệu (2) | U4: DC2DT51_Điện tử số (3) | V4: DC2DT26_Đo lường điện tử (2) | W4: DC2DT24_Đồ án Điện tử (2) | X4: DC3DT70_Đồ án Viễn thông (2) | Y4: DC1LL04_Đường lối cách mạng của Đảng cộng sản Việt Nam (3) | Z4: DC3DT63_Hệ thống viễn thông (3) | AA4: DC2DT57_Kiến trúc máy tính (2) | AB4: DC2DT29_Kỹ thuật vi xử lý và ứng dụng (3) | AC4: DC2DT23_Lập trình C/C++ (4) | AD4: DC2DT41_Linh kiện điện tử (3) | AE4: DC2DT27_Lý thuyết mạch (4) | AF4: DC2DT43_Lý thuyết truyền tin (3) | AG4: DC1CB20_Lý thuyết xác suất - thống kê (2) | AH4: DC3DT36_Mạng viễn thông (3) | AI4: DC1TH48_Matlab và ứng dụng (2) | AJ4: DC3DT39_Mô phỏng hệ thống truyền thông (2) | AK4: DC3DT37_Ứng dụng điện tử truyền thông trong ITS (3) | AL4: DC1LL01_Những nguyên lý cơ bản của CN Mác - Lênin 1 (2) | AM4: DC1LL02_Những nguyên lý cơ bản của CN Mác - Lênin 2 (3) | AN4: DC1LL05_Pháp luật Việt Nam đại cương (2) | AO4: DC3DT73_Thông tin di động (3) | AP4: DC3DT71_Thông tin số (3) | AQ4: DC3DT72_Thông tin vô tuyến (3) | AR4: DC4DT21_Thực tập Điện tử cơ bản (3) | AS4: DC4DT23_Thực tập Điện tử viễn thông (3) | AT4: DC4DT22_Thực tập Lắp ráp điện tử (2) | AU4: DC4DT71_Thực tập tốt nghiệp (7) | AV4: DC1CB35_Tiếng anh (3) | AW4: DC1TT42_Tin học đại cương (3) | AX4: DC1CB11_Toán 1 (4) | AY4: DC1CB41_Toán 2 (2) | AZ4: DC1CB57_Toán 3 (3) | BA4: DC2DT28_Trường điện từ (2) | BB4: DC1LL03_Tư tưởng Hồ Chí Minh (2) | BC4: DC1DT21_Vật lý đại cương 1 (3) | BD4: DC1DT22_Vật lý đại cương 2 (2) | BE4: DC3DT35_Xử lý ảnh số và video số (3) | BF4: DC2DT65_Xử lý tín hiệu số (4)
P5: 3 | Q5: 2 | R5: 2 | S5: 3 | T5: 2 | U5: 3 | V5: 2 | W5: 2 | X5: 2 | Y5: 3 | Z5: 3 | AA5: 2 | AB5: 3 | AC5: 4 | AD5: 3 | AE5: 4 | AF5: 3 | AG5: 2 | AH5: 3 | AI5: 2 | AJ5: 2 | AK5: 3 | AL5: 2 | AM5: 3 | AN5: 2 | AO5: 3 | AP5: 3 | AQ5: 3 | AR5: 3 | AS5: 3 | AT5: 2 | AU5: 7 | AV5: 3 | AW5: 3 | AX5: 4 | AY5: 2 | AZ5: 3 | BA5: 2 | BB5: 2 | BC5: 3 | BD5: 2 | BE5: 3 | BF5: 4
A6: 1 | B6: 66DCDT21195 | D6: TRẦN THỊ PHƯƠNG | E6: DUNG | F6: 15/07/1997 | G6: 120 | H6: 120 | I6: 120 | J6: 6.5608333 | K6: 2.4625 | L6: 0 | M6: 0 | N6: 0 | O6: Đ | P6: 7.3 | Q6: 6.5 | R6: 7.5 | S6: 4.4 | T6: 6.3 | U6: 5.2 | V6: 7.1 | W6: 6.6 | X6: 8.1 | Y6: 6 | Z6: 5 | AA6: 8.4 | AB6: 4.3 | AC6: 5.1 | AD6: 4.5 | AE6: 6 | AF6: 8 | AG6: 6.9 | AH6: 7.5 | AI6: 5.3 | AJ6: 7.2 | AK6: 8.6 | AL6: 6.1 | AM6: 7.8 | AN6: 6.5 | AO6: 6.6 | AP6: 5.3 | AQ6: 8.3 | AR6: 8.3 | AS6: 7.3 | AT6: 9.3 | AU6: 7.3 | AV6: 4.9 | AW6: 6.9 | AX6: 6.6 | AY6: 4.2 | AZ6: 5.5 | BA6: 4.6 | BB6: 7.8 | BC6: 6.6 | BD6: 6.8 | BE6: 6.7 | BF6: 7.5 | BG6: =VLOOKUP(B6,'66DCDT'!$C$10:$G$58,3,0) -> #N/A
A7: 2 | B7: 66DCDT21695 | C7: =D7&" "&E7 -> ĐÀO XUÂN ĐỨC | D7: ĐÀO XUÂN | E7: ĐỨC | F7: 22/06/1997 | G7: 120 | H7: 118 | I7: 118 | J7: 6.6855932 | K7: 2.5466102 | L7: 1 | M7: 2 | N7: 0.016666667 | O7: Đ | P7: 5.3 | R7: 5.4 | S7: 4.3 | T7: 6.2 | U7: 7.1 | V7: 6 | W7: 7.3 | X7: 7.8 | Y7: 5 | Z7: 4 | AA7: 8.3 | AB7: 7.2 | AC7: 7.1 | AD7: 4.1 | AE7: 6.6 | AF7: 6.4 | AG7: 8.6 | AH7: 7.9 | AI7: 5.6 | AJ7: 8.6 | AK7: 7.9 | AL7: 7.5 | AM7: 8 | AN7: 4.9 | AO7: 7 | AP7: 4.1 | AQ7: 5.7 | AR7: 7.1 | AS7: 9.6 | AT7: 6.3 | AU7: 9.6 | AV7: 7.5 | AW7: 7.6 | AX7: 6.7 | AY7: 4.5 | AZ7: 6 | BA7: 5 | BB7: 6.6 | BC7: 4.3 | BD7: 8.1 | BE7: 4.4 | BF7: 8.8 | BG7: =VLOOKUP(B7,'66DCDT'!$C$10:$G$58,3,0) -> 22/06/1997
A8: 3 | B8: 66DCDT21528 | D8: ĐỖ VĂN | E8: HẢI | F8: 21/03/1993 | G8: 120 | H8: 118 | I8: 115 | J8: 6.2957627 | K8: 2.309322 | L8: 2 | M8: 5 | N8: 0.041666667 | O8: Đ | P8: 5.7 | R8: 6.1 | S8: 5.6 | T8: 5.3 | U8: 5.3 | V8: 7.5 | W8: 7 | X8: 7 | Y8: 4.9 | Z8: 3.8 | AA8: 8.2 | AB8: 4 | AC8: 4.1 | AD8: 4.6 | AE8: 4.4 | AF8: 4.5 | AG8: 9.1 | AH8: 5.9 | AI8: 5 | AJ8: 7.4 | AK8: 6.5 | AL8: 6.4 | AM8: 7.3 | AN8: 6.2 | AO8: 6.4 | AP8: 6.2 | AQ8: 4.5 | AR8: 8.6 | AS8: 9.1 | AT8: 7.2 | AU8: 9.1 | AV8: 4.7 | AW8: 5.5 | AX8: 6.4 | AY8: 5.1 | AZ8: 6 | BA8: 8.1 | BB8: 7.8 | BC8: 8.4 | BD8: 8.1 | BE8: 6.3 | BF8: 6.3 | BG8: =VLOOKUP(B8,'66DCDT'!$C$10:$G$58,3,0) -> #N/A
A9: 4 | B9: 66DCDT21135 | C9: =D9&" "&E9 -> BÙI TRỌNG HIẾU | D9: BÙI TRỌNG | E9: HIẾU | F9: 30/06/1997 | G9: 120 | H9: 118 | I9: 115 | J9: 6.0025424 | K9: 2.1059322 | L9: 2 | M9: 5 | N9: 0.041666667 | O9: Đ | P9: 4.2 | R9: 4.9 | S9: 4.3 | T9: 5.3 | U9: 6.7 | V9: 6.5 | W9: 7.3 | X9: 7.8 | Y9: 6.6 | Z9: 2.4 | AA9: 8.5 | AB9: 4.9 | AC9: 4.2 | AD9: 4.1 | AE9: 6.4 | AF9: 4.5 | AG9: 8.4 | AH9: 7.3 | AI9: 6 | AJ9: 8.3 | AK9: 6.5 | AL9: 5.2 | AM9: 7.2 | AN9: 6.5 | AO9: 4.5 | AP9: 4.3 | AQ9: 4.2 | AR9: 8.6 | AS9: 8.2 | AT9: 7.2 | AU9: 8.2 | AV9: 5.3 | AW9: 6.9 | AX9: 4.3 | AY9: 6.7 | AZ9: 5.8 | BA9: 5.4 | BB9: 7.1 | BC9: 5 | BD9: 6.7 | BE9: 5.2 | BF9: 6.4 | BG9: =VLOOKUP(B9,'66DCDT'!$C$10:$G$58,3,0) -> 30/06/1997
A10: 5 | B10: 66DCDT21623 | C10: =D10&" "&E10 -> VŨ MINH HIẾU | D10: VŨ MINH | E10: HIẾU | F10: 16/10/1997 | G10: 120 | H10: 120 | I10: 117 | J10: 5.8358333 | K10: 1.9291667 | L10: 1 | M10: 3 | N10: 0.025 | O10: Đ | P10: 4.9 | Q10: 5.5 | R10: 4.9 | S10: 4.6 | T10: 5.2 | U10: 7.2 | V10: 6.4 | W10: 6.9 | X10: 7.1 | Y10: 5.9 | Z10: 4.7 | AA10: 7.4 | AB10: 5 | AC10: 4.7 | AD10: 4.6 | AE10: 4.8 | AF10: 5.8 | AG10: 6.3 | AH10: 3.8 | AI10: 6.4 | AJ10: 6.2 | AK10: 6.5 | AL10: 6.1 | AM10: 6.2 | AN10: 5.5 | AO10: 4.2 | AP10: 4.4 | AQ10: 5.2 | AR10: 6.6 | AS10: 9.1 | AT10: 7.7 | AU10: 9.1 | AV10: 6.5 | AW10: 4.9 | AX10: 4.5 | AY10: 4.7 | AZ10: 5.9 | BA10: 4.4 | BB10: 5.9 | BC10: 5.1 | BD10: 5.3 | BE10: 5.7 | BF10: 6.6 | BG10: =VLOOKUP(B10,'66DCDT'!$C$10:$G$58,3,0) -> 16/10/1997
A11: 6 | B11: 65DCDT24432 | C11: =D11&" "&E11 -> Đinh Xuân Huy | D11: Đinh Xuân | E11: Huy | F11: 26/06/1996 | G11: 120 | H11: 120 | I11: 114 | J11: 6.3208333 | K11: 2.3583333 | L11: 2 | M11: 6 | N11: 0.05 | O11: Đ | P11: 7 | Q11: 4.8 | R11: 7.3 | S11: 5.2 | T11: 6.1 | U11: 8.6 | V11: 6.5 | W11: 8.2 | X11: 7 | Y11: 7.1 | Z11: 6.2 | AA11: 9.2 | AB11: 4.8 | AC11: 4.5 | AD11: 4.3 | AE11: 5.5 | AF11: 5 | AG11: 5.7 | AH11: 8 | AI11: 7.3 | AJ11: 7.5 | AK11: 7.9 | AL11: 5.3 | AM11: 7.9 | AN11: 6.1 | AO11: 5.8 | AP11: 5.9 | AQ11: 5.2 | AR11: 8.3 | AS11: 9.6 | AT11: 7.2 | AU11: 9.6 | AV11: 6.8 | AW11: 0 | AX11: 5.6 | AY11: 6.3 | AZ11: 4.3 | BA11: 4.2 | BB11: 6.2 | BC11: 1.8 | BD11: 6.5 | BE11: 5 | BF11: 8 | BG11: =VLOOKUP(B11,'66DCDT'!$C$10:$G$58,3,0) -> 26/06/1996
A12: 7 | B12: 66DCDT21645 | D12: ỨNG THỊ LAN | E12: HƯƠNG | F12: 28/07/1997 | G12: 120 | H12: 120 | I12: 115 | J12: 6.6725 | K12: 2.5083333 | L12: 2 | M12: 5 | N12: 0.041666667 | O12: Đ | P12: 7.3 | Q12: 3.4 | R12: 7.8 | S12: 4.7 | T12: 7.4 | U12: 6.3 | V12: 7.9 | W12: 6.6 | X12: 8.1 | Y12: 8.1 | Z12: 5.4 | AA12: 8.1 | AB12: 7.6 | AC12: 5.8 | AD12: 5 | AE12: 4 | AF12: 8.8 | AG12: 7.5 | AH12: 6.1 | AI12: 4.8 | AJ12: 7.9 | AK12: 7.9 | AL12: 4.4 | AM12: 8.7 | AN12: 6.8 | AO12: 6.4 | AP12: 5.4 | AQ12: 5 | AR12: 7.7 | AS12: 8.7 | AT12: 6.9 | AU12: 8.7 | AV12: 5.6 | AW12: 5.9 | AX12: 8.3 | AY12: 4.5 | AZ12: 6.7 | BA12: 7.9 | BB12: 8.7 | BC12: 6.1 | BD12: 5.1 | BE12: 3.2 | BF12: 7.5 | BG12: =VLOOKUP(B12,'66DCDT'!$C$10:$G$58,3,0) -> #N/A
A13: 8 | B13: 66DCDT21619 | C13: =D13&" "&E13 -> NGUYỄN DUY KHÁNH | D13: NGUYỄN DUY | E13: KHÁNH | F13: 18/05/1997 | G13: 120 | H13: 118 | I13: 115 | J13: 6.0779661 | K13: 2.1567797 | L13: 2 | M13: 5 | N13: 0.041666667 | O13: Đ | P13: 6 | R13: 6.5 | S13: 5 | T13: 6 | U13: 5 | V13: 7.9 | W13: 8.3 | X13: 7.8 | Y13: 5.4 | Z13: 4.5 | AA13: 7.4 | AB13: 4.7 | AC13: 7.2 | AD13: 6.4 | AE13: 6.1 | AF13: 6 | AG13: 6.3 | AH13: 6.6 | AI13: 5.3 | AJ13: 7.1 | AK13: 6.5 | AL13: 5.6 | AM13: 7.7 | AN13: 4.4 | AO13: 5.3 | AP13: 5.6 | AQ13: 3.5 | AR13: 7.7 | AS13: 8.2 | AT13: 6.9 | AU13: 8.2 | AV13: 4.6 | AW13: 6.4 | AX13: 4.9 | AY13: 5.5 | AZ13: 4.5 | BA13: 4.7 | BB13: 7.1 | BC13: 5.8 | BD13: 6.3 | BE13: 6.2 | BF13: 4 | BG13: =VLOOKUP(B13,'66DCDT'!$C$10:$G$58,3,0) -> 18/05/1997
A14: 9 | B14: 66DCDT21183 | D14: BÙI THỊ | E14: MINH | F14: 35552 | G14: 120 | H14: 120 | I14: 120 | J14: 6.7875 | K14: 2.5916667 | L14: 0 | M14: 0 | N14: 0 | O14: Đ | P14: 8.4 | Q14: 4.8 | R14: 9 | S14: 4.5 | T14: 7.5 | U14: 7.9 | V14: 8.2 | W14: 8 | X14: 7 | Y14: 7 | Z14: 7.1 | AA14: 7.6 | AB14: 5.8 | AC14: 6.5 | AD14: 5.3 | AE14: 6.4 | AF14: 5.7 | AG14: 5.9 | AH14: 8.4 | AI14: 5.2 | AJ14: 6.6 | AK14: 8.6 | AL14: 6.9 | AM14: 6.8 | AN14: 5.8 | AO14: 7.8 | AP14: 6.1 | AQ14: 5.3 | AR14: 8.3 | AS14: 7.8 | AT14: 7.2 | AU14: 7.8 | AV14: 4.6 | AW14: 5.7 | AX14: 7.3 | AY14: 6.4 | AZ14: 5.8 | BA14: 8.3 | BB14: 8 | BC14: 6.1 | BD14: 6.3 | BE14: 4.9 | BF14: 7 | BG14: =VLOOKUP(B14,'66DCDT'!$C$10:$G$58,3,0) -> #N/A
A15: 10 | B15: 66DCDT21386 | D15: ĐINH BẢO | E15: NGỌC | F15: 28/10/1997 | G15: 120 | H15: 117 | I15: 115 | J15: 6.1239316 | K15: 2.2179487 | L15: 2 | M15: 5 | N15: 0.041666667 | O15: Đ | P15: 4.2 | Q15: 6.2 | R15: 5.9 | S15: 4.9 | T15: 6.2 | U15: 5 | V15: 6.6 | W15: 8 | X15: 0 | Y15: 6.4 | Z15: 6.8 | AA15: 7.3 | AB15: 5.7 | AC15: 7.7 | AD15: 4.2 | AE15: 4.2 | AF15: 8.4 | AG15: 6.8 | AH15: 6.1 | AI15: 4.8 | AJ15: 6.2 | AK15: 6.5 | AL15: 4.4 | AM15: 5.3 | AN15: 5.1 | AO15: 5.9 | AP15: 7.3 | AQ15: 4.4 | AR15: 8 | AS15: 9.1 | AT15: 9.3 | AU15: 9.1 | AV15: 4.6 | AW15: 8.1 | AX15: 4 | AY15: 6.2 | AZ15: 4.3 | BA15: 5.3 | BB15: 6.2 | BC15: 4.2 | BD15: 6.4 | BF15: 7.3 | BG15: =VLOOKUP(B15,'66DCDT'!$C$10:$G$58,3,0) -> #N/A
A16: 11 | B16: 66DCDT21111 | D16: HỒ THANH | E16: PHONG | F16: 24/12/1997 | G16: 120 | H16: 118 | I16: 116 | J16: 5.6966102 | K16: 1.8644068 | L16: 2 | M16: 4 | N16: 0.033333333 | O16: Đ | P16: 5.7 | R16: 8.1 | S16: 4.7 | T16: 4.8 | U16: 4.2 | V16: 6.1 | W16: 10 | X16: 0 | Y16: 4.8 | Z16: 7.3 | AA16: 6.6 | AB16: 4.9 | AC16: 5.6 | AD16: 4.3 | AE16: 4.8 | AF16: 4.4 | AG16: 6.8 | AH16: 5.8 | AI16: 4.3 | AJ16: 6.3 | AK16: 5 | AL16: 6.7 | AM16: 7.8 | AN16: 6.5 | AO16: 4.4 | AP16: 4.4 | AQ16: 5.1 | AR16: 7.3 | AS16: 7.8 | AT16: 4.9 | AU16: 7.8 | AV16: 4.2 | AW16: 5.2 | AX16: 7.3 | AY16: 5.1 | AZ16: 5.1 | BA16: 4.2 | BB16: 5.7 | BC16: 4.2 | BD16: 5.7 | BE16: 4.6 | BF16: 7.4 | BG16: =VLOOKUP(B16,'66DCDT'!$C$10:$G$58,3,0) -> #N/A
A17: 12 | B17: 66DCDT21571 | C17: =D17&" "&E17 -> BÙI HỮU THÀNH | D17: BÙI HỮU | E17: THÀNH | F17: 35347 | G17: 120 | H17: 120 | I17: 120 | J17: 7.6458333 | K17: 3.1125 | L17: 0 | M17: 0 | N17: 0 | O17: Đ | P17: 8 | Q17: 5.5 | R17: 8.3 | S17: 8 | T17: 8 | U17: 7.2 | V17: 8.1 | W17: 10 | X17: 7.9 | Y17: 8.7 | Z17: 7.1 | AA17: 7.9 | AB17: 10 | AC17: 6.5 | AD17: 7.5 | AE17: 6.4 | AF17: 4.6 | AG17: 9.3 | AH17: 8.4 | AI17: 7.7 | AJ17: 7 | AK17: 6.7 | AL17: 6.5 | AM17: 8.7 | AN17: 5.8 | AO17: 6.6 | AP17: 7.8 | AQ17: 7.4 | AR17: 9 | AS17: 9.6 | AT17: 9.3 | AU17: 9.6 | AV17: 5.3 | AW17: 5.1 | AX17: 7.6 | AY17: 8.4 | AZ17: 8.9 | BA17: 7 | BB17: 8.1 | BC17: 8.6 | BD17: 8.8 | BE17: 5.7 | BF17: 6.1 | BG17: =VLOOKUP(B17,'66DCDT'!$C$10:$G$58,3,0) -> 10/09/1996
A18: 13 | B18: 66DCDT21300 | C18: =D18&" "&E18 -> NGUYỄN MINH TÚ | D18: NGUYỄN MINH | E18: TÚ | F18: 35619 | G18: 120 | H18: 120 | I18: 120 | J18: 6.0116667 | K18: 2.075 | L18: 0 | M18: 0 | N18: 0 | O18: Đ | P18: 5.6 | Q18: 4.4 | R18: 6.3 | S18: 4.6 | T18: 6.2 | U18: 5.3 | V18: 7.5 | W18: 6.9 | X18: 7.1 | Y18: 5.9 | Z18: 6.4 | AA18: 6.7 | AB18: 5.7 | AC18: 5.8 | AD18: 5 | AE18: 5.9 | AF18: 5.6 | AG18: 6.6 | AH18: 4.8 | AI18: 5.2 | AJ18: 6.2 | AK18: 6.7 | AL18: 5.9 | AM18: 4.1 | AN18: 5.8 | AO18: 6.7 | AP18: 5.7 | AQ18: 4.4 | AR18: 7.7 | AS18: 9.1 | AT18: 5.6 | AU18: 9.1 | AV18: 6.1 | AW18: 4.7 | AX18: 5.4 | AY18: 5.2 | AZ18: 4.9 | BA18: 6.4 | BB18: 6 | BC18: 7.9 | BD18: 5.4 | BE18: 4.6 | BF18: 4.5 | BG18: =VLOOKUP(B18,'66DCDT'!$C$10:$G$58,3,0) -> 07/08/1997
A19: 14 | B19: 66DCDT21363 | D19: NGUYỄN ĐẮC | E19: VUI | F19: 17/09/1997 | G19: 120 | H19: 118 | I19: 116 | J19: 6.2101695 | K19: 2.2754237 | L19: 2 | M19: 4 | N19: 0.033333333 | O19: Đ | P19: 4.9 | R19: 4.1 | S19: 4 | T19: 6.4 | U19: 7.2 | V19: 4.4 | W19: 8.9 | X19: 0 | Y19: 5.9 | Z19: 6.9 | AA19: 9.3 | AB19: 5 | AC19: 4 | AD19: 4.5 | AE19: 6.1 | AF19: 8.5 | AG19: 5.4 | AH19: 6.8 | AI19: 6 | AJ19: 6.6 | AK19: 6.7 | AL19: 5 | AM19: 5.8 | AN19: 6.5 | AO19: 6.6 | AP19: 5.1 | AQ19: 5.9 | AR19: 7.4 | AS19: 9.1 | AT19: 6.3 | AU19: 9.1 | AV19: 6.1 | AW19: 4.3 | AX19: 4.8 | AY19: 5.1 | AZ19: 5.9 | BA19: 6 | BB19: 6.5 | BC19: 7.1 | BD19: 9 | BE19: 4.6 | BF19: 8.4 | BG19: =VLOOKUP(B19,'66DCDT'!$C$10:$G$58,3,0) -> #N/A
A20: 15 | B20: 66DCDT21565 | D20: ĐÀO DUY | E20: ANH | F20: 35654 | G20: 120 | H20: 118 | I20: 113 | J20: 5.8110169 | K20: 2.0042373 | L20: 3 | M20: 7 | N20: 0.058333333 | O20: K | P20: 4.6 | R20: 6.2 | S20: 4.9 | T20: 6.4 | U20: 6.6 | V20: 6.4 | W20: 4.3 | X20: 0 | Y20: 2.1 | Z20: 4.9 | AA20: 6.8 | AB20: 4 | AC20: 6.1 | AD20: 5.5 | AE20: 5.6 | AF20: 8.3 | AG20: 8.6 | AH20: 4.5 | AI20: 5.3 | AJ20: 5.8 | AK20: 4.8 | AL20: 4.5 | AM20: 7.1 | AN20: 6.9 | AO20: 6.1 | AP20: 5.5 | AQ20: 5.6 | AR20: 7 | AS20: 9.1 | AT20: 6.9 | AU20: 9.1 | AV20: 4.4 | AW20: 4.1 | AX20: 5.4 | AY20: 5.9 | AZ20: 7.4 | BA20: 5.3 | BB20: 7.3 | BC20: 4.7 | BD20: 7.9 | BE20: 4.6 | BF20: 4.3 | BG20: =VLOOKUP(B20,'66DCDT'!$C$10:$G$58,3,0) -> #N/A
A21: 16 | B21: 66DCDT21783 | D21: ĐÀO HOÀNG | E21: ANH | F21: 35490 | G21: 120 | H21: 100 | I21: 31 | J21: 2.43 | K21: 0.495 | L21: 31 | M21: 89 | N21: 0.74166667 | O21: K | P21: 0 | R21: 3.9 | S21: 2.3 | T21: 5.3 | U21: 0 | V21: 5.3 | W21: 0 | X21: 0 | Y21: 0 | Z21: 4 | AA21: 2.4 | AB21: 0 | AC21: 4.3 | AD21: 3.2 | AE21: 0 | AF21: 4.6 | AG21: 5.7 | AH21: 2.3 | AI21: 2.1 | AJ21: 1.6 | AK21: 2.3 | AL21: 5.2 | AM21: 0 | AO21: 2.1 | AQ21: 5.4 | AR21: 7.3 | AT21: 6.3 | AV21: 0 | AW21: 4.3 | AX21: 3.9 | AY21: 2.8 | AZ21: 0 | BA21: 0 | BB21: 0 | BC21: 1 | BD21: 6.3 | BF21: 0 | BG21: =VLOOKUP(B21,'66DCDT'!$C$10:$G$58,3,0) -> #N/A
A22: 17 | B22: 66DCDT21458 | D22: NGUYỄN TUẤN | E22: ANH | F22: 26/09/1997 | G22: 120 | H22: 108 | I22: 103 | J22: 5.6537037 | K22: 1.8518519 | L22: 5 | M22: 17 | N22: 0.14166667 | O22: K | P22: 4.9 | R22: 5.4 | S22: 4.3 | T22: 5 | U22: 6.5 | V22: 8.1 | W22: 5.6 | X22: 0 | Y22: 4.9 | Z22: 4 | AA22: 6.1 | AB22: 5.6 | AC22: 4.3 | AD22: 4.7 | AE22: 4.7 | AF22: 4.6 | AG22: 6.9 | AH22: 6.1 | AI22: 5.3 | AJ22: 5.9 | AK22: 7.9 | AL22: 5.8 | AM22: 5.9 | AN22: 5 | AO22: 3.8 | AP22: 6.6 | AQ22: 7.5 | AR22: 7 | AT22: 6.5 | AV22: 4.1 | AW22: 4.8 | AX22: 5.6 | AY22: 4.5 | AZ22: 5.9 | BA22: 7.9 | BB22: 7.1 | BC22: 7.8 | BD22: 7.3 | BE22: 6.5 | BF22: 6.8 | BG22: =VLOOKUP(B22,'66DCDT'!$C$10:$G$58,3,0) -> 26/09/1997
A23: 18 | B23: 66DCDT21058 | D23: ĐINH VĂN | E23: CHÍNH | F23: 29/11/1997 | G23: 120 | H23: 99 | I23: 50 | J23: 3.0828283 | K23: 0.73232323 | L23: 23 | M23: 70 | N23: 0.58333333 | O23: K | P23: 4 | R23: 3.7 | S23: 2.5 | T23: 5.5 | U23: 4.9 | V23: 7.7 | W23: 5.6 | X23: 0 | Y23: 1.8 | Z23: 1.6 | AA23: 2.4 | AB23: 4.1 | AC23: 0 | AD23: 4 | AE23: 5.3 | AF23: 0 | AG23: 5.1 | AH23: 0 | AI23: 4.5 | AJ23: 5.8 | AK23: 0 | AL23: 6 | AM23: 4.3 | AN23: 4.4 | AQ23: 0.4 | AR23: 6.7 | AT23: 2.1 | AV23: 4.3 | AW23: 4.1 | AX23: 3.5 | AY23: 4.3 | AZ23: 1.9 | BA23: 4.2 | BB23: 5.6 | BC23: 0 | BD23: 1.2 | BF23: 0 | BG23: =VLOOKUP(B23,'66DCDT'!$C$10:$G$58,3,0) -> #N/A
A24: 19 | B24: 66DCDT21218 | D24: LÊ MẠNH | E24: CƯỜNG | F24: 14/07/1997 | G24: 120 | H24: 108 | I24: 106 | J24: 6.0435185 | K24: 2.1759259 | L24: 4 | M24: 14 | N24: 0.11666667 | O24: K | P24: 6.3 | R24: 4.3 | S24: 9.1 | T24: 4.4 | U24: 6.1 | V24: 8.7 | W24: 5.6 | X24: 0 | Y24: 6.8 | Z24: 4.3 | AA24: 8.5 | AB24: 5.7 | AC24: 4.2 | AD24: 4 | AE24: 5.4 | AF24: 8.6 | AG24: 4.7 | AH24: 6.8 | AI24: 5.2 | AJ24: 6.5 | AK24: 4.4 | AL24: 5.4 | AM24: 5.8 | AN24: 5.8 | AO24: 5.3 | AP24: 7.3 | AQ24: 8.4 | AR24: 6.7 | AT24: 6.6 | AV24: 4.3 | AW24: 4.6 | AX24: 8.4 | AY24: 8.6 | AZ24: 6.2 | BA24: 4.3 | BB24: 7.1 | BC24: 7.5 | BD24: 7.5 | BE24: 5.9 | BF24: 5.5 | BG24: =VLOOKUP(B24,'66DCDT'!$C$10:$G$58,3,0) -> #N/A
A25: 20 | B25: 66DCDT21442 | D25: LÊ VĂN | E25: GIANG | F25: 20/07/1997 | G25: 120 | H25: 118 | I25: 113 | J25: 5.8542373 | K25: 1.9915254 | L25: 3 | M25: 7 | N25: 0.058333333 | O25: K | P25: 4.9 | R25: 6 | S25: 7.8 | T25: 4.9 | U25: 6.4 | V25: 4.7 | W25: 5.9 | X25: 0 | Y25: 4.5 | Z25: 4.5 | AA25: 8 | AB25: 4.1 | AC25: 6.5 | AD25: 4.3 | AE25: 4.6 | AF25: 5.4 | AG25: 5.7 | AH25: 4.3 | AI25: 6.9 | AJ25: 6.2 | AK25: 5.8 | AL25: 6.1 | AM25: 6.7 | AN25: 4.3 | AO25: 3.4 | AP25: 4.5 | AQ25: 5.1 | AR25: 7.7 | AS25: 8.7 | AT25: 6.6 | AU25: 8.7 | AV25: 6.3 | AW25: 6.2 | AX25: 4.7 | AY25: 5.6 | AZ25: 7.5 | BA25: 4.9 | BB25: 7.1 | BC25: 5.9 | BD25: 6.9 | BE25: 4.9 | BF25: 7.6 | BG25: =VLOOKUP(B25,'66DCDT'!$C$10:$G$58,3,0) -> 20/07/1997
A26: 21 | B26: 66DCDT21532 | D26: NGUYỄN ĐỨC | E26: HIẾU | F26: 35584 | G26: 120 | H26: 97 | I26: 79 | J26: 4.7134021 | K26: 1.4226804 | L26: 14 | M26: 41 | N26: 0.34166667 | O26: K | P26: 6.1 | R26: 2.3 | T26: 3 | U26: 5.5 | V26: 6.4 | W26: 6.6 | X26: 0 | Y26: 4.9 | Z26: 4 | AA26: 6.7 | AB26: 4.1 | AD26: 2.2 | AE26: 4.2 | AF26: 5.2 | AH26: 5.8 | AI26: 5.6 | AJ26: 6.5 | AK26: 7.2 | AL26: 4.7 | AM26: 5.5 | AN26: 4.1 | AO26: 4.1 | AP26: 4.8 | AQ26: 4.2 | AR26: 7.7 | AT26: 5.2 | AV26: 4.9 | AW26: 5.7 | AX26: 8 | AY26: 2.4 | AZ26: 4.2 | BA26: 4.6 | BB26: 7.2 | BC26: 2.4 | BE26: 4.1 | BF26: 0 | BG26: =VLOOKUP(B26,'66DCDT'!$C$10:$G$58,3,0) -> #N/A
A27: 22 | B27: 66DCDT21052 | D27: NGUYỄN THỊ | E27: HỒNG | F27: 35614 | G27: 120 | H27: 110 | I27: 107 | J27: 5.9990909 | K27: 2.1227273 | L27: 3 | M27: 13 | N27: 0.10833333 | O27: K | P27: 6.6 | Q27: 5.5 | R27: 5.6 | S27: 7.5 | T27: 5 | U27: 6.9 | V27: 6.5 | W27: 6.9 | X27: 8.1 | Y27: 7.8 | Z27: 4.7 | AA27: 6.8 | AB27: 2.7 | AC27: 5.6 | AD27: 4.3 | AE27: 4 | AF27: 4.7 | AG27: 6.6 | AH27: 6.1 | AI27: 4.8 | AJ27: 7.2 | AK27: 6.5 | AL27: 5.6 | AM27: 6.7 | AN27: 6.1 | AO27: 8 | AP27: 6.6 | AQ27: 7.2 | AR27: 6.6 | AT27: 5.6 | AV27: 4.6 | AW27: 4.8 | AX27: 6.1 | AY27: 7 | AZ27: 4.7 | BA27: 8.1 | BB27: 7.3 | BC27: 6.6 | BD27: 4.5 | BE27: 5.7 | BF27: 6.2 | BG27: =VLOOKUP(B27,'66DCDT'!$C$10:$G$58,3,0) -> #N/A
A28: 23 | B28: 66DCDT21791 | D28: LÊ MINH | E28: HOÀN | F28: 20/11/1997 | G28: 120 | H28: 108 | I28: 105 | J28: 5.2675926 | K28: 1.5925926 | L28: 4 | M28: 15 | N28: 0.125 | O28: K | P28: 4.3 | R28: 4.4 | S28: 4.3 | T28: 5.1 | U28: 5.7 | V28: 6.5 | W28: 5.6 | X28: 4.2 | Y28: 5 | Z28: 2.9 | AA28: 6.5 | AB28: 4.1 | AC28: 4.4 | AD28: 4.7 | AE28: 5.7 | AF28: 8.3 | AG28: 4.2 | AH28: 4.1 | AI28: 4.5 | AJ28: 8.1 | AK28: 5.8 | AL28: 5.6 | AM28: 4.7 | AN28: 5.4 | AO28: 5.2 | AP28: 4.1 | AQ28: 4.1 | AR28: 6.6 | AT28: 5.6 | AV28: 4.7 | AW28: 6.9 | AX28: 4.7 | AY28: 4.5 | AZ28: 5.9 | BA28: 6.4 | BB28: 4.8 | BC28: 6.3 | BD28: 7.9 | BE28: 4.8 | BF28: 5.9 | BG28: =VLOOKUP(B28,'66DCDT'!$C$10:$G$58,3,0) -> #N/A
A29: 24 | B29: 66DCDT21558 | D29: VŨ VĂN | E29: KHIÊM | F29: 25/05/1997 | G29: 120 | H29: 118 | I29: 75 | J29: 4.6084746 | K29: 1.3347458 | L29: 16 | M29: 45 | N29: 0.375 | O29: K | P29: 3.7 | R29: 4.9 | S29: 2 | T29: 3.2 | U29: 3.5 | V29: 5.8 | W29: 7.6 | X29: 0 | Y29: 3.1 | Z29: 2 | AA29: 8.7 | AB29: 4.2 | AC29: 7.3 | AD29: 5.4 | AE29: 4 | AF29: 0 | AG29: 6.8 | AH29: 3.1 | AI29: 4.5 | AJ29: 5 | AK29: 5.1 | AL29: 6.7 | AM29: 4.8 | AN29: 5.6 | AO29: 2.5 | AP29: 0 | AQ29: 1.8 | AR29: 7.7 | AS29: 8.2 | AT29: 6.3 | AU29: 8.2 | AV29: 2.1 | AW29: 4 | AX29: 4.9 | AY29: 5.9 | AZ29: 1.5 | BA29: 4 | BB29: 6.1 | BC29: 5.2 | BD29: 5.5 | BE29: 2.9 | BF29: 7.5 | BG29: =VLOOKUP(B29,'66DCDT'!$C$10:$G$58,3,0) -> #N/A
A30: 25 | B30: 66DCDT21611 | D30: TRẦN VĂN | E30: LINH | F30: 21/09/1997 | G30: 120 | H30: 118 | I30: 112 | J30: 6.0872881 | K30: 2.1398305 | L30: 3 | M30: 8 | N30: 0.066666667 | O30: K | P30: 5.7 | R30: 6.3 | S30: 4.4 | T30: 4.6 | U30: 5.2 | V30: 6.1 | W30: 7.6 | X30: 7 | Y30: 7.1 | Z30: 4.8 | AA30: 7.1 | AB30: 4.2 | AC30: 4.3 | AD30: 4.3 | AE30: 5 | AF30: 5.1 | AG30: 8.9 | AH30: 7.7 | AI30: 6.3 | AJ30: 8 | AK30: 4.8 | AL30: 4.6 | AM30: 6.3 | AN30: 5.8 | AO30: 3.8 | AP30: 6.5 | AQ30: 3.9 | AR30: 7 | AS30: 9.1 | AT30: 6.5 | AU30: 9.1 | AV30: 6 | AW30: 5.3 | AX30: 7 | AY30: 6.5 | AZ30: 5.2 | BA30: 4.6 | BB30: 7.2 | BC30: 8 | BD30: 5 | BE30: 5.2 | BF30: 6.6 | BG30: =VLOOKUP(B30,'66DCDT'!$C$10:$G$58,3,0) -> 21/09/1997
A31: 26 | B31: 66DCDT21804 | D31: ĐỖ ĐỨC | E31: LĨNH | F31: 24/06/1997 | G31: 120 | H31: 111 | I31: 96 | J31: 4.8405405 | K31: 1.4144144 | L31: 7 | M31: 24 | N31: 0.2 | O31: K | P31: 5.7 | R31: 5.6 | S31: 5.3 | T31: 5 | U31: 4.6 | V31: 4.9 | W31: 4.9 | X31: 0 | Y31: 5.2 | Z31: 4.5 | AA31: 7.9 | AB31: 4.3 | AC31: 5 | AD31: 6.4 | AE31: 3.6 | AF31: 4.9 | AG31: 4.5 | AH31: 4.7 | AI31: 5.4 | AJ31: 4.9 | AK31: 5.8 | AL31: 4 | AM31: 7.6 | AN31: 5.4 | AO31: 4.4 | AP31: 7.1 | AQ31: 4 | AR31: 7.9 | AS31: 8.2 | AT31: 2.4 | AV31: 4.6 | AW31: 7.7 | AX31: 4.4 | AY31: 4.7 | AZ31: 4.3 | BA31: 4.2 | BB31: 5.6 | BC31: 0 | BD31: 6 | BE31: 4.3 | BF31: 0 | BG31: =VLOOKUP(B31,'66DCDT'!$C$10:$G$58,3,0) -> #N/A
A32: 27 | B32: 66DCDT21094 | D32: ĐÀO THÀNH | E32: LONG | F32: 19/02/1997 | G32: 120 | H32: 101 | I32: 17 | J32: 1.6316832 | K32: 0.24257426 | L32: 37 | M32: 103 | N32: 0.85833333 | O32: K | P32: 0 | Q32: 0 | R32: 0 | S32: 2.2 | T32: 1.6 | U32: 1.4 | V32: 0 | W32: 0 | X32: 0 | Y32: 0 | Z32: 1.6 | AA32: 0 | AB32: 0.6 | AC32: 5.4 | AD32: 3.7 | AE32: 2 | AF32: 0 | AG32: 4.1 | AH32: 0 | AI32: 1.4 | AJ32: 0 | AK32: 1.6 | AL32: 5.1 | AM32: 6 | AO32: 0 | AP32: 0 | AQ32: 1.6 | AR32: 0 | AT32: 0 | AV32: 4.3 | AW32: 4.3 | AX32: 2.8 | AZ32: 2.9 | BA32: 0 | BB32: 0 | BC32: 3 | BF32: 0 | BG32: =VLOOKUP(B32,'66DCDT'!$C$10:$G$58,3,0) -> #N/A
A33: 28 | B33: 66DCDT21168 | D33: NGUYỄN THẾ | E33: NAM | F33: 35647 | G33: 120 | H33: 108 | I33: 85 | J33: 4.9712963 | K33: 1.5046296 | L33: 11 | M33: 35 | N33: 0.29166667 | O33: K | P33: 4.6 | R33: 7.4 | S33: 2.5 | T33: 6.2 | U33: 6.3 | V33: 5.7 | W33: 5.6 | X33: 0 | Y33: 4.6 | Z33: 6.8 | AA33: 4.5 | AB33: 3.3 | AC33: 6.9 | AD33: 4.7 | AE33: 3.4 | AF33: 8.2 | AG33: 5.7 | AH33: 4 | AI33: 2.4 | AJ33: 5.8 | AK33: 7.9 | AL33: 5 | AM33: 6.7 | AN33: 5.8 | AO33: 4.3 | AP33: 0 | AQ33: 6 | AR33: 6.4 | AT33: 2.1 | AV33: 5.3 | AW33: 4.7 | AX33: 4.7 | AY33: 6.5 | AZ33: 5.4 | BA33: 4.6 | BB33: 5.5 | BC33: 6 | BD33: 8 | BE33: 4.6 | BF33: 2.1 | BG33: =VLOOKUP(B33,'66DCDT'!$C$10:$G$58,3,0) -> #N/A
A34: 29 | B34: 66DCDT21281 | D34: CAO ĐĂNG | E34: NGỌC | F34: 35501 | G34: 120 | H34: 99 | I34: 27 | J34: 2.1444444 | K34: 0.37878788 | L34: 33 | M34: 93 | N34: 0.775 | O34: K | P34: 2.4 | R34: 3.5 | S34: 0 | T34: 1.1 | U34: 0 | V34: 0 | W34: 0 | X34: 0 | Y34: 2.5 | Z34: 0 | AA34: 2.2 | AB34: 0.7 | AC34: 3.2 | AD34: 4.2 | AE34: 1.8 | AF34: 4.1 | AG34: 4 | AH34: 0 | AI34: 3.1 | AJ34: 1.5 | AK34: 1.4 | AL34: 5.3 | AM34: 0 | AO34: 0.6 | AP34: 3.3 | AQ34: 0 | AR34: 6.7 | AT34: 5.2 | AV34: 0 | AW34: 4 | AX34: 5.1 | AZ34: 0 | BA34: 0 | BB34: 5.5 | BC34: 4.2 | BF34: 1.7 | BG34: =VLOOKUP(B34,'66DCDT'!$C$10:$G$58,3,0) -> #N/A
A35: 30 | B35: 66DCDT21809 | D35: LÊ PHƯỚC MINH | E35: NGỌC | F35: 13/01/1995 | G35: 120 | H35: 118 | I35: 99 | J35: 5.5533898 | K35: 1.7966102 | L35: 8 | M35: 21 | N35: 0.175 | O35: K | P35: 5.6 | R35: 5.5 | S35: 4.2 | T35: 3 | U35: 5.4 | V35: 4.6 | W35: 8 | X35: 0 | Y35: 5.7 | Z35: 6.9 | AA35: 5.7 | AB35: 8.2 | AC35: 4 | AD35: 4.1 | AE35: 2.4 | AF35: 7.2 | AG35: 5 | AH35: 4.5 | AI35: 6.3 | AJ35: 7.2 | AK35: 6.5 | AL35: 5.7 | AM35: 4.9 | AN35: 5.1 | AO35: 3.7 | AP35: 6.5 | AQ35: 2.5 | AR35: 8 | AS35: 9.6 | AT35: 9.3 | AU35: 9.6 | AV35: 7.1 | AW35: 4.1 | AX35: 4.1 | AY35: 3.1 | AZ35: 4 | BA35: 5.6 | BB35: 5.4 | BC35: 4.8 | BD35: 4.9 | BE35: 3.2 | BF35: 6.8 | BG35: =VLOOKUP(B35,'66DCDT'!$C$10:$G$58,3,0) -> #N/A
A36: 31 | B36: 66DCDT21258 | D36: ĐOÀN VĂN | E36: NHÂN | F36: 35014 | G36: 120 | H36: 118 | I36: 98 | J36: 5.1805085 | K36: 1.6101695 | L36: 9 | M36: 22 | N36: 0.18333333 | O36: K | P36: 7.5 | R36: 6.5 | S36: 4.2 | T36: 2.6 | U36: 6.8 | V36: 3.5 | W36: 0 | X36: 0 | Y36: 4.2 | Z36: 6.4 | AA36: 5 | AB36: 4.3 | AC36: 4.3 | AD36: 4.7 | AE36: 5.4 | AF36: 3.7 | AG36: 5.1 | AH36: 4.7 | AI36: 6.6 | AJ36: 5.5 | AK36: 6 | AL36: 6.9 | AM36: 6.6 | AN36: 5.1 | AO36: 4.2 | AP36: 5.7 | AQ36: 3.6 | AR36: 6.7 | AS36: 8.7 | AT36: 5.9 | AU36: 8.7 | AV36: 6 | AW36: 4.4 | AX36: 4 | AY36: 4.1 | AZ36: 2.2 | BA36: 5.2 | BB36: 6.8 | BC36: 3.8 | BD36: 4.2 | BE36: 4.8 | BF36: 5.5 | BG36: =VLOOKUP(B36,'66DCDT'!$C$10:$G$58,3,0) -> #N/A
A37: 32 | B37: 66DCDT21479 | D37: ĐỖ HỮU | E37: PHƯỚC | F37: 29/04/1997 | G37: 120 | H37: 118 | I37: 101 | J37: 5.529661 | K37: 1.7457627 | L37: 8 | M37: 19 | N37: 0.15833333 | O37: K | P37: 2.6 | R37: 4.6 | S37: 6.5 | T37: 3.4 | U37: 5.8 | V37: 4.9 | W37: 5.2 | X37: 0 | Y37: 5.9 | Z37: 5.9 | AA37: 5.7 | AB37: 4.1 | AC37: 7.9 | AD37: 4.3 | AE37: 4.8 | AF37: 8.4 | AG37: 3 | AH37: 4.9 | AI37: 5.2 | AJ37: 6.2 | AK37: 6 | AL37: 4.7 | AM37: 7.5 | AN37: 5.8 | AO37: 5.7 | AP37: 6.7 | AQ37: 2.4 | AR37: 7.3 | AS37: 9.6 | AT37: 7.2 | AU37: 9.6 | AV37: 4.3 | AW37: 4 | AX37: 5.8 | AY37: 3.6 | AZ37: 4.5 | BA37: 4.2 | BB37: 6.7 | BC37: 4.4 | BD37: 4.2 | BE37: 3.1 | BF37: 5.1 | BG37: =VLOOKUP(B37,'66DCDT'!$C$10:$G$58,3,0) -> #N/A
A38: 33 | B38: 66DCDT21733 | D38: LÊ HỒNG | E38: SƠN | F38: 18/02/1997 | G38: 120 | H38: 108 | I38: 108 | J38: 5.8166667 | K38: 2 | L38: 3 | M38: 12 | N38: 0.1 | O38: K | P38: 6.1 | R38: 8.3 | S38: 5.2 | T38: 6.6 | U38: 5.3 | V38: 4.7 | W38: 6.6 | X38: 6 | Y38: 5 | Z38: 6.4 | AA38: 5.2 | AB38: 4.3 | AC38: 4.1 | AD38: 4 | AE38: 4.4 | AF38: 8.3 | AG38: 4.5 | AH38: 4.7 | AI38: 5.7 | AJ38: 8.2 | AK38: 7.4 | AL38: 6.3 | AM38: 7 | AN38: 6.8 | AO38: 4.8 | AP38: 5.1 | AQ38: 6.3 | AR38: 8.6 | AT38: 8.3 | AV38: 6.1 | AW38: 4.1 | AX38: 6.7 | AY38: 4.2 | AZ38: 5.9 | BA38: 4.3 | BB38: 6.9 | BC38: 4 | BD38: 6.8 | BE38: 5.2 | BF38: 6.8 | BG38: =VLOOKUP(B38,'66DCDT'!$C$10:$G$58,3,0) -> #N/A
