Workbook
Name OLE_LINK1: CB!$G$38

Sheet SV
D1: X | H1: 65DCOT21
H2: 66DCCA22
A3: 69DCHT20011 | B3: NGUYỄN HẢI | C3: ANH | D3: 69DCHT21 | H3: 66DCDB21
A4: 69DCHT20010 | B4: NGUYỄN THỊ LAN | C4: ANH | D4: 69DCHT21 | H4: 66DCDT21
A5: 69DCHT20012 | B5: HOÀNG NGỌC | C5: ÁNH | D5: 69DCHT21 | H5: 66DCKX21
A6: 69DCHT20140 | B6: ĐÀO TRỌNG | C6: CHIẾN | D6: 69DCHT21 | H6: 66DCMX22
A7: 69DCHT20015 | B7: TRẦN THỊ | C7: CHINH | D7: 69DCHT21 | H7: 66DCOT22
A8: 69DCHT20024 | B8: LÊ VĂN | C8: DŨNG | D8: 69DCHT21 | H8: 66DCQT21
A9: 69DCTD20014 | B9: NGUYỄN HỮU | C9: DUY | D9: 69DCHT21 | H9: 66DCVB21
A10: 69DCHT20019 | B10: HOÀNG THỊ | C10: DƯ | D10: 69DCHT21 | H10: 67DCCA22
A11: 69DCHT20029 | B11: ĐỖ THỊ TÂM | C11: ĐAN | D11: 69DCHT21 | H11: 67DCCD21
A12: 69DCHT20035 | B12: HOÀNG MẠNH | C12: HÀ | D12: 69DCHT21 | H12: 67DCCDA1
A13: 69DCHT20046 | B13: NGUYỄN TRUNG | C13: HIẾU | D13: 69DCHT21 | H13: 67DCCO21
A14: 69DCHT20041 | B14: LƯƠNG THỊ THU | C14: HẰNG | D14: 69DCHT21 | H14: 67DCCO23
... A66: 69DCHT20051 | B66: BÙI THỊ | C66: HỒNG | D66: 69DCHT22 | H66: 69DCVT21
A67: 69DCHT20053 | B67: NGUYỄN THỊ | C67: HỒNG | D67: 69DCHT22
A68: 69DCHT20042 | B68: LƯƠNG HỒNG | C68: HẠNH | D68: 69DCHT22
A69: 69DCHT20049 | B69: ĐỖ THỊ | C69: HOÀI | D69: 69DCHT22
A70: 69DCHT20056 | B70: VŨ MẠNH | C70: HÙNG | D70: 69DCHT22
A71: 69DCHT20061 | B71: LƯU QUỐC | C71: KHÁNH | D71: 69DCHT22
A72: 69DCHT20062 | B72: NGÔ NGỌC | C72: KIÊN | D72: 69DCHT22
A73: 69DCHT20065 | B73: MAI THỊ | C73: LAN | D73: 69DCHT22
A74: 69DCHT20068 | B74: NGUYỄN THÙY | C74: LINH | D74: 69DCHT22
A75: 69DCHT20071 | B75: ĐẶNG BÙI NGỌC | C75: LONG | D75: 69DCHT22
A76: 69DCHT20070 | B76: NGUYỄN HOÀNG | C76: LONG | D76: 69DCHT22
A77: 69DCHT20072 | B77: NGUYỄN HOÀNG | C77: LONG | D77: 69DCHT22
A78: 69DCHT20075 | B78: NGUYỄN HOÀNG | C78: LONG | D78: 69DCHT22
... A3304: 66DCVB20785 | B3304: NGUYỄN THỊ HẢI | C3304: YẾN | D3304: 66DCVB21
A3305: 68DLCD20099 | B3305: Lò Văn Thanh | D3305: 68DLCD21
A3306: 68DLCD20021 | B3306: Lương Quốc Cường | D3306: 68DLCD21
A3307: 68DLCD20087 | B3307: Vũ Đặng Tuyền | D3307: 68DLCD21
A3308: 68DLCD20109 | B3308: Nguyễn Hữu Thắng | D3308: 68DLCD21
A3309: 68DLCD20007 | B3309: Đỗ Văn Vương | D3309: 68DLCD21
A3310: 68DLCD20101 | B3310: Cao Hồng Quang | D3310: 68DLCD21
A3311: 68DLCD20138 | B3311: Lê Hồng Phú | D3311: 68DLCD21
A3312: 68DLDD20051 | B3312: Đỗ Văn Thắng | D3312: 68DLDD21
A3313: 68DLDD20065 | B3313: Đặng Văn Quyết | D3313: 68DLDD21
A3314: 68DLDD20104 | B3314: Hoàng Thanh Nghĩa | D3314: 68DLDD21
A3315: 68DLDD20046 | B3315: Trương Đăng Phúc | D3315: 68DLDD21
A3316: 68DLDD20002 | B3316: Mai Đức Quang | D3316: 68DLDD21
... A3326: 63DCCD3360 | B3326: Phạm Anh Vũ | D3326: 63DCCD07

Sheet CB
A1: Chẩn đoán và kiểm định kỹ thuật ô tô (DC3OT51) | B1: Trắc địa (DC2CT16) | C1: Pháp luật Việt Nam đại cương (DC1LL05) | D1: Thông tin di động (DC3DT73) | E1: Những nguyên lý cơ bản của chủ nghĩa Mác - Lênin 1 (DC1LL01) | F1: Vật lý đại cương 1 (DC1CK21) | G1: Công nghệ bảo dưỡng, sửa chữa ô tô (DC3OT52) | H1: Toán 1 (DC1CB17) | I1: Khai thác kỹ thuật ô tô (DC3VB52) | J1: Toán 3 (DC1CB57) | K1: Tin học ứng dụng (DC3CD60) | L1: Tiếng Anh (DC1CB35) | M1: Tin học ứng dụng (DC3DB60) | N1: Nền và móng (DC2CD33) | O1: Toán 1 (DC1CB11) | P1: Máy xây dựng (DC2DD42) | Q1: ĐLCM của ĐCSVN (DC1LL04) | R1: Kế toán thuế (DC3KT27) | S1: Kế toán hành chính sự nghiệp (DC3KV30) | T1: Nguyên lý máy (DC2CK45) | U1: Kết cấu - tính toán ô tô (DC3OT43) | V1: Sức bền vật liệu (DC2CO26) | W1: Cơ học cơ sở (DC2CK21) | X1: Logistics thương mại (DC3VL31) | Y1: Toán 2 (DC1CB41) | Z1: Nguyên lý Hệ điều hành (DC2HT12) | AA1: Kế toán tài chính 3 (DC3KT23) | AB1: Phương pháp NCKH (DC1CB99) | AC1: Thương mại điện tử (DC2KV90) | AD1: Giao tiếp và đàm phán trong kinh doanh (DC3QT12) | AE1: Tâm lý học đại cương (DC1CB85) | AF1: Quản trị học (DC2KV72) | AG1: Tin học đại cương (DC1TT43) | AH1: Kế toán tài chính 1 (DC3KT21) | AI1: Kinh tế vi mô (DC2KV61) | AJ1: Nguyên lý thống kê KT (DC2KV71) | AK1: Pháp luật trong xây dựng (DC2KX38) | AL1: Kinh tế vi mô (DC2LG29) | AM1: Marketing dịch vụ (DC2LG21) | AN1: Kinh tế vĩ mô (DC2KV62) | AO1: Nhập môn Mạng máy tính (DC2HT13) | AP1: Tài chính - Tiền tệ (DC2KV67) | AQ1: Vật lý đại cương (DC1CB21) | AR1: Anten và truyền sóng (DC2DT55) | AS1: Vật lý đại cương 2 (DC1CK22) | AT1: Tiếng Anh chuyên ngành (DC3OT18) | AU1: Hầm giao thông (DC3CA71) | AV1: Tiếng Anh chuyên ngành (DC3CO18) | AW1: Vật liệu xây dựng (DC2GT35) | AX1: Xây dựng nền đường (DC3DB85) | AY1: Dự toán công trình (DC3CT92) | AZ1: Tin học đại cương (DC1TT42) | BA1: Tiếng Anh chuyên ngành (DC3KX18) | BB1: Truyền động máy XD (DC2MX70) | BC1: Công nghệ chế tạo phụ tùng ô tô (DC3OT35) | BD1: Nguyên lý động cơ (DC3ME29) | BE1: Toán 2 (DC1CB18) | BF1: Quản lý tài chính công (DC3TN58) | BG1: Vật liệu cơ khí (DC2CK32) | BH1: Kinh tế quốc tế (DC2KV82) | BI1: Quản trị học (DC2KV73) | BJ1: Nguyên lý kế toán (DC2KV68) | BK1: ATLĐ và MTCN (DC1CB94) | BL1: Marketing căn bản (DC2KV74) | BM1: Marketing vận tải (DC2KV23) | BN1: Môi trường trong GTVT (DC1CB90) | BO1: Nhập môn Cơ sở dữ liệu (DC2TT22) | BP1: Soạn thảo văn bản (DC1CB82) | BQ1: Vật liệu xây dựng (DC2KX36) | BR1: Hàng hóa vận tải (DC2KV31) | BS1: Tối ưu hóa (DC1CB45) | BT1: Cấu trúc dữ liệu và giải thuật (DC2TT26) | BU1: Những nguyên lý cơ bản của chủ nghĩa Mác - Lênin 2 (DC1LL02) | BV1: Cơ sở truyền số liệu (DC3DT34) | BW1: Tổ chức và quản lý doanh nghiệp vận tải ô tô (DC3VB65) | BX1: Cơ học đất (DC2CT32) | BY1: Kỹ thuật vi điều khiển (DC3ME22) | BZ1: Thiết kế đường ô tô 1 (DC3DB80) | CA1: Động lực học công trình (DC2CO28) | CB1: Nguyên lý quy hoạch (DC2DD94) | CC1: Kiểm toán báo cáo tài chính (DC3KV43) | CD1: Kế toán xây dựng cơ bản (DC3KT29) | CE1: Thanh toán quốc tế (DC3VL40) | CF1: Tư tưởng Hồ Chí Minh (DC1LL03) | CG1: Pháp luật kinh tế (DC2KV77) | CH1: Kinh tế lượng (DC2KV63) | CI1: Thủy lực cơ sở(DC2CK61) | CJ1: Tâm lý trong quản trị (DC3QT11) | CK1: Tài chính - Tiền tệ (DC2TN82) | CL1: Văn hóa kinh doanh (DC2CB94) | CM1: Tổ chức xếp dỡ (DC2LG22) | CN1: Toán cao cấp (DC1CB44) | CO1: Vẽ kỹ thuật (DC2CO13) | CP1: Lập trình hướng đối tượng C++ (DC2TT35) | CQ1: Địa lý vận tải (DC2KV32) | CR1: Tiếng Anh chuyên ngành (DC3CA18) | CS1: Xử lý ảnh và video số (DC3DT35) | CT1: Thiết kế đường (DC2KX41) | CU1: Chi tiết máy 1 (DC2CK56) | CV1: Hóa học đại cương (DC1CB26) | CW1: Máy xây dựng (DC2GT42) | CX1: Thiết kế đường ô tô 2 (DC3DB81) | CY1: Kiến trúc DD và CN (DC3DD41) | CZ1: Mạng viễn thông (DC3DT36) | DA1: Phân tích hoạt động kinh doanh (DC3KV32) | DB1: Kiểm toán căn bản (DC2KV81) | DC1: Công nghệ vận tải 2 (DC3VL26) | DD1: Phân tích hoạt động kinh doanh (DC3VL39) | DE1: Phần mềm mã nguồn mở (DC2TT31) | DF1: Thống kê kinh doanh (DC3KV31) | DG1: Kinh tế học (DC2KV64) | DH1: Hạ tầng giao thông vận tải (DC2KV25) | DI1: Thủy văn công trình (+ BTL) (DC2CD53) | DJ1: Hệ thống viễn thông (DC3DT63) | DK1: Chi tiết máy 2 (DC2CK57) | DL1: Nhiên liệu và vật liệu bôi trơn (DC3CK21) | DM1: Tổ chức vận tải hành khách (DC3VB63) | DN1: Tin học ứng dụng (DC3CA60) | DO1: Hình họa - Vẽ kỹ thuật (DC2CO11) | DP1: Thủy lực công trình (DC2CT62) | DQ1: Địa kỹ thuật (DC2KX31) | DR1: Cấu tạo ô tô (DC2OT72) | DS1: Trang bị điện và thiết bị điều khiển tự động trên ô tô (DC3OT32) | DT1: Thương mại quốc tế (DC3VL41) | DU1: Giao dịch ngoại thương (DC3VL35) | DV1: Động cơ điện (DC2CK42) | DW1: Kiến trúc máy tính (DC2HT11) | DX1: Quản trị tài chính doanh nghiệp (DC3QT64) | DY1: Xây dựng đường (DC2KX51) | DZ1: Kinh tế phát triển (DC2TN63) | EA1: Vẽ kỹ thuật (DC2CO15) | EB1: Pháp luật kinh tế (DC1KV93) | EC1: Đại cương thương mại điện tử (DC2EC21) | ED1: Tổ chức xếp dỡ (DC3KV21) | EE1: Điện tử tương tự (DC2DT68) | EF1: Lý thuyết xác suất - thống kê (DC1CB20) | EG1: Công nghệ kim loại (DC2CK33) | EH1: KC gạch, đá và gỗ (DC2DD53) | EI1: Xử lý tín hiệu số (DC2DT65) | EJ1: Lý thuyết ô tô (DC2OT70) | EK1: Quản trị tài chính công ty đa quốc gia (DC3TN61) | EL1: Giao thông thông minh - ITS (DC3HT34) | EM1: Xây dựng cầu (DC2KX52) | EN1: Cơ sở thiết kế trên máy tinh(DC2CK59) | EO1: Pháp luật kinh tế (DC2TN61) | EP1: Cơ kỹ thuật (DC2CO24) | EQ1: Phương tiện vận tải (DC2VL21) | ER1: Chẩn đoán bảo dưỡng kỹ thuật máy xây dựng (DC3MX51) | ES1: Tổ chức vận tải hàng hóa (DC3VB61) | ET1: Xây dựng mặt đường (DC3DB86) | EU1: Kết cấu động cơ đốt trong (DC3CO71) | EV1: Cấp thoát nước (DC3DD46) | EW1: Địa chất công trình (DC2CT31) | EX1: Thuế (DC3KV49) | EY1: Kế toán xây dựng cơ bản (DC3KX38) | EZ1: Nhiệt kỹ thuật (DC2CK48) | FA1: Chiến lược phát triển DN (DC2QT83) | FB1: Giao nhận vận tải và hải quan (DC3VL22) | FC1: An toàn và bảo mật hệ thống thông tin (DC3HT51) | FD1: Kế toán tài chính 2 (DC3KT22) | FE1: KC thép và bêtông cốt thép (DC2KX37) | FF1: Pháp luật kinh tế (DC2KV93) | FG1: Phân tích hoạt động kinh doanh doanh nghiệp vận tải ô tô (DC3VB72) | FH1: Sức bền vật liệu (DC2CO25) | FI1: Kết cấu bêtông cốt thép (DC2DD52) | FJ1: Điện tử số (DC2DT51) | FK1: Tổ chức công tác kế toán trong doanh nghiệp (DC3KT20) | FL1: Tài chính doanh nghiệp xây dựng (DC3KX37) | FM1: Lý thuyết XS - TK (DC1CB19) | FN1: Kế toán doanh nghiệp (DC3KV40) | FO1: Quản trị hành chính văn phòng (DC3QT53) | FP1: Lịch sử các học thuyết kinh tế (DC1KV51) | FQ1: Truyền động thủy lực và khí nén (DC2CK58) | FR1: Giao nhận vận tải (DC3VB75) | FS1: Môi trường trong XD (DC1CB92) | FT1: Thiết kế cầu bê tông cốt thép (DC3CA66) | FU1: Công trình đường sắt (DC3DS77) | FV1: Kết cấu nhà bêtông cốt thép (DC3DD43) | FW1: Tin học ứng dụng (DC2CK60) | FX1: Quản trị dự án đầu tư (DC3QT68) | FY1: Vận tải hàng hóa quốc tế (DC3VL27) | FZ1: Nguyên lý thống kê (DC2KV70) | GA1: Nghiên cứu Marketing (DC2QM24) | GB1: Kinh tế quốc tế (DC2TN62) | GC1: Định mức kinh tế kỹ thuật (DC2KV22) | GD1: Bảo hiểm trong giao thông vận tải (DC2CB89) | GE1: Thiết kế cầu nhịp lớn (DC3CA72) | GF1: Kết cấu thép (DC2GT51) | GG1: Kết cấu nhà thép (DC3DD44) | GH1: Tài chính doanh nghiệp (DC3KV36) | GI1: Định mức kinh tế kỹ thuật xây dựng (DC3KX75) | GJ1: Mỹ học công trình cầu (DC3CA78) | GK1: Đường đô thị (DC3DB79) | GL1: Tin học ứng dụng (DC3DD60) | GM1: Trường điện từ (DC2DT28) | GN1: Pháp luật về kinh doanh Logistics và Vận tải đa phương thức (DC3VL24) | GO1: Dung sai kỹ thuật đo(DC2CK18) | GP1: Tài chính doanh nghiệp 2 (DC3TN32) | GQ1: Hình học họa hình (DC2CO12) | GR1: Logistics (DC3KV15) | GS1: Tổng luận và mố trụ cầu (DC3CA83) | GT1: Kinh tế xây dựng (DC3CT91) | GU1: Đo lường điện tử (DC2DT26) | GV1: Kinh tế xây dựng (DC2KV65) | GW1: Hệ thống thông tin Logistics (DC3VL38) | GX1: Công nghệ phần mềm (DC2HT38) | GY1: Quản trị nhân sự (DC3QT65) | GZ1: Định mức kinh tế kỹ thuật vận tải ô tô (DC2VB67) | HA1: Cơ học kết cấu (DC2CT27) | HB1: Chi tiết máy (DC2ME33) | HC1: Kết cấu và tính toán ô tô (DC3CO68) | HD1: Thiết kế cầu (DC3CA84) | HE1: Kết cấu thép (DC2DD51) | HF1: Ngôn ngữ lập trình C / C++ (DC2DT23) | HG1: Thị trường chứng khoán (DC2KV92) | HH1: Điều tra kinh tế kỹ thuật (DC3KV23) | HI1: Nguyên lý máy (DC2CK55) | HJ1: Kết cấu bêtông cốt thép (DC2GT52) | HK1: Xây dựng cầu 1 (DC3CA69) | HL1: An toàn lao động (DC2CT65) | HM1: Hình họa - Vẽ kỹ thuật (DC2DD11) | HN1: Cấu trúc dữ liệu và giải thuật (DC2HT26) | HO1: Quản trị sản xuất 1 (DC3QT61) | HP1: Chiến lược phát triển doanh nghiệp vận tải ô tô (DC3VB76) | HQ1: Cơ sở điều khiển tự động (DC2DT45) | HR1: Hệ quản trị Cơ sở dữ liệu (DC3HT21) | HS1: Kết cấu thép máy xây dựng (DC3MX40) | HT1: Hạ tầng Giao thông vận tải đường bộ (DC2VB39) | HU1: Thiết kế đường ô tô (DC3DB76) | HV1: Linh kiện điện tử (DC2ME30) | HW1: Lý thuyết mạch (DC2DT27) | HX1: Kỹ thuật điện - Điện tử (DC2CK43) | HY1: Phân tích và thiết kế hệ thống thông tin (DC3HT60) | HZ1: Kinh tế vận tải (DC2KV24) | IA1: Công nghệ vận tải 1 (DC3VL25) | IB1: Tiếng Anh chuyên ngành (DC3KT18) | IC1: Tiếng Anh chuyên ngành (DC3MX18) | ID1: Tiếng Anh chuyên ngành (DC3TN18) | IE1: Quản trị chuỗi cung ứng (DC3VL34) | IF1: Thống kê xây dựng (DC3KX61) | IG1: Dao động kỹ thuật (DC2CB97) | IH1: Vật liệu xây dựng (DC2DD35) | II1: Máy nâng vận chuyển (DC3MX43) | IJ1: Định giá tài sản (DC3TN53) | IK1: Tài chính doanh nghiệp vận tải ô tô (DC3VB73) | IL1: Kết cấu thép máy xây dựng (DC3MX50) | IM1: Hệ thống điện và điện tử trên ô tô (DC3CO69) | IN1: Cầu đường đại cương (DC3MX91) | IO1: Kết cấu - tính toán động cơ (DC3CK41) | IP1: Cơ học cơ sở (DC2CO21) | IQ1: Ngôn ngữ lập trình C (DC2TT23) | IR1: Kế toán quản trị (DC3KT26) | IS1: Quản trị Logistics (DC3VL28) | IT1: Chi tiết máy 2 (DC2CK62) | IU1: Kinh tế công cộng (DC2TN65) | IV1: Lý thuyết mạch (DC2DT42) | IW1: Lý thuyết đàn hồi (DC2CT30) | IX1: Quản trị kho hàng (DC3VL32) | IY1: Bảo hiểm (DC3TN54) | IZ1: Thủy lực (DC2CT50) | JA1: Công nghệ lắp ráp ô tô (DC3OT53) | JB1: Tiếng Anh chuyên ngành (DC3VL18) | JC1: Tin học đại cương (DC1TT41) | JD1: Tổ chức thi công CTXD (DC3CD53) | JE1: Điền kinh (DL1TD21)
A2: =IF(ISERROR(MATCH('Tra cứu'!$B$1,CB!A3:A172,0))=FALSE,1,0) -> 0 | B2: =IF(ISERROR(MATCH('Tra cứu'!$B$1,CB!B3:B172,0))=FALSE,MAX($A$2:A2)+1,0) -> 0 | C2: =IF(ISERROR(MATCH('Tra cứu'!$B$1,CB!C3:C172,0))=FALSE,MAX($A$2:B2)+1,0) -> 0 | D2: =IF(ISERROR(MATCH('Tra cứu'!$B$1,CB!D3:D172,0))=FALSE,MAX($A$2:C2)+1,0) -> 0 | E2: =IF(ISERROR(MATCH('Tra cứu'!$B$1,CB!E3:E172,0))=FALSE,MAX($A$2:D2)+1,0) -> 0 | F2: =IF(ISERROR(MATCH('Tra cứu'!$B$1,CB!F3:F172,0))=FALSE,MAX($A$2:E2)+1,0) -> 0 | G2: =IF(ISERROR(MATCH('Tra cứu'!$B$1,CB!G3:G172,0))=FALSE,MAX($A$2:F2)+1,0) -> 0 | H2: =IF(ISERROR(MATCH('Tra cứu'!$B$1,CB!H3:H172,0))=FALSE,MAX($A$2:G2)+1,0) -> 0 | I2: =IF(ISERROR(MATCH('Tra cứu'!$B$1,CB!I3:I172,0))=FALSE,MAX($A$2:H2)+1,0) -> 0 | ... JE2: =IF(ISERROR(MATCH('Tra cứu'!$B$1,CB!JE3:JE172,0))=FALSE,MAX($A$2:JD2)+1,0) -> 0
A3: 67DCOT20036 | B3: 67DCDB20035 | C3: 68DCCO20074 | D3: 67DCDT20078 | E3: 68DCHT20084 | F3: 68DCCO20015 | G3: 67DCOT20273 | H3: 68DCKT20025 | I3: 66DCVB22765 | J3: 69DCHT20015 | K3: 67DCDB20124 | L3: 68DCMO20007 | M3: 67DCDB20148 | N3: 67DCCD20099 | O3: 69DCHT20015 | P3: 67DCDD20034 | Q3: 68DCKT20133 | R3: 67DCKT20027 | S3: 67DCKT20021 | T3: 68DCOT20264 | U3: 67DCOT20054 | V3: 68DCCO20042 | W3: 69DCOT20022 | X3: 67DCVL20006 | Y3: 69DCHT20111 | Z3: 69DCHT20026 | AA3: 68DCKT20025 | AB3: 68DCKT20036 | AC3: 68DCKT20147 | AD3: 68DCQT20014 | AE3: 69DCTD20005 | AF3: 68DCKX20007 | AG3: 69DCHT20026 | AH3: 68DCKT20125 | AI3: 69DCQT20007 | AJ3: 69DCKT20200 | AK3: 69DCKX20004 | AL3: 69DCLG20024 | AM3: 69DCLG20048 | AN3: 69DCKT20162 | AO3: 69DCTT20007 | AP3: 69DCKT20026 | AQ3: 67DCCA20034 | AR3: 67DCDT20057 | AS3: 67DCCO20157 | AT3: 66DCOT20758 | AU3: 67DCCD20022 | AV3: 67DCCO20060 | AW3: 67DCCA20028 | AX3: 67DCCD20025 | AY3: 67DCDD20034 | AZ3: 68DCKT20034 | BA3: 67DCKX20094 | BB3: 67DCMX20031 | BC3: 67DCOT20244 | BD3: 68DCOT20152 | BE3: 68DCQT20093 | BF3: 67DCTN20062 | BG3: 68DCCO20057 | BH3: 68DCKT20013 | BI3: 69DCQT20015 | BJ3: 69DCKT20070 | BK3: 68DCCO20092 | BL3: 68DCKT20007 | BM3: 68DCVL20005 | BN3: 69DCKX20013 | BO3: 69DCHT20055 | BP3: 69DCKT20197 | BQ3: 69DCKX20040 | BR3: 69DCLG20024 | BS3: 69DCLG20073 | BT3: 69DCTT20009 | BU3: 66DCDB21114 | BV3: 66DCDT21032 | BW3: 66DCVB20880 | BX3: 67DCMO20035 | BY3: 67DCCO20056 | BZ3: 67DCCD20099 | CA3: 67DCDD20050 | CB3: 67DCDD20084 | CC3: 67DCKT20021 | CD3: 67DCKT20046 | CE3: 68DCVL20005 | CF3: 68DCCO20111 | CG3: 69DCKT20147 | CH3: 68DCKT20007 | CI3: 68DCOT20198 | CJ3: 68DCQT20034 | CK3: 68DCTN20024 | CL3: 69DCKT20158 | CM3: 69DCLG20024 | CN3: 69DCLG20066 | CO3: 69DCOT20198 | CP3: 69DCTM20004 | CQ3: 69DCLG20024 | CR3: 66DCCA22615 | CS3: 67DCDT20078 | CT3: 66DCKX20274 | CU3: 68DCOT20011 | CV3: 68DCCO20065 | CW3: 69DCKX22001 | CX3: 67DCCD20099 | CY3: 67DCDD20064 | CZ3: 67DCDT20081 | DA3: 67DCKT20046 | DB3: 67DCKT20239 | DC3: 68DCVL20048 | DD3: 67DCVL20014 | DE3: 68DCHT20019 | DF3: 68DCKT20036 | DG3: 68DCKX20024 | DH3: 69DCVT20070 | DI3: 67DCCA20024 | DJ3: 67DCDT20032 | DK3: 66DCMX21271 | DL3: 66DCOT20909 | DM3: 66DCVB22765 | DN3: 67DCCA20016 | DO3: 67DCCA20066 | DP3: 67DCDD20091 | DQ3: 68DCKX21068 | DR3: 68DCOT20113 | DS3: 67DCOT20036 | DT3: 67DCVL20038 | DU3: 67DCVL20023 | DV3: 68DCCO20052 | DW3: 68DCHT20031 | DX3: 68DCKT20033 | DY3: 68DCKX20003 | DZ3: 68DCTN20021 | EA3: 69DCKX20044 | EB3: 69DCLG20024 | EC3: 69DCTD20005 | ED3: 69DCVT28002 | EE3: 66DCDT21032 | EF3: 68DCCO20028 | EG3: 68DCCO20091 | EH3: 67DCDD20081 | EI3: 67DCDT20083 | EJ3: 67DCCO20165 | EK3: 67DCTN20064 | EL3: 68DCHT20029 | EM3: 68DCKX20036 | EN3: 68DCOT20184 | EO3: 68DCTN20004 | EP3: 69DCKX20044 | EQ3: 69DCLG20066 | ER3: 66DCMX21271 | ES3: 66DCVB22765 | ET3: 67DCCD20025 | EU3: 67DCCO20012 | EV3: 67DCDD20091 | EW3: 67DCCA20040 | EX3: 68DCKT20036 | EY3: 67DCKX20095 | EZ3: 67DCOT20033 | FA3: 68DCQT20018 | FB3: 67DCVL20059 | FC3: 68DCHT20018 | FD3: 68DCKT20013 | FE3: 69DCKX20085 | FF3: 69DCVT20007 | FG3: 66DCVB22765 | FH3: 67DCDS20035 | FI3: 67DCDD20017 | FJ3: 67DCCO20084 | FK3: 68DCKT20127 | FL3: 67DCKX20010 | FM3: 68DCKT20036 | FN3: 68DCVL20037 | FO3: 68DCQT20096 | FP3: 68DCTN20033 | FQ3: 66DCMX21271 | FR3: 66DCVB21192 | FS3: 67DCCA20024 | FT3: 67DCCA20032 | FU3: 67DCDB20020 | FV3: 67DCDD20065 | FW3: 67DCOT20204 | FX3: 67DCQT20133 | FY3: 67DCVL20088 | FZ3: 67DCVL20116 | GA3: 68DCQT20031 | GB3: 68DCTN20011 | GC3: 68DCVL20006 | GD3: 68DCVL20048 | GE3: 67DCCA20047 | GF3: 67DCCA20032 | GG3: 67DCDD20062 | GH3: 67DCVL20090 | GI3: 68DCKX20004 | GJ3: 67DCCA20047 | GK3: 67DCDB20003 | GL3: 67DCDD20037 | GM3: 67DCDT20032 | GN3: 67DCVL20090 | GO3: 68DCOT20140 | GP3: 68DCTN27301 | GQ3: 67DCCO20180 | GR3: 66DCVB21192 | GS3: 67DCCA20028 | GT3: 67DCDB20002 | GU3: 67DCDT20032 | GV3: 68DCQT20018 | GW3: 67DCVL20014 | GX3: 68DCHT20102 | GY3: 68DCQT20103 | GZ3: 66DCVB21192 | HA3: 67DCCD20101 | HB3: 68DCCO20062 | HC3: 67DCCO20081 | HD3: 67DCDB20116 | HE3: 67DCDD20008 | HF3: 67DCDT20057 | HG3: 68DCTN27301 | HH3: 68DCVL20016 | HI3: 66DCMX21271 | HJ3: 67DCCA20032 | HK3: 67DCCD20062 | HL3: 67DCCA20032 | HM3: 67DCDD20074 | HN3: 68DCHT20018 | HO3: 68DCQT20103 | HP3: 66DCVB20785 | HQ3: 68DCCO20031 | HR3: 68DCHT20018 | HS3: 66DCMX21271 | HT3: 66DCVB20785 | HU3: 67DCCA20040 | HV3: 67DCCO20180 | HW3: 67DCDT20078 | HX3: 67DCMX20081 | HY3: 68DCHT20018 | HZ3: 68DCVL20046 | IA3: 68DCVL20003 | IB3: 67DCKT20027 | IC3: 67DCMX20056 | ID3: 67DCTN20065 | IE3: 67DCVL20006 | IF3: 68DCKX21421 | IG3: 66DCMX21271 | IH3: 67DCDD20111 | II3: 67DCMX20019 | IJ3: 67DCTN20035 | IK3: 66DCVB20880 | IL3: 67DCMX20019 | IM3: 67DCCO20024 | IN3: 67DCMX20003 | IO3: 67DCOT20270 | IP3: 67DCCA20028 | IQ3: 67DCCO20157 | IR3: 67DCKT20046 | IS3: 67DCVL20059 | IT3: 67DCMX20045 | IU3: 67DCTN20002 | IV3: 68DCCO20026 | IW3: 67DCDB20082 | IX3: 67DCVL20017 | IY3: 67DCTN20022 | IZ3: 67DCCD20105 | JA3: 67DCOT10099 | JB3: 67DCVL20036 | JC3: 63DCCD3360 | JD3: 63DCCD3360 | JE3: 68DLCD20099
A4: 67DCOT20055 | B4: 67DCDB20114 | C4: 68DCCO20011 | D4: 67DCDT20081 | E4: 68DCHT20162 | F4: 68DCCO20082 | G4: 67DCOT20264 | H4: 68DCKT20131 | J4: 69DCOT20011 | K4: 67DCCD20120 | L4: 68DCMO20010 | M4: 67DCDB20021 | N4: 67DCCD20105 | O4: 69DCHT20029 | P4: 67DCDD20008 | Q4: 68DCTN20024 | R4: 67DCKT20046 | S4: 67DCKT20027 | T4: 68DCOT20084 | U4: 67DCOT20105 | V4: 68DCMX20047 | W4: 69DCOT20025 | X4: 67DCVL20059 | Y4: 68DCCO20079 | Z4: 69DCHT20121 | AA4: 68DCKT20029 | AB4: 68DCKT20088 | AC4: 68DCKT20177 | AD4: 68DCQT20028 | AE4: 69DCTD20023 | AF4: 68DCKX20024 | AG4: 69DCHT20121 | AH4: 68DCKT20150 | AI4: 69DCKT20026 | AJ4: 69DCKT20211 | AK4: 69DCKX20008 | AM4: 69DCLG20066 | AN4: 69DCKT20135 | AO4: 69DCTT20012 | AP4: 69DCKT20158 | AQ4: 67DCCA20075 | AR4: 66DCDT21032 | AS4: 67DCMX20006 | AV4: 67DCCO20146 | AW4: 67DCCA20024 | AX4: 67DCCD20062 | AY4: 67DCDD20008 | AZ4: 68DCKT20104 | BA4: 67DCKX20116 | BB4: 67DCMX20035 | BC4: 67DCOT20270 | BD4: 68DCOT20233 | BE4: 68DCQT20018 | BG4: 68DCCO20097 | BH4: 68DCKT20127 | BI4: 69DCTD20033 | BJ4: 69DCKT20144 | BK4: 68DCMX20117 | BL4: 68DCKT20080 | BM4: 68DCVL20017 | BN4: 69DCKX20031 | BO4: 69DCHT20067 | BP4: 69DCKT20249 | BQ4: 68DCKX21068 | BR4: 69DCLG20066 | BS4: 69DCLG20090 | BT4: 69DCTT20101 | BU4: 66DCMX21271 | BW4: 66DCVB22765 | BX4: 67DCCD20110 | BY4: 67DCCO20099 | BZ4: 67DCDB20154 | CA4: 67DCDD20036 | CB4: 67DCDD20008 | CC4: 67DCKT20046 | CD4: 67DCKT20060 | CE4: 68DCVL20050 | CF4: 68DCQT20013 | CG4: 69DCKT20196 | CH4: 68DCKT20036 | CI4: 68DCOT20220 | CJ4: 68DCQT20028 | CK4: 68DCTN20034 | CL4: 69DCKT20180 | CN4: 69DCLG20080 | CO4: 68DCCO20027 | CP4: 68DCHT20084 | CQ4: 69DCVT20007 | CR4: 66DCCA22228 | CS4: 67DCDT20083 | CU4: 68DCOT20015 | CV4: 68DCCO20079 | CW4: 69DCKX20061 | CX4: 66DCDB22292 | CY4: 67DCDD20094 | CZ4: 67DCDT20083 | DA4: 67DCKT20049 | DC4: 68DCVL20049 | DD4: 67DCVL20020 | DE4: 68DCHT20031 | DF4: 67DCKT20036 | DG4: 68DCKX20025 | DH4: 69DCVT20076 | DI4: 67DCCA20039 | DJ4: 67DCDT20083 | DL4: 66DCOT20758 | DN4: 67DCCA20024 | DO4: 67DCQT20034 | DP4: 67DCDD20008 | DQ4: 67DCKX20075 | DR4: 68DCOT20011 | DS4: 67DCOT20240 | DT4: 67DCVL20100 | DU4: 67DCVL20089 | DW4: 68DCHT20034 | DX4: 68DCKT20079 | DY4: 68DCKX20004 | EC4: 69DCTD20026 | ED4: 67DCVL20085 | EF4: 68DCCO20031 | EG4: 67DCCO20012 | EI4: 67DCDT20101 | EJ4: 67DCCO20203 | EL4: 68DCHT20031 | EN4: 68DCOT20220 | EO4: 68DCTN20018 | EQ4: 69DCVT20028 | ER4: 66DCMX21600 | ET4: 67DCCD20062 | EU4: 67DCCO20028 | EW4: 67DCCD20082 | EX4: 68DCKT20080 | FA4: 68DCQT20015 | FB4: 67DCVL20080 | FC4: 68DCHT20031 | FD4: 68DCKT20033 | FE4: 69DCKX20061 | FF4: 69DCVT28002 | FG4: 66DCVB20785 | FH4: 67DCCD20016 | FI4: 67DCDD20091 | FJ4: 67DCCO20174 | FK4: 68DCKT20204 | FL4: 67DCKX20095 | FM4: 67DCTN20022 | FN4: 68DCVL20049 | FO4: 68DCQT20108 | FP4: 68DCTN20031 | FQ4: 66DCMX21600 | FS4: 67DCCA20032 | FT4: 67DCCA20053 | FU4: 67DCDB20028 | FV4: 67DCDD20055 | FY4: 67DCVL20086 | GA4: 68DCQT20042 | GB4: 68DCTN20016 | GC4: 68DCVL20010 | GD4: 66DCVB21192 | GE4: 67DCCA20053 | GF4: 67DCCA20040 | GG4: 67DCDD20065 | GI4: 68DCKX20051 | GJ4: 67DCCA20051 | GK4: 67DCDB20020 | GL4: 67DCDD20045 | GN4: 67DCVL20039 | GO4: 68DCOT20242 | GQ4: 67DCCO20202 | GS4: 67DCCA20034 | GT4: 67DCDB20042 | GV4: 68DCQT20061 | GW4: 67DCVL20079 | GX4: 68DCHT20115 | GY4: 68DCQT20009 | HA4: 67DCDD20122 | HB4: 67DCCO20029 | HC4: 67DCCO20150 | HD4: 66DCDB22536 | HE4: 67DCDD20057 | HG4: 67DCTN20012 | HH4: 68DCVL20040 | HJ4: 67DCCA20074 | HK4: 67DCCD20101 | HL4: 67DCCA20053 | HM4: 67DCDD20018 | HO4: 68DCQT20114 | HQ4: 68DCCO20038 | HW4: 67DCDT20101 | HY4: 68DCHT20115 | HZ4: 67DCVL20006 | IA4: 68DCVL20071 | IB4: 67DCKT20054 | IC4: 67DCMX20089 | IE4: 67DCVL20014 | IF4: 68DCKX20061 | IG4: 66DCMX21600 | II4: 67DCMX20031 | IM4: 67DCCO20088 | IN4: 67DCMX20019 | IP4: 67DCCA20066 | IS4: 67DCVL20017 | IT4: 67DCMX20079 | IU4: 67DCTN20035 | IV4: 68DCCO20031 | IX4: 67DCVL20026 | IY4: 67DCTN20035 | IZ4: 67DCCD20113 | JE4: 68DLCD20021
A5: 67DCOT20251 | B5: 67DCDD20008 | C5: 68DCCO20028 | D5: 67DCDT20083 | E5: 68DCHT20115 | F5: 68DCCO20080 | G5: 67DCOT20277 | H5: 68DCKT20161 | J5: 69DCOT20018 | K5: 67DCCD20022 | L5: 68DCOT20152 | M5: 67DCDB20166 | N5: 66DCDB22292 | O5: 69DCHT20064 | P5: 67DCDD20045 | Q5: 67DCCO20092 | R5: 67DCKT20054 | S5: 67DCKT20074 | T5: 68DCOT20169 | U5: 67DCOT20132 | V5: 68DCMX20064 | W5: 69DCOT20045 | X5: 67DCVL20083 | Y5: 68DCCO20101 | Z5: 68DCHT20164 | AA5: 68DCKT20033 | AB5: 68DCKT20144 | AC5: 68DCKT20203 | AD5: 68DCQT20046 | AE5: 69DCTD20026 | AF5: 68DCKX20025 | AG5: 68DCHT20084 | AH5: 68DCKT20185 | AI5: 69DCKT20051 | AJ5: 69DCKT20247 | AK5: 69DCKX20013 | AM5: 69DCLG20094 | AN5: 69DCQT20015 | AO5: 69DCTT20020 | AP5: 69DCKT20233 | AQ5: 67DCQT20034 | AS5: 67DCMX20003 | AV5: 67DCCO20171 | AW5: 67DCCA20047 | AX5: 67DCDB20154 | AY5: 67DCDD20059 | AZ5: 68DCKT20142 | BA5: 67DCKX20122 | BB5: 67DCMX20075 | BD5: 68DCOT20254 | BE5: 67DCQT20123 | BG5: 68DCCO20108 | BH5: 68DCKT20133 | BI5: 69DCTD20037 | BJ5: 69DCKT20171 | BK5: 68DCMX20157 | BL5: 68DCKT20133 | BM5: 68DCVL20021 | BN5: 69DCKX20085 | BO5: 68DCHT20039 | BP5: 69DCKT20054 | BR5: 68DCVL20039 | BS5: 69DCTD20010 | BU5: 68DCQT20114 | BX5: 67DCCD20105 | BY5: 67DCCO20180 | BZ5: 67DCDB20092 | CA5: 67DCDD20057 | CB5: 67DCDD20056 | CC5: 67DCKT20054 | CD5: 67DCKT20154 | CE5: 68DCVL20055 | CF5: 67DCCO20068 | CG5: 69DCKT20200 | CH5: 68DCKT20127 | CI5: 68DCOT20152 | CJ5: 68DCQT20042 | CK5: 67DCTN20062 | CL5: 69DCKT20196 | CO5: 67DCCO20029 | CP5: 68DCHT20117 | CQ5: 69DCVT20013 | CR5: 66DCCA23077 | CS5: 67DCDT20101 | CU5: 68DCOT20227 | CV5: 68DCOT20080 | CW5: 68DCKX20009 | CX5: 67DCDB20020 | CY5: 67DCDD20091 | CZ5: 67DCDT20101 | DA5: 67DCKT20096 | DC5: 68DCVL20053 | DD5: 67DCVL20026 | DE5: 68DCHT20034 | DF5: 68DCKT20178 | DG5: 68DCKX20034 | DH5: 68DCVL20028 | DI5: 67DCCA20034 | DJ5: 67DCDT20101 | DN5: 67DCCA20039 | DO5: 67DCCD20020 | DR5: 68DCOT20250 | DS5: 67DCOT20213 | DT5: 67DCVL20113 | DU5: 67DCVL20096 | DW5: 68DCHT25631 | DX5: 68DCKT20136 | DY5: 68DCKX20009 | EF5: 68DCCO20068 | EG5: 67DCCO20028 | EJ5: 67DCCO20201 | EL5: 68DCHT20065 | EN5: 68DCOT20113 | EO5: 68DCTN20021 | EQ5: 69DCVT20029 | ER5: 66DCMX21480 | ET5: 67DCCD20106 | EU5: 67DCCO20108 | EW5: 67DCCD20101 | EX5: 68DCKT20079 | FA5: 68DCQT20050 | FB5: 67DCVL20088 | FC5: 68DCHT20117 | FD5: 68DCKT20126 | FE5: 69DCKX20059 | FF5: 69DCVT20074 | FH5: 67DCCD20105 | FJ5: 67DCCO20203 | FK5: 68DCKT20091 | FL5: 67DCKX20122 | FM5: 67DCTN20065 | FN5: 68DCVL20063 | FO5: 68DCQT20113 | FP5: 67DCTN20022 | FQ5: 66DCOT20758 | FS5: 67DCCA20062 | FT5: 67DCDB20124 | FU5: 67DCDB20089 | FV5: 67DCDD20076 | FY5: 67DCVL20113 | GA5: 68DCQT20093 | GB5: 68DCTN20018 | GC5: 68DCVL20023 | GE5: 67DCCA20060 | GF5: 67DCCD20101 | GG5: 67DCDD20070 | GI5: 68DCKX20006 | GJ5: 67DCCA20062 | GK5: 67DCDB20043 | GL5: 67DCDD20052 | GO5: 67DCOT20144 | GQ5: 66DCMX21271 | GS5: 67DCCA20066 | GT5: 67DCDD20034 | GV5: 67DCHT20086 | GW5: 67DCVL20090 | GY5: 68DCQT20013 | HB5: 67DCCO20061 | HE5: 67DCDD20078 | HH5: 68DCVL20042 | HJ5: 67DCCA20075 | HK5: 67DCCD20102 | HL5: 67DCDD20062 | HO5: 68DCQT20009 | HQ5: 67DCCO20080 | HW5: 67DCDT20107 | HZ5: 67DCVL20013 | IA5: 68DCVL20049 | IB5: 67DCKT20074 | IE5: 67DCVL20080 | IM5: 67DCCO20146 | IN5: 67DCMX20022 | IP5: 67DCDB20003 | IT5: 67DCMX20084 | IV5: 68DCCO20064 | IX5: 67DCVL20039 | IZ5: 67DCDB20089 | JE5: 68DLCD20087
A6: 67DCOT20264 | B6: 66DCCA22615 | C6: 68DCCO20030 | D6: 67DCDT20101 | E6: 68DCHT20117 | F6: 68DCCO20131 | G6: 66DCOT20758 | H6: 67DCKT20036 | J6: 69DCOT20025 | K6: 67DCCD20101 | L6: 68DCOT20213 | M6: 67DCDB20131 | N6: 67DCDB20021 | O6: 69DCHT20067 | P6: 67DCDD20059 | Q6: 67DCCO20093 | R6: 67DCKT20096 | S6: 67DCKT20060 | T6: 67DCMX20023 | U6: 67DCOT20232 | V6: 68DCOT20068 | W6: 69DCOT20054 | X6: 67DCVL20020 | Y6: 68DCHT20122 | Z6: 68DCHT20029 | AA6: 68DCKT20104 | AB6: 68DCKT20177 | AC6: 68DCKT20050 | AD6: 68DCQT20064 | AE6: 69DCTD20067 | AF6: 68DCKX20044 | AH6: 69DCKT20043 | AI6: 69DCKT20070 | AJ6: 69DCKT20028 | AK6: 69DCKX20084 | AM6: 69DCTD20010 | AN6: 69DCQT20020 | AO6: 69DCTT20037 | AP6: 69DCKT20249 | AQ6: 67DCDS20035 | AS6: 67DCMX20019 | AV6: 67DCCO20174 | AW6: 67DCCA20068 | AX6: 67DCDB20042 | AY6: 67DCDD20095 | AZ6: 68DCKT20205 | BB6: 67DCMX20081 | BD6: 68DCOT20266 | BG6: 68DCCO20038 | BH6: 68DCKT20144 | BI6: 69DCTD20043 | BJ6: 69DCKT20180 | BK6: 68DCMX20168 | BL6: 68DCKT20136 | BM6: 68DCVL20040 | BN6: 69DCKX22001 | BO6: 68DCHT20162 | BP6: 68DCKT20007 | BR6: 68DCVL20052 | BU6: 68DCQT20009 | BX6: 67DCDB20010 | BZ6: 67DCDB20044 | CA6: 67DCDD20098 | CC6: 67DCKT20060 | CD6: 67DCKT20239 | CE6: 68DCVL20067 | CF6: 67DCCO20075 | CG6: 69DCKT20208 | CH6: 68DCKT20133 | CI6: 68DCOT20233 | CJ6: 68DCQT20046 | CL6: 69DCKT20208 | CO6: 67DCCO20025 | CQ6: 69DCVT20014 | CS6: 67DCDT20107 | CU6: 68DCOT20250 | CV6: 68DCOT20084 | CW6: 67DCCA20028 | CX6: 67DCDB20035 | CY6: 67DCDD20102 | DA6: 67DCKT20154 | DC6: 68DCVL20061 | DD6: 67DCVL20030 | DE6: 68DCHT20084 | DF6: 68DCKT20037 | DG6: 68DCKX20036 | DH6: 68DCVL20012 | DI6: 67DCMO20035 | DJ6: 66DCDT21032 | DN6: 67DCCA20077 | DO6: 67DCCD20079 | DR6: 67DCOT20033 | DX6: 68DCKT20210 | DY6: 68DCKX20024 | EF6: 68DCOT20080 | EG6: 67DCCO20081 | EJ6: 67DCOT20123 | EL6: 68DCHT20102 | EN6: 67DCMX20091 | EO6: 68DCTN20034 | EQ6: 69DCVT20076 | EU6: 67DCCO20135 | EW6: 67DCCD20102 | EX6: 68DCKT20031 | FA6: 68DCQT20062 | FB6: 67DCVL20086 | FC6: 68DCHT20129 | FD6: 68DCKT20203 | FF6: 68DCVL20016 | FH6: 67DCDB20143 | FJ6: 67DCCO20051 | FK6: 68DCKT20140 | FN6: 67DCVL20086 | FO6: 68DCQT20052 | FS6: 67DCCA20060 | FT6: 67DCMO20035 | FV6: 67DCDD20082 | FY6: 67DCVL20013 | GA6: 68DCQT20103 | GB6: 68DCTN20033 | GC6: 68DCVL20053 | GE6: 67DCCA20068 | GF6: 67DCDB20003 | GG6: 67DCDD20074 | GI6: 68DCKX20010 | GJ6: 67DCCA20060 | GK6: 66DCDB22536 | GL6: 67DCDD20057 | GO6: 67DCOT20203 | GQ6: 68DCOT20238 | GS6: 67DCCA20068 | GT6: 67DCDD20122 | GV6: 68DCQT20099 | GW6: 67DCVL20030 | GY6: 68DCQT20047 | HB6: 67DCCO20102 | HE6: 67DCDD20111 | HH6: 68DCVL20006 | HJ6: 67DCCD20105 | HK6: 67DCCD20106 | HL6: 67DCDD20064 | HO6: 68DCQT20127 | HQ6: 67DCCO20203 | HZ6: 67DCVL20017 | IA6: 68DCVL20063 | IB6: 67DCKT20154 | IE6: 67DCVL20101 | IM6: 67DCCO20174 | IN6: 67DCMX20054 | IP6: 67DCDB20034 | IX6: 67DCVL20072 | JE6: 68DLCD20109
A7: 67DCOT20277 | B7: 66DCCA22228 | C7: 68DCCO20040 | D7: 67DCDT20107 | E7: 66DCDB21114 | F7: 68DCCO20011 | H7: 68DCKT20031 | J7: 69DCOT20074 | L7: 68DCOT20287 | M7: 67DCDB20147 | N7: 67DCDB20020 | O7: 69DCHT20069 | Q7: 67DCDT20081 | R7: 67DCKT20154 | S7: 67DCKT20236 | T7: 67DCMX20019 | U7: 67DCOT20244 | V7: 68DCOT20095 | W7: 68DCCO20053 | X7: 67DCVL20124 | Y7: 67DCCA20016 | Z7: 68DCHT20039 | AA7: 68DCKT20126 | AB7: 68DCKT20210 | AC7: 68DCKT20109 | AD7: 68DCQT20096 | AE7: 68DCQT20014 | AF7: 68DCKX20053 | AH7: 69DCKT20054 | AI7: 69DCKT20129 | AJ7: 69DCKT20031 | AK7: 69DCKX20026 | AM7: 69DCLG20053 | AN7: 68DCKT20031 | AO7: 69DCHT20113 | AP7: 69DCKT20134 | AQ7: 67DCDB20138 | AS7: 67DCMX20022 | AV7: 67DCCO20184 | AW7: 67DCCA20074 | AX7: 67DCDB20107 | AZ7: 68DCKT20031 | BB7: 67DCMX20089 | BD7: 67DCCO20191 | BG7: 68DCCO20107 | BH7: 68DCKT20203 | BI7: 69DCTD20053 | BJ7: 69DCKT20196 | BK7: 68DCOT20080 | BL7: 68DCKT20147 | BM7: 68DCVL20042 | BN7: 69DCKX20063 | BP7: 68DCKT20203 | BR7: 68DCVL20008 | BU7: 68DCQT20013 | BX7: 67DCDD20102 | CA7: 67DCDD20095 | CC7: 67DCKT20096 | CE7: 68DCVL25102 | CF7: 67DCCO20093 | CG7: 69DCKT20206 | CH7: 68DCKT20147 | CI7: 68DCOT20242 | CJ7: 68DCQT20072 | CL7: 69DCKT20211 | CO7: 67DCCO20024 | CQ7: 69DCVT28005 | CS7: 66DCDT20957 | CU7: 68DCOT20278 | CV7: 67DCCD20016 | CW7: 67DCCA20024 | CX7: 67DCDB20092 | CY7: 67DCDD20114 | DA7: 67DCKT20178 | DC7: 68DCVL20063 | DD7: 67DCVL20062 | DE7: 68DCHT20162 | DF7: 68DCKT20052 | DG7: 68DCKX20042 | DI7: 67DCDB20114 | DO7: 67DCCD20099 | DR7: 67DCOT20038 | DX7: 68DCKT20047 | DY7: 68DCKX20041 | EF7: 67DCCA20034 | EG7: 67DCOT20033 | EJ7: 67DCOT20230 | EL7: 68DCHT25631 | EO7: 67DCTN20002 | EQ7: 68DCVL20035 | EU7: 67DCCO20146 | EW7: 67DCCD20106 | EX7: 68DCKT20047 | FA7: 68DCQT20065 | FB7: 67DCVL20087 | FD7: 68DCKT20011 | FF7: 68DCVL20071 | FH7: 67DCDD20122 | FJ7: 67DCCO20139 | FK7: 68DCKT20209 | FN7: 67DCVL20087 | FO7: 68DCQT20054 | FS7: 67DCCA20068 | FV7: 67DCDD20095 | FY7: 67DCVL20036 | GA7: 68DCQT20124 | GB7: 68DCTN20031 | GC7: 68DCVL20061 | GE7: 67DCCA20074 | GF7: 67DCDB20020 | GG7: 67DCDD20084 | GI7: 68DCKX20017 | GJ7: 67DCCA20074 | GK7: 67DCDB20089 | GL7: 67DCDD20056 | GS7: 67DCCA20074 | GT7: 67DCDD20037 | GW7: 67DCVL20081 | GY7: 68DCQT20048 | HB7: 67DCCO20189 | HH7: 68DCVL20007 | HJ7: 67DCDB20003 | HL7: 67DCDD20074 | HO7: 68DCQT20081 | HQ7: 67DCDT20057 | HZ7: 67DCVL20067 | IA7: 68DCDD20065 | IE7: 67DCVL20110 | IN7: 67DCMX20056 | IP7: 67DCDD20064 | IX7: 67DCVL20095 | JE7: 68DLCD20007
A8: 65DCOT21056 | B8: 66DCCA23077 | C8: 68DCCO20043 | D8: 66DCDT21032 | E8: 66DCKX20274 | F8: 67DCCO20025 | H8: 68DCKT20175 | J8: 69DCOT20153 | L8: 67DCMO20035 | N8: 67DCDB20143 | O8: 69DCHT20111 | Q8: 67DCMX20040 | R8: 67DCKT20204 | S8: 67DCKT20067 | T8: 67DCMX20084 | U8: 67DCOT20259 | V8: 68DCOT20287 | W8: 68DCCO20065 | X8: 67DCVL20072 | Y8: 67DCCO20165 | Z8: 68DCHT20031 | AA8: 68DCKT20127 | AB8: 68DCKT20020 | AC8: 68DCKT20113 | AD8: 68DCQT20106 | AE8: 68DCQT20113 | AF8: 67DCCO20041 | AH8: 69DCKT20080 | AI8: 69DCKT20144 | AJ8: 69DCKT20030 | AK8: 69DCKX20031 | AM8: 69DCLG20089 | AN8: 68DCKT20049 | AO8: 68DCHT20164 | AP8: 69DCKT20190 | AQ8: 67DCCD20110 | AS8: 67DCMX20045 | AW8: 67DCCA20077 | AX8: 67DCDB20044 | AZ8: 68DCKT20070 | BB8: 67DCMX20088 | BD8: 67DCCO20201 | BG8: 68DCCO20088 | BH8: 68DCKT20090 | BI8: 69DCVT20068 | BJ8: 69DCKT20192 | BK8: 67DCCO20018 | BL8: 68DCKT20203 | BM8: 68DCVL20684 | BN8: 69DCKX20059 | BP8: 68DCKT20113 | BR8: 68DCVL20071 | BU8: 68DCQT20016 | CC8: 67DCKT20154 | CE8: 68DCVL20006 | CF8: 67DCCO20096 | CG8: 69DCKT20211 | CH8: 68DCKT20144 | CI8: 67DCOT20168 | CJ8: 68DCQT20103 | CL8: 69DCKT20227 | CO8: 67DCCO20084 | CQ8: 69DCVT20070 | CS8: 66DCDT21032 | CU8: 67DCMX20023 | CV8: 67DCCO20135 | CW8: 67DCCA20040 | CY8: 67DCDD20052 | DA8: 67DCKT20204 | DC8: 67DCVL20090 | DD8: 67DCVL20072 | DE8: 68DCHT20129 | DF8: 68DCKT20072 | DG8: 68DCKX20056 | DI8: 67DCDB20116 | DO8: 67DCCD20118 | DR8: 67DCOT20150 | DX8: 68DCKT20070 | DY8: 68DCKX20044 | EF8: 67DCCO20171 | EG8: 67DCOT20123 | EJ8: 67DCOT20251 | EL8: 68DCHT20117 | EO8: 67DCTN20062 | EQ8: 68DCVL20040 | EU8: 67DCCO20099 | EW8: 67DCCD20113 | EX8: 68DCKT20070 | FA8: 67DCHT20086 | FB8: 67DCVL20090 | FD8: 68DCKT20021 | FF8: 68DCVL20049 | FH8: 67DCDD20019 | FJ8: 67DCCO20150 | FK8: 68DCKT20037 | FN8: 67DCVL20085 | FO8: 68DCQT20070 | FS8: 67DCCA20077 | FV8: 67DCDD20099 | FY8: 67DCVL20089 | GA8: 68DCQT20133 | GC8: 67DCVL20006 | GE8: 67DCCA20077 | GF8: 67DCDB20080 | GG8: 67DCDD20111 | GI8: 68DCKX20067 | GJ8: 67DCCA20073 | GL8: 67DCDD20078 | GS8: 67DCCA20075 | GY8: 68DCQT20056 | HB8: 67DCCO20201 | HH8: 68DCVL20008 | HJ8: 67DCDB20080 | HL8: 67DCDD20084 | HO8: 68DCQT20050 | HZ8: 67DCVL20095 | IE8: 67DCVL20026 | IP8: 66DCMX21271 | JE8: 68DLCD20101
B9: 67DCDB20118 | C9: 68DCCO20064 | E9: 66DCMX21480 | F9: 67DCCO20060 | H9: 68DCKT20211 | J9: 68DCCO20017 | L9: 67DCCO20012 | N9: 67DCDB20089 | O9: 69DCHT20053 | Q9: 67DCMX20079 | R9: 67DCKT20206 | S9: 67DCKT20099 | T9: 67DCMX20088 | U9: 67DCOT20021 | V9: 68DCOT20169 | W9: 68DCOT20068 | X9: 67DCVL20081 | Y9: 67DCCO20121 | Z9: 68DCHT20034 | AA9: 68DCKT20136 | AB9: 68DCKT20109 | AC9: 68DCKT20153 | AD9: 68DCQT20114 | AE9: 68DCQT21421 | AF9: 68DCVL20016 | AH9: 69DCKT20083 | AI9: 69DCKT20171 | AJ9: 69DCKT20067 | AK9: 69DCKX20040 | AM9: 69DCLG20099 | AN9: 68DCKT20180 | AO9: 68DCHT20019 | AP9: 69DCKT20241 | AQ9: 67DCCD20113 | AS9: 67DCMX20075 | AW9: 67DCCA20083 | AX9: 67DCDB20089 | AZ9: 68DCKT20140 | BB9: 67DCMX20085 | BD9: 67DCCO20069 | BG9: 68DCOT20264 | BH9: 68DCKT20091 | BI9: 69DCTD20067 | BJ9: 69DCKT20208 | BK9: 67DCCO20082 | BL9: 68DCKT20037 | BM9: 68DCVL20050 | BN9: 69DCKX20068 | BP9: 68DCKT20128 | BR9: 68DCVL20049 | BU9: 68DCQT20070 | CC9: 67DCKT20168 | CE9: 68DCVL20003 | CF9: 67DCCO20141 | CG9: 69DCKT20249 | CH9: 68DCKT20177 | CI9: 67DCOT20232 | CJ9: 68DCQT20115 | CL9: 69DCKT20233 | CO9: 67DCCO20102 | CQ9: 69DCVT20094 | CU9: 67DCMX20022 | CV9: 67DCCO20148 | CW9: 67DCCA20039 | CY9: 67DCDD20076 | DA9: 67DCKT20238 | DC9: 67DCVL20082 | DD9: 67DCVL20082 | DF9: 68DCKT22003 | DG9: 68DCKX20064 | DI9: 66DCCA22615 | DO9: 67DCDB20035 | DR9: 67DCOT20232 | DX9: 68DCKT20140 | DY9: 68DCKX23141 | EF9: 67DCCO20068 | EG9: 67DCOT20251 | EL9: 68DCHT20122 | EQ9: 68DCVL20684 | EU9: 67DCCO20121 | EW9: 67DCDB20003 | EX9: 68DCKT20091 | FA9: 68DCQT20074 | FB9: 67DCVL20113 | FD9: 68DCKT20064 | FF9: 67DCVL20013 | FJ9: 67DCDT20032 | FK9: 68DCKT20208 | FN9: 67DCVL20116 | FO9: 68DCQT20065 | FS9: 67DCDB20003 | FV9: 67DCDD20111 | GA9: 68DCQT20047 | GC9: 67DCVL20039 | GE9: 67DCCA20083 | GF9: 67DCDB20116 | GI9: 67DCKX20010 | GJ9: 67DCCA20077 | GY9: 68DCQT20018 | HB9: 67DCCO20125 | HH9: 68DCVL20010 | HJ9: 63DCCD3360 | HL9: 67DCDD20091 | HO9: 68DCQT20066 | IE9: 67DCVL20062 | IP9: 66DCMX21480 | JE9: 68DLCD20138
B10: 67DCDB20118 | C10: 68DCCO20101 | E10: 66DCVB22579 | F10: 67DCCO20061 | H10: 68DCKT20052 | J10: 68DCOT20083 | L10: 67DCCO20028 | O10: 69DCOT20045 | Q10: 67DCOT20172 | R10: 67DCKT20238 | T10: 67DCMX20103 | U10: 67DCOT20034 | V10: 68DCOT20246 | W10: 68DCOT20083 | X10: 67DCVL20082 | Y10: 67DCDT20101 | Z10: 68DCHT20065 | AA10: 68DCKT20144 | AB10: 68DCKT20113 | AC10: 68DCKT20183 | AD10: 68DCQT20113 | AE10: 68DCQT20013 | AF10: 68DCVL20017 | AH10: 69DCKT20088 | AI10: 69DCKT20192 | AJ10: 69DCKT20080 | AK10: 69DCKX20038 | AN10: 68DCQT20064 | AO10: 68DCHT20023 | AP10: 69DCVT28006 | AQ10: 67DCDD20005 | AS10: 67DCMX20089 | AW10: 67DCCD20050 | AZ10: 68DCKT20023 | BB10: 66DCMX21271 | BD10: 67DCOT20123 | BG10: 68DCOT20015 | BH10: 68DCKT20148 | BI10: 68DCKT20088 | BJ10: 69DCKT20227 | BK10: 67DCCO20075 | BL10: 68DCKT20063 | BM10: 68DCVL20054 | BN10: 69DCKX20070 | BP10: 68DCKT20040 | BR10: 68DCVL20061 | BU10: 68DCKX20010 | CC10: 67DCKT20204 | CE10: 68DCVL20007 | CF10: 67DCCO20187 | CG10: 69DCKT20031 | CH10: 68DCKT20202 | CI10: 66DCMX21271 | CJ10: 68DCQT20124 | CL10: 69DCKT20115 | CO10: 67DCCO20146 | CQ10: 67DCCO20041 | CU10: 67DCMX20054 | CV10: 67DCCO20166 | CW10: 67DCCA20053 | CY10: 67DCDD20111 | DA10: 67DCKT20099 | DD10: 67DCVL20095 | DF10: 68DCKT20216 | DG10: 68DCKX20017 | DI10: 66DCCA22228 | DR10: 67DCOT20240 | DX10: 68DCKT20037 | DY10: 68DCKX20058 | EF10: 67DCCO20139 | EL10: 68DCHT20129 | EQ10: 68DCVL20013 | EW10: 67DCDB20043 | EX10: 68DCKT20209 | FA10: 68DCQT20084 | FB10: 67DCVL20013 | FD10: 68DCKT20100 | FF10: 67DCVL20067 | FJ10: 67DCDT20083 | FK10: 68DCKT20165 | FO10: 67DCHT20086 | FS10: 67DCDD20111 | FV10: 67DCDD20116 | GA10: 67DCCA20049 | GC10: 67DCVL20096 | GF10: 66DCDB22536 | GJ10: 67DCCA20083 | GY10: 68DCQT20015 | HB10: 67DCCO20150 | HH10: 68DCVL20012 | HL10: 67DCDD20102 | HO10: 68DCQT20086 | IE10: 67DCVL20124 | JE10: 68DLDD20051
C11: 68DCCO20114 | E11: 68DCQT20034 | F11: 67DCCO20135 | H11: 68DCQT20093 | J11: 67DCCA20028 | L11: 67DCCO20025 | O11: 68DCCO20079 | Q11: 68DCQT20133 | R11: 67DCKT20099 | T11: 68DCOT20238 | U11: 65DCOT21056 | V11: 67DCCO20025 | W11: 68DCOT20202 | Y11: 67DCOT20123 | Z11: 68DCHT25631 | AA11: 68DCKT20172 | AB11: 68DCKT20011 | AC11: 68DCKT20011 | AD11: 68DCQT21421 | AE11: 68DCQT20016 | AF11: 68DCVL20035 | AH11: 69DCKT20092 | AI11: 69DCKT20197 | AJ11: 69DCKT20072 | AK11: 69DCKX22001 | AN11: 68DCQT20065 | AO11: 68DCHT20133 | AP11: 69DCVT20070 | AQ11: 67DCDD20081 | AS11: 67DCMX20106 | AW11: 67DCDB20154 | AZ11: 68DCKX20007 | BD11: 67DCOT20288 | BG11: 68DCOT20162 | BH11: 68DCKT20049 | BI11: 68DCKT20081 | BJ11: 69DCKT20233 | BK11: 67DCCO20099 | BL11: 68DCKT20086 | BM11: 68DCVL20066 | BN11: 69DCVT20029 | BP11: 68DCKT20063 | BR11: 68DCDD20065 | BU11: 67DCDB20085 | CC11: 67DCKT20206 | CE11: 68DCVL20008 | CF11: 67DCDB20002 | CG11: 69DCKT20112 | CH11: 68DCKT20204 | CJ11: 68DCQT20133 | CL11: 69DCKT20134 | CO11: 67DCCO20191 | CQ11: 68DCVL20021 | CU11: 66DCMX21271 | CV11: 67DCCO20174 | CW11: 67DCCA20068 | CY11: 67DCDD20110 | DA11: 67DCQT20020 | DD11: 67DCVL20117 | DF11: 68DCKT20092 | DG11: 68DCKX20058 | DI11: 66DCCA23077 | DR11: 67DCOT20270 | DX11: 68DCKT20143 | DY11: 67DCKX20118 | EF11: 67DCCO20167 | EQ11: 68DCVL20024 | EW11: 67DCDB20080 | EX11: 68DCKT20037 | FA11: 67DCQT20115 | FB11: 67DCVL20017 | FD11: 68DCKT20143 | FK11: 67DCKT20030 | FO11: 68DCQT20084 | FV11: 67DCDD20118 | GF11: 67DCDB20089 | GJ11: 67DCCA20086 | GY11: 68DCQT20032 | HH11: 68DCVL20013 | IE11: 67DCVL20082 | JE11: 68DLDD20065
C12: 68DCQT20108 | E12: 68DCQT20016 | F12: 67DCCO20148 | H12: 68DCQT20021 | J12: 67DCCA20039 | L12: 67DCCO20024 | O12: 68DCCO20017 | Q12: 68DCQT20009 | R12: 67DCKT20239 | V12: 67DCCO20108 | W12: 68DCOT20211 | Y12: 67DCVL20036 | Z12: 68DCHT20162 | AA12: 68DCKT20202 | AB12: 68DCKT20124 | AC12: 68DCKT20017 | AD12: 68DCQT20005 | AE12: 68DCQT20127 | AF12: 68DCVL20040 | AH12: 69DCKT20112 | AI12: 69DCKT20212 | AJ12: 69DCKT20088 | AK12: 69DCKX20060 | AN12: 67DCHT20086 | AP12: 68DCKT20033 | AQ12: 67DCDD20097 | AS12: 67DCMX20111 | AW12: 67DCDB20034 | AZ12: 68DCKX20009 | BD12: 67DCOT20177 | BG12: 68DCOT20232 | BH12: 68DCKT20063 | BI12: 68DCKT20131 | BJ12: 69DCKT20011 | BK12: 67DCOT20204 | BL12: 68DCKT20097 | BM12: 68DCVL20003 | BN12: 69DCVT20074 | BP12: 68DCKT20097 | BR12: 67DCVL20078 | BU12: 67DCCD20069 | CC12: 67DCKT20236 | CE12: 68DCVL20010 | CF12: 66DCDB22536 | CG12: 69DCKT20190 | CH12: 68DCKT20019 | CJ12: 68DCQT20022 | CL12: 69DCKT20050 | CO12: 67DCCO20203 | CQ12: 68DCVL20035 | CV12: 67DCCO20141 | CW12: 67DCCA20075 | DA12: 66DCQT20291 | DF12: 68DCKT20187 | DG12: 68DCKX20061 | DR12: 68DCOT20038 | DX12: 68DCKT20028 | EF12: 67DCCO20184 | EQ12: 68DCVL20048 | EW12: 67DCDD20017 | EX12: 68DCKT20049 | FA12: 68DCQT20096 | FB12: 67DCVL20020 | FD12: 68DCKT20146 | FO12: 68DCQT20099 | GJ12: 67DCCA20087 | GY12: 68DCQT20040 | HH12: 68DCVL20024 | IE12: 67DCVL20104 | JE12: 68DLDD20104
C13: 68DCQT20114 | E13: 68DCQT20081 | F13: 67DCCO20166 | H13: 68DCQT20061 | J13: 67DCCO20018 | L13: 67DCCO20059 | O13: 68DCCO20027 | Q13: 68DCQT20070 | R13: 69DCKT20208 | V13: 67DCCO20146 | W13: 68DCOT20221 | Z13: 68DCHT20115 | AA13: 68DCKT20205 | AB13: 68DCKT20207 | AC13: 68DCKT20038 | AD13: 68DCQT20012 | AE13: 68DCQT20015 | AF13: 68DCVL20054 | AH13: 69DCKT20131 | AI13: 69DCKT20028 | AJ13: 69DCKT20108 | AK13: 69DCKX20071 | AN13: 67DCKT20046 | AP13: 68DCKT20034 | AQ13: 66DCCA22228 | AS13: 66DCMX21600 | AW13: 67DCDB20035 | AZ13: 68DCKX20030 | BD13: 68DCOT20238 | BG13: 68DCOT20250 | BH13: 68DCKT20064 | BI13: 68DCKT20136 | BJ13: 69DCKT20054 | BK13: 66DCMX21171 | BL13: 68DCKT20107 | BM13: 68DCVL20013 | BN13: 69DCVT20076 | BP13: 68DCKT20122 | BR13: 67DCVL20089 | BU13: 67DCMO20035 | CE13: 68DCVL20012 | CF13: 67DCDD20078 | CG13: 68DCKT20007 | CH13: 68DCKT20031 | CJ13: 68DCQT20047 | CL13: 69DCQT20020 | CO13: 67DCCO20051 | CQ13: 68DCVL20040 | CV13: 67DCDB20008 | CW13: 67DCCD20120 | DF13: 68DCQT20127 | DG13: 68DCVL20008 | DR13: 68DCOT20184 | DX13: 68DCKT20094 | EF13: 67DCDB20003 | EQ13: 67DCVL20078 | EW13: 67DCDD20045 | EX13: 68DCKT20065 | FA13: 68DCQT20013 | FB13: 67DCVL20062 | FD13: 68DCKT20167 | FO13: 68DCQT20118 | GY13: 67DCHT20086 | HH13: 68DCVL20030 | IE13: 67DCVL20116 | JE13: 68DLDD20046
C14: 68DCQT20113 | E14: 68DCCO20015 | F14: 67DCCO20171 | H14: 68DCQT20065 | J14: 67DCCO20197 | L14: 67DCCO20060 | O14: 68DCCO20062 | Q14: 66DCDT21032 | R14: 69DCKT20249 | V14: 67DCCO20030 | W14: 68DCOT20162 | Z14: 68DCHT20117 | AA14: 68DCKT20203 | AB14: 68DCKT20027 | AC14: 68DCKT20040 | AD14: 68DCQT20127 | AE14: 68DCQT20027 | AF14: 68DCVL21031 | AH14: 69DCKT20209 | AI14: 69DCKT20031 | AJ14: 69DCKT20114 | AK14: 69DCKX20070 | AN14: 67DCQT20020 | AP14: 68DCKT20088 | AQ14: 67DC20118 | AS14: 66DCMX21171 | AW14: 67DCDB20082 | AZ14: 68DCKX20031 | BG14: 67DCCO20012 | BH14: 68DCKT20065 | BI14: 68DCKT20202 | BJ14: 69DCKT20067 | BK14: 68DCOT20238 | BL14: 68DCKT20100 | BM14: 68DCVL20020 | BN14: 69DCVT20094 | BP14: 68DCKT20143 | BR14: 66DCVB21192 | BU14: 67DCCD20016 | CE14: 68DCVL20061 | CF14: 66DCOT20909 | CG14: 68DCKT20033 | CH14: 68DCKT20047 | CJ14: 68DCQT20048 | CL14: 68DCQT20002 | CO14: 67DCCO20085 | CQ14: 68DCVL20041 | CV14: 67DCDB20028 | CW14: 67DCCD20021 | DF14: 68DCQT20070 | DG14: 68DCVL20048 | DR14: 68DCOT20178 | DX14: 68DCKT20213 | EF14: 67DCDT20083 | EQ14: 67DCVL20023 | EX14: 68DCKT20077 | FA14: 67DCCA20049 | FB14: 67DCVL20096 | FD14: 68DCKT20180 | FO14: 68DCQT20121 | GY14: 68DCQT20068 | HH14: 68DCVL20053 | IE14: 67DCVL20117 | JE14: 68DLDD20002
C15: 68DCQT21421 | E15: 68DCCO20022 | F15: 67DCCO20172 | H15: 67DCHT20086 | J15: 67DCDB20143 | L15: 67DCCO20084 | O15: 68DCHT20102 | Q15: 66DCDT20491 | R15: 69DCKT20251 | V15: 67DCCO20085 | W15: 67DCCO20059 | Z15: 68DCHT20122 | AA15: 68DCKT20204 | AB15: 68DCKX20015 | AC15: 68DCKT20072 | AD15: 67DCCA20049 | AE15: 68DCQT20061 | AF15: 68DCVL20066 | AH15: 68DCKT20131 | AI15: 69DCKT20067 | AJ15: 69DCKT20209 | AK15: 69DCKX20080 | AP15: 68DCKT20147 | AQ15: 67DCDB20044 | AW15: 67DCDB20143 | AZ15: 68DCKX20033 | BG15: 67DCCO20028 | BH15: 68DCKT20086 | BI15: 68DCKT20205 | BJ15: 69DCKT20065 | BL15: 68DCKT20108 | BM15: 68DCVL20049 | BN15: 68DCVL20035 | BP15: 68DCKT20163 | BR15: 66DCVB20880 | BU15: 67DCCD20050 | CE15: 68DCVL20062 | CF15: 66DCOT20758 | CG15: 68DCKT20133 | CH15: 68DCKT20050 | CJ15: 68DCQT20054 | CL15: 68DCQT20021 | CO15: 67DCCO20110 | CQ15: 68DCVL20039 | CV15: 67DCDB20042 | CW15: 67DCCD20101 | DF15: 68DCQT20128 | DG15: 67DCVL20087 | DR15: 68DCOT20230 | DX15: 68DCKT20149 | EF15: 67DCMX20103 | EQ15: 67DCVL20039 | EX15: 68DCKT20015 | FB15: 67DCVL20116 | FD15: 68DCKT20176 | GY15: 68DCQT20084 | HH15: 68DCVL20060 | JE15: 68DLDD20151
C16: 68DCQT20001 | E16: 68DCCO20025 | F16: 67DCCO20174 | H16: 68DCQT20086 | J16: 67DCDD20064 | L16: 67DCCO20101 | O16: 68DCHT20122 | Q16: 66DCOT20909 | V16: 67DCCO20121 | W16: 67DCCO20080 | Z16: 68DCHT20129 | AA16: 68DCKT20019 | AB16: 68DCKX20063 | AC16: 68DCKT20086 | AD16: 68DCQT20070 | AE16: 68DCQT20060 | AF16: 68DCVL20007 | AH16: 68DCKT20133 | AI16: 69DCKT20065 | AJ16: 69DCKT20218 | AK16: 68DCKX20003 | AP16: 68DCKT20177 | AZ16: 68DCKX20036 | BG16: 67DCCO20080 | BH16: 68DCKT20097 | BI16: 68DCKT20203 | BJ16: 69DCKT20092 | BL16: 68DCKT20192 | BM16: 68DCVL20051 | BN16: 68DCVL20040 | BP16: 68DCKT20207 | BR16: 66DCVB20785 | BU16: 67DCCD20054 | CE16: 68DCVL20063 | CF16: 66DCVB21192 | CG16: 68DCKT20158 | CH16: 68DCKT20178 | CJ16: 68DCQT20056 | CL16: 68DCQT20023 | CO16: 67DCCO20125 | CQ16: 68DCVL20684 | CV16: 67DCDB20034 | CW16: 67DCDB20154 | DF16: 67DCKT20046 | DG16: 67DCVL20039 | DR16: 68DCOT20248 | DX16: 68DCKT20217 | EF16: 67DCMX20111 | EQ16: 67DCVL20062 | EX16: 68DCKT20135 | FB16: 67DCVL20117 | FD16: 68DCKT20185 | GY16: 68DCQT20086 | HH16: 67DCVL20006 | JE16: 68DLDD20152
C17: 68DCQT20133 | E17: 68DCCO20046 | F17: 67DCCO20189 | H17: 67DCQT20123 | J17: 67DCDD20070 | L17: 67DCCO20171 | O17: 68DCKX20010 | Q17: 66DCVB22765 | V17: 67DCCO20186 | W17: 67DCCO20165 | Z17: 68DCHT20133 | AA17: 67DCKT20036 | AB17: 67DCKT20030 | AC17: 68DCKT20098 | AD17: 68DCQT20082 | AE17: 68DCQT20084 | AF17: 68DCVL20008 | AH17: 68DCKT20161 | AI17: 69DCKT20079 | AJ17: 69DCKT20050 | AK17: 68DCKX20015 | AP17: 68DCKT20205 | AZ17: 68DCKX20041 | BG17: 67DCCO20102 | BH17: 68DCKT20098 | BI17: 68DCKT20047 | BJ17: 69DCKT20091 | BL17: 68DCKT20207 | BM17: 68DCDD20065 | BN17: 68DCVL20039 | BP17: 68DCKT20223 | BU17: 67DCCD20084 | CE17: 67DCVL20003 | CF17: 66DCVB22579 | CG17: 68DCKT20183 | CH17: 68DCKT20211 | CJ17: 67DCCA20049 | CL17: 68DCQT20027 | CO17: 67DCCO20139 | CQ17: 68DCVL20050 | CV17: 67DCDB20114 | CW17: 67DCDB20028 | DR17: 68DCOT20213 | DX17: 68DCKT20182 | EF17: 66DCOT20909 | EQ17: 67DCVL20117 | EX17: 68DCKT23241 | GY17: 68DCQT20100 | HH17: 67DCVL20013 | JE17: 68DLDD20161
C18: 68DCQT20009 | E18: 68DCCO20052 | F18: 67DCCO20203 | H18: 66DCQT20291 | J18: 67DCDT20032 | L18: 67DCCO20203 | O18: 68DCKX20040 | Q18: 63DCCD3360 | V18: 67DCMX20075 | W18: 67DCCO20194 | AA18: 68DCKT20030 | AB18: 67DCKT20039 | AC18: 68DCKT20125 | AD18: 68DCQT20032 | AE18: 68DCQT20118 | AF18: 68DCVL20010 | AH18: 68DCKT20210 | AI18: 69DCKT20083 | AJ18: 69DCKT20160 | AK18: 68DCKX20025 | AP18: 68DCKT20203 | AZ18: 68DCKX23141 | BG18: 67DCCO20117 | BH18: 68DCKT20124 | BI18: 68DCKT20070 | BJ18: 69DCKT20120 | BL18: 68DCQT20028 | BM18: 67DCVL20003 | BN18: 68DCVL20042 | BP18: 68DCKT20095 | BU18: 66DCDB22536 | CE18: 67DCVL20028 | CG18: 68DCKT20037 | CH18: 68DCKT20016 | CJ18: 68DCQT20040 | CL18: 68DCQT20043 | CO18: 67DCCO20138 | CQ18: 68DCVL20059 | CV18: 67DCDB20116 | CW18: 67DCDB20034 | DX18: 68DCKT20187 | EF18: 67DCDB20154 | EX18: 67DCKT20046 | GY18: 68DCQT20099 | HH18: 67DCVL20036 | JE18: 68DLDD20190
C19: 68DCQT20013 | E19: 68DCCO20053 | F19: 67DCCO20018 | L19: 67DCCO20201 | O19: 68DCKX20067 | V19: 67DCOT20270 | W19: 67DCMX20054 | AA19: 68DCKT20119 | AB19: 67DCKX20010 | AC19: 68DCKT20150 | AD19: 68DCQT20043 | AE19: 68DCQT20121 | AF19: 68DCVL20019 | AH19: 68DCKT20119 | AI19: 69DCKT20086 | AJ19: 69DCQT20023 | AK19: 68DCKX20031 | AP19: 68DCKT20020 | AZ19: 68DCKX20053 | BG19: 67DCCO20201 | BH19: 68DCKT20125 | BI19: 68DCKT20140 | BJ19: 69DCKT20131 | BL19: 68DCQT20046 | BM19: 67DCVL20059 | BN19: 68DCVL20684 | BP19: 68DCKT20092 | BU19: 67DCDD20084 | CE19: 67DCVL20059 | CG19: 68DCKT20038 | CH19: 68DCKT20049 | CJ19: 68DCQT20050 | CL19: 68DCQT20066 | CO19: 67DCCO20167 | CQ19: 68DCVL20066 | CV19: 67DCMX20085 | CW19: 67DCDB20114 | DX19: 68DCKT20198 | GY19: 68DCQT20101 | HH19: 67DCVL20039 | JE19: 68DLDD20164
C20: 68DCQT20022 | E20: 68DCCO20074 | F20: 67DCCO20082 | L20: 67DCCO20051 | O20: 68DCMO20005 | V20: 67DCOT20177 | W20: 67DCMX20056 | AA20: 68DCKT20148 | AB20: 67DCKX20075 | AC20: 68DCKT20163 | AD20: 68DCQT20062 | AE20: 67DCQT20115 | AF20: 68DCVL20024 | AH20: 68DCKT20016 | AI20: 69DCKT20092 | AJ20: 68DCKT20033 | AK20: 68DCKX20033 | AP20: 68DCKT20178 | AZ20: 68DCKX20067 | BG20: 67DCCO20068 | BH20: 68DCKT20163 | BI20: 68DCKT20211 | BJ20: 69DCKT20132 | BL20: 68DCQT20072 | BM20: 67DCCO20155 | BN20: 68DCVL20050 | BP20: 68DCKT20165 | BU20: 67DCMX20040 | CE20: 67DCVL20078 | CG20: 68DCKT20063 | CH20: 68DCKT20124 | CJ20: 68DCQT20043 | CL20: 67DCHT20086 | CO20: 67DCCO20185 | CQ20: 68DCVL20010 | CV20: 67DCMX20108 | CW20: 67DCDB20116 | DX20: 67DCQT20020 | GY20: 68DCQT20121 | HH20: 67DCVL20062 | JE20: 68DLDD20168
C21: 68DCQT20054 | E21: 68DCCO20075 | F21: 67DCCO20187 | L21: 67DCCO20157 | O21: 68DCMO20007 | V21: 67DCOT20273 | W21: 67DCMX20079 | AA21: 68DCKT20175 | AB21: 67DCKX20095 | AC21: 68DCKT20167 | AD21: 68DCQT20065 | AE21: 67DCQT20120 | AF21: 68DCVL20030 | AH21: 68DCKT20037 | AI21: 69DCKT20091 | AJ21: 68DCKT20126 | AK21: 68DCKX20034 | AP21: 68DCKT20037 | AZ21: 68DCOT20057 | BG21: 67DCCO20141 | BH21: 68DCKT20167 | BI21: 68DCKT20037 | BJ21: 69DCKT20209 | BL21: 68DCQT20114 | BM21: 67DCVL20020 | BN21: 68DCVL21031 | BP21: 68DCKT20197 | BU21: 67DCMX20081 | CE21: 67DCVL20079 | CG21: 68DCKT20065 | CH21: 68DCKT20180 | CJ21: 68DCQT20074 | CL21: 68DCQT20084 | CO21: 67DCCO20202 | CQ21: 68DCVL20037 | CV21: 67DCOT20270 | CW21: 67DCKX20010 | DX21: 67DCQT20133 | HH21: 67DCVL20067 | JE21: 68DLDD20171
C22: 68DCQT20056 | E22: 68DCCO20079 | F22: 67DCMX20006 | L22: 67DCCO20167 | O22: 68DCMO20010 | V22: 66DCMX21271 | W22: 67DCMX20085 | AA22: 68DCKT20011 | AB22: 68DCHT20164 | AC22: 68DCKT20176 | AD22: 67DCHT20086 | AF22: 68DCVL20051 | AH22: 68DCKT20040 | AI22: 69DCKT20111 | AJ22: 68DCKT20131 | AK22: 68DCKX20041 | AP22: 68DCKT20038 | AZ22: 68DCOT20179 | BG22: 67DCMX20056 | BH22: 68DCKT20170 | BI22: 68DCKT20052 | BJ22: 69DCKT20135 | BL22: 68DCQT20124 | BM22: 67DCVL20039 | BN22: 68DCVL20008 | BP22: 67DCKT20030 | BU22: 67DCMX20103 | CE22: 67DCVL20113 | CG22: 68DCKT20086 | CH22: 68DCKT20159 | CJ22: 66DCQT20291 | CL22: 68DCQT20086 | CO22: 67DCMX20006 | CQ22: 68DCVL20049 | CV22: 67DCDB20119 | CW22: 67DCKX20095 | JE22: 68DLDD20175
C23: 68DCQT20070 | E23: 68DCCO20082 | F23: 67DCMX20003 | L23: 67DCCO20184 | O23: 68DCOT20015 | V23: 66DCMX21600 | W23: 67DCMX20095 | AA23: 68DCKT20017 | AB23: 68DCHT20039 | AC23: 68DCKT20027 | AD23: 68DCQT20134 | AF23: 68DCVL20053 | AI23: 69DCKT20112 | AJ23: 68DCKT20133 | AK23: 68DCKX40001 | AP23: 68DCKT20125 | AZ23: 68DCOT20211 | BG23: 67DCMX20085 | BH23: 68DCKT20192 | BI23: 68DCKT20049 | BJ23: 68DCKT20205 | BL23: 68DCQT20037 | BM23: 67DCVL20089 | BN23: 68DCVL20037 | BU23: 67DCMX20106 | CE23: 67DCVL20062 | CG23: 68DCKT20075 | CH23: 68DCKT20198 | CL23: 68DCQT20101 | CO23: 67DCOT20123 | CQ23: 68DCVL20051 | CW23: 67DCDB20089 | JE23: 68DLDD20160
C24: 68DCQT20082 | E24: 68DCCO20080 | F24: 67DCMX20023 | L24: 67DCCO20187 | O24: 68DCVL20001 | V24: 68DCOT20230 | W24: 67DCMX20103 | AA24: 68DCKT20052 | AB24: 68DCHT20102 | AC24: 68DCKT20057 | AD24: 68DCQT20086 | AF24: 67DCCO20118 | AI24: 69DCKT20120 | AJ24: 68DCKT20210 | AK24: 68DCKX20051 | AP24: 68DCKT20163 | AZ24: 68DCOT20231 | BG24: 67DCMX20103 | BH24: 68DCKT20207 | BI24: 68DCKT20065 | BJ24: 68DCKT20012 | BL24: 68DCQT20041 | BN24: 67DCCO20118 | BU24: 67DCVL20028 | CE24: 67DCVL20072 | CG24: 68DCKT20077 | CH24: 68DCKT23241 | CL24: 68DCQT20118 | CO24: 66DCMX21271 | CQ24: 67DCCO20118
C25: 68DCQT20081 | E25: 68DCCO20090 | F25: 67DCMX20019 | L25: 67DCDD20051 | O25: 68DCVL20011 | W25: 67DCMX20106 | AA25: 68DCKT20107 | AB25: 68DCHT20162 | AC25: 68DCKT20074 | AD25: 67DCKT20064 | AF25: 68DCVL20060 | AI25: 69DCKT20151 | AJ25: 68DCKT20107 | AK25: 68DCKX20060 | AP25: 68DCKT20170 | AZ25: 68DCOT20233 | BG25: 67DCOT20244 | BH25: 68DCKT22003 | BI25: 68DCKT20077 | BJ25: 68DCKT20020 | BL25: 68DCQT20048 | BN25: 67DCVL20036 | BU25: 67DCVL20101 | CG25: 68DCKT20107 | CH25: 68DCKX20003 | CL25: 68DCQT20121 | CQ25: 68DCVL20060
C26: 68DCQT20100 | E26: 68DCCO20092 | F26: 67DCMX20045 | L26: 67DCDD20076 | O26: 68DCVL20021 | W26: 67DCOT20036 | AA26: 68DCKT20143 | AB26: 68DCHT20115 | AC26: 68DCKT20185 | AD26: 67DCQT20120 | AF26: 68DCVL20062 | AI26: 69DCKT20162 | AJ26: 68DCKT20180 | AK26: 68DCKX20063 | AP26: 68DCKT20074 | AZ26: 68DCOT20242 | BG26: 67DCOT20230 | BH26: 68DCKT20216 | BI26: 68DCKT20097 | BJ26: 68DCKT20031 | BL26: 68DCQT20053 | BN26: 67DCVL20104 | BU26: 67DCVL20111 | CG26: 68DCKT20108 | CH26: 68DCKX20011 | CL26: 68DCTN20011 | CQ26: 67DCVL20036
C27: 68DCTN20024 | E27: 68DCCO20096 | F27: 67DCMX20054 | L27: 67DCDD20098 | O27: 68DCVL20028 | W27: 67DCOT20105 | AA27: 68DCKT20146 | AB27: 68DCHT20122 | AC27: 68DCQT20018 | AD27: 66DCKX20274 | AF27: 68DCDD20065 | AI27: 69DCKT20218 | AJ27: 68DCKT20176 | AK27: 68DCKX20006 | AP27: 68DCQT20006 | AZ27: 68DCOT20245 | BG27: 68DCOT20220 | BH27: 68DCKT20023 | BI27: 68DCKT20098 | BJ27: 68DCKT20070 | BL27: 68DCQT20082 | BU27: 67DCVL20062 | CG27: 68DCKT20125 | CH27: 68DCKX20052 | CL27: 68DCTN20015 | CQ27: 67DCVL20104
C28: 68DCVL20048 | E28: 68DCCO20097 | F28: 67DCMX20056 | L28: 67DCDD20111 | O28: 68DCVL20040 | W28: 67DCOT20132 | AA28: 68DCKT20167 | AB28: 68DCHT20133 | AC28: 68DCQT20050 | AF28: 67DCVL20014 | AI28: 69DCTD20033 | AJ28: 68DCQT20121 | AK28: 68DCKX20017 | AP28: 68DCQT20031 | AZ28: 68DCOT20264 | BG28: 68DCOT20248 | BH28: 68DCKT20057 | BI28: 68DCKT20107 | BJ28: 68DCKT20140 | BL28: 68DCQT20085 | CG28: 68DCKT22003 | CH28: 68DCQT20031 | CL28: 68DCTN20016
C29: 67DCMX20097 | E29: 68DCCO20130 | F29: 67DCMX20075 | L29: 67DCKT20046 | O29: 68DCVL20041 | W29: 67DCOT20172 | AA29: 68DCKT20180 | AB29: 68DCQT20031 | AC29: 68DCQT20062 | AF29: 67DCVL20088 | AI29: 69DCVT20068 | AJ29: 68DCQT20072 | AK29: 68DCKX21421 | AP29: 68DCQT20133 | AZ29: 68DCOT20084 | BH29: 68DCKT20051 | BI29: 68DCKT20100 | BJ29: 68DCKT20183 | BL29: 68DCQT20091 | CG29: 68DCKT20216 | CH29: 68DCQT20012 | CL29: 68DCTN20018
C30: 67DCMX20103 | E30: 68DCCO20131 | F30: 67DCMX20081 | L30: 67DCKX20088 | O30: 68DCVL20039 | W30: 67DCOT20232 | AA30: 68DCKT20176 | AB30: 68DCQT20108 | AC30: 68DCQT20134 | AF30: 67DCVL20085 | AI30: 68DCKT20205 | AJ30: 68DCQT20052 | AK30: 67DCKX20010 | AP30: 68DCQT20012 | AZ30: 68DCQT20014 | BH30: 68DCKT20094 | BI30: 68DCKT20124 | BJ30: 68DCKT20011 | BL30: 68DCQT20002 | CG30: 68DCKT20149 | CH30: 68DCQT20022 | CL30: 68DCTN20021
C31: 67DCMX20116 | E31: 68DCCO20001 | F31: 67DCMX20089 | L31: 67DCKX20089 | O31: 68DCVL20042 | W31: 67DCOT20288 | AA31: 68DCKT20015 | AB31: 68DCQT20113 | AC31: 68DCQT20097 | AF31: 67DCVL20017 | AI31: 68DCKT20031 | AJ31: 68DCQT20053 | AK31: 67DCKX20075 | AP31: 68DCQT20047 | AZ31: 68DCQT20013 | BH31: 68DCKT20149 | BI31: 68DCKT20122 | BJ31: 68DCKT20040 | BL31: 68DCQT20021 | CG31: 68DCKT20159 | CH31: 68DCQT20052 | CL31: 68DCTN20023
C32: 67DCTN20064 | E32: 68DCCO20005 | F32: 67DCMX20106 | L32: 67DCKX20095 | O32: 68DCVL20046 | W32: 67DCOT20034 | AA32: 68DCKT20023 | AB32: 68DCQT20005 | AC32: 68DCQT20100 | AF32: 67DCVL20026 | AI32: 68DCKT20070 | AJ32: 68DCQT20085 | AK32: 67DCKX20094 | AP32: 68DCQT20052 | AZ32: 68DCQT20022 | BH32: 68DCKT20165 | BI32: 68DCKT20192 | BJ32: 68DCKT20143 | BL32: 68DCQT20032 | CG32: 68DCKT20217 | CH32: 68DCQT20033 | CL32: 68DCVL20004
C33: 67DCTN20065 | E33: 68DCCO20002 | F33: 67DCMX20108 | L33: 67DCKX20094 | O33: 68DCVL20047 | W33: 67DCOT20052 | AA33: 68DCKT20028 | AB33: 68DCQT20024 | AC33: 68DCQT20101 | AF33: 67DCVL20104 | AI33: 68DCKT20128 | AJ33: 66DCQT20291 | AP33: 68DCQT20056 | AZ33: 67DCCA20016 | BH33: 68DCQT20021 | BI33: 68DCKT20208 | BJ33: 68DCKT20150 | BL33: 68DCQT20027 | CG33: 68DCKT20182 | CH33: 68DCQT20066 | CL33: 68DCVL20016
C34: 67DCVL20062 | E34: 68DCCO20013 | F34: 67DCMX20111 | L34: 67DCKX20115 | O34: 68DCVL20054 | W34: 67DCOT20197 | AA34: 68DCKT20092 | AB34: 68DCQT20047 | AC34: 68DCQT20128 | AI34: 68DCKT20140 | AP34: 68DCQT20070 | AZ34: 67DCDB20124 | BH34: 68DCQT20032 | BI34: 68DCKT20207 | BJ34: 68DCKX20004 | BL34: 68DCQT20060 | CG34: 68DCQT20093 | CH34: 68DCQT20065 | CL34: 68DCVL20021
C35: 67DCVL20067 | E35: 68DCCO20010 | F35: 67DCOT20054 | L35: 67DCKX20116 | O35: 68DCVL20059 | W35: 67DCOT20262 | AA35: 68DCKT20135 | AB35: 68DCQT20048 | AC35: 68DCQT20121 | AI35: 68DCKT20175 | AP35: 68DCQT20091 | AZ35: 67DCCO20081 | BH35: 68DCQT20040 | BI35: 68DCKT20051 | BJ35: 68DCKX20048 | BL35: 67DCHT20086 | CG35: 68DCQT20096 | CH35: 67DCKX20010 | CL35: 68DCVL20018
C36: 66DCDB21114 | E36: 68DCCO20011 | F36: 67DCOT20123 | L36: 67DCKX20118 | O36: 68DCVL20071 | W36: 67DCOT20297 | AA36: 68DCKT21012 | AB36: 68DCQT20054 | AC36: 68DCVL20035 | AI36: 68DCQT20034 | AP36: 68DCQT20021 | AZ36: 67DCCO20096 | BH36: 68DCQT20087 | BI36: 68DCKT20094 | BJ36: 68DCKX20040 | BL36: 68DCQT20068 | CG36: 68DCQT20103 | CH36: 66DCQT20291 | CL36: 68DCVL20026
C37: 66DCDT20491 | E37: 68DCCO20030 | F37: 66DCMX21171 | L37: 67DCMX20006 | O37: 67DCCA20016 | W37: 68DCOT20065 | AA37: 68DCKT20185 | AB37: 68DCQT20056 | AC37: 68DCVL21031 | AI37: 67DCCA20049 | AP37: 68DCQT20032 | AZ37: 67DCCO20125 | BH37: 67DCCO20041 | BI37: 68DCKT20213 | BJ37: 68DCKX20067 | BL37: 68DCQT20084 | CG37: 68DCQT20108 | CL37: 68DCVL21031
C38: 66DCOT20909 | E38: 68DCCO20040 | F38: 66DCMX21480 | L38: 67DCMX20031 | O38: 67DCCA20034 | W38: 68DCOT20198 | AB38: 67DCCA20049 | AC38: 68DCVL20008 | AI38: 68DCQT20023 | AP38: 68DCQT20033 | AZ38: 67DCCO20139 | BH38: 68DCVL20016 | BI38: 68DCKT20159 | BJ38: 68DCQT20072 | BL38: 68DCQT20086 | CG38: 68DCQT20018 | CL38: 68DCVL20013
C39: 66DCOT20758 | E39: 68DCCO20043 | L39: 67DCMX20089 | O39: 67DCCA20037 | AB39: 66DCKX20274 | AC39: 68DCVL20010 | AI39: 68DCQT20033 | AP39: 68DCQT20050 | AZ39: 67DCCO20141 | BH39: 68DCVL20018 | BI39: 68DCKT20182 | BJ39: 67DCCA20049 | BL39: 68DCQT20087 | CG39: 68DCQT20023 | CL39: 67DCCO20118
C40: 63DCCD3360 | E40: 68DCCO20047 | L40: 67DCVL20020 | O40: 67DCCA20047 | AC40: 68DCVL20024 | AI40: 68DCQT20061 | AP40: 68DCQT20068 | AZ40: 67DCCO20184 | BH40: 68DCVL20028 | BI40: 68DCKT20187 | BJ40: 68DCQT20033 | BL40: 68DCQT20100 | CG40: 68DCQT20043 | CL40: 67DCKT20068
E41: 68DCCO20064 | L41: 67DCVL20026 | O41: 67DCCA20073 | AC41: 68DCDD20065 | AI41: 67DCHT20086 | AP41: 68DCQT20128 | AZ41: 67DCCO20186 | BH41: 68DCVL20040 | BI41: 68DCQT20034 | BL41: 68DCQT20099 | CG41: 68DCQT20061 | CL41: 67DCKT20167
E42: 68DCCO20111 | L42: 67DCVL20036 | O42: 67DCCD20020 | AC42: 67DCVL20080 | AI42: 68DCQT20134 | AP42: 68DCVL20004 | AZ42: 67DCDB20010 | BH42: 68DCVL20054 | BI42: 68DCQT20042 | BL42: 68DCTN20016 | CG42: 68DCQT20065 | CL42: 67DCQT20120
E43: 68DCCO20114 | L43: 67DCVL20072 | O43: 67DCCD20050 | AC43: 67DCVL20062 | AI43: 68DCQT20101 | AP43: 68DCVL20005 | AZ43: 67DCDD20122 | BH43: 68DCVL25102 | BI43: 68DCQT20072 | BL43: 68DCTN20031 | CG43: 68DCQT20074 | CL43: 67DCTN20022
E44: 68DCCO20127 | L44: 67DCVL20095 | O44: 67DCCD20078 | AC44: 68DCQT20093 | AI44: 67DCQT20020 | AP44: 68DCVL20028 | AZ44: 67DCDD20065 | BH44: 68DCVL20003 | BI44: 68DCQT20115 | BL44: 67DCKT20046 | CG44: 68DCQT20099 | CL44: 67DCVL20013
E45: 68DCKT20037 | L45: 67DCVL20116 | O45: 67DCCD20079 | AC45: 68DCQT20096 | AI45: 66DCQT20291 | AP45: 68DCVL20046 | AZ45: 67DCDT20081 | BH45: 68DCVL20010 | BI45: 68DCQT20005 | BL45: 67DCTN20062 | CG45: 68DCQT20118 | CL45: 67DCVL20062
E46: 68DCKX20006 | L46: 67DCVL20117 | O46: 67DCCD20081 | AC46: 68DCQT20013 | AP46: 68DCVL20050 | AZ46: 67DCMX20019 | BH46: 68DCVL20013 | BI46: 68DCQT20012 | CG46: 67DCKT20046 | CL46: 67DCVL20089
E47: 68DCKX20010 | L47: 66DCCA22228 | O47: 67DCCD20099 | AC47: 68DCQT20037 | AP47: 68DCVL21031 | AZ47: 67DCMX20040 | BH47: 68DCVL20020 | BI47: 67DCCA20049 | CG47: 67DCKT20064 | CL47: 69DCTD20023
E48: 68DCKX20040 | L48: 66DCCA23077 | O48: 67DCCD20108 | AC48: 68DCQT20052 | AP48: 68DCVL20006 | AZ48: 67DCMX20075 | BH48: 68DCVL20071 | BI48: 68DCQT20070 | CG48: 67DCKT20068 | CL48: 69DCTD20053
E49: 68DCKX20067 | L49: 66DCDB21114 | O49: 67DCCD20113 | AC49: 68DCQT20081 | AP49: 68DCVL20008 | AZ49: 67DCMX20089 | BH49: 68DCVL20051 | BI49: 68DCQT20081 | CL49: 69DCTD20067
E50: 68DCMX20064 | L50: 66DCOT20758 | O50: 67DCCD20118 | AP50: 68DCVL20013 | AZ50: 67DCMX20085 | BH50: 68DCDD20065 | BI50: 68DCQT20091 | CL50: 68DCQT20031
E51: 68DCMX20109 | O51: 67DCCO20080 | AP51: 68DCVL20022 | AZ51: 67DCMX20103 | BH51: 67DCKT20064 | BI51: 68DCQT20015 | CL51: 68DCQT20034
E52: 68DCMX20117 | O52: 67DCCO20069 | AP52: 68DCVL20024 | AZ52: 67DCMX20108 | BH52: 67DCKT20068 | BI52: 68DCQT20023 | CL52: 68DCQT20124
E53: 68DCMX20152 | O53: 67DCCO20082 | AP53: 68DCVL20037 | AZ53: 67DCOT20177 | BH53: 67DCVL20095 | BI53: 68DCQT20032 | CL53: 68DCQT20133
E54: 68DCMX20157 | O54: 67DCCO20086 | AP54: 67DCKT20167 | AZ54: 67DCQT20020 | BI54: 68DCQT20068 | CL54: 68DCQT20012
E55: 68DCOT20011 | O55: 67DCCO20092 | AP55: 67DCQT20120 | AZ55: 67DCTN20028 | BI55: 68DCQT20086 | CL55: 68DCQT20016
E56: 68DCOT20080 | O56: 67DCCO20157 | AP56: 67DCVL20070 | AZ56: 67DCVL20078 | BI56: 68DCQT20100 | CL56: 68DCQT20022
E57: 68DCQT20015 | O57: 67DCCO20150 | AP57: 67DCVL20036 | AZ57: 67DCVL20079 | BI57: 68DCQT20099 | CL57: 68DCQT20127
E58: 68DCQT20023 | O58: 67DCCO20197 | AP58: 67DCVL20096 | AZ58: 67DCVL20085 | BI58: 68DCQT20118 | CL58: 68DCQT20041
E59: 68DCQT20128 | O59: 67DCDB20043 | AP59: 67DCVL20117 | AZ59: 67DCVL20111 | BI59: 68DCTN20011 | CL59: 68DCQT20047
E60: 68DCQT20118 | O60: 67DCDB20107 | AP60: 69DCKT20233 | AZ60: 66DCMX21271 | BI60: 68DCTN20016 | CL60: 67DCCA20049
E61: 68DCTN20015 | O61: 67DCDB20114 | AZ61: 66DCMX21600 | BI61: 68DCTN20033 | CL61: 68DCQT20082
E62: 68DCTN20018 | O62: 67DCDB20116 | AZ62: 66DCOT20909 | BI62: 68DCTN20031 | CL62: 69DCKT20056
E63: 68DCTN20033 | O63: 67DCDD20050 | AZ63: 66DCOT20758 | BI63: 68DCTN20034
E64: 68DCTN20021 | O64: 67DCDD20062 | AZ64: 68DCOT20180 | BI64: 67DCKT20030
E65: 68DCTN20023 | O65: 67DCDD20065 | AZ65: 68DCOT20198 | BI65: 67DCKT20239
E66: 68DCVL20004 | O66: 67DCDD20121 | AZ66: 67DCVL20036 | BI66: 67DCTN20064
E67: 68DCVL20011 | O67: 67DCDD20019
E68: 68DCVL20028 | O68: 67DCDD20059
E69: 68DCVL20039 | O69: 67DCMX20006
E70: 68DCVL20047 | O70: 67DCVL20036
E71: 68DCVL20052 | O71: 66DCVB20880
E72: 68DCVL20003
E73: 68DCVL20012
E74: 68DCVL20020
E75: 68DCVL20071
E76: 68DCDD20065

Sheet Tra cứu
A1: Mã SV: | B1: 67DCVL20095
A2: Họ và tên: | B2: =TRIM(INDEX(SV!B:B,MATCH('Tra cứu'!B1,SV!A:A,0))&" "&INDEX(SV!C:C,MATCH('Tra cứu'!B1,SV!A:A,0))) -> TRẦN VIỆT THẮNG
A3: Lớp: | B3: =INDEX(SV!D:D,MATCH('Tra cứu'!B1,SV!A:A,0)) -> 67DCVL22
B5: ="Tổng số HP đã đăng kí (ĐỢT 02/2020): "&MAX(CB!2:2)&" HỌC PHẦN" -> Tổng số HP đã đăng kí (ĐỢT 02/2020): 5 HỌC PHẦN
B6: =INDEX(CB!$1:$1,MATCH(C6,CB!$2:$2,0)) -> Tiếng Anh (DC1CB35) | C6: 1
B7: =INDEX(CB!$1:$1,MATCH(C7,CB!$2:$2,0)) -> Kinh tế quốc tế (DC2KV82) | C7: 2
B8: =INDEX(CB!$1:$1,MATCH(C8,CB!$2:$2,0)) -> Phân tích hoạt động kinh doanh (DC3VL39) | C8: 3
B9: =INDEX(CB!$1:$1,MATCH(C9,CB!$2:$2,0)) -> Kinh tế vận tải (DC2KV24) | C9: 4
B10: =INDEX(CB!$1:$1,MATCH(C10,CB!$2:$2,0)) -> Quản trị kho hàng (DC3VL32) | C10: 5
B11: =INDEX(CB!$1:$1,MATCH(C11,CB!$2:$2,0)) -> #N/A | C11: 6
B12: =INDEX(CB!$1:$1,MATCH(C12,CB!$2:$2,0)) -> #N/A | C12: 7
B13: =INDEX(CB!$1:$1,MATCH(C13,CB!$2:$2,0)) -> #N/A | C13: 8
B14: =INDEX(CB!$1:$1,MATCH(C14,CB!$2:$2,0)) -> #N/A | C14: 9
B15: =INDEX(CB!$1:$1,MATCH(C15,CB!$2:$2,0)) -> #N/A | C15: 10
B16: =INDEX(CB!$1:$1,MATCH(C16,CB!$2:$2,0)) -> #N/A | C16: 11
B17: =INDEX(CB!$1:$1,MATCH(C17,CB!$2:$2,0)) -> #N/A | C17: 12
... B25: =INDEX(CB!$1:$1,MATCH(C25,CB!$2:$2,0)) -> #N/A | C25: 20
