Workbook
Name bomon: #REF!
Name Cua_CSDT: #REF!
Name da1tc: IF(KH!#REF!*KH!#REF!<15,15,KH!#REF!*KH!#REF!)
Name da2tc: IF(KH!#REF!*KH!#REF!<30,30,KH!#REF!*KH!#REF!)
Name dakl: KH!#REF!*KH!#REF!
Name DAMH: IF(KH!$E1=1,IF(KH!#REF!*KH!#REF!<15,15,KH!#REF!*KH!#REF!),IF(KH!#REF!*KH!#REF!<30,30,KH!#REF!*KH!#REF!))
Name Hoc_tai: #REF!
Name kieu_kl: #REF!
Name lythuyet: KH!$F1*KH!$H1
Name mahp: KH!$D$8:$D$1663
Name phong_hoc: #REF!
Name thanh_toan: #REF!
Name ttnt: KH!$E1*KH!#REF!*KH!#REF!
Name TTTT: KH!$E1*KH!$H1*KH!#REF!*KH!#REF!
Name tud: (15+(KH!$E1-1)*30/1.5)*KH!$H1*KH!#REF!

Sheet KH
B1: BỘ GIAO THÔNG VẬN TẢI | AO1: CỘNG HÒA XÃ HỘI CHỦ NGHĨA VIỆT NAM
B2: TRƯỜNG ĐẠI HỌC CÔNG NGHỆ GTVT | AO2: Độc lập - Tự do - Hạnh phúc
A3: 2024 - 2025 | BJ3: HN | BK3: VP | BL3: TN
A4: SỐ TT | B4: KHÓA / C. NGÀNH | C4: HỌC PHẦN | H4: SỐ LỚP | I4: GHI CHÚ | J4: 8/2024 | L4: 9/2024 | Q4: 10/2024 | U4: 11/2024 | Y4: 12/2024 | AD4: 01/2025 | AH4: 02/2025 | AL4: 3/2025 | AQ4: 4/2025 | AU4: 5/2025 | AY4: 6/2025 | BD4: 7/2025 | BH4: 8/2025 | BJ4: Nấc | BK4: Lớp của CSĐT | BL4: Học tại CSĐT
C5: TÊN HỌC PHẦN | D5: MÃ HỌC PHẦN | E5: SỐ TC | F5: TIẾT LT | G5: GIỜ TH | J5: 45523 | K5: 45530 | L5: 45537 | M5: 45544 | N5: 45551 | O5: 45558 | P5: 45565 | Q5: 45572 | R5: 45579 | S5: 45586 | T5: 45593 | U5: 45600 | V5: 45607 | W5: 45614 | X5: 45621 | Y5: 45628 | Z5: 45635 | AA5: 45642 | AB5: 45649 | AC5: 45656 | AD5: 45663 | AE5: 45670 | AF5: 45677 | AG5: 45684 | AH5: 45691 | AI5: 45698 | AJ5: 45705 | AK5: 45712 | AL5: 45719 | AM5: 45726 | AN5: 45733 | AO5: 45740 | AP5: 45747 | AQ5: 45754 | AR5: 45761 | AS5: 45768 | AT5: 45775 | AU5: 45782 | AV5: 45789 | AW5: 45796 | AX5: 45803 | AY5: 45810 | AZ5: 45817 | BA5: 45824 | BB5: 45831 | BC5: 45838 | BD5: 45845 | BE5: 45852 | BF5: 45859 | BG5: 45866 | BH5: 45873 | BI5: 45880
J6: 45528 | K6: 45535 | L6: 45542 | M6: 45549 | N6: 45556 | O6: 45563 | P6: 45570 | Q6: 45577 | R6: 45584 | S6: 45591 | T6: 45598 | U6: 45605 | V6: 45612 | W6: 45619 | X6: 45626 | Y6: 45633 | Z6: 45640 | AA6: 45647 | AB6: 45654 | AC6: 45661 | AD6: 45668 | AE6: 45675 | AF6: 45682 | AG6: 45689 | AH6: 45696 | AI6: 45703 | AJ6: 45710 | AK6: 45717 | AL6: 45724 | AM6: 45731 | AN6: 45738 | AO6: 45745 | AP6: 45752 | AQ6: 45759 | AR6: 45766 | AS6: 45773 | AT6: 45780 | AU6: 45787 | AV6: 45794 | AW6: 45801 | AX6: 45808 | AY6: 45815 | AZ6: 45822 | BA6: 45829 | BB6: 45836 | BC6: 45843 | BD6: 45850 | BE6: 45857 | BF6: 45864 | BG6: 45871 | BH6: 45878 | BI6: 45885
J7: 1 | K7: 2 | L7: 3 | M7: 4 | N7: 5 | O7: 6 | P7: 7 | Q7: 8 | R7: 9 | S7: 10 | T7: 11 | U7: 12 | V7: 13 | W7: 14 | X7: 15 | Y7: 16 | Z7: 17 | AA7: 18 | AB7: 19 | AC7: 20 | AD7: 21 | AE7: 22 | AF7: 23 | AG7: 24 | AH7: 25 | AI7: 26 | AJ7: 27 | AK7: 28 | AL7: 29 | AM7: 30 | AN7: 31 | AO7: 32 | AP7: 33 | AQ7: 34 | AR7: 35 | AS7: 36 | AT7: 37 | AU7: 38 | AV7: 39 | AW7: 40 | AX7: 41 | AY7: 42 | AZ7: 43 | BA7: 44 | BB7: 45 | BC7: 46 | BD7: 47 | BE7: 48 | BF7: 49 | BG7: 50 | BH7: 51 | BI7: 52
A8: 1 | B8: 71GT21-23; CDP | C8: Thực tập tốt nghiệp | D8: DC4CD70 | E8: 4 | G8: 180 | H8: 4 | J8: NT | K8: NT | L8: NT | M8: NT | BJ8: 1 | BK8: Hà Nội | BL8: HN
C9: Đồ án tốt nghiệp | D9: DC4CD80 | E9: 8 | G9: 480 | H9: 4 | N9: DK | O9: DK | P9: DK | Q9: DK | R9: DK | S9: DK | T9: DK | U9: DK | V9: DK | W9: DK | X9: DK | Y9: DK | Z9: # | AA9: # | BJ9: 1 | BK9: Hà Nội | BL9: HN
C10: TỔNG TC - TỔNG TIẾT / LỚP / TUẦN | D10: X | E10: 12 | J10: 0 | K10: 0 | L10: 0 | M10: 0 | N10: 0 | O10: 0 | P10: 0 | Q10: 0 | R10: 0 | S10: 0 | T10: 0 | U10: 0 | V10: 0 | W10: 0 | X10: 0 | Y10: 0 | Z10: 0 | AA10: 0 | AB10: 0 | AC10: 0 | AD10: 0 | AE10: 0 | AF10: 0 | AG10: 0 | AH10: 0 | AI10: 0 | AJ10: 0 | AK10: 0 | AL10: 0 | AM10: 0 | AN10: 0 | AO10: 0 | AP10: 0 | AQ10: 0 | AR10: 0 | AS10: 0 | AT10: 0 | AU10: 0 | AV10: 0 | AW10: 0 | AX10: 0 | AY10: 0 | AZ10: 0 | BA10: 0 | BB10: 0 | BC10: 0 | BD10: 0 | BE10: 0 | BF10: 0 | BG10: 0 | BH10: 0 | BI10: 0 | BK10: Hà Nội | BL10: HN
A11: 2 | B11: 71CD11 | C11: Thực tập tốt nghiệp | D11: DC4CD70 | E11: 4 | G11: 180 | H11: 1 | J11: NT | K11: NT | L11: NT | M11: NT | BJ11: 1 | BK11: Vĩnh Phúc | BL11: VP
C12: Đồ án tốt nghiệp | D12: DC4CD80 | E12: 8 | G12: 480 | H12: 1 | N12: DK | O12: DK | P12: DK | Q12: DK | R12: DK | S12: DK | T12: DK | U12: DK | V12: DK | W12: DK | X12: DK | Y12: DK | Z12: # | AA12: # | BJ12: 1 | BK12: Vĩnh Phúc | BL12: VP
C13: TỔNG TC - TỔNG TIẾT / LỚP / TUẦN | D13: X | E13: 12 | J13: 0 | K13: 0 | L13: 0 | M13: 0 | N13: 0 | O13: 0 | P13: 0 | Q13: 0 | R13: 0 | S13: 0 | T13: 0 | U13: 0 | V13: 0 | W13: 0 | X13: 0 | Y13: 0 | Z13: 0 | AA13: 0 | AB13: 0 | AC13: 0 | AD13: 0 | AE13: 0 | AF13: 0 | AG13: 0 | AH13: 0 | AI13: 0 | AJ13: 0 | AK13: 0 | AL13: 0 | AM13: 0 | AN13: 0 | AO13: 0 | AP13: 0 | AQ13: 0 | AR13: 0 | AS13: 0 | AT13: 0 | AU13: 0 | AV13: 0 | AW13: 0 | AX13: 0 | AY13: 0 | AZ13: 0 | BA13: 0 | BB13: 0 | BC13: 0 | BD13: 0 | BE13: 0 | BF13: 0 | BG13: 0 | BH13: 0 | BI13: 0 | BK13: Vĩnh Phúc | BL13: VP
A14: 3 | B14: 71CD31 | C14: Đồ án tốt nghiệp | D14: DC4CD80 | E14: 8 | G14: 480 | H14: 1 | J14: DT | K14: DT | L14: DT | M14: DT | N14: DK | O14: DK | P14: DK | Q14: DK | R14: DK | S14: DK | T14: DK | U14: DK | V14: DK | W14: DK | X14: DK | Y14: DK | Z14: # | AA14: # | BJ14: 1 | BK14: Thái Nguyên | BL14: TN
C15: TỔNG TC - TỔNG TIẾT / LỚP / TUẦN | D15: X | E15: 8 | J15: 0 | K15: 0 | L15: 0 | M15: 0 | N15: 0 | O15: 0 | P15: 0 | Q15: 0 | R15: 0 | S15: 0 | T15: 0 | U15: 0 | V15: 0 | W15: 0 | X15: 0 | Y15: 0 | Z15: 0 | AA15: 0 | AB15: 0 | AC15: 0 | AD15: 0 | AE15: 0 | AF15: 0 | AG15: 0 | AH15: 0 | AI15: 0 | AJ15: 0 | AK15: 0 | AL15: 0 | AM15: 0 | AN15: 0 | AO15: 0 | AP15: 0 | AQ15: 0 | AR15: 0 | AS15: 0 | AT15: 0 | AU15: 0 | AV15: 0 | AW15: 0 | AX15: 0 | AY15: 0 | AZ15: 0 | BA15: 0 | BB15: 0 | BC15: 0 | BD15: 0 | BE15: 0 | BF15: 0 | BG15: 0 | BH15: 0 | BI15: 0 | BK15: Thái Nguyên | BL15: TN
A16: 4 | B16: 71DD21-23 | C16: Thực tập tốt nghiệp | D16: DC4DD70 | E16: 4 | G16: 180 | H16: 3 | J16: NT | K16: NT | L16: NT | M16: NT | BJ16: 1 | BK16: Hà Nội | BL16: HN
C17: Đồ án tốt nghiệp | D17: DC4DD80 | E17: 8 | G17: 480 | H17: 3 | N17: DK | O17: DK | P17: DK | Q17: DK | R17: DK | S17: DK | T17: DK | U17: DK | V17: DK | W17: DK | X17: DK | Y17: DK | Z17: # | AA17: # | BJ17: 1 | BK17: Hà Nội | BL17: HN
C18: TỔNG TC - TỔNG TIẾT / LỚP / TUẦN | D18: X | E18: 12 | J18: 0 | K18: 0 | L18: 0 | M18: 0 | N18: 0 | O18: 0 | P18: 0 | Q18: 0 | R18: 0 | S18: 0 | T18: 0 | U18: 0 | V18: 0 | W18: 0 | X18: 0 | Y18: 0 | Z18: 0 | AA18: 0 | AB18: 0 | AC18: 0 | AD18: 0 | AE18: 0 | AF18: 0 | AG18: 0 | AH18: 0 | AI18: 0 | AJ18: 0 | AK18: 0 | AL18: 0 | AM18: 0 | AN18: 0 | AO18: 0 | AP18: 0 | AQ18: 0 | AR18: 0 | AS18: 0 | AT18: 0 | AU18: 0 | AV18: 0 | AW18: 0 | AX18: 0 | AY18: 0 | AZ18: 0 | BA18: 0 | BB18: 0 | BC18: 0 | BD18: 0 | BE18: 0 | BF18: 0 | BG18: 0 | BH18: 0 | BI18: 0 | BK18: Hà Nội | BL18: HN
A19: 5 | B19: 71DD11 | C19: Thực tập tốt nghiệp | D19: DC4DD70 | E19: 4 | G19: 180 | H19: 1 | J19: NT | K19: NT | L19: NT | M19: NT | BJ19: 1 | BK19: Vĩnh Phúc | BL19: VP
C20: Đồ án tốt nghiệp | D20: DC4DD80 | E20: 8 | G20: 480 | H20: 1 | N20: DK | O20: DK | P20: DK | Q20: DK | R20: DK | S20: DK | T20: DK | U20: DK | V20: DK | W20: DK | X20: DK | Y20: DK | Z20: # | AA20: # | BJ20: 1 | BK20: Vĩnh Phúc | BL20: VP
C21: TỔNG TC - TỔNG TIẾT / LỚP / TUẦN | D21: X | E21: 12 | J21: 0 | K21: 0 | L21: 0 | M21: 0 | N21: 0 | O21: 0 | P21: 0 | Q21: 0 | R21: 0 | S21: 0 | T21: 0 | U21: 0 | V21: 0 | W21: 0 | X21: 0 | Y21: 0 | Z21: 0 | AA21: 0 | AB21: 0 | AC21: 0 | AD21: 0 | AE21: 0 | AF21: 0 | AG21: 0 | AH21: 0 | AI21: 0 | AJ21: 0 | AK21: 0 | AL21: 0 | AM21: 0 | AN21: 0 | AO21: 0 | AP21: 0 | AQ21: 0 | AR21: 0 | AS21: 0 | AT21: 0 | AU21: 0 | AV21: 0 | AW21: 0 | AX21: 0 | AY21: 0 | AZ21: 0 | BA21: 0 | BB21: 0 | BC21: 0 | BD21: 0 | BE21: 0 | BF21: 0 | BG21: 0 | BH21: 0 | BI21: 0 | BK21: Vĩnh Phúc | BL21: VP
A22: 6 | B22: 71DD31 | C22: Thực tập tốt nghiệp | D22: DC4DD70 | E22: 4 | G22: 180 | H22: 1 | J22: NT | K22: NT | L22: NT | M22: NT | BJ22: 1 | BK22: Thái Nguyên | BL22: TN
C23: Đồ án tốt nghiệp | D23: DC4DD80 | E23: 8 | G23: 480 | H23: 1 | N23: DK | O23: DK | P23: DK | Q23: DK | R23: DK | S23: DK | T23: DK | U23: DK | V23: DK | W23: DK | X23: DK | Y23: DK | Z23: # | AA23: # | BJ23: 1 | BK23: Thái Nguyên | BL23: TN
C24: TỔNG TC - TỔNG TIẾT / LỚP / TUẦN | D24: X | E24: 12 | J24: 0 | K24: 0 | L24: 0 | M24: 0 | N24: 0 | O24: 0 | P24: 0 | Q24: 0 | R24: 0 | S24: 0 | T24: 0 | U24: 0 | V24: 0 | W24: 0 | X24: 0 | Y24: 0 | Z24: 0 | AA24: 0 | AB24: 0 | AC24: 0 | AD24: 0 | AE24: 0 | AF24: 0 | AG24: 0 | AH24: 0 | AI24: 0 | AJ24: 0 | AK24: 0 | AL24: 0 | AM24: 0 | AN24: 0 | AO24: 0 | AP24: 0 | AQ24: 0 | AR24: 0 | AS24: 0 | AT24: 0 | AU24: 0 | AV24: 0 | AW24: 0 | AX24: 0 | AY24: 0 | AZ24: 0 | BA24: 0 | BB24: 0 | BC24: 0 | BD24: 0 | BE24: 0 | BF24: 0 | BG24: 0 | BH24: 0 | BI24: 0 | BK24: Thái Nguyên | BL24: TN
A25: 7 | B25: 71CO | C25: Đồ án tốt nghiệp | D25: DC4CO80 | E25: 8 | G25: 480 | H25: 2 | J25: DT | K25: DK | L25: DK | M25: DK | N25: DK | O25: DK | P25: DK | Q25: DK | R25: DK | S25: DK | T25: DK | U25: DK | V25: DK | W25: # | X25: # | BJ25: 1 | BK25: Hà Nội | BL25: HN
C26: TỔNG TC - TỔNG TIẾT / LỚP / TUẦN | D26: X | E26: 8 | J26: 0 | K26: 0 | L26: 0 | M26: 0 | N26: 0 | O26: 0 | P26: 0 | Q26: 0 | R26: 0 | S26: 0 | T26: 0 | U26: 0 | V26: 0 | W26: 0 | X26: 0 | Y26: 0 | Z26: 0 | AA26: 0 | AB26: 0 | AC26: 0 | AD26: 0 | AE26: 0 | AF26: 0 | AG26: 0 | AH26: 0 | AI26: 0 | AJ26: 0 | AK26: 0 | AL26: 0 | AM26: 0 | AN26: 0 | AO26: 0 | AP26: 0 | AQ26: 0 | AR26: 0 | AS26: 0 | AT26: 0 | AU26: 0 | AV26: 0 | AW26: 0 | AX26: 0 | AY26: 0 | AZ26: 0 | BA26: 0 | BB26: 0 | BC26: 0 | BD26: 0 | BE26: 0 | BF26: 0 | BG26: 0 | BH26: 0 | BI26: 0 | BK26: Hà Nội | BL26: HN
A27: 8 | B27: 71DT21, 22 | C27: Đồ án tốt nghiệp | D27: DC4DT80 | E27: 8 | G27: 480 | H27: 2 | J27: DT | K27: DK | L27: DK | M27: DK | N27: DK | O27: DK | P27: DK | Q27: DK | R27: DK | S27: DK | T27: DK | U27: DK | V27: DK | W27: # | X27: # | BJ27: 1 | BK27: Hà Nội | BL27: HN
C28: TỔNG TC - TỔNG TIẾT / LỚP / TUẦN | D28: X | E28: 8 | J28: 0 | K28: 0 | L28: 0 | M28: 0 | N28: 0 | O28: 0 | P28: 0 | Q28: 0 | R28: 0 | S28: 0 | T28: 0 | U28: 0 | V28: 0 | W28: 0 | X28: 0 | Y28: 0 | Z28: 0 | AA28: 0 | AB28: 0 | AC28: 0 | AD28: 0 | AE28: 0 | AF28: 0 | AG28: 0 | AH28: 0 | AI28: 0 | AJ28: 0 | AK28: 0 | AL28: 0 | AM28: 0 | AN28: 0 | AO28: 0 | AP28: 0 | AQ28: 0 | AR28: 0 | AS28: 0 | AT28: 0 | AU28: 0 | AV28: 0 | AW28: 0 | AX28: 0 | AY28: 0 | AZ28: 0 | BA28: 0 | BB28: 0 | BC28: 0 | BD28: 0 | BE28: 0 | BF28: 0 | BG28: 0 | BH28: 0 | BI28: 0 | BK28: Hà Nội | BL28: HN
A29: 9 | B29: 71DT11 | C29: Đồ án tốt nghiệp | D29: DC4DT80 | E29: 8 | G29: 480 | H29: 1 | J29: DT | K29: DK | L29: DK | M29: DK | N29: DK | O29: DK | P29: DK | Q29: DK | R29: DK | S29: DK | T29: DK | U29: DK | V29: DK | W29: # | X29: # | BJ29: 1 | BK29: Vĩnh Phúc | BL29: VP
C30: TỔNG TC - TỔNG TIẾT / LỚP / TUẦN | D30: X | E30: 8 | J30: 0 | K30: 0 | L30: 0 | M30: 0 | N30: 0 | O30: 0 | P30: 0 | Q30: 0 | R30: 0 | S30: 0 | T30: 0 | U30: 0 | V30: 0 | W30: 0 | X30: 0 | Y30: 0 | Z30: 0 | AA30: 0 | AB30: 0 | AC30: 0 | AD30: 0 | AE30: 0 | AF30: 0 | AG30: 0 | AH30: 0 | AI30: 0 | AJ30: 0 | AK30: 0 | AL30: 0 | AM30: 0 | AN30: 0 | AO30: 0 | AP30: 0 | AQ30: 0 | AR30: 0 | AS30: 0 | AT30: 0 | AU30: 0 | AV30: 0 | AW30: 0 | AX30: 0 | AY30: 0 | AZ30: 0 | BA30: 0 | BB30: 0 | BC30: 0 | BD30: 0 | BE30: 0 | BF30: 0 | BG30: 0 | BH30: 0 | BI30: 0 | BK30: Vĩnh Phúc | BL30: VP
A31: 10 | B31: 72GT21-23 | C31: Xây dựng cầu 1 | D31: DC3CA69 | E31: 3 | F31: 45 | H31: 3 | J31: 5 | K31: 5 | L31: 5 | M31: 5 | N31: 5 | O31: 5 | P31: 5 | Q31: 5 | R31: 5 | S31: Φ | T31: Φ | BJ31: 1 | BK31: Hà Nội | BL31: HN
C32: Xây dựng cầu 2 | D32: DC3CA70 | E32: 3 | F32: 45 | H32: 3 | J32: 5 | K32: 5 | L32: 5 | M32: 5 | N32: 5 | O32: 5 | P32: 5 | Q32: 5 | R32: 5 | S32: Φ | T32: Φ | BJ32: 1 | BK32: Hà Nội | BL32: HN
C33: Xây dựng nền đường | D33: DC3DB85 | E33: 4 | F33: 60 | H33: 3 | J33: 7 | K33: 7 | L33: 7 | M33: 7 | N33: 7 | O33: 7 | P33: 6 | Q33: 6 | R33: 6 | S33: Φ | T33: Φ | BJ33: 1 | BK33: Hà Nội | BL33: HN
C34: Xây dựng mặt đường | D34: DC3DB86 | E34: 3 | F34: 45 | H34: 3 | J34: 5 | K34: 5 | L34: 5 | M34: 5 | N34: 5 | O34: 5 | P34: 5 | Q34: 5 | R34: 5 | S34: Φ | T34: Φ | BJ34: 1 | BK34: Hà Nội | BL34: HN
C35: Dự toán công trình | D35: DC3CT92 | E35: 2 | F35: 30 | H35: 3 | J35: 3 | K35: 3 | L35: 3 | M35: 3 | N35: 3 | O35: 3 | P35: 4 | Q35: 4 | R35: 4 | S35: Φ | T35: Φ | BJ35: 1 | BK35: Hà Nội | BL35: HN
C36: Đồ án Xây dựng đường | D36: DC3DB77 | E36: 1 | G36: 45 | H36: 3 | U36: 2 | V36: 2 | W36: 2 | X36: 2 | Y36: 2 | Z36: 2 | AA36: 1 | AB36: 1 | AC36: 1 | AD36: Φ | AE36: Φ | BJ36: 2 | BK36: Hà Nội | BL36: HN
C37: Đồ án Xây dựng cầu | D37: DC3CA77 | E37: 1 | G37: 45 | H37: 3 | U37: 2 | V37: 2 | W37: 2 | X37: 2 | Y37: 2 | Z37: 2 | AA37: 1 | AB37: 1 | AC37: 1 | AD37: Φ | AE37: Φ | BJ37: 2 | BK37: Hà Nội | BL37: HN
C38: Quản lý khai thác và kiểm định đường | D38: DC3DB61 | E38: 2 | F38: 30 | H38: 3 | U38: 3 | V38: 3 | W38: 3 | X38: 3 | Y38: 3 | Z38: 3 | AA38: 4 | AB38: 4 | AC38: 4 | AD38: Φ | AE38: Φ | BJ38: 2 | BK38: Hà Nội | BL38: HN
C39: Quản lý khai thác và kiểm định cầu | D39: DC3CA61 | E39: 2 | F39: 30 | H39: 3 | U39: 3 | V39: 3 | W39: 3 | X39: 3 | Y39: 3 | Z39: 3 | AA39: 4 | AB39: 4 | AC39: 4 | AD39: Φ | AE39: Φ | BJ39: 2 | BK39: Hà Nội | BL39: HN
C40: Tiếng Anh chuyên ngành | D40: DC3CD18 | E40: 3 | F40: 60 | H40: 1 | I40: GHÉP 73CH+72GT | U40: 7 | V40: 7 | W40: 7 | X40: 7 | Y40: 7 | Z40: 7 | AA40: 6 | AB40: 6 | AC40: 6 | AD40: Φ | AE40: Φ | BJ40: 2 | BK40: Hà Nội | BL40: HN
C41: Thực tập Kiểm định đường | D41: DC4DB27 | E41: 1 | G41: 45 | H41: 3 | U41: 5 | V41: 5 | W41: 5 | X41: 5 | Y41: 5 | Z41: 5 | AA41: 5 | AB41: 5 | AC41: 5 | AD41: Φ | AE41: Φ | BJ41: 2 | BK41: Hà Nội | BL41: HN
C42: Thực tập Kiểm định cầu | D42: DC4CA28 | E42: 1 | G42: 45 | H42: 3 | U42: 5 | V42: 5 | W42: 5 | X42: 5 | Y42: 5 | Z42: 5 | AA42: 5 | AB42: 5 | AC42: 5 | AD42: Φ | AE42: Φ | BJ42: 2 | BK42: Hà Nội | BL42: HN
C43: Thực tập nghề nghiệp xây dựng cầu, đường | D43: DC4CD29 | E43: 6 | G43: 270 | H43: 3 | AI43: NT | AJ43: NT | AK43: NT | AL43: NT | AM43: NT | AN43: NT | BJ43: 3 | BK43: Hà Nội | BL43: HN
C44: Thực tập tốt nghiệp | D44: DC4CD70 | E44: 4 | G44: 180 | H44: 3 | AO44: NT | AP44: NT | AQ44: NT | AR44: NT | AS44: DT | BJ44: 3 | BK44: Hà Nội | BL44: HN
C45: Đồ án tốt nghiệp | D45: DC4CD80 | E45: 8 | G45: 480 | H45: 3 | AS45: DT | AT45: DK | AU45: DK | AV45: DK | AW45: DK | AX45: DK | AY45: DK | AZ45: DK | BA45: DK | BB45: DK | BC45: DK | BD45: DK | BJ45: 4 | BK45: Hà Nội | BL45: HN
C46: TỔNG TC - TỔNG TIẾT / LỚP / TUẦN | D46: X | E46: 44 | J46: 25 | K46: 25 | L46: 25 | M46: 25 | N46: 25 | O46: 25 | P46: 25 | Q46: 25 | R46: 25 | S46: 0 | T46: 0 | U46: 27 | V46: 27 | W46: 27 | X46: 27 | Y46: 27 | Z46: 27 | AA46: 26 | AB46: 26 | AC46: 26 | AD46: 0 | AE46: 0 | AF46: 0 | AG46: 0 | AH46: 0 | AI46: 0 | AJ46: 0 | AK46: 0 | AL46: 0 | AM46: 0 | AN46: 0 | AO46: 0 | AP46: 0 | AQ46: 0 | AR46: 0 | AS46: 0 | AT46: 0 | AU46: 0 | AV46: 0 | AW46: 0 | AX46: 0 | AY46: 0 | AZ46: 0 | BA46: 0 | BB46: 0 | BC46: 0 | BD46: 0 | BE46: 0 | BF46: 0 | BG46: 0 | BH46: 0 | BI46: 0 | BK46: Hà Nội | BL46: HN
A47: 11 | B47: 72GT11 | C47: Xây dựng cầu 1 | D47: DC3CA69 | E47: 3 | F47: 45 | H47: 1 | J47: 5 | K47: 5 | L47: 5 | M47: 5 | N47: 5 | O47: 5 | P47: 5 | Q47: 5 | R47: 5 | S47: Φ | T47: Φ | BJ47: 1 | BK47: Vĩnh Phúc | BL47: VP
C48: Xây dựng cầu 2 | D48: DC3CA70 | E48: 3 | F48: 45 | H48: 1 | J48: 5 | K48: 5 | L48: 5 | M48: 5 | N48: 5 | O48: 5 | P48: 5 | Q48: 5 | R48: 5 | S48: Φ | T48: Φ | BJ48: 1 | BK48: Vĩnh Phúc | BL48: VP
C49: Xây dựng nền đường | D49: DC3DB85 | E49: 4 | F49: 60 | H49: 1 | J49: 7 | K49: 7 | L49: 7 | M49: 7 | N49: 7 | O49: 7 | P49: 6 | Q49: 6 | R49: 6 | S49: Φ | T49: Φ | BJ49: 1 | BK49: Vĩnh Phúc | BL49: VP
C50: Xây dựng mặt đường | D50: DC3DB86 | E50: 3 | F50: 45 | H50: 1 | J50: 5 | K50: 5 | L50: 5 | M50: 5 | N50: 5 | O50: 5 | P50: 5 | Q50: 5 | R50: 5 | S50: Φ | T50: Φ | BJ50: 1 | BK50: Vĩnh Phúc | BL50: VP
C51: Dự toán công trình | D51: DC3CT92 | E51: 2 | F51: 30 | H51: 1 | J51: 3 | K51: 3 | L51: 3 | M51: 3 | N51: 3 | O51: 3 | P51: 4 | Q51: 4 | R51: 4 | S51: Φ | T51: Φ | BJ51: 1 | BK51: Vĩnh Phúc | BL51: VP
C52: Đồ án Xây dựng đường | D52: DC3DB77 | E52: 1 | G52: 45 | H52: 1 | U52: 2 | V52: 2 | W52: 2 | X52: 2 | Y52: 2 | Z52: 2 | AA52: 1 | AB52: 1 | AC52: 1 | AD52: Φ | AE52: Φ | BJ52: 2 | BK52: Vĩnh Phúc | BL52: VP
C53: Đồ án Xây dựng cầu | D53: DC3CA77 | E53: 1 | G53: 45 | H53: 1 | U53: 2 | V53: 2 | W53: 2 | X53: 2 | Y53: 2 | Z53: 2 | AA53: 1 | AB53: 1 | AC53: 1 | AD53: Φ | AE53: Φ | BJ53: 2 | BK53: Vĩnh Phúc | BL53: VP
C54: Quản lý khai thác và kiểm định đường | D54: DC3DB61 | E54: 2 | F54: 30 | H54: 1 | U54: 3 | V54: 3 | W54: 3 | X54: 3 | Y54: 3 | Z54: 3 | AA54: 4 | AB54: 4 | AC54: 4 | AD54: Φ | AE54: Φ | BJ54: 2 | BK54: Vĩnh Phúc | BL54: VP
C55: Quản lý khai thác và kiểm định cầu | D55: DC3CA61 | E55: 2 | F55: 30 | H55: 1 | U55: 3 | V55: 3 | W55: 3 | X55: 3 | Y55: 3 | Z55: 3 | AA55: 4 | AB55: 4 | AC55: 4 | AD55: Φ | AE55: Φ | BJ55: 2 | BK55: Vĩnh Phúc | BL55: VP
C56: Tiếng Anh chuyên ngành | D56: DC3CD18 | E56: 3 | F56: 60 | H56: 1 | U56: 7 | V56: 7 | W56: 7 | X56: 7 | Y56: 7 | Z56: 7 | AA56: 6 | AB56: 6 | AC56: 6 | AD56: Φ | AE56: Φ | BJ56: 2 | BK56: Vĩnh Phúc | BL56: VP
C57: Thực tập Kiểm định đường | D57: DC4DB27 | E57: 1 | G57: 45 | H57: 1 | U57: 5 | V57: 5 | W57: 5 | X57: 5 | Y57: 5 | Z57: 5 | AA57: 5 | AB57: 5 | AC57: 5 | AD57: Φ | AE57: Φ | BJ57: 2 | BK57: Vĩnh Phúc | BL57: VP
C58: Thực tập Kiểm định cầu | D58: DC4CA28 | E58: 1 | G58: 45 | H58: 1 | U58: 5 | V58: 5 | W58: 5 | X58: 5 | Y58: 5 | Z58: 5 | AA58: 5 | AB58: 5 | AC58: 5 | AD58: Φ | AE58: Φ | BJ58: 2 | BK58: Vĩnh Phúc | BL58: VP
C59: Thực tập nghề nghiệp xây dựng cầu, đường | D59: DC4CD29 | E59: 6 | G59: 270 | H59: 1 | AI59: NT | AJ59: NT | AK59: NT | AL59: NT | AM59: NT | AN59: NT | BJ59: 3 | BK59: Vĩnh Phúc | BL59: VP
C60: Thực tập tốt nghiệp | D60: DC4CD70 | E60: 4 | G60: 180 | H60: 1 | AO60: NT | AP60: NT | AQ60: NT | AR60: NT | AS60: DT | BJ60: 3 | BK60: Vĩnh Phúc | BL60: VP
C61: Đồ án tốt nghiệp | D61: DC4CD80 | E61: 8 | G61: 480 | H61: 1 | AS61: DT | AT61: DK | AU61: DK | AV61: DK | AW61: DK | AX61: DK | AY61: DK | AZ61: DK | BA61: DK | BB61: DK | BC61: DK | BD61: DK | BJ61: 4 | BK61: Vĩnh Phúc | BL61: VP
C62: TỔNG TC - TỔNG TIẾT / LỚP / TUẦN | D62: X | E62: 44 | J62: 25 | K62: 25 | L62: 25 | M62: 25 | N62: 25 | O62: 25 | P62: 25 | Q62: 25 | R62: 25 | S62: 0 | T62: 0 | U62: 27 | V62: 27 | W62: 27 | X62: 27 | Y62: 27 | Z62: 27 | AA62: 26 | AB62: 26 | AC62: 26 | AD62: 0 | AE62: 0 | AF62: 0 | AG62: 0 | AH62: 0 | AI62: 0 | AJ62: 0 | AK62: 0 | AL62: 0 | AM62: 0 | AN62: 0 | AO62: 0 | AP62: 0 | AQ62: 0 | AR62: 0 | AS62: 0 | AT62: 0 | AU62: 0 | AV62: 0 | AW62: 0 | AX62: 0 | AY62: 0 | AZ62: 0 | BA62: 0 | BB62: 0 | BC62: 0 | BD62: 0 | BE62: 0 | BF62: 0 | BG62: 0 | BH62: 0 | BI62: 0 | BK62: Vĩnh Phúc | BL62: VP
A63: 12 | B63: 72GT31 | C63: Xây dựng cầu 1 | D63: DC3CA69 | E63: 3 | F63: 45 | H63: 1 | J63: 5 | K63: 5 | L63: 5 | M63: 5 | N63: 5 | O63: 5 | P63: 5 | Q63: 5 | R63: 5 | S63: Φ | T63: Φ | BJ63: 1 | BK63: Thái Nguyên | BL63: TN
C64: Xây dựng cầu 2 | D64: DC3CA70 | E64: 3 | F64: 45 | H64: 1 | J64: 5 | K64: 5 | L64: 5 | M64: 5 | N64: 5 | O64: 5 | P64: 5 | Q64: 5 | R64: 5 | S64: Φ | T64: Φ | BJ64: 1 | BK64: Thái Nguyên | BL64: TN
C65: Xây dựng nền đường | D65: DC3DB85 | E65: 4 | F65: 60 | H65: 1 | J65: 7 | K65: 7 | L65: 7 | M65: 7 | N65: 7 | O65: 7 | P65: 6 | Q65: 6 | R65: 6 | S65: Φ | T65: Φ | BJ65: 1 | BK65: Thái Nguyên | BL65: TN
C66: Xây dựng mặt đường | D66: DC3DB86 | E66: 3 | F66: 45 | H66: 1 | J66: 5 | K66: 5 | L66: 5 | M66: 5 | N66: 5 | O66: 5 | P66: 5 | Q66: 5 | R66: 5 | S66: Φ | T66: Φ | BJ66: 1 | BK66: Thái Nguyên | BL66: TN
C67: Dự toán công trình | D67: DC3CT92 | E67: 2 | F67: 30 | H67: 1 | J67: 3 | K67: 3 | L67: 3 | M67: 3 | N67: 3 | O67: 3 | P67: 4 | Q67: 4 | R67: 4 | S67: Φ | T67: Φ | BJ67: 1 | BK67: Thái Nguyên | BL67: TN
C68: Đồ án Xây dựng đường | D68: DC3DB77 | E68: 1 | G68: 45 | H68: 1 | U68: 2 | V68: 2 | W68: 2 | X68: 2 | Y68: 2 | Z68: 2 | AA68: 1 | AB68: 1 | AC68: 1 | AD68: Φ | AE68: Φ | BJ68: 2 | BK68: Thái Nguyên | BL68: TN
C69: Đồ án Xây dựng cầu | D69: DC3CA77 | E69: 1 | G69: 45 | H69: 1 | U69: 2 | V69: 2 | W69: 2 | X69: 2 | Y69: 2 | Z69: 2 | AA69: 1 | AB69: 1 | AC69: 1 | AD69: Φ | AE69: Φ | BJ69: 2 | BK69: Thái Nguyên | BL69: TN
C70: Quản lý khai thác và kiểm định đường | D70: DC3DB61 | E70: 2 | F70: 30 | H70: 1 | U70: 3 | V70: 3 | W70: 3 | X70: 3 | Y70: 3 | Z70: 3 | AA70: 4 | AB70: 4 | AC70: 4 | AD70: Φ | AE70: Φ | BJ70: 2 | BK70: Thái Nguyên | BL70: TN
C71: Quản lý khai thác và kiểm định cầu | D71: DC3CA61 | E71: 2 | F71: 30 | H71: 1 | U71: 3 | V71: 3 | W71: 3 | X71: 3 | Y71: 3 | Z71: 3 | AA71: 4 | AB71: 4 | AC71: 4 | AD71: Φ | AE71: Φ | BJ71: 2 | BK71: Thái Nguyên | BL71: TN
C72: Hầm giao thông | D72: DC3CA71 | E72: 2 | F72: 30 | H72: 1 | U72: 3 | V72: 3 | W72: 3 | X72: 3 | Y72: 3 | Z72: 3 | AA72: 4 | AB72: 4 | AC72: 4 | AD72: Φ | AE72: Φ | BJ72: 2 | BK72: Thái Nguyên | BL72: TN
C73: Thực tập Kiểm định đường | D73: DC4DB27 | E73: 1 | G73: 45 | H73: 1 | U73: 5 | V73: 5 | W73: 5 | X73: 5 | Y73: 5 | Z73: 5 | AA73: 5 | AB73: 5 | AC73: 5 | AD73: Φ | AE73: Φ | BJ73: 2 | BK73: Thái Nguyên | BL73: TN
C74: Thực tập Kiểm định cầu | D74: DC4CA28 | E74: 1 | G74: 45 | H74: 1 | U74: 5 | V74: 5 | W74: 5 | X74: 5 | Y74: 5 | Z74: 5 | AA74: 5 | AB74: 5 | AC74: 5 | AD74: Φ | AE74: Φ | BJ74: 2 | BK74: Thái Nguyên | BL74: TN
C75: Thực tập nghề nghiệp xây dựng cầu, đường | D75: DC4CD29 | E75: 6 | G75: 270 | H75: 1 | AI75: NT | AJ75: NT | AK75: NT | AL75: NT | AM75: NT | AN75: NT | BJ75: 3 | BK75: Thái Nguyên | BL75: TN
C76: Thực tập tốt nghiệp | D76: DC4CD70 | E76: 4 | G76: 180 | H76: 1 | AO76: NT | AP76: NT | AQ76: NT | AR76: NT | AS76: DT | BJ76: 3 | BK76: Thái Nguyên | BL76: TN
C77: Đồ án tốt nghiệp | D77: DC4CD80 | E77: 8 | G77: 480 | H77: 1 | AS77: DT | AT77: DK | AU77: DK | AV77: DK | AW77: DK | AX77: DK | AY77: DK | AZ77: DK | BA77: DK | BB77: DK | BC77: DK | BD77: DK | BJ77: 4 | BK77: Thái Nguyên | BL77: TN
C78: TỔNG TC - TỔNG TIẾT / LỚP / TUẦN | D78: X | E78: 43 | J78: 25 | K78: 25 | L78: 25 | M78: 25 | N78: 25 | O78: 25 | P78: 25 | Q78: 25 | R78: 25 | S78: 0 | T78: 0 | U78: 23 | V78: 23 | W78: 23 | X78: 23 | Y78: 23 | Z78: 23 | AA78: 24 | AB78: 24 | AC78: 24 | AD78: 0 | AE78: 0 | AF78: 0 | AG78: 0 | AH78: 0 | AI78: 0 | AJ78: 0 | AK78: 0 | AL78: 0 | AM78: 0 | AN78: 0 | AO78: 0 | AP78: 0 | AQ78: 0 | AR78: 0 | AS78: 0 | AT78: 0 | AU78: 0 | AV78: 0 | AW78: 0 | AX78: 0 | AY78: 0 | AZ78: 0 | BA78: 0 | BB78: 0 | BC78: 0 | BD78: 0 | BE78: 0 | BF78: 0 | BG78: 0 | BH78: 0 | BI78: 0 | BK78: Thái Nguyên | BL78: TN
A79: 13 | B79: 72MO | C79: Lập và phân tích dự án môi trường | D79: DC3MO24 | E79: 3 | F79: 45 | H79: 1 | J79: 6 | K79: 6 | L79: 6 | M79: 6 | N79: 6 | O79: 6 | P79: 6 | Q79: 3 | R79: Φ | S79: Φ | BJ79: 1 | BK79: Hà Nội | BL79: HN
C80: Đánh giá tác động môi trường | D80: DC3MO34 | E80: 3 | F80: 45 | H80: 1 | J80: 6 | K80: 6 | L80: 6 | M80: 6 | N80: 6 | O80: 6 | P80: 6 | Q80: 3 | R80: Φ | S80: Φ | BJ80: 1 | BK80: Hà Nội | BL80: HN
C81: Đồ án Đánh giá tác động môi trường | D81: DC3MO35 | E81: 2 | G81: 90 | H81: 1 | J81: 4 | K81: 4 | L81: 4 | M81: 4 | N81: 4 | O81: 4 | P81: 4 | Q81: 2 | R81: Φ | S81: Φ | BJ81: 1 | BK81: Hà Nội | BL81: HN
C82: Thực tập Xử lý nước | D82: DC4MO16 | E82: 3 | G82: 135 | H82: 1 | T82: NT | U82: NT | V82: NT | AE82: Φ | AI82: DT | AJ82: DT | BJ82: 1 | BK82: Hà Nội | BL82: HN
C83: Thực tập Xử lý chất thải rắn | D83: DC4MO12 | E83: 2 | G83: 90 | H83: 1 | W83: NT | X83: NT | AE83: Φ | AI83: DT | AJ83: DT | BJ83: 2 | BK83: Hà Nội | BL83: HN
C84: Thực tập tốt nghiệp | D84: DC4MO71 | E84: 6 | G84: 270 | H84: 1 | Y84: NT | Z84: NT | AA84: NT | AB84: NT | AC84: NT | AD84: NT | AE84: Φ | AI84: DT | AJ84: DT | BJ84: 2 | BK84: Hà Nội | BL84: HN
C85: Đồ án tốt nghiệp | D85: DC4MO80 | E85: 8 | G85: 480 | H85: 1 | AI85: DT | AJ85: DT | AK85: DK | AL85: DK | AM85: DK | AN85: DK | AO85: DK | AP85: DK | AQ85: DK | AR85: DK | AS85: DK | AT85: DK | AU85: DK | AV85: DK | AW85: # | AX85: # | BJ85: 3 | BK85: Hà Nội | BL85: HN
C86: TỔNG TC - TỔNG TIẾT / LỚP / TUẦN | D86: X | E86: 27 | J86: 16 | K86: 16 | L86: 16 | M86: 16 | N86: 16 | O86: 16 | P86: 16 | Q86: 8 | R86: 0 | S86: 0 | T86: 0 | U86: 0 | V86: 0 | W86: 0 | X86: 0 | Y86: 0 | Z86: 0 | AA86: 0 | AB86: 0 | AC86: 0 | AD86: 0 | AE86: 0 | AF86: 0 | AG86: 0 | AH86: 0 | AI86: 0 | AJ86: 0 | AK86: 0 | AL86: 0 | AM86: 0 | AN86: 0 | AO86: 0 | AP86: 0 | AQ86: 0 | AR86: 0 | AS86: 0 | AT86: 0 | AU86: 0 | AV86: 0 | AW86: 0 | AX86: 0 | AY86: 0 | AZ86: 0 | BA86: 0 | BB86: 0 | BC86: 0 | BD86: 0 | BE86: 0 | BF86: 0 | BG86: 0 | BH86: 0 | BI86: 0 | BK86: Hà Nội | BL86: HN
A87: 14 | B87: 72DD21-23 | C87: Tiếng Anh chuyên ngành | D87: DC3DD18 | E87: 3 | F87: 60 | H87: 3 | J87: 4 | K87: 4 | L87: 4 | M87: 4 | N87: 4 | O87: 4 | P87: 4 | Q87: 4 | R87: 4 | S87: 4 | T87: 4 | U87: 4 | V87: 4 | W87: 4 | X87: 4 | Y87: Φ | Z87: Φ | AA87: Φ | AB87: Φ | BJ87: 1 | BK87: Hà Nội | BL87: HN
C88: Đồ án Kỹ thuật thi công công trình xây dựng | D88: DC3DD64 | E88: 1 | G88: 45 | H88: 3 | J88: 1 | K88: 1 | L88: 1 | M88: 1 | N88: 1 | O88: 1 | P88: 1 | Q88: 1 | R88: 1 | S88: 1 | T88: 1 | U88: 1 | V88: 1 | W88: 1 | X88: 1 | Y88: Φ | Z88: Φ | AA88: Φ | AB88: Φ | BJ88: 1 | BK88: Hà Nội | BL88: HN
C89: Tổ chức thi công công trình xây dựng | D89: DC3DD53 | E89: 3 | F89: 45 | H89: 3 | J89: 5 | K89: 5 | L89: 5 | M89: 5 | N89: 5 | O89: 2 | P89: 2 | Q89: 2 | R89: 2 | S89: 2 | T89: 2 | U89: 2 | V89: 2 | W89: 2 | X89: 2 | Y89: Φ | Z89: Φ | AA89: Φ | AB89: Φ | BJ89: 1 | BK89: Hà Nội | BL89: HN
C90: Thí nghiệm và kiểm định chất lượng công trình | D90: DC3DD61 | E90: 2 | F90: 30 | H90: 3 | J90: 2 | K90: 2 | L90: 2 | M90: 2 | N90: 2 | O90: 2 | P90: 2 | Q90: 2 | R90: 2 | S90: 2 | T90: 2 | U90: 2 | V90: 2 | W90: 2 | X90: 2 | Y90: Φ | Z90: Φ | AA90: Φ | AB90: Φ | BJ90: 1 | BK90: Hà Nội | BL90: HN
C91: Đồ án Tổ chức thi công công trình xây dựng | D91: DC3DD65 | E91: 1 | G91: 45 | H91: 3 | O91: 2 | P91: 2 | Q91: 2 | R91: 2 | S91: 2 | T91: 1 | U91: 1 | V91: 1 | W91: 1 | X91: 1 | Y91: Φ | Z91: Φ | AA91: Φ | AB91: Φ | BJ91: 1 | BK91: Hà Nội | BL91: HN
C92: Dự toán công trình | D92: DC3CT92 | E92: 2 | F92: 30 | H92: 3 | J92: 2 | K92: 2 | L92: 2 | M92: 2 | N92: 2 | O92: 2 | P92: 2 | Q92: 2 | R92: 2 | S92: 2 | T92: 2 | U92: 2 | V92: 2 | W92: 2 | X92: 2 | Y92: Φ | Z92: Φ | AA92: Φ | AB92: Φ | BJ92: 1 | BK92: Hà Nội | BL92: HN
C93: An toàn lao động | D93: DC2CT65 | E93: 2 | F93: 30 | H93: 3 | J93: 2 | K93: 2 | L93: 2 | M93: 2 | N93: 2 | O93: 2 | P93: 2 | Q93: 2 | R93: 2 | S93: 2 | T93: 2 | U93: 2 | V93: 2 | W93: 2 | X93: 2 | Y93: Φ | Z93: Φ | AA93: Φ | AB93: Φ | BJ93: 1 | BK93: Hà Nội | BL93: HN
C94: Thực tập Thí nghiệm và kiểm định công trình | D94: DC4DD22 | E94: 2 | G94: 90 | H94: 3 | O94: 9 | P94: 9 | Q94: 9 | R94: 9 | S94: 9 | T94: 9 | U94: 9 | V94: 9 | W94: 9 | X94: 9 | Y94: Φ | Z94: Φ | AA94: Φ | AB94: Φ | BJ94: 1 | BK94: Hà Nội | BL94: HN
C95: Thực tập Kỹ thuật thi công cơ bản | D95: DC4CT13 | E95: 3 | G95: 135 | H95: 3 | AC95: VP | AD95: VP | AE95: VP | BJ95: 2 | BK95: Hà Nội | BL95: VP
C96: Thực tập nghề nghiệp xây dựng công trình | D96: DC4DD29 | E96: 6 | G96: 270 | H96: 3 | AI96: NT | AJ96: NT | AK96: NT | AL96: NT | AM96: NT | AN96: NT | BJ96: 3 | BK96: Hà Nội | BL96: HN
C97: Thực tập tốt nghiệp | D97: DC4DD70 | E97: 4 | G97: 180 | H97: 3 | AO97: NT | AP97: NT | AQ97: NT | AR97: NT | AS97: DT | BJ97: 3 | BK97: Hà Nội | BL97: HN
C98: Đồ án tốt nghiệp | D98: DC4DD80 | E98: 8 | G98: 480 | H98: 3 | AS98: DT | AT98: DK | AU98: DK | AV98: DK | AW98: DK | AX98: DK | AY98: DK | AZ98: DK | BA98: DK | BB98: DK | BC98: DK | BD98: DK | BJ98: 4 | BK98: Hà Nội | BL98: HN
C99: TỔNG TC - TỔNG TIẾT / LỚP / TUẦN | D99: X | E99: 37 | J99: 16 | K99: 16 | L99: 16 | M99: 16 | N99: 16 | O99: 24 | P99: 24 | Q99: 24 | R99: 24 | S99: 24 | T99: 23 | U99: 23 | V99: 23 | W99: 23 | X99: 23 | Y99: 0 | Z99: 0 | AA99: 0 | AB99: 0 | AC99: 0 | AD99: 0 | AE99: 0 | AF99: 0 | AG99: 0 | AH99: 0 | AI99: 0 | AJ99: 0 | AK99: 0 | AL99: 0 | AM99: 0 | AN99: 0 | AO99: 0 | AP99: 0 | AQ99: 0 | AR99: 0 | AS99: 0 | AT99: 0 | AU99: 0 | AV99: 0 | AW99: 0 | AX99: 0 | AY99: 0 | AZ99: 0 | BA99: 0 | BB99: 0 | BC99: 0 | BD99: 0 | BE99: 0 | BF99: 0 | BG99: 0 | BH99: 0 | BI99: 0 | BK99: Hà Nội | BL99: HN
A100: 15 | B100: 72DD11 | C100: Tiếng Anh chuyên ngành | D100: DC3DD18 | E100: 3 | F100: 60 | H100: 1 | J100: 4 | K100: 4 | L100: 4 | M100: 4 | N100: 4 | O100: 4 | P100: 4 | Q100: 4 | R100: 4 | S100: 4 | T100: 4 | U100: 4 | V100: 4 | W100: 4 | X100: 4 | Y100: Φ | Z100: Φ | AA100: Φ | AB100: Φ | BJ100: 1 | BK100: Vĩnh Phúc | BL100: VP
...

Sheet SV
D1: x
A2: 71DCDD21058 | B2: Đinh Tiến | C2: Đạt | D2: 71DCCDP1
A3: 71DCGT21033 | B3: Nguyễn Nam | C3: Khánh | D3: 71DCCDP1
A4: 71DCDD21110 | B4: Hoàng Anh | C4: Quân | D4: 71DCCDP1
A5: 71DCGT21091 | B5: Nguyễn Thuận | C5: Thuyên | D5: 71DCCDP1
A6: 71DCGT21070 | B6: Lê Khánh | C6: Tùng | D6: 71DCCDP1
A7: 71DCCO22002 | B7: Nguyễn Xuân | C7: An | D7: 71DCCO21
A8: 71DCCO22005 | B8: Bùi Thế Đức | C8: Anh | D8: 71DCCO21
A9: 71DCCO22007 | B9: Phạm Đức | C9: Anh | D9: 71DCCO21
A10: 71DCCO22014 | B10: Nguyễn Hữu | C10: Chung | D10: 71DCCO21
A11: 71DCCO22017 | B11: Nguyễn Mạnh | C11: Cường | D11: 71DCCO21
A12: 71DCCO22024 | B12: Nguyễn Xuân | C12: Doanh | D12: 71DCCO21
A13: 71DCCO22027 | B13: Phan Bùi | C13: Dũng | D13: 71DCCO21
... A12653: 72DCOT30015 | B12653: Nguyễn Viết | C12653: Tuyên | D12653: 72DCOT31
A12654: 74DCCK21032 | B12654: Tạ Minh An | D12654: 74DCCK21
A12655: 74DCCK21285 | B12655: Nguyễn Trần Việt Bách | D12655: 74DCCK21
A12656: 74DCCK21061 | B12656: Chu Ngọc Bảo | D12656: 74DCCK21
A12657: 74DCCK21251 | B12657: Lê Văn Biên | D12657: 74DCCK21
A12658: 74DCCK22238 | B12658: Đỗ Thái Bình | D12658: 74DCCK21
A12659: 74DCCK21210 | B12659: Trịnh Văn Cao | D12659: 74DCCK21
A12660: 74DCCK22229 | B12660: Nguyễn Duy Chánh | D12660: 74DCCK21
A12661: 74DCCK21279 | B12661: Nguyễn Việt Cường | D12661: 74DCCK21
A12662: 74DCCK21321 | B12662: Nguyễn Văn Trí Dũng | D12662: 74DCCK21
A12663: 74DCCK21178 | B12663: Đỗ Tùng Dương | D12663: 74DCCK21
A12664: 74DCCK21253 | B12664: Nguyễn Tùng Dương | D12664: 74DCCK21
A12665: 74DCCK21106 | B12665: Phí Hải Đăng | D12665: 74DCCK21
... A12931: 74DCCK21022 | B12931: Lê Doãn Vượng | D12931: 74DCCK25

Sheet Đăng kí
A1: BỘ GIAO THÔNG VẬN TẢI | J1: CỘNG HÒA XÃ HỘI CHỦ NGHĨA VIỆT NAM | AP1: ! | AQ1: 1 | AV1: x | AY1: 10 | AZ1: 9 | BA1: 8 | BB1: 7 | BC1: 6 | BD1: 5 | BE1: 4 | BF1: 3 | BG1: 2 | BH1: 1 | BI1: =INDEX(BI2:BI6,MATCH(LEFT(A5,2)-0,AX2:AX6,0)) -> 3
A2: TRƯỜNG ĐẠI HỌC CÔNG NGHỆ GTVT | J2: Độc lập - Tự do - Hạnh phúc | AQ2: 2025 | AX2: 71 | AY2: 2 | AZ2: 1 | BI2: =IF(AQ1=1,9,10) -> 9
AX3: =AX2+1 -> 72 | BA3: 2 | BB3: 1 | BI3: =BI2-2 -> 7
A4: ="DANH SÁCH ĐĂNG KÍ HỌC KÌ CHÍNH - HỌC KÌ "&BI1&" (HK"&AQ1&"_"&AQ2-1&"-"&AQ2&")" -> DANH SÁCH ĐĂNG KÍ HỌC KÌ CHÍNH - HỌC KÌ 3 (HK1_2024-2025) | AX4: =AX3+1 -> 73 | BC4: 2 | BD4: 1 | BI4: =BI3-2 -> 5
A5: 74DCCK22 | AX5: =AX4+1 -> 74 | BE5: 2 | BF5: 1 | BI5: =BI4-2 -> 3
E6: =$BC$15 -> 1139 | F6: =$BC$16 -> 1140 | G6: =$BC$17 -> 1141 | H6: =$BC$18 -> 1142 | I6: =$BC$19 -> 1143 | J6: =$BC$20 -> 1144 | K6: =$BC$21 -> 1145 | L6: =$BC$22 -> 1146 | M6: =$BC$23 -> 1147 | N6: =$BC$24 | O6: =$BC$25 | P6: =$BC$26 | Q6: =$BC$27 | R6: =$BC$28 | S6: =$BC$29 | T6: =$BC$30 | U6: =$BC$31 | V6: =$BC$32 | AX6: =AX5+1 -> 75 | BG6: 2 | BH6: 1 | BI6: =BI5-2 -> 1
A7: Số TT | B7: ="Họ và tên SV(Lớp "&A5&"- ĐK HK chính"&" "&BI1&")" -> Họ và tên SV(Lớp 74DCCK22- ĐK HK chính 3) | C7: Mã SV | D7: Tổng số TC Đăng ký | E7: =IF(E6="","",IF(E8=0,"",INDEX(KH!$C:$C,E6)&" ("&INDEX(KH!$D:$D,E6)&")")) -> Tư tưởng Hồ Chí Minh (DC1LL03) | F7: =IF(F6="","",IF(F8=0,"",INDEX(KH!$C:$C,F6)&" ("&INDEX(KH!$D:$D,F6)&")")) -> Hóa học đại cương (DC1CB26) | G7: =IF(G6="","",IF(G8=0,"",INDEX(KH!$C:$C,G6)&" ("&INDEX(KH!$D:$D,G6)&")")) -> Nguyên lý máy (DC2CK65) | H7: =IF(H6="","",IF(H8=0,"",INDEX(KH!$C:$C,H6)&" ("&INDEX(KH!$D:$D,H6)&")")) -> Sức bền vật liệu (DC2CO26) | I7: =IF(I6="","",IF(I8=0,"",INDEX(KH!$C:$C,I6)&" ("&INDEX(KH!$D:$D,I6)&")")) -> Dung sai kỹ thuật đo (DC2CK18) | J7: =IF(J6="","",IF(J8=0,"",INDEX(KH!$C:$C,J6)&" ("&INDEX(KH!$D:$D,J6)&")")) -> Vật liệu cơ khí (DC2CK32) | K7: =IF(K6="","",IF(K8=0,"",INDEX(KH!$C:$C,K6)&" ("&INDEX(KH!$D:$D,K6)&")")) -> Chi tiết máy 1 (DC2CK56) | L7: =IF(L6="","",IF(L8=0,"",INDEX(KH!$C:$C,L6)&" ("&INDEX(KH!$D:$D,L6)&")")) -> Thủy lực cơ sở (DC2CK61) | ... V7: =IF(V6="","",IF(V8=0,"",INDEX(KH!$C:$C,V6)&" ("&INDEX(KH!$D:$D,V6)&")")) | AN7: SV ký xác nhận
E8: =IF(E6="","",INDEX(KH!$E:$E,E6)) -> 2 | F8: =IF(F6="","",INDEX(KH!$E:$E,F6)) -> 3 | G8: =IF(G6="","",INDEX(KH!$E:$E,G6)) -> 2 | H8: =IF(H6="","",INDEX(KH!$E:$E,H6)) -> 4 | I8: =IF(I6="","",INDEX(KH!$E:$E,I6)) -> 2 | J8: =IF(J6="","",INDEX(KH!$E:$E,J6)) -> 3 | K8: =IF(K6="","",INDEX(KH!$E:$E,K6)) -> 2 | L8: =IF(L6="","",INDEX(KH!$E:$E,L6)) -> 2 | ... V8: =IF(V6="","",INDEX(KH!$E:$E,V6)) | W8: =IF(W7="","",VLOOKUP(W7,$AP$9:$AR$108,2,0)) | X8: =IF(X7="","",VLOOKUP(X7,$AP$9:$AR$108,2,0)) | AB8: =IF(AB7="","",VLOOKUP(AB7,$AP$9:$AR$108,2,0)) | AC8: =IF(AC7="","",VLOOKUP(AC7,$AP$9:$AR$108,2,0)) | AD8: =IF(AD7="","",VLOOKUP(AD7,$AP$9:$AR$108,2,0)) | AE8: =IF(AE7="","",VLOOKUP(AE7,$AP$9:$AR$108,2,0)) | AF8: =IF(AF7="","",VLOOKUP(AF7,$AP$9:$AR$108,2,0)) | AG8: =IF(AG7="","",VLOOKUP(AG7,$AP$9:$AR$108,2,0)) | AH8: =IF(AH7="","",VLOOKUP(AH7,$AP$9:$AR$108,2,0)) | AI8: =IF(AI7="","",VLOOKUP(AI7,$AP$9:$AR$108,2,0)) | ... AM8: =IF(AM7="","",VLOOKUP(AM7,$AP$9:$AR$108,2,0))
A9: =IF(B9=$AP$1,"",1) -> 1 | B9: =PROPER(TRIM(IF(C9="","!",INDEX(SV!$B$1:$B$20106,MATCH('Đăng kí'!C9,SV!$A$1:$A$20106,0))&" "&INDEX(SV!$C$1:$C$20106,MATCH('Đăng kí'!C9,SV!$A$1:$A$20106,0))))) -> Nguyễn Phúc Anh | C9: {=IFERROR(INDEX(SV!$A$1:$A$20106,SMALL(IF(SV!$D$1:$D$20106=A5,ROW(INDIRECT("1:"&ROWS(SV!$D$1:$D$20106)))),ROW(INDIRECT("1:"&ROWS(SV!$D$1:$D$20106))))),"")} -> 74DCCK22007 | D9: =IF(OR(B9=$AP$1,ISERROR(VLOOKUP($AN9,$AW$9:$AW$19,1,0))=FALSE),"",SUMIF(E9:AM9,$AV$1,$E$8:$AM$8)) -> 0 | AT9: =IF($AR$1>=AU9,$AQ$1-1+AU9,"") | AU9: 1 | AZ9: TỔNG TC - TỔNG TIẾT / LỚP / TUẦN | BA9: =INDEX(BK9:BK408,MATCH(A5,BJ9:BJ408,0)) -> 74CK21, 22 (CM) | BJ9: 71DCCD11 | BK9: 71CD11
A10: =IF(B10=$AP$1,"",MAX($A$9:A9)+1) -> 2 | B10: =PROPER(TRIM(IF(C10="","!",INDEX(SV!$B$1:$B$20106,MATCH('Đăng kí'!C10,SV!$A$1:$A$20106,0))&" "&INDEX(SV!$C$1:$C$20106,MATCH('Đăng kí'!C10,SV!$A$1:$A$20106,0))))) -> Nguyễn Thái Nhật Anh | C10: 74DCCK21123 | D10: =IF(OR(B10=$AP$1,ISERROR(VLOOKUP($AN10,$AW$9:$AW$19,1,0))=FALSE),"",SUMIF(E10:AM10,$AV$1,$E$8:$AM$8)) -> 0 | AT10: =IF($AR$1>=AU10,$AQ$1-1+AU10,"") | AU10: 2 | AW10: Không đăng kí học | AZ10: =IF(ISERROR(BA9)=FALSE,MATCH(BA9,KH!B1:B1878,0),MATCH(LEFT(A5,2)&MID(A5,5,2),KH!B1:B1878,0)) -> 1139 | BJ10: 71DCCD31 | BK10: 71CD31
A11: =IF(B11=$AP$1,"",MAX($A$9:A10)+1) -> 3 | B11: =PROPER(TRIM(IF(C11="","!",INDEX(SV!$B$1:$B$20106,MATCH('Đăng kí'!C11,SV!$A$1:$A$20106,0))&" "&INDEX(SV!$C$1:$C$20106,MATCH('Đăng kí'!C11,SV!$A$1:$A$20106,0))))) -> Nguyễn Văn Cung | C11: 74DCCK22298 | D11: =IF(OR(B11=$AP$1,ISERROR(VLOOKUP($AN11,$AW$9:$AW$19,1,0))=FALSE),"",SUMIF(E11:AM11,$AV$1,$E$8:$AM$8)) -> 0 | AT11: =IF($AR$1>=AU11,$AQ$1-1+AU11,"") | AU11: 3 | AW11: Đã thôi học | AZ11: =MATCH(AZ9,INDIRECT("kh!c"&AZ10&":c"&ROWS(C1:C5000)),0)+AZ10-2 -> 1160 | BJ11: 71DCDD11 | BK11: 71DD11
A12: =IF(B12=$AP$1,"",MAX($A$9:A11)+1) -> 4 | B12: =PROPER(TRIM(IF(C12="","!",INDEX(SV!$B$1:$B$20106,MATCH('Đăng kí'!C12,SV!$A$1:$A$20106,0))&" "&INDEX(SV!$C$1:$C$20106,MATCH('Đăng kí'!C12,SV!$A$1:$A$20106,0))))) -> Nguyễn Như Cường | C12: 74DCCK21243 | D12: =IF(OR(B12=$AP$1,ISERROR(VLOOKUP($AN12,$AW$9:$AW$19,1,0))=FALSE),"",SUMIF(E12:AM12,$AV$1,$E$8:$AM$8)) -> 0 | AT12: =IF($AR$1>=AU12,$AQ$1-1+AU12,"") | AU12: 4 | AZ12: =IF(INDEX(AY2:BH6,MATCH(LEFT(A5,2)-0,AX2:AX6,0),MATCH(BI1,AY1:BH1,0))=1,1,3) -> 1 | BJ12: 71DCDD21 | BK12: 71DD21-23
A13: =IF(B13=$AP$1,"",MAX($A$9:A12)+1) -> 5 | B13: =PROPER(TRIM(IF(C13="","!",INDEX(SV!$B$1:$B$20106,MATCH('Đăng kí'!C13,SV!$A$1:$A$20106,0))&" "&INDEX(SV!$C$1:$C$20106,MATCH('Đăng kí'!C13,SV!$A$1:$A$20106,0))))) -> Nguyễn Thừa Du | C13: 74DCCK22139 | D13: =IF(OR(B13=$AP$1,ISERROR(VLOOKUP($AN13,$AW$9:$AW$19,1,0))=FALSE),"",SUMIF(E13:AM13,$AV$1,$E$8:$AM$8)) -> 0 | AT13: =IF($AR$1>=AU13,$AQ$1-1+AU13,"") | AU13: 5 | BJ13: 71DCDD22 | BK13: 71DD21-23
A14: =IF(B14=$AP$1,"",MAX($A$9:A13)+1) -> 6 | B14: =PROPER(TRIM(IF(C14="","!",INDEX(SV!$B$1:$B$20106,MATCH('Đăng kí'!C14,SV!$A$1:$A$20106,0))&" "&INDEX(SV!$C$1:$C$20106,MATCH('Đăng kí'!C14,SV!$A$1:$A$20106,0))))) -> Nguyễn Văn Dũng | C14: 74DCCK21094 | D14: =IF(OR(B14=$AP$1,ISERROR(VLOOKUP($AN14,$AW$9:$AW$19,1,0))=FALSE),"",SUMIF(E14:AM14,$AV$1,$E$8:$AM$8)) -> 0 | AT14: =IF($AR$1>=AU14,$AQ$1-1+AU14,"") | AU14: 6 | BJ14: 71DCDD23 | BK14: 71DD21-23
A15: =IF(B15=$AP$1,"",MAX($A$9:A14)+1) -> 7 | B15: =PROPER(TRIM(IF(C15="","!",INDEX(SV!$B$1:$B$20106,MATCH('Đăng kí'!C15,SV!$A$1:$A$20106,0))&" "&INDEX(SV!$C$1:$C$20106,MATCH('Đăng kí'!C15,SV!$A$1:$A$20106,0))))) -> Phạm Xuân Duy | C15: 74DCCK21029 | D15: =IF(OR(B15=$AP$1,ISERROR(VLOOKUP($AN15,$AW$9:$AW$19,1,0))=FALSE),"",SUMIF(E15:AM15,$AV$1,$E$8:$AM$8)) -> 0 | AT15: =IF($AR$1>=AU15,$AQ$1-1+AU15,"") | AU15: 7 | AZ15: =AZ10 -> 1139 | BA15: =IF(OR(INDEX(KH!BJ:BJ,AZ15)=$AZ$12,INDEX(KH!BJ:BJ,AZ15)=$AZ$12+1),AZ15,"") -> 1139 | BB15: =IF(ISERROR(BA15)=TRUE,"",BA15) -> 1139 | BC15: {=IFERROR(INDEX($BB$15:$BB$50,SMALL(IF($BB$15:$BB$50<>"",ROW(INDIRECT("1:"&ROWS($BB$15:$BB$50)))),ROW(INDIRECT("1:"&ROWS($BB$15:$BB$50))))),"")} -> 1139 | BJ15: 71DCDD31 | BK15: 71DD31
A16: =IF(B16=$AP$1,"",MAX($A$9:A15)+1) -> 8 | B16: =PROPER(TRIM(IF(C16="","!",INDEX(SV!$B$1:$B$20106,MATCH('Đăng kí'!C16,SV!$A$1:$A$20106,0))&" "&INDEX(SV!$C$1:$C$20106,MATCH('Đăng kí'!C16,SV!$A$1:$A$20106,0))))) -> Trần Quang Duy | C16: 74DCCK22059 | D16: =IF(OR(B16=$AP$1,ISERROR(VLOOKUP($AN16,$AW$9:$AW$19,1,0))=FALSE),"",SUMIF(E16:AM16,$AV$1,$E$8:$AM$8)) -> 0 | AT16: =IF($AR$1>=AU16,$AQ$1-1+AU16,"") | AU16: 8 | AZ16: =IF(AZ15+1<=$AZ$11,AZ15+1,"") -> 1140 | BA16: =IF(OR(INDEX(KH!BJ:BJ,AZ16)=$AZ$12,INDEX(KH!BJ:BJ,AZ16)=$AZ$12+1),AZ16,"") -> 1140 | BB16: =IF(ISERROR(BA16)=TRUE,"",BA16) -> 1140 | BC16: 1140 | BJ16: 71DCDT11 | BK16: 71DT11
A17: =IF(B17=$AP$1,"",MAX($A$9:A16)+1) -> 9 | B17: =PROPER(TRIM(IF(C17="","!",INDEX(SV!$B$1:$B$20106,MATCH('Đăng kí'!C17,SV!$A$1:$A$20106,0))&" "&INDEX(SV!$C$1:$C$20106,MATCH('Đăng kí'!C17,SV!$A$1:$A$20106,0))))) -> Vũ Hải Dương | C17: 74DCCK21220 | D17: =IF(OR(B17=$AP$1,ISERROR(VLOOKUP($AN17,$AW$9:$AW$19,1,0))=FALSE),"",SUMIF(E17:AM17,$AV$1,$E$8:$AM$8)) -> 0 | AT17: =IF($AR$1>=AU17,$AQ$1-1+AU17,"") | AU17: 9 | AZ17: =IF(AZ16+1<=$AZ$11,AZ16+1,"") -> 1141 | BA17: =IF(OR(INDEX(KH!BJ:BJ,AZ17)=$AZ$12,INDEX(KH!BJ:BJ,AZ17)=$AZ$12+1),AZ17,"") -> 1141 | BB17: =IF(ISERROR(BA17)=TRUE,"",BA17) -> 1141 | BC17: 1141 | BJ17: 71DCDT21 | BK17: 71DT21, 22
A18: =IF(B18=$AP$1,"",MAX($A$9:A17)+1) -> 10 | B18: =PROPER(TRIM(IF(C18="","!",INDEX(SV!$B$1:$B$20106,MATCH('Đăng kí'!C18,SV!$A$1:$A$20106,0))&" "&INDEX(SV!$C$1:$C$20106,MATCH('Đăng kí'!C18,SV!$A$1:$A$20106,0))))) -> Bùi Tiến Đạt | C18: 74DCCK21188 | D18: =IF(OR(B18=$AP$1,ISERROR(VLOOKUP($AN18,$AW$9:$AW$19,1,0))=FALSE),"",SUMIF(E18:AM18,$AV$1,$E$8:$AM$8)) -> 0 | AT18: =IF($AR$1>=AU18,$AQ$1-1+AU18,"") | AU18: 10 | AZ18: =IF(AZ17+1<=$AZ$11,AZ17+1,"") -> 1142 | BA18: =IF(OR(INDEX(KH!BJ:BJ,AZ18)=$AZ$12,INDEX(KH!BJ:BJ,AZ18)=$AZ$12+1),AZ18,"") -> 1142 | BB18: =IF(ISERROR(BA18)=TRUE,"",BA18) -> 1142 | BC18: 1142 | BJ18: 71DCDT22 | BK18: 71DT21, 22
A19: =IF(B19=$AP$1,"",MAX($A$9:A18)+1) -> 11 | B19: =PROPER(TRIM(IF(C19="","!",INDEX(SV!$B$1:$B$20106,MATCH('Đăng kí'!C19,SV!$A$1:$A$20106,0))&" "&INDEX(SV!$C$1:$C$20106,MATCH('Đăng kí'!C19,SV!$A$1:$A$20106,0))))) -> Nguyễn Quốc Đạt | C19: 74DCCK21051 | D19: =IF(OR(B19=$AP$1,ISERROR(VLOOKUP($AN19,$AW$9:$AW$19,1,0))=FALSE),"",SUMIF(E19:AM19,$AV$1,$E$8:$AM$8)) -> 0 | AT19: =IF($AR$1>=AU19,$AQ$1-1+AU19,"") | AU19: 11 | AZ19: =IF(AZ18+1<=$AZ$11,AZ18+1,"") -> 1143 | BA19: =IF(OR(INDEX(KH!BJ:BJ,AZ19)=$AZ$12,INDEX(KH!BJ:BJ,AZ19)=$AZ$12+1),AZ19,"") -> 1143 | BB19: =IF(ISERROR(BA19)=TRUE,"",BA19) -> 1143 | BC19: 1143 | BJ19: 71DCGT21 | BK19: 71GT21-23; CDP
A20: =IF(B20=$AP$1,"",MAX($A$9:A19)+1) -> 12 | B20: =PROPER(TRIM(IF(C20="","!",INDEX(SV!$B$1:$B$20106,MATCH('Đăng kí'!C20,SV!$A$1:$A$20106,0))&" "&INDEX(SV!$C$1:$C$20106,MATCH('Đăng kí'!C20,SV!$A$1:$A$20106,0))))) -> Trần Văn Đạt | C20: 74DCCK22314 | D20: =IF(OR(B20=$AP$1,ISERROR(VLOOKUP($AN20,$AW$9:$AW$19,1,0))=FALSE),"",SUMIF(E20:AM20,$AV$1,$E$8:$AM$8)) -> 0 | AT20: =IF($AR$1>=AU20,$AQ$1-1+AU20,"") | AU20: 12 | AZ20: =IF(AZ19+1<=$AZ$11,AZ19+1,"") -> 1144 | BA20: =IF(OR(INDEX(KH!BJ:BJ,AZ20)=$AZ$12,INDEX(KH!BJ:BJ,AZ20)=$AZ$12+1),AZ20,"") -> 1144 | BB20: =IF(ISERROR(BA20)=TRUE,"",BA20) -> 1144 | BC20: 1144 | BJ20: 71DCGT22 | BK20: 71GT21-23; CDP
A21: =IF(B21=$AP$1,"",MAX($A$9:A20)+1) -> 13 | B21: =PROPER(TRIM(IF(C21="","!",INDEX(SV!$B$1:$B$20106,MATCH('Đăng kí'!C21,SV!$A$1:$A$20106,0))&" "&INDEX(SV!$C$1:$C$20106,MATCH('Đăng kí'!C21,SV!$A$1:$A$20106,0))))) -> Nguyễn Văn Đôn | C21: 74DCCK21317 | D21: =IF(OR(B21=$AP$1,ISERROR(VLOOKUP($AN21,$AW$9:$AW$19,1,0))=FALSE),"",SUMIF(E21:AM21,$AV$1,$E$8:$AM$8)) -> 0 | AT21: =IF($AR$1>=AU21,$AQ$1-1+AU21,"") | AU21: 13 | AZ21: =IF(AZ20+1<=$AZ$11,AZ20+1,"") -> 1145 | BA21: =IF(OR(INDEX(KH!BJ:BJ,AZ21)=$AZ$12,INDEX(KH!BJ:BJ,AZ21)=$AZ$12+1),AZ21,"") -> 1145 | BB21: =IF(ISERROR(BA21)=TRUE,"",BA21) -> 1145 | BC21: 1145 | BJ21: 71DCGT23 | BK21: 71GT21-23; CDP
A22: =IF(B22=$AP$1,"",MAX($A$9:A21)+1) -> 14 | B22: =PROPER(TRIM(IF(C22="","!",INDEX(SV!$B$1:$B$20106,MATCH('Đăng kí'!C22,SV!$A$1:$A$20106,0))&" "&INDEX(SV!$C$1:$C$20106,MATCH('Đăng kí'!C22,SV!$A$1:$A$20106,0))))) -> Vũ Duy Đông | C22: 74DCCK22333 | D22: =IF(OR(B22=$AP$1,ISERROR(VLOOKUP($AN22,$AW$9:$AW$19,1,0))=FALSE),"",SUMIF(E22:AM22,$AV$1,$E$8:$AM$8)) -> 0 | AT22: =IF($AR$1>=AU22,$AQ$1-1+AU22,"") | AU22: 14 | AZ22: =IF(AZ21+1<=$AZ$11,AZ21+1,"") -> 1146 | BA22: =IF(OR(INDEX(KH!BJ:BJ,AZ22)=$AZ$12,INDEX(KH!BJ:BJ,AZ22)=$AZ$12+1),AZ22,"") -> 1146 | BB22: =IF(ISERROR(BA22)=TRUE,"",BA22) -> 1146 | BC22: 1146 | BJ22: 71DCCDP1 | BK22: 71GT21-23; CDP
A23: =IF(B23=$AP$1,"",MAX($A$9:A22)+1) -> 15 | B23: =PROPER(TRIM(IF(C23="","!",INDEX(SV!$B$1:$B$20106,MATCH('Đăng kí'!C23,SV!$A$1:$A$20106,0))&" "&INDEX(SV!$C$1:$C$20106,MATCH('Đăng kí'!C23,SV!$A$1:$A$20106,0))))) -> Lê Việt Hà | C23: 74DCCK21272 | D23: =IF(OR(B23=$AP$1,ISERROR(VLOOKUP($AN23,$AW$9:$AW$19,1,0))=FALSE),"",SUMIF(E23:AM23,$AV$1,$E$8:$AM$8)) -> 0 | AT23: =IF($AR$1>=AU23,$AQ$1-1+AU23,"") | AU23: 15 | AZ23: =IF(AZ22+1<=$AZ$11,AZ22+1,"") -> 1147 | BA23: =IF(OR(INDEX(KH!BJ:BJ,AZ23)=$AZ$12,INDEX(KH!BJ:BJ,AZ23)=$AZ$12+1),AZ23,"") -> 1147 | BB23: =IF(ISERROR(BA23)=TRUE,"",BA23) -> 1147 | BC23: 1147 | BJ23: 72DCDD11 | BK23: 72DD11
A24: =IF(B24=$AP$1,"",MAX($A$9:A23)+1) -> 16 | B24: =PROPER(TRIM(IF(C24="","!",INDEX(SV!$B$1:$B$20106,MATCH('Đăng kí'!C24,SV!$A$1:$A$20106,0))&" "&INDEX(SV!$C$1:$C$20106,MATCH('Đăng kí'!C24,SV!$A$1:$A$20106,0))))) -> Nguyễn Vũ Hà | C24: 74DCCK22239 | D24: =IF(OR(B24=$AP$1,ISERROR(VLOOKUP($AN24,$AW$9:$AW$19,1,0))=FALSE),"",SUMIF(E24:AM24,$AV$1,$E$8:$AM$8)) -> 0 | AT24: =IF($AR$1>=AU24,$AQ$1-1+AU24,"") | AU24: 16 | AZ24: =IF(AZ23+1<=$AZ$11,AZ23+1,"") -> 1148 | BA24: =IF(OR(INDEX(KH!BJ:BJ,AZ24)=$AZ$12,INDEX(KH!BJ:BJ,AZ24)=$AZ$12+1),AZ24,"") | BB24: =IF(ISERROR(BA24)=TRUE,"",BA24) | BJ24: 72DCDD21 | BK24: 72DD21-23
A25: =IF(B25=$AP$1,"",MAX($A$9:A24)+1) -> 17 | B25: =PROPER(TRIM(IF(C25="","!",INDEX(SV!$B$1:$B$20106,MATCH('Đăng kí'!C25,SV!$A$1:$A$20106,0))&" "&INDEX(SV!$C$1:$C$20106,MATCH('Đăng kí'!C25,SV!$A$1:$A$20106,0))))) -> Trần Đức Hà | C25: 74DCCK21245 | D25: =IF(OR(B25=$AP$1,ISERROR(VLOOKUP($AN25,$AW$9:$AW$19,1,0))=FALSE),"",SUMIF(E25:AM25,$AV$1,$E$8:$AM$8)) -> 0 | AT25: =IF($AR$1>=AU25,$AQ$1-1+AU25,"") | AU25: 17 | AZ25: =IF(AZ24+1<=$AZ$11,AZ24+1,"") -> 1149 | BA25: =IF(OR(INDEX(KH!BJ:BJ,AZ25)=$AZ$12,INDEX(KH!BJ:BJ,AZ25)=$AZ$12+1),AZ25,"") | BB25: =IF(ISERROR(BA25)=TRUE,"",BA25) | BJ25: 72DCDD22 | BK25: 72DD21-23
A26: =IF(B26=$AP$1,"",MAX($A$9:A25)+1) -> 18 | B26: =PROPER(TRIM(IF(C26="","!",INDEX(SV!$B$1:$B$20106,MATCH('Đăng kí'!C26,SV!$A$1:$A$20106,0))&" "&INDEX(SV!$C$1:$C$20106,MATCH('Đăng kí'!C26,SV!$A$1:$A$20106,0))))) -> Nguyễn Hoàng Hải | C26: 74DCCK22036 | D26: =IF(OR(B26=$AP$1,ISERROR(VLOOKUP($AN26,$AW$9:$AW$19,1,0))=FALSE),"",SUMIF(E26:AM26,$AV$1,$E$8:$AM$8)) -> 0 | AT26: =IF($AR$1>=AU26,$AQ$1-1+AU26,"") | AU26: 18 | AZ26: =IF(AZ25+1<=$AZ$11,AZ25+1,"") -> 1150 | BA26: =IF(OR(INDEX(KH!BJ:BJ,AZ26)=$AZ$12,INDEX(KH!BJ:BJ,AZ26)=$AZ$12+1),AZ26,"") | BB26: =IF(ISERROR(BA26)=TRUE,"",BA26) | BJ26: 72DCDD23 | BK26: 72DD21-23
A27: =IF(B27=$AP$1,"",MAX($A$9:A26)+1) -> 19 | B27: =PROPER(TRIM(IF(C27="","!",INDEX(SV!$B$1:$B$20106,MATCH('Đăng kí'!C27,SV!$A$1:$A$20106,0))&" "&INDEX(SV!$C$1:$C$20106,MATCH('Đăng kí'!C27,SV!$A$1:$A$20106,0))))) -> Trịnh Ngọc Hiểu | C27: 74DCCK22225 | D27: =IF(OR(B27=$AP$1,ISERROR(VLOOKUP($AN27,$AW$9:$AW$19,1,0))=FALSE),"",SUMIF(E27:AM27,$AV$1,$E$8:$AM$8)) -> 0 | AT27: =IF($AR$1>=AU27,$AQ$1-1+AU27,"") | AU27: 19 | AZ27: =IF(AZ26+1<=$AZ$11,AZ26+1,"") -> 1151 | BA27: =IF(OR(INDEX(KH!BJ:BJ,AZ27)=$AZ$12,INDEX(KH!BJ:BJ,AZ27)=$AZ$12+1),AZ27,"") | BB27: =IF(ISERROR(BA27)=TRUE,"",BA27) | BJ27: 72DCDT11 | BK27: 72DT11
A28: =IF(B28=$AP$1,"",MAX($A$9:A27)+1) -> 20 | B28: =PROPER(TRIM(IF(C28="","!",INDEX(SV!$B$1:$B$20106,MATCH('Đăng kí'!C28,SV!$A$1:$A$20106,0))&" "&INDEX(SV!$C$1:$C$20106,MATCH('Đăng kí'!C28,SV!$A$1:$A$20106,0))))) -> Lê Huy Hiếu | C28: 74DCCK21175 | D28: =IF(OR(B28=$AP$1,ISERROR(VLOOKUP($AN28,$AW$9:$AW$19,1,0))=FALSE),"",SUMIF(E28:AM28,$AV$1,$E$8:$AM$8)) -> 0 | AT28: =IF($AR$1>=AU28,$AQ$1-1+AU28,"") | AU28: 20 | AZ28: =IF(AZ27+1<=$AZ$11,AZ27+1,"") -> 1152 | BA28: =IF(OR(INDEX(KH!BJ:BJ,AZ28)=$AZ$12,INDEX(KH!BJ:BJ,AZ28)=$AZ$12+1),AZ28,"") | BB28: =IF(ISERROR(BA28)=TRUE,"",BA28) | BJ28: 72DCDT21 | BK28: 72DT21, 22
A29: =IF(B29=$AP$1,"",MAX($A$9:A28)+1) -> 21 | B29: =PROPER(TRIM(IF(C29="","!",INDEX(SV!$B$1:$B$20106,MATCH('Đăng kí'!C29,SV!$A$1:$A$20106,0))&" "&INDEX(SV!$C$1:$C$20106,MATCH('Đăng kí'!C29,SV!$A$1:$A$20106,0))))) -> Nguyễn Huy Hiệu | C29: 74DCCK21083 | D29: =IF(OR(B29=$AP$1,ISERROR(VLOOKUP($AN29,$AW$9:$AW$19,1,0))=FALSE),"",SUMIF(E29:AM29,$AV$1,$E$8:$AM$8)) -> 0 | AT29: =IF($AR$1>=AU29,$AQ$1-1+AU29,"") | AU29: 21 | AZ29: =IF(AZ28+1<=$AZ$11,AZ28+1,"") -> 1153 | BA29: =IF(OR(INDEX(KH!BJ:BJ,AZ29)=$AZ$12,INDEX(KH!BJ:BJ,AZ29)=$AZ$12+1),AZ29,"") | BB29: =IF(ISERROR(BA29)=TRUE,"",BA29) | BJ29: 72DCDT22 | BK29: 72DT21, 22
A30: =IF(B30=$AP$1,"",MAX($A$9:A29)+1) -> 22 | B30: =PROPER(TRIM(IF(C30="","!",INDEX(SV!$B$1:$B$20106,MATCH('Đăng kí'!C30,SV!$A$1:$A$20106,0))&" "&INDEX(SV!$C$1:$C$20106,MATCH('Đăng kí'!C30,SV!$A$1:$A$20106,0))))) -> Đỗ Xuân Hòa | C30: 74DCCK22179 | D30: =IF(OR(B30=$AP$1,ISERROR(VLOOKUP($AN30,$AW$9:$AW$19,1,0))=FALSE),"",SUMIF(E30:AM30,$AV$1,$E$8:$AM$8)) -> 0 | AT30: =IF($AR$1>=AU30,$AQ$1-1+AU30,"") | AU30: 22 | AZ30: =IF(AZ29+1<=$AZ$11,AZ29+1,"") -> 1154 | BA30: =IF(OR(INDEX(KH!BJ:BJ,AZ30)=$AZ$12,INDEX(KH!BJ:BJ,AZ30)=$AZ$12+1),AZ30,"") | BB30: =IF(ISERROR(BA30)=TRUE,"",BA30) | BJ30: 72DCGT11 | BK30: 72GT11
A31: =IF(B31=$AP$1,"",MAX($A$9:A30)+1) -> 23 | B31: =PROPER(TRIM(IF(C31="","!",INDEX(SV!$B$1:$B$20106,MATCH('Đăng kí'!C31,SV!$A$1:$A$20106,0))&" "&INDEX(SV!$C$1:$C$20106,MATCH('Đăng kí'!C31,SV!$A$1:$A$20106,0))))) -> Nguyễn Thái Hòa | C31: 74DCCK22028 | D31: =IF(OR(B31=$AP$1,ISERROR(VLOOKUP($AN31,$AW$9:$AW$19,1,0))=FALSE),"",SUMIF(E31:AM31,$AV$1,$E$8:$AM$8)) -> 0 | AT31: =IF($AR$1>=AU31,$AQ$1-1+AU31,"") | AU31: 23 | AZ31: =IF(AZ30+1<=$AZ$11,AZ30+1,"") -> 1155 | BA31: =IF(OR(INDEX(KH!BJ:BJ,AZ31)=$AZ$12,INDEX(KH!BJ:BJ,AZ31)=$AZ$12+1),AZ31,"") | BB31: =IF(ISERROR(BA31)=TRUE,"",BA31) | BJ31: 72DCGT21 | BK31: 72GT21-23
A32: =IF(B32=$AP$1,"",MAX($A$9:A31)+1) -> 24 | B32: =PROPER(TRIM(IF(C32="","!",INDEX(SV!$B$1:$B$20106,MATCH('Đăng kí'!C32,SV!$A$1:$A$20106,0))&" "&INDEX(SV!$C$1:$C$20106,MATCH('Đăng kí'!C32,SV!$A$1:$A$20106,0))))) -> Nguyễn Duy Hoàn | C32: 74DCCK21154 | D32: =IF(OR(B32=$AP$1,ISERROR(VLOOKUP($AN32,$AW$9:$AW$19,1,0))=FALSE),"",SUMIF(E32:AM32,$AV$1,$E$8:$AM$8)) -> 0 | AT32: =IF($AR$1>=AU32,$AQ$1-1+AU32,"") | AU32: 24 | AZ32: =IF(AZ31+1<=$AZ$11,AZ31+1,"") -> 1156 | BA32: =IF(OR(INDEX(KH!BJ:BJ,AZ32)=$AZ$12,INDEX(KH!BJ:BJ,AZ32)=$AZ$12+1),AZ32,"") | BB32: =IF(ISERROR(BA32)=TRUE,"",BA32) | BJ32: 72DCGT22 | BK32: 72GT21-23
A33: =IF(B33=$AP$1,"",MAX($A$9:A32)+1) -> 25 | B33: =PROPER(TRIM(IF(C33="","!",INDEX(SV!$B$1:$B$20106,MATCH('Đăng kí'!C33,SV!$A$1:$A$20106,0))&" "&INDEX(SV!$C$1:$C$20106,MATCH('Đăng kí'!C33,SV!$A$1:$A$20106,0))))) -> Nguyễn Việt Hoàng | C33: 74DCCK22078 | D33: =IF(OR(B33=$AP$1,ISERROR(VLOOKUP($AN33,$AW$9:$AW$19,1,0))=FALSE),"",SUMIF(E33:AM33,$AV$1,$E$8:$AM$8)) -> 0 | AT33: =IF($AR$1>=AU33,$AQ$1-1+AU33,"") | AU33: 25 | AZ33: =IF(AZ32+1<=$AZ$11,AZ32+1,"") -> 1157 | BA33: =IF(OR(INDEX(KH!BJ:BJ,AZ33)=$AZ$12,INDEX(KH!BJ:BJ,AZ33)=$AZ$12+1),AZ33,"") | BB33: =IF(ISERROR(BA33)=TRUE,"",BA33) | BJ33: 72DCGT23 | BK33: 72GT21-23
A34: =IF(B34=$AP$1,"",MAX($A$9:A33)+1) -> 26 | B34: =PROPER(TRIM(IF(C34="","!",INDEX(SV!$B$1:$B$20106,MATCH('Đăng kí'!C34,SV!$A$1:$A$20106,0))&" "&INDEX(SV!$C$1:$C$20106,MATCH('Đăng kí'!C34,SV!$A$1:$A$20106,0))))) -> Lê Đình Huân | C34: 74DCCK21137 | D34: =IF(OR(B34=$AP$1,ISERROR(VLOOKUP($AN34,$AW$9:$AW$19,1,0))=FALSE),"",SUMIF(E34:AM34,$AV$1,$E$8:$AM$8)) -> 0 | AT34: =IF($AR$1>=AU34,$AQ$1-1+AU34,"") | AU34: 26 | AZ34: =IF(AZ33+1<=$AZ$11,AZ33+1,"") -> 1158 | BA34: =IF(OR(INDEX(KH!BJ:BJ,AZ34)=$AZ$12,INDEX(KH!BJ:BJ,AZ34)=$AZ$12+1),AZ34,"") | BB34: =IF(ISERROR(BA34)=TRUE,"",BA34) | BJ34: 72DCGT31 | BK34: 72GT31
A35: =IF(B35=$AP$1,"",MAX($A$9:A34)+1) -> 27 | B35: =PROPER(TRIM(IF(C35="","!",INDEX(SV!$B$1:$B$20106,MATCH('Đăng kí'!C35,SV!$A$1:$A$20106,0))&" "&INDEX(SV!$C$1:$C$20106,MATCH('Đăng kí'!C35,SV!$A$1:$A$20106,0))))) -> Nguyễn Tuấn Hùng | C35: 74DCCK21133 | D35: =IF(OR(B35=$AP$1,ISERROR(VLOOKUP($AN35,$AW$9:$AW$19,1,0))=FALSE),"",SUMIF(E35:AM35,$AV$1,$E$8:$AM$8)) -> 0 | AT35: =IF($AR$1>=AU35,$AQ$1-1+AU35,"") | AU35: 27 | AZ35: =IF(AZ34+1<=$AZ$11,AZ34+1,"") -> 1159 | BA35: =IF(OR(INDEX(KH!BJ:BJ,AZ35)=$AZ$12,INDEX(KH!BJ:BJ,AZ35)=$AZ$12+1),AZ35,"") | BB35: =IF(ISERROR(BA35)=TRUE,"",BA35) | BJ35: 72DCKT11 | BK35: 72KT11, 12
... A50: =IF(B50=$AP$1,"",MAX($A$9:A49)+1) -> 42 | B50: =PROPER(TRIM(IF(C50="","!",INDEX(SV!$B$1:$B$20106,MATCH('Đăng kí'!C50,SV!$A$1:$A$20106,0))&" "&INDEX(SV!$C$1:$C$20106,MATCH('Đăng kí'!C50,SV!$A$1:$A$20106,0))))) -> Nguyễn Văn Tâm | C50: 74DCCK21193 | D50: =IF(OR(B50=$AP$1,ISERROR(VLOOKUP($AN50,$AW$9:$AW$19,1,0))=FALSE),"",SUMIF(E50:AM50,$AV$1,$E$8:$AM$8)) -> 0 | AT50: =IF($AR$1>=AU50,$AQ$1-1+AU50,"") | AU50: 42 | AZ50: =IF(AZ49+1<=$AZ$11,AZ49+1,"") -> #VALUE! | BA50: =IF(OR(INDEX(KH!BJ:BJ,AZ50)=$AZ$12,INDEX(KH!BJ:BJ,AZ50)=$AZ$12+1),AZ50,"") -> #VALUE! | BB50: =IF(ISERROR(BA50)=TRUE,"",BA50) | BJ50: 72DCLG21 | BK50: 72LG21-23
A51: =IF(B51=$AP$1,"",MAX($A$9:A50)+1) -> 43 | B51: =PROPER(TRIM(IF(C51="","!",INDEX(SV!$B$1:$B$20106,MATCH('Đăng kí'!C51,SV!$A$1:$A$20106,0))&" "&INDEX(SV!$C$1:$C$20106,MATCH('Đăng kí'!C51,SV!$A$1:$A$20106,0))))) -> Lê Văn Thái | C51: 74DCCK21254 | D51: =IF(OR(B51=$AP$1,ISERROR(VLOOKUP($AN51,$AW$9:$AW$19,1,0))=FALSE),"",SUMIF(E51:AM51,$AV$1,$E$8:$AM$8)) -> 0 | AT51: =IF($AR$1>=AU51,$AQ$1-1+AU51,"") | AU51: 43 | BJ51: 72DCLG22 | BK51: 72LG21-23
A52: =IF(B52=$AP$1,"",MAX($A$9:A51)+1) -> 44 | B52: =PROPER(TRIM(IF(C52="","!",INDEX(SV!$B$1:$B$20106,MATCH('Đăng kí'!C52,SV!$A$1:$A$20106,0))&" "&INDEX(SV!$C$1:$C$20106,MATCH('Đăng kí'!C52,SV!$A$1:$A$20106,0))))) -> Phan Văn Thành | C52: 74DCCK21176 | D52: =IF(OR(B52=$AP$1,ISERROR(VLOOKUP($AN52,$AW$9:$AW$19,1,0))=FALSE),"",SUMIF(E52:AM52,$AV$1,$E$8:$AM$8)) -> 0 | AT52: =IF($AR$1>=AU52,$AQ$1-1+AU52,"") | AU52: 44 | BJ52: 72DCLG23 | BK52: 72LG21-23
A53: =IF(B53=$AP$1,"",MAX($A$9:A52)+1) -> 45 | B53: =PROPER(TRIM(IF(C53="","!",INDEX(SV!$B$1:$B$20106,MATCH('Đăng kí'!C53,SV!$A$1:$A$20106,0))&" "&INDEX(SV!$C$1:$C$20106,MATCH('Đăng kí'!C53,SV!$A$1:$A$20106,0))))) -> Đặng Vũ Thắng | C53: 74DCCK21182 | D53: =IF(OR(B53=$AP$1,ISERROR(VLOOKUP($AN53,$AW$9:$AW$19,1,0))=FALSE),"",SUMIF(E53:AM53,$AV$1,$E$8:$AM$8)) -> 0 | AT53: =IF($AR$1>=AU53,$AQ$1-1+AU53,"") | AU53: 45 | BJ53: 72DCOT11 | BK53: 72OT11, 12
A54: =IF(B54=$AP$1,"",MAX($A$9:A53)+1) -> 46 | B54: =PROPER(TRIM(IF(C54="","!",INDEX(SV!$B$1:$B$20106,MATCH('Đăng kí'!C54,SV!$A$1:$A$20106,0))&" "&INDEX(SV!$C$1:$C$20106,MATCH('Đăng kí'!C54,SV!$A$1:$A$20106,0))))) -> Đinh Quang Thịnh | C54: 74DCCK21002 | D54: =IF(OR(B54=$AP$1,ISERROR(VLOOKUP($AN54,$AW$9:$AW$19,1,0))=FALSE),"",SUMIF(E54:AM54,$AV$1,$E$8:$AM$8)) -> 0 | AT54: =IF($AR$1>=AU54,$AQ$1-1+AU54,"") | AU54: 46 | BJ54: 72DCOT12 | BK54: 72OT11, 12
A55: =IF(B55=$AP$1,"",MAX($A$9:A54)+1) -> 47 | B55: =PROPER(TRIM(IF(C55="","!",INDEX(SV!$B$1:$B$20106,MATCH('Đăng kí'!C55,SV!$A$1:$A$20106,0))&" "&INDEX(SV!$C$1:$C$20106,MATCH('Đăng kí'!C55,SV!$A$1:$A$20106,0))))) -> Nguyễn Công Toàn | C55: 74DCCK22215 | D55: =IF(OR(B55=$AP$1,ISERROR(VLOOKUP($AN55,$AW$9:$AW$19,1,0))=FALSE),"",SUMIF(E55:AM55,$AV$1,$E$8:$AM$8)) -> 0 | AT55: =IF($AR$1>=AU55,$AQ$1-1+AU55,"") | AU55: 47 | BJ55: 72DCOT21 | BK55: 72OT21-24
A56: =IF(B56=$AP$1,"",MAX($A$9:A55)+1) -> 48 | B56: =PROPER(TRIM(IF(C56="","!",INDEX(SV!$B$1:$B$20106,MATCH('Đăng kí'!C56,SV!$A$1:$A$20106,0))&" "&INDEX(SV!$C$1:$C$20106,MATCH('Đăng kí'!C56,SV!$A$1:$A$20106,0))))) -> Phạm Quốc Trung | C56: 74DCCK22082 | D56: =IF(OR(B56=$AP$1,ISERROR(VLOOKUP($AN56,$AW$9:$AW$19,1,0))=FALSE),"",SUMIF(E56:AM56,$AV$1,$E$8:$AM$8)) -> 0 | AT56: =IF($AR$1>=AU56,$AQ$1-1+AU56,"") | AU56: 48 | BJ56: 72DCOT22 | BK56: 72OT21-24
A57: =IF(B57=$AP$1,"",MAX($A$9:A56)+1) -> 49 | B57: =PROPER(TRIM(IF(C57="","!",INDEX(SV!$B$1:$B$20106,MATCH('Đăng kí'!C57,SV!$A$1:$A$20106,0))&" "&INDEX(SV!$C$1:$C$20106,MATCH('Đăng kí'!C57,SV!$A$1:$A$20106,0))))) -> Nguyễn Đình Trường | C57: 74DCCK22172 | D57: =IF(OR(B57=$AP$1,ISERROR(VLOOKUP($AN57,$AW$9:$AW$19,1,0))=FALSE),"",SUMIF(E57:AM57,$AV$1,$E$8:$AM$8)) -> 0 | AT57: =IF($AR$1>=AU57,$AQ$1-1+AU57,"") | AU57: 49 | BJ57: 72DCOT23 | BK57: 72OT21-24
A58: =IF(B58=$AP$1,"",MAX($A$9:A57)+1) -> 50 | B58: =PROPER(TRIM(IF(C58="","!",INDEX(SV!$B$1:$B$20106,MATCH('Đăng kí'!C58,SV!$A$1:$A$20106,0))&" "&INDEX(SV!$C$1:$C$20106,MATCH('Đăng kí'!C58,SV!$A$1:$A$20106,0))))) -> Vũ Xuân Trường | C58: 74DCCK22104 | D58: =IF(OR(B58=$AP$1,ISERROR(VLOOKUP($AN58,$AW$9:$AW$19,1,0))=FALSE),"",SUMIF(E58:AM58,$AV$1,$E$8:$AM$8)) -> 0 | AT58: =IF($AR$1>=AU58,$AQ$1-1+AU58,"") | AU58: 50 | BJ58: 72DCOT24 | BK58: 72OT21-24
A59: =IF(B59=$AP$1,"",MAX($A$9:A58)+1) -> 51 | B59: =PROPER(TRIM(IF(C59="","!",INDEX(SV!$B$1:$B$20106,MATCH('Đăng kí'!C59,SV!$A$1:$A$20106,0))&" "&INDEX(SV!$C$1:$C$20106,MATCH('Đăng kí'!C59,SV!$A$1:$A$20106,0))))) -> Đoàn Văn Tuấn | C59: 74DCCK21024 | D59: =IF(OR(B59=$AP$1,ISERROR(VLOOKUP($AN59,$AW$9:$AW$19,1,0))=FALSE),"",SUMIF(E59:AM59,$AV$1,$E$8:$AM$8)) -> 0 | AT59: =IF($AR$1>=AU59,$AQ$1-1+AU59,"") | AU59: 51 | BJ59: 72DCOT25 | BK59: 72OT25, 26
A60: =IF(B60=$AP$1,"",MAX($A$9:A59)+1) -> 52 | B60: =PROPER(TRIM(IF(C60="","!",INDEX(SV!$B$1:$B$20106,MATCH('Đăng kí'!C60,SV!$A$1:$A$20106,0))&" "&INDEX(SV!$C$1:$C$20106,MATCH('Đăng kí'!C60,SV!$A$1:$A$20106,0))))) -> Nghiêm Mạnh Tuấn | C60: 74DCCK21255 | D60: =IF(OR(B60=$AP$1,ISERROR(VLOOKUP($AN60,$AW$9:$AW$19,1,0))=FALSE),"",SUMIF(E60:AM60,$AV$1,$E$8:$AM$8)) -> 0 | AT60: =IF($AR$1>=AU60,$AQ$1-1+AU60,"") | AU60: 52 | BJ60: 72DCOT26 | BK60: 72OT25, 26
A61: =IF(B61=$AP$1,"",MAX($A$9:A60)+1) -> 53 | B61: =PROPER(TRIM(IF(C61="","!",INDEX(SV!$B$1:$B$20106,MATCH('Đăng kí'!C61,SV!$A$1:$A$20106,0))&" "&INDEX(SV!$C$1:$C$20106,MATCH('Đăng kí'!C61,SV!$A$1:$A$20106,0))))) -> Ngô Văn Tuấn | C61: 74DCCK21038 | D61: =IF(OR(B61=$AP$1,ISERROR(VLOOKUP($AN61,$AW$9:$AW$19,1,0))=FALSE),"",SUMIF(E61:AM61,$AV$1,$E$8:$AM$8)) -> 0 | AT61: =IF($AR$1>=AU61,$AQ$1-1+AU61,"") | AU61: 53 | BJ61: 72DCOT31 | BK61: 72OT31
A62: =IF(B62=$AP$1,"",MAX($A$9:A61)+1) -> 54 | B62: =PROPER(TRIM(IF(C62="","!",INDEX(SV!$B$1:$B$20106,MATCH('Đăng kí'!C62,SV!$A$1:$A$20106,0))&" "&INDEX(SV!$C$1:$C$20106,MATCH('Đăng kí'!C62,SV!$A$1:$A$20106,0))))) -> Hoàng Tuấn Vinh | C62: 74DCCK21211 | D62: =IF(OR(B62=$AP$1,ISERROR(VLOOKUP($AN62,$AW$9:$AW$19,1,0))=FALSE),"",SUMIF(E62:AM62,$AV$1,$E$8:$AM$8)) -> 0 | AT62: =IF($AR$1>=AU62,$AQ$1-1+AU62,"") | AU62: 54 | BJ62: 72DCTT11 | BK62: 72TT11, 12
A63: =IF(B63=$AP$1,"",MAX($A$9:A62)+1) -> 55 | B63: =PROPER(TRIM(IF(C63="","!",INDEX(SV!$B$1:$B$20106,MATCH('Đăng kí'!C63,SV!$A$1:$A$20106,0))&" "&INDEX(SV!$C$1:$C$20106,MATCH('Đăng kí'!C63,SV!$A$1:$A$20106,0))))) -> Hoàng Vũ | C63: 74DCCK21062 | D63: =IF(OR(B63=$AP$1,ISERROR(VLOOKUP($AN63,$AW$9:$AW$19,1,0))=FALSE),"",SUMIF(E63:AM63,$AV$1,$E$8:$AM$8)) -> 0 | AT63: =IF($AR$1>=AU63,$AQ$1-1+AU63,"") | AU63: 55 | BJ63: 72DCTT21 | BK63: 72TT21-24
A64: =IF(B64=$AP$1,"",MAX($A$9:A63)+1) | B64: =PROPER(TRIM(IF(C64="","!",INDEX(SV!$B$1:$B$20106,MATCH('Đăng kí'!C64,SV!$A$1:$A$20106,0))&" "&INDEX(SV!$C$1:$C$20106,MATCH('Đăng kí'!C64,SV!$A$1:$A$20106,0))))) -> ! | D64: =IF(OR(B64=$AP$1,ISERROR(VLOOKUP($AN64,$AW$9:$AW$19,1,0))=FALSE),"",SUMIF(E64:AM64,$AV$1,$E$8:$AM$8)) | AT64: =IF($AR$1>=AU64,$AQ$1-1+AU64,"") | AU64: 56 | BJ64: 72DCTT22 | BK64: 72TT21-24
A65: =IF(B65=$AP$1,"",MAX($A$9:A64)+1) | B65: =PROPER(TRIM(IF(C65="","!",INDEX(SV!$B$1:$B$20106,MATCH('Đăng kí'!C65,SV!$A$1:$A$20106,0))&" "&INDEX(SV!$C$1:$C$20106,MATCH('Đăng kí'!C65,SV!$A$1:$A$20106,0))))) -> ! | D65: =IF(OR(B65=$AP$1,ISERROR(VLOOKUP($AN65,$AW$9:$AW$19,1,0))=FALSE),"",SUMIF(E65:AM65,$AV$1,$E$8:$AM$8)) | AT65: =IF($AR$1>=AU65,$AQ$1-1+AU65,"") | AU65: 57 | BJ65: 72DCTT23 | BK65: 72TT21-24
A66: =IF(B66=$AP$1,"",MAX($A$9:A65)+1) | B66: =PROPER(TRIM(IF(C66="","!",INDEX(SV!$B$1:$B$20106,MATCH('Đăng kí'!C66,SV!$A$1:$A$20106,0))&" "&INDEX(SV!$C$1:$C$20106,MATCH('Đăng kí'!C66,SV!$A$1:$A$20106,0))))) -> ! | D66: =IF(OR(B66=$AP$1,ISERROR(VLOOKUP($AN66,$AW$9:$AW$19,1,0))=FALSE),"",SUMIF(E66:AM66,$AV$1,$E$8:$AM$8)) | AT66: =IF($AR$1>=AU66,$AQ$1-1+AU66,"") | AU66: 58 | BJ66: 72DCTT24 | BK66: 72TT21-24
A67: =IF(B67=$AP$1,"",MAX($A$9:A66)+1) | B67: =PROPER(TRIM(IF(C67="","!",INDEX(SV!$B$1:$B$20106,MATCH('Đăng kí'!C67,SV!$A$1:$A$20106,0))&" "&INDEX(SV!$C$1:$C$20106,MATCH('Đăng kí'!C67,SV!$A$1:$A$20106,0))))) -> ! | D67: =IF(OR(B67=$AP$1,ISERROR(VLOOKUP($AN67,$AW$9:$AW$19,1,0))=FALSE),"",SUMIF(E67:AM67,$AV$1,$E$8:$AM$8)) | AT67: =IF($AR$1>=AU67,$AQ$1-1+AU67,"") | AU67: 59 | BJ67: 73DCCN21 | BK67: 73CN21
A68: =IF(B68=$AP$1,"",MAX($A$9:A67)+1) | B68: =PROPER(TRIM(IF(C68="","!",INDEX(SV!$B$1:$B$20106,MATCH('Đăng kí'!C68,SV!$A$1:$A$20106,0))&" "&INDEX(SV!$C$1:$C$20106,MATCH('Đăng kí'!C68,SV!$A$1:$A$20106,0))))) -> ! | D68: =IF(OR(B68=$AP$1,ISERROR(VLOOKUP($AN68,$AW$9:$AW$19,1,0))=FALSE),"",SUMIF(E68:AM68,$AV$1,$E$8:$AM$8)) | AT68: =IF($AR$1>=AU68,$AQ$1-1+AU68,"") | AU68: 60 | BJ68: 73DCCN22 | BK68: 73CN22
A69: =IF(B69=$AP$1,"",MAX($A$9:A68)+1) | B69: =PROPER(TRIM(IF(C69="","!",INDEX(SV!$B$1:$B$20106,MATCH('Đăng kí'!C69,SV!$A$1:$A$20106,0))&" "&INDEX(SV!$C$1:$C$20106,MATCH('Đăng kí'!C69,SV!$A$1:$A$20106,0))))) -> ! | D69: =IF(OR(B69=$AP$1,ISERROR(VLOOKUP($AN69,$AW$9:$AW$19,1,0))=FALSE),"",SUMIF(E69:AM69,$AV$1,$E$8:$AM$8)) | AT69: =IF($AR$1>=AU69,$AQ$1-1+AU69,"") | AU69: 61 | BJ69: 73DCCN23 | BK69: 73CN23
A70: =IF(B70=$AP$1,"",MAX($A$9:A69)+1) | B70: =PROPER(TRIM(IF(C70="","!",INDEX(SV!$B$1:$B$20106,MATCH('Đăng kí'!C70,SV!$A$1:$A$20106,0))&" "&INDEX(SV!$C$1:$C$20106,MATCH('Đăng kí'!C70,SV!$A$1:$A$20106,0))))) -> ! | D70: =IF(OR(B70=$AP$1,ISERROR(VLOOKUP($AN70,$AW$9:$AW$19,1,0))=FALSE),"",SUMIF(E70:AM70,$AV$1,$E$8:$AM$8)) | AT70: =IF($AR$1>=AU70,$AQ$1-1+AU70,"") | AU70: 62 | BJ70: 73DCCO21 | BK70: 73CO21
A71: =IF(B71=$AP$1,"",MAX($A$9:A70)+1) | B71: =PROPER(TRIM(IF(C71="","!",INDEX(SV!$B$1:$B$20106,MATCH('Đăng kí'!C71,SV!$A$1:$A$20106,0))&" "&INDEX(SV!$C$1:$C$20106,MATCH('Đăng kí'!C71,SV!$A$1:$A$20106,0))))) -> ! | D71: =IF(OR(B71=$AP$1,ISERROR(VLOOKUP($AN71,$AW$9:$AW$19,1,0))=FALSE),"",SUMIF(E71:AM71,$AV$1,$E$8:$AM$8)) | AT71: =IF($AR$1>=AU71,$AQ$1-1+AU71,"") | AU71: 63 | BJ71: 73DCCO22 | BK71: 73CO22
A72: =IF(B72=$AP$1,"",MAX($A$9:A71)+1) | B72: =PROPER(TRIM(IF(C72="","!",INDEX(SV!$B$1:$B$20106,MATCH('Đăng kí'!C72,SV!$A$1:$A$20106,0))&" "&INDEX(SV!$C$1:$C$20106,MATCH('Đăng kí'!C72,SV!$A$1:$A$20106,0))))) -> ! | D72: =IF(OR(B72=$AP$1,ISERROR(VLOOKUP($AN72,$AW$9:$AW$19,1,0))=FALSE),"",SUMIF(E72:AM72,$AV$1,$E$8:$AM$8)) | AT72: =IF($AR$1>=AU72,$AQ$1-1+AU72,"") | AU72: 64 | BJ72: 73DCKT11 | BK72: 73KT11
A73: =IF(B73=$AP$1,"",MAX($A$9:A72)+1) | B73: =PROPER(TRIM(IF(C73="","!",INDEX(SV!$B$1:$B$20106,MATCH('Đăng kí'!C73,SV!$A$1:$A$20106,0))&" "&INDEX(SV!$C$1:$C$20106,MATCH('Đăng kí'!C73,SV!$A$1:$A$20106,0))))) -> ! | D73: =IF(OR(B73=$AP$1,ISERROR(VLOOKUP($AN73,$AW$9:$AW$19,1,0))=FALSE),"",SUMIF(E73:AM73,$AV$1,$E$8:$AM$8)) | AT73: =IF($AR$1>=AU73,$AQ$1-1+AU73,"") | AU73: 65 | BJ73: 73DCKT21 | BK73: 73KT21-27
A74: =IF(B74=$AP$1,"",MAX($A$9:A73)+1) | B74: =PROPER(TRIM(IF(C74="","!",INDEX(SV!$B$1:$B$20106,MATCH('Đăng kí'!C74,SV!$A$1:$A$20106,0))&" "&INDEX(SV!$C$1:$C$20106,MATCH('Đăng kí'!C74,SV!$A$1:$A$20106,0))))) -> ! | D74: =IF(OR(B74=$AP$1,ISERROR(VLOOKUP($AN74,$AW$9:$AW$19,1,0))=FALSE),"",SUMIF(E74:AM74,$AV$1,$E$8:$AM$8)) | AT74: =IF($AR$1>=AU74,$AQ$1-1+AU74,"") | AU74: 66 | BJ74: 73DCKT22 | BK74: 73KT21-27
A75: =IF(B75=$AP$1,"",MAX($A$9:A74)+1) | B75: =PROPER(TRIM(IF(C75="","!",INDEX(SV!$B$1:$B$20106,MATCH('Đăng kí'!C75,SV!$A$1:$A$20106,0))&" "&INDEX(SV!$C$1:$C$20106,MATCH('Đăng kí'!C75,SV!$A$1:$A$20106,0))))) -> ! | D75: =IF(OR(B75=$AP$1,ISERROR(VLOOKUP($AN75,$AW$9:$AW$19,1,0))=FALSE),"",SUMIF(E75:AM75,$AV$1,$E$8:$AM$8)) | AT75: =IF($AR$1>=AU75,$AQ$1-1+AU75,"") | AU75: 67 | BJ75: 73DCKT23 | BK75: 73KT21-27
... A108: =IF(B108=$AP$1,"",MAX($A$9:A107)+1) | B108: =PROPER(TRIM(IF(C108="","!",INDEX(SV!$B$1:$B$20106,MATCH('Đăng kí'!C108,SV!$A$1:$A$20106,0))&" "&INDEX(SV!$C$1:$C$20106,MATCH('Đăng kí'!C108,SV!$A$1:$A$20106,0))))) -> ! | D108: =IF(OR(B108=$AP$1,ISERROR(VLOOKUP($AN108,$AW$9:$AW$19,1,0))=FALSE),"",SUMIF(E108:AM108,$AV$1,$E$8:$AM$8)) | AT108: =IF($AR$1>=AU108,$AQ$1-1+AU108,"") | AU108: 100 | BJ108: 74DCKT21 | BK108: 74KT21-27
A109: TỔNG | V109: =IF(V7="","",COUNTIF(V9:V108,$AV$1)) | W109: =IF(W7="","",COUNTIF(W9:W108,$AV$1)) | X109: =IF(X7="","",COUNTIF(X9:X108,$AV$1)) | AB109: =IF(AB7="","",COUNTIF(AB9:AB108,$AV$1)) | AC109: =IF(AC7="","",COUNTIF(AC9:AC108,$AV$1)) | AD109: =IF(AD7="","",COUNTIF(AD9:AD108,$AV$1)) | AE109: =IF(AE7="","",COUNTIF(AE9:AE108,$AV$1)) | AF109: =IF(AF7="","",COUNTIF(AF9:AF108,$AV$1)) | AG109: =IF(AG7="","",COUNTIF(AG9:AG108,$AV$1)) | AH109: =IF(AH7="","",COUNTIF(AH9:AH108,$AV$1)) | AI109: =IF(AI7="","",COUNTIF(AI9:AI108,$AV$1)) | ... AM109: =IF(AM7="","",COUNTIF(AM9:AM108,$AV$1)) | AP109: {=IF(E7="","",SUM(IF($AN$9:$AN$108<>"",0,1)*IF(E9:E108="",0,1)))} | BJ109: 74DCKT22 | BK109: 74KT21-27
BJ110: 74DCKT23 | BK110: 74KT21-27
B111: Chú ý: Sau khi đã hoàn thiện đăng ký tất cả các học phần trong mỗi học kì, CVHT cần rà soát kĩ lại bản đăng kí này, sau đó nộp bản in trên giấy (đề nghị in hai mặt) với đầy đủ chữ ký về Văn phòng khoa theo đúng lịch đã được thông báo trong hướng dẫn đăng kí học. | BJ111: 74DCKT24 | BK111: 74KT21-27
A112: ="Hà Nội, ngày "&TEXT(DAY(NOW()),"dd")&" tháng "&MONTH(NOW())&" năm "&YEAR(NOW()) -> Hà Nội, ngày 12 tháng 8 năm 2024 | BJ112: 74DCKT25 | BK112: 74KT21-27
B113: LỚP TRƯỞNG (Ký, ghi rõ họ tên) | F113: GV CHỦ NHIỆM (Ký, ghi rõ họ tên) | P113: PHÒNG ĐÀO TẠO (Ký, ghi rõ họ tên) | BJ113: 74DCKT26 | BK113: 74KT21-27
BJ114: 74DCKT27 | BK114: 74KT21-27
BJ115: 74DCOT11 | BK115: 74OT11
BJ116: 74DCOT21 | BK116: 74OT21-27
BJ117: 74DCOT22 | BK117: 74OT21-27
BJ118: 74DCOT23 | BK118: 74OT21-27
BJ119: 74DCOT24 | BK119: 74OT21-27
BJ120: 74DCOT25 | BK120: 74OT21-27
BJ121: 74DCOT26 | BK121: 74OT21-27
BJ122: 74DCOT27 | BK122: 74OT21-27
BJ123: 74DCTT11 | BK123: 72TT11, 12
BJ124: 74DCTT21 | BK124: 74TT21-28
BJ125: 74DCTT22 | BK125: 74TT21-28
... BJ164: 74DCCK25 | BK164: 74CK23, 24, 25 (MX)
