Workbook

Sheet HN
A1: DANH SÁCH SINH VIÊN KIỂM TRA TRỰC TUYẾN KHÓA 67 - ĐHCQ Học phần: Những nguyên lý cơ bản của chủ nghĩa Mac - Lê nin 1
A2: SBD | B2: Mã SV | C2: Họ tên | D2: Lớp | E2: Phòng thi | F2: Thời gian | G2: Ngày thi | H2: Địa điểm
A3: 1 | B3: 67DCCA20003 | C3: BÙI VIẾT ANH | D3: 67DCCA21 | E3: =+QUOTIENT(A3-1,40)+1 -> 1 | F3: =+VLOOKUP(E3,Lichthi!$A$3:$G$32,2,0) -> 08:00-08:25 | G3: =+VLOOKUP(E3,Lichthi!$A$3:$G$32,5,0) -> 17/12/2016 | H3: =+VLOOKUP(E3,Lichthi!$A$3:$G$32,3,0) -> A6.201
A4: 2 | B4: 67DCCA20005 | C4: ĐINH BẢO ANH | D4: 67DCCA21 | E4: =+QUOTIENT(A4-1,40)+1 -> 1 | F4: =+VLOOKUP(E4,Lichthi!$A$3:$G$32,2,0) -> 08:00-08:25 | G4: =+VLOOKUP(E4,Lichthi!$A$3:$G$32,5,0) -> 17/12/2016 | H4: =+VLOOKUP(E4,Lichthi!$A$3:$G$32,3,0) -> A6.201
A5: 3 | B5: 67DCCA20002 | C5: LÊ CÔNG TUẤN ANH | D5: 67DCCA21 | E5: =+QUOTIENT(A5-1,40)+1 -> 1 | F5: =+VLOOKUP(E5,Lichthi!$A$3:$G$32,2,0) -> 08:00-08:25 | G5: =+VLOOKUP(E5,Lichthi!$A$3:$G$32,5,0) -> 17/12/2016 | H5: =+VLOOKUP(E5,Lichthi!$A$3:$G$32,3,0) -> A6.201
A6: 4 | B6: 67DCCA20004 | C6: NGHIÊM QUỲNH ANH | D6: 67DCCA21 | E6: =+QUOTIENT(A6-1,40)+1 -> 1 | F6: =+VLOOKUP(E6,Lichthi!$A$3:$G$32,2,0) -> 08:00-08:25 | G6: =+VLOOKUP(E6,Lichthi!$A$3:$G$32,5,0) -> 17/12/2016 | H6: =+VLOOKUP(E6,Lichthi!$A$3:$G$32,3,0) -> A6.201
A7: 5 | B7: 67DCCA20001 | C7: NGUYỄN TUẤN ANH | D7: 67DCCA21 | E7: =+QUOTIENT(A7-1,40)+1 -> 1 | F7: =+VLOOKUP(E7,Lichthi!$A$3:$G$32,2,0) -> 08:00-08:25 | G7: =+VLOOKUP(E7,Lichthi!$A$3:$G$32,5,0) -> 17/12/2016 | H7: =+VLOOKUP(E7,Lichthi!$A$3:$G$32,3,0) -> A6.201
A8: 6 | B8: 67DCCA20006 | C8: DƯƠNG XUÂN BẮC | D8: 67DCCA21 | E8: =+QUOTIENT(A8-1,40)+1 -> 1 | F8: =+VLOOKUP(E8,Lichthi!$A$3:$G$32,2,0) -> 08:00-08:25 | G8: =+VLOOKUP(E8,Lichthi!$A$3:$G$32,5,0) -> 17/12/2016 | H8: =+VLOOKUP(E8,Lichthi!$A$3:$G$32,3,0) -> A6.201
A9: 7 | B9: 67DCCA20007 | C9: NGUYỄN VĂN BIÊN | D9: 67DCCA21 | E9: =+QUOTIENT(A9-1,40)+1 -> 1 | F9: =+VLOOKUP(E9,Lichthi!$A$3:$G$32,2,0) -> 08:00-08:25 | G9: =+VLOOKUP(E9,Lichthi!$A$3:$G$32,5,0) -> 17/12/2016 | H9: =+VLOOKUP(E9,Lichthi!$A$3:$G$32,3,0) -> A6.201
A10: 8 | B10: 67DCCA20008 | C10: TỐNG ĐỨC BÌNH | D10: 67DCCA21 | E10: =+QUOTIENT(A10-1,40)+1 -> 1 | F10: =+VLOOKUP(E10,Lichthi!$A$3:$G$32,2,0) -> 08:00-08:25 | G10: =+VLOOKUP(E10,Lichthi!$A$3:$G$32,5,0) -> 17/12/2016 | H10: =+VLOOKUP(E10,Lichthi!$A$3:$G$32,3,0) -> A6.201
A11: 9 | B11: 67DCCA20010 | C11: NGUYỄN CAO CƯỜNG | D11: 67DCCA21 | E11: =+QUOTIENT(A11-1,40)+1 -> 1 | F11: =+VLOOKUP(E11,Lichthi!$A$3:$G$32,2,0) -> 08:00-08:25 | G11: =+VLOOKUP(E11,Lichthi!$A$3:$G$32,5,0) -> 17/12/2016 | H11: =+VLOOKUP(E11,Lichthi!$A$3:$G$32,3,0) -> A6.201
A12: 10 | B12: 67DCCA20009 | C12: NGUYỄN HỮU CƯỜNG | D12: 67DCCA21 | E12: =+QUOTIENT(A12-1,40)+1 -> 1 | F12: =+VLOOKUP(E12,Lichthi!$A$3:$G$32,2,0) -> 08:00-08:25 | G12: =+VLOOKUP(E12,Lichthi!$A$3:$G$32,5,0) -> 17/12/2016 | H12: =+VLOOKUP(E12,Lichthi!$A$3:$G$32,3,0) -> A6.201
A13: 11 | B13: 67DCCA20011 | C13: TRẦN NGỌC DUẨN | D13: 67DCCA21 | E13: =+QUOTIENT(A13-1,40)+1 -> 1 | F13: =+VLOOKUP(E13,Lichthi!$A$3:$G$32,2,0) -> 08:00-08:25 | G13: =+VLOOKUP(E13,Lichthi!$A$3:$G$32,5,0) -> 17/12/2016 | H13: =+VLOOKUP(E13,Lichthi!$A$3:$G$32,3,0) -> A6.201
A14: 12 | B14: 67DCCA20015 | C14: HÀ MẠNH DŨNG | D14: 67DCCA21 | E14: =+QUOTIENT(A14-1,40)+1 -> 1 | F14: =+VLOOKUP(E14,Lichthi!$A$3:$G$32,2,0) -> 08:00-08:25 | G14: =+VLOOKUP(E14,Lichthi!$A$3:$G$32,5,0) -> 17/12/2016 | H14: =+VLOOKUP(E14,Lichthi!$A$3:$G$32,3,0) -> A6.201
... A505: 503 | B505: 67DCVL20122 | C505: NGUYỄN THỊ YẾN | D505: 67DCVL22 | E505: =+QUOTIENT(A505-1,40)+1 -> 13 | F505: =+VLOOKUP(E505,Lichthi!$A$3:$G$32,2,0) -> 09:30-09:55 | G505: =+VLOOKUP(E505,Lichthi!$A$3:$G$32,5,0) -> 17/12/2016 | H505: =+VLOOKUP(E505,Lichthi!$A$3:$G$32,3,0) -> A6.201
A506: 504 | B506: 67DCCD20004 | C506: HỒ QUỐC ANH | D506: 67DCCD22 | E506: =+(QUOTIENT(A506-1,40)+1) -> 13 | F506: =+VLOOKUP(E506,Lichthi!$A$3:$G$32,2,0) -> 09:30-09:55 | G506: =+VLOOKUP(E506,Lichthi!$A$3:$G$32,5,0) -> 17/12/2016 | H506: =+VLOOKUP(E506,Lichthi!$A$3:$G$32,3,0) -> A6.201
A507: 505 | B507: 67DCCD20002 | C507: HOÀNG TUẤN ANH | D507: 67DCCD22 | E507: =+QUOTIENT(A507-1,40)+1 -> 13 | F507: =+VLOOKUP(E507,Lichthi!$A$3:$G$32,2,0) -> 09:30-09:55 | G507: =+VLOOKUP(E507,Lichthi!$A$3:$G$32,5,0) -> 17/12/2016 | H507: =+VLOOKUP(E507,Lichthi!$A$3:$G$32,3,0) -> A6.201
A508: 506 | B508: 67DCCD20001 | C508: NGUYỄN HÀ TIẾN ANH | D508: 67DCCD22 | E508: =+QUOTIENT(A508-1,40)+1 -> 13 | F508: =+VLOOKUP(E508,Lichthi!$A$3:$G$32,2,0) -> 09:30-09:55 | G508: =+VLOOKUP(E508,Lichthi!$A$3:$G$32,5,0) -> 17/12/2016 | H508: =+VLOOKUP(E508,Lichthi!$A$3:$G$32,3,0) -> A6.201
A509: 507 | B509: 67DCCD20008 | C509: NGUYỄN QUANG ANH | D509: 67DCCD22 | E509: =+QUOTIENT(A509-1,40)+1 -> 13 | F509: =+VLOOKUP(E509,Lichthi!$A$3:$G$32,2,0) -> 09:30-09:55 | G509: =+VLOOKUP(E509,Lichthi!$A$3:$G$32,5,0) -> 17/12/2016 | H509: =+VLOOKUP(E509,Lichthi!$A$3:$G$32,3,0) -> A6.201
A510: 508 | B510: 67DCCD20013 | C510: NGUYỄN VĂN CỪ | D510: 67DCCD22 | E510: =+QUOTIENT(A510-1,40)+1 -> 13 | F510: =+VLOOKUP(E510,Lichthi!$A$3:$G$32,2,0) -> 09:30-09:55 | G510: =+VLOOKUP(E510,Lichthi!$A$3:$G$32,5,0) -> 17/12/2016 | H510: =+VLOOKUP(E510,Lichthi!$A$3:$G$32,3,0) -> A6.201
A511: 509 | B511: 67DCCD20009 | C511: PHÙNG VĂN CAO | D511: 67DCCD22 | E511: =+QUOTIENT(A511-1,40)+1 -> 13 | F511: =+VLOOKUP(E511,Lichthi!$A$3:$G$32,2,0) -> 09:30-09:55 | G511: =+VLOOKUP(E511,Lichthi!$A$3:$G$32,5,0) -> 17/12/2016 | H511: =+VLOOKUP(E511,Lichthi!$A$3:$G$32,3,0) -> A6.201
A512: 510 | B512: 67DCCD20012 | C512: PHẠM ĐỨC CHÍNH | D512: 67DCCD22 | E512: =+QUOTIENT(A512-1,40)+1 -> 13 | F512: =+VLOOKUP(E512,Lichthi!$A$3:$G$32,2,0) -> 09:30-09:55 | G512: =+VLOOKUP(E512,Lichthi!$A$3:$G$32,5,0) -> 17/12/2016 | H512: =+VLOOKUP(E512,Lichthi!$A$3:$G$32,3,0) -> A6.201
A513: 511 | B513: 67DCCD20014 | C513: NGUYỄN VĂN CƯỜNG | D513: 67DCCD22 | E513: =+QUOTIENT(A513-1,40)+1 -> 13 | F513: =+VLOOKUP(E513,Lichthi!$A$3:$G$32,2,0) -> 09:30-09:55 | G513: =+VLOOKUP(E513,Lichthi!$A$3:$G$32,5,0) -> 17/12/2016 | H513: =+VLOOKUP(E513,Lichthi!$A$3:$G$32,3,0) -> A6.201
A514: 512 | B514: 67DCCD20017 | C514: ĐINH VĂN DẦN | D514: 67DCCD22 | E514: =+QUOTIENT(A514-1,40)+1 -> 13 | F514: =+VLOOKUP(E514,Lichthi!$A$3:$G$32,2,0) -> 09:30-09:55 | G514: =+VLOOKUP(E514,Lichthi!$A$3:$G$32,5,0) -> 17/12/2016 | H514: =+VLOOKUP(E514,Lichthi!$A$3:$G$32,3,0) -> A6.201
A515: 513 | B515: 67DCCD20028 | C515: HÀ VĂN ĐỨC | D515: 67DCCD22 | E515: =+QUOTIENT(A515-1,40)+1 -> 13 | F515: =+VLOOKUP(E515,Lichthi!$A$3:$G$32,2,0) -> 09:30-09:55 | G515: =+VLOOKUP(E515,Lichthi!$A$3:$G$32,5,0) -> 17/12/2016 | H515: =+VLOOKUP(E515,Lichthi!$A$3:$G$32,3,0) -> A6.201
A516: 514 | B516: 67DCCD20031 | C516: NGUYỄN THỊ HẠ | D516: 67DCCD22 | E516: =+QUOTIENT(A516-1,40)+1 -> 13 | F516: =+VLOOKUP(E516,Lichthi!$A$3:$G$32,2,0) -> 09:30-09:55 | G516: =+VLOOKUP(E516,Lichthi!$A$3:$G$32,5,0) -> 17/12/2016 | H516: =+VLOOKUP(E516,Lichthi!$A$3:$G$32,3,0) -> A6.201
A517: 515 | B517: 67DCCD20036 | C517: NGUYỄN TRUNG HIẾU | D517: 67DCCD22 | E517: =+QUOTIENT(A517-1,40)+1 -> 13 | F517: =+VLOOKUP(E517,Lichthi!$A$3:$G$32,2,0) -> 09:30-09:55 | G517: =+VLOOKUP(E517,Lichthi!$A$3:$G$32,5,0) -> 17/12/2016 | H517: =+VLOOKUP(E517,Lichthi!$A$3:$G$32,3,0) -> A6.201
A518: 516 | B518: 67DCCD20040 | C518: ĐỖ THANH HOÀNG | D518: 67DCCD22 | E518: =+QUOTIENT(A518-1,40)+1 -> 13 | F518: =+VLOOKUP(E518,Lichthi!$A$3:$G$32,2,0) -> 09:30-09:55 | G518: =+VLOOKUP(E518,Lichthi!$A$3:$G$32,5,0) -> 17/12/2016 | H518: =+VLOOKUP(E518,Lichthi!$A$3:$G$32,3,0) -> A6.201
... A1180: 1178 | B1180: 67DCTN20073 | C1180: LÊ THỊ PHƯƠNG YẾN | D1180: 67DCTN21 | E1180: =+QUOTIENT(A1180-1,40)+1 -> 30 | F1180: =+VLOOKUP(E1180,Lichthi!$A$3:$G$32,2,0) -> 11:30-11:55 | G1180: =+VLOOKUP(E1180,Lichthi!$A$3:$G$32,5,0) -> 17/12/2016 | H1180: =+VLOOKUP(E1180,Lichthi!$A$3:$G$32,3,0) -> A6.202

Sheet Lichthi
A1: LỊCH THI ĐÁNH GIÁ NĂNG LỰC TIẾNG ANH K67 | I1: 0.017361111 | J1: 0.0034722222
A2: Phòng thi | B2: Thời gian | C2: Địa điểm | D2: Thứ | E2: Ngày thi | F2: Buổi | G2: Ca thi
A3: 1 | B3: =K3&"-"&L3 -> 08:00-08:25 | C3: A6.201 | D3: 7 | E3: 17/12/2016 | F3: Sáng | G3: 1 | I3: 0.33333333 | J3: =+I3+$I$1 -> 0.35069444 | K3: =TEXT(I3,"hh:mm") -> 08:00 | L3: =TEXT(J3,"hh:mm") -> 08:25
A4: 2 | B4: =K4&"-"&L4 -> 08:00-08:25 | C4: A6.202 | D4: 7 | E4: 17/12/2016 | F4: Sáng | I4: =+I3 -> 0.33333333 | J4: =+I4+$I$1 -> 0.35069444 | K4: =TEXT(I4,"hh:mm") -> 08:00 | L4: =TEXT(J4,"hh:mm") -> 08:25
A5: 3 | B5: =K5&"-"&L5 -> 08:00-08:25 | C5: A6.301 | D5: 7 | E5: 17/12/2016 | F5: Sáng | I5: =+I4 -> 0.33333333 | J5: =+I5+$I$1 -> 0.35069444 | K5: =TEXT(I5,"hh:mm") -> 08:00 | L5: =TEXT(J5,"hh:mm") -> 08:25
A6: 4 | B6: =K6&"-"&L6 -> 08:00-08:25 | C6: A6.401 | D6: 7 | E6: 17/12/2016 | F6: Sáng | I6: =+I5 -> 0.33333333 | J6: =+I6+$I$1 -> 0.35069444 | K6: =TEXT(I6,"hh:mm") -> 08:00 | L6: =TEXT(J6,"hh:mm") -> 08:25
A7: 5 | B7: =K7&"-"&L7 -> 08:30-08:55 | C7: A6.201 | D7: 7 | E7: 17/12/2016 | F7: Sáng | G7: 2 | I7: =+J6+$J$1 -> 0.35416667 | J7: =+I7+$I$1 -> 0.37152778 | K7: =TEXT(I7,"hh:mm") -> 08:30 | L7: =TEXT(J7,"hh:mm") -> 08:55
A8: 6 | B8: =K8&"-"&L8 -> 08:30-08:55 | C8: A6.202 | D8: 7 | E8: 17/12/2016 | F8: Sáng | I8: =+I7 -> 0.35416667 | J8: =+I8+$I$1 -> 0.37152778 | K8: =TEXT(I8,"hh:mm") -> 08:30 | L8: =TEXT(J8,"hh:mm") -> 08:55
A9: 7 | B9: =K9&"-"&L9 -> 08:30-08:55 | C9: A6.301 | D9: 7 | E9: 17/12/2016 | F9: Sáng | I9: =+I8 -> 0.35416667 | J9: =+I9+$I$1 -> 0.37152778 | K9: =TEXT(I9,"hh:mm") -> 08:30 | L9: =TEXT(J9,"hh:mm") -> 08:55
A10: 8 | B10: =K10&"-"&L10 -> 08:30-08:55 | C10: A6.401 | D10: 7 | E10: 17/12/2016 | F10: Sáng | I10: =+I9 -> 0.35416667 | J10: =+I10+$I$1 -> 0.37152778 | K10: =TEXT(I10,"hh:mm") -> 08:30 | L10: =TEXT(J10,"hh:mm") -> 08:55
A11: 9 | B11: =K11&"-"&L11 -> 09:00-09:25 | C11: A6.201 | D11: 7 | E11: 17/12/2016 | F11: Sáng | G11: 3 | I11: =+J10+$J$1 -> 0.375 | J11: =+I11+$I$1 -> 0.39236111 | K11: =TEXT(I11,"hh:mm") -> 09:00 | L11: =TEXT(J11,"hh:mm") -> 09:25
A12: 10 | B12: =K12&"-"&L12 -> 09:00-09:25 | C12: A6.202 | D12: 7 | E12: 17/12/2016 | F12: Sáng | I12: =+I11 -> 0.375 | J12: =+I12+$I$1 -> 0.39236111 | K12: =TEXT(I12,"hh:mm") -> 09:00 | L12: =TEXT(J12,"hh:mm") -> 09:25
A13: 11 | B13: =K13&"-"&L13 -> 09:00-09:25 | C13: A6.301 | D13: 7 | E13: 17/12/2016 | F13: Sáng | I13: =+I12 -> 0.375 | J13: =+I13+$I$1 -> 0.39236111 | K13: =TEXT(I13,"hh:mm") -> 09:00 | L13: =TEXT(J13,"hh:mm") -> 09:25
A14: 12 | B14: =K14&"-"&L14 -> 09:00-09:25 | C14: A6.401 | D14: 7 | E14: 17/12/2016 | F14: Sáng | I14: =+I13 -> 0.375 | J14: =+I14+$I$1 -> 0.39236111 | K14: =TEXT(I14,"hh:mm") -> 09:00 | L14: =TEXT(J14,"hh:mm") -> 09:25
A15: 13 | B15: =K15&"-"&L15 -> 09:30-09:55 | C15: A6.201 | D15: 7 | E15: 17/12/2016 | F15: Sáng | G15: 4 | I15: =+J14+$J$1 -> 0.39583333 | J15: =+I15+$I$1 -> 0.41319444 | K15: =TEXT(I15,"hh:mm") -> 09:30 | L15: =TEXT(J15,"hh:mm") -> 09:55
A16: 14 | B16: =K16&"-"&L16 -> 09:30-09:55 | C16: A6.202 | D16: 7 | E16: 17/12/2016 | F16: Sáng | I16: =+I15 -> 0.39583333 | J16: =+I16+$I$1 -> 0.41319444 | K16: =TEXT(I16,"hh:mm") -> 09:30 | L16: =TEXT(J16,"hh:mm") -> 09:55
A17: 15 | B17: =K17&"-"&L17 -> 09:30-09:55 | C17: A6.301 | D17: 7 | E17: 17/12/2016 | F17: Sáng | I17: =+I16 -> 0.39583333 | J17: =+I17+$I$1 -> 0.41319444 | K17: =TEXT(I17,"hh:mm") -> 09:30 | L17: =TEXT(J17,"hh:mm") -> 09:55
A18: 16 | B18: =K18&"-"&L18 -> 09:30-09:55 | C18: A6.401 | D18: 7 | E18: 17/12/2016 | F18: Sáng | I18: =+I17 -> 0.39583333 | J18: =+I18+$I$1 -> 0.41319444 | K18: =TEXT(I18,"hh:mm") -> 09:30 | L18: =TEXT(J18,"hh:mm") -> 09:55
A19: 17 | B19: =K19&"-"&L19 -> 10:00-10:25 | C19: A6.201 | D19: 7 | E19: 17/12/2016 | F19: Sáng | G19: 5 | I19: =+J18+$J$1 -> 0.41666667 | J19: =+I19+$I$1 -> 0.43402778 | K19: =TEXT(I19,"hh:mm") -> 10:00 | L19: =TEXT(J19,"hh:mm") -> 10:25
A20: 18 | B20: =K20&"-"&L20 -> 10:00-10:25 | C20: A6.202 | D20: 7 | E20: 17/12/2016 | F20: Sáng | I20: =+I19 -> 0.41666667 | J20: =+I20+$I$1 -> 0.43402778 | K20: =TEXT(I20,"hh:mm") -> 10:00 | L20: =TEXT(J20,"hh:mm") -> 10:25
A21: 19 | B21: =K21&"-"&L21 -> 10:00-10:25 | C21: A6.301 | D21: 7 | E21: 17/12/2016 | F21: Sáng | I21: =+I20 -> 0.41666667 | J21: =+I21+$I$1 -> 0.43402778 | K21: =TEXT(I21,"hh:mm") -> 10:00 | L21: =TEXT(J21,"hh:mm") -> 10:25
A22: 20 | B22: =K22&"-"&L22 -> 10:00-10:25 | C22: A6.401 | D22: 7 | E22: 17/12/2016 | F22: Sáng | I22: =+I21 -> 0.41666667 | J22: =+I22+$I$1 -> 0.43402778 | K22: =TEXT(I22,"hh:mm") -> 10:00 | L22: =TEXT(J22,"hh:mm") -> 10:25
A23: 21 | B23: =K23&"-"&L23 -> 10:30-10:55 | C23: A6.201 | D23: 7 | E23: 17/12/2016 | F23: Sáng | G23: 6 | I23: =+J22+$J$1 -> 0.4375 | J23: =+I23+$I$1 -> 0.45486111 | K23: =TEXT(I23,"hh:mm") -> 10:30 | L23: =TEXT(J23,"hh:mm") -> 10:55
A24: 22 | B24: =K24&"-"&L24 -> 10:30-10:55 | C24: A6.202 | D24: 7 | E24: 17/12/2016 | F24: Sáng | I24: =+I23 -> 0.4375 | J24: =+I24+$I$1 -> 0.45486111 | K24: =TEXT(I24,"hh:mm") -> 10:30 | L24: =TEXT(J24,"hh:mm") -> 10:55
A25: 23 | B25: =K25&"-"&L25 -> 10:30-10:55 | C25: A6.301 | D25: 7 | E25: 17/12/2016 | F25: Sáng | I25: =+I24 -> 0.4375 | J25: =+I25+$I$1 -> 0.45486111 | K25: =TEXT(I25,"hh:mm") -> 10:30 | L25: =TEXT(J25,"hh:mm") -> 10:55
A26: 24 | B26: =K26&"-"&L26 -> 10:30-10:55 | C26: A6.401 | D26: 7 | E26: 17/12/2016 | F26: Sáng | I26: =+I25 -> 0.4375 | J26: =+I26+$I$1 -> 0.45486111 | K26: =TEXT(I26,"hh:mm") -> 10:30 | L26: =TEXT(J26,"hh:mm") -> 10:55
A27: 25 | B27: =K27&"-"&L27 -> 11:00-11:25 | C27: A6.201 | D27: 7 | E27: 17/12/2016 | F27: Sáng | G27: 7 | I27: =+J26+$J$1 -> 0.45833333 | J27: =+I27+$I$1 -> 0.47569444 | K27: =TEXT(I27,"hh:mm") -> 11:00 | L27: =TEXT(J27,"hh:mm") -> 11:25
A28: 26 | B28: =K28&"-"&L28 -> 11:00-11:25 | C28: A6.202 | D28: 7 | E28: 17/12/2016 | F28: Sáng | I28: =+I27 -> 0.45833333 | J28: =+I28+$I$1 -> 0.47569444 | K28: =TEXT(I28,"hh:mm") -> 11:00 | L28: =TEXT(J28,"hh:mm") -> 11:25
A29: 27 | B29: =K29&"-"&L29 -> 11:00-11:25 | C29: A6.301 | D29: 7 | E29: 17/12/2016 | F29: Sáng | I29: =+I28 -> 0.45833333 | J29: =+I29+$I$1 -> 0.47569444 | K29: =TEXT(I29,"hh:mm") -> 11:00 | L29: =TEXT(J29,"hh:mm") -> 11:25
A30: 28 | B30: =K30&"-"&L30 -> 11:00-11:25 | C30: A6.401 | D30: 7 | E30: 17/12/2016 | F30: Sáng | I30: =+I29 -> 0.45833333 | J30: =+I30+$I$1 -> 0.47569444 | K30: =TEXT(I30,"hh:mm") -> 11:00 | L30: =TEXT(J30,"hh:mm") -> 11:25
A31: 29 | B31: =K31&"-"&L31 -> 11:30-11:55 | C31: A6.201 | D31: 7 | E31: 17/12/2016 | F31: Sáng | G31: 8 | I31: =+J30+$J$1 -> 0.47916667 | J31: =+I31+$I$1 -> 0.49652778 | K31: =TEXT(I31,"hh:mm") -> 11:30 | L31: =TEXT(J31,"hh:mm") -> 11:55
A32: 30 | B32: =K32&"-"&L32 -> 11:30-11:55 | C32: A6.202 | D32: 7 | E32: 17/12/2016 | F32: Sáng | I32: =+I31 -> 0.47916667 | J32: =+I32+$I$1 -> 0.49652778 | K32: =TEXT(I32,"hh:mm") -> 11:30 | L32: =TEXT(J32,"hh:mm") -> 11:55
I33: =+I32 -> 0.47916667 | J33: =+I33+$I$1 -> 0.49652778 | K33: =TEXT(I33,"hh:mm") -> 11:30 | L33: =TEXT(J33,"hh:mm") -> 11:55
I34: =+I33 -> 0.47916667 | J34: =+I34+$I$1 -> 0.49652778 | K34: =TEXT(I34,"hh:mm") -> 11:30 | L34: =TEXT(J34,"hh:mm") -> 11:55
