Workbook
Name _CT_MaHe: Sheet1!XFD1&"-"&MID(Sheet1!XEX1,3,2)
Name _CT_MaHe: SVDK!XFD1&"-"&MID(SVDK!XEX1,3,2)
Name _CT_MaHP: MID(SVDK!$Z1,FIND("(",SVDK!$Z1,1)+1,FIND(")",SVDK!$Z1,1)-FIND("(",SVDK!$Z1,1)-1)
Name _CT_MaHP1: SVDK!_CT_MaHP&"-"&MID(SVDK!$V1,3,2)
Name _CT_TT: SVDK!XFD$1+1
Name _De_Loc2: VLOOKUP(De!$A1,'LICH THI'!$C:$AQ,De!A$1,0)
Name _De_stt: De!A1048576+1
Name _DL_BM: IF(DATA!$O1="","",VLOOKUP(DATA!$O1,Mã!$A:$C,3,0))
Name _DL_Khoa: IF(DATA!$P1="","",VLOOKUP(DATA!$P1,Mã!$E:$F,2,0))
Name _DSVD: IF('DS VĐ'!$B1="","",VLOOKUP('DS VĐ'!$A1,SVDK!$A:$AC,'DS VĐ'!A$1,0))
Name _DSVD_SBD: IF('DS VĐ'!$B1="","",'DS VĐ'!A1048576+1)
Name _DSVD_stt: IF('DS VĐ'!A1048576="","",IF('DS VĐ'!A1048576<'DS VĐ'!$P$6,'DS VĐ'!A1048576+1,""))
Name _DSViet: IF('DS Viết'!$B1="","",VLOOKUP('DS Viết'!$A1,SVDK!$A:$AC,'DS Viết'!A$1,0))
Name _DSviet_SBD: IF('DS Viết'!$B1="","",'DS Viết'!A1048576+1)
Name _DSviet_stt: IF('DS Viết'!A1048576="","",IF('DS Viết'!A1048576<'DS Viết'!$N$6,'DS Viết'!A1048576+1,""))
Name _L_Gio: IF('LICH THI'!L1=1,"7:00",IF('LICH THI'!L1=2,"9:00",IF('LICH THI'!L1=3,"13:00",IF('LICH THI'!L1=4,"15:00",IF('LICH THI'!L1=5,"18:00","6:30")))))
Name _L_Loc2: VLOOKUP('LICH THI'!$A1,'LICH THI'!$C:$AQ,'LICH THI'!A$1,0)
Name _L_MaHP: IF(MID('LICH THI'!$C1,8,1)="-",LEFT('LICH THI'!$C1,7),IF(MID('LICH THI'!$C1,9,1)="-",LEFT('LICH THI'!$C1,8),LEFT('LICH THI'!$C1,9)))
Name _L_Ngay: IF('LICH THI'!XFD1="","",CHOOSE(WEEKDAY('LICH THI'!XFD1),"(Cnhật)","(Thứ 2)","(Thứ 3)","(Thứ 4)","(Thứ 5)","(Thứ 6)","(Thứ 7)"))
Name _L_NgayCham: IF(OR('LICH THI'!XEO1="TH",'LICH THI'!XEO1="VĐ"),'LICH THI'!XEQ1,IF('LICH THI'!XER1="(Thứ 6)",'LICH THI'!XEQ1+3,'LICH THI'!XEQ1+1))
Name _L_NgayGio: 'LICH THI'!K1+'LICH THI'!B1
Name _L_NopDiem: IF(OR('LICH THI'!XEN1="TH",'LICH THI'!XEN1="VĐ"),'LICH THI'!XEP1+2,'LICH THI'!XEP1+7)
Name _L_sophong: IF('LICH THI'!$O1=0,"",IF(LEFT('LICH THI'!L1,4)="Ghép",ROUNDUP('LICH THI'!$N1/'LICH THI'!$O1,0)-0.5,ROUNDUP('LICH THI'!$N1/'LICH THI'!$O1,0)))
Name _L_SoSV: COUNTIF(SVDK!$AC:$AC,'LICH THI'!XET1)
Name _L_stt: 'LICH THI'!A1048576+1
Name _L_SV_Pcuoi: IF('LICH THI'!$O1=0,"",'LICH THI'!$N1-'LICH THI'!$O1*(ROUNDUP('LICH THI'!$P1,0)-1))
Name _N_CongCNTT: SUMIF('LICH THI'!$A:$A,'Theo Ngay'!$A1,'LICH THI'!$W:$W)
Name _N_CongCSKT: SUMIF('LICH THI'!$A:$A,'Theo Ngay'!$A1,'LICH THI'!$S:$S)
Name _N_CongKCK: SUMIF('LICH THI'!$A:$A,'Theo Ngay'!$A1,'LICH THI'!$U:$U)
Name _N_CongKCT: SUMIF('LICH THI'!$A:$A,'Theo Ngay'!$A1,'LICH THI'!$T:$T)
Name _N_CongKHCB: SUMIF('LICH THI'!$A:$A,'Theo Ngay'!$A1,'LICH THI'!$R:$R)
Name _N_CongKTVT: SUMIF('LICH THI'!$A:$A,'Theo Ngay'!$A1,'LICH THI'!$V:$V)
Name _N_CongLLCT: SUMIF('LICH THI'!$A:$A,'Theo Ngay'!$A1,'LICH THI'!$Q:$Q)
Name _N_CongSP_: SUMIF('LICH THI'!$A:$A,'Theo Ngay'!$A1,'LICH THI'!$P:$P)
Name _N_Gio_: IF('Theo Ngay'!$E1=1,"7:00",IF('Theo Ngay'!$E1=2,"9:00",IF('Theo Ngay'!$E1=3,"13:00",IF('Theo Ngay'!$E1=4,"15:00",IF('Theo Ngay'!$E1=5,"18:00","6:30")))))
Name _N_NgayGio: 'Theo Ngay'!$D1+'Theo Ngay'!$B1
Name _N_stt: 'Theo Ngay'!A1048576+1
Name _P_SBD: IF(Phach!A1048576="","",IF(Phach!A1048576+1>Phach!$H$1*Phach!A$5,"",IF(Phach!A1048576<Phach!$E$1,Phach!A1048576+1,"")))
Name _P_SBD1: IF(Phach!A$5<=Phach!$K$1,(Phach!A$5-1)*Phach!$H$1+1,"")
Name _P_SP: IFERROR(VLOOKUP(Phach!$B$1&"-"&Phach!XFD1,SVDK!$A:$AC,SVDK!$N$1,0),"")

Sheet Mã
A1: Phụ trách
A2: BM phụ trách | B2: Khoa phụ trách
A4: NLCN Mác - Lênin | B4: LÝ LUẬN CHÍNH TRỊ | C4: LLNL | E4: LÝ LUẬN CHÍNH TRỊ | F4: LLCT
A5: Tư tưởng Hồ Chí Minh | B5: LÝ LUẬN CHÍNH TRỊ | C5: LLTT | E5: KHOA HỌC CƠ BẢN | F5: KHCB
A6: ĐLCM của ĐCSVN | B6: LÝ LUẬN CHÍNH TRỊ | C6: LLDL | E6: CÔNG NGHỆ THÔNG TIN | F6: CNTT
A7: Giáo dục pháp luật | B7: LÝ LUẬN CHÍNH TRỊ | C7: LLPL | E7: GIÁO DỤC THỂ CHẤT | F7: GDTC
A8: Ngoại ngữ | B8: KHOA HỌC CƠ BẢN | C8: CBNN | E8: GIÁO DỤC QPAN | F8: QPAN
A9: Toán | B9: KHOA HỌC CƠ BẢN | C9: CBTO | E9: CƠ SỞ KỸ THUẬT | F9: CSKT
A10: Vật lý | B10: KHOA HỌC CƠ BẢN | C10: CBLY | E10: CÔNG TRÌNH | F10: KCT
A11: Hóa học | B11: KHOA HỌC CƠ BẢN | C11: CBHO | E11: KINH TẾ - VẬN TẢI | F11: KTVT
A12: Hệ thống thông tin | B12: CÔNG NGHỆ THÔNG TIN | C12: TTHT | E12: CƠ KHÍ | F12: KCK
A13: CÔNG NGHỆ THÔNG TIN | B13: CÔNG NGHỆ THÔNG TIN | C13: CNTT
A14: Giáo dục thể chất | B14: GIÁO DỤC THỂ CHẤT | C14: CDTC
A15: Quốc phòng - An ninh | B15: GIÁO DỤC QPAN | C15: QPAN
A16: Hình họa - Vẽ kĩ thuật | B16: CƠ SỞ KỸ THUẬT | C16: CSVE
A17: CNKT Môi trường | B17: CÔNG TRÌNH | C17: CTMO
A18: Cơ sở ngành kinh tế | B18: KINH TẾ - VẬN TẢI | C18: KVCS
A19: Khoa Cơ khí | B19: CƠ KHÍ | C19: KCK
A20: Quản trị doanh nghiệp | B20: KINH TẾ - VẬN TẢI | C20: KVQT
A21: Vận tải sắt - bộ | B21: KINH TẾ - VẬN TẢI | C21: KVSB
A22: Kinh tế xây dựng | B22: KINH TẾ - VẬN TẢI | C22: KVKX
A23: Điện - Điện tử | B23: CÔNG NGHỆ THÔNG TIN | C23: TTDT
A24: Khoa CNTT | B24: CÔNG NGHỆ THÔNG TIN | C24: CNTT
... A45: Tin học công trình | B45: CÔNG TRÌNH | C45: CTUD

Sheet DATA
A1: Mã học phần | F1: Số TT | G1: Học phần | H1: Số TC | I1: Khối lượng (tiết, giờ) | M1: THI | AB1: NGÀNH | AU1: NGÀNH
A2: ĐHCQ | B2: ĐHLT | C2: ĐTLT | D2: CĐCQ | E2: CĐLT | G2: Tên đầy đủ | I2: LT, BT | J2: TL, TH, TN | K2: TT, ĐA, BTL (h) | L2: Tự học (h) | M2: Hình thức | N2: Thời gian | O2: BM phụ trách | P2: Khoa phụ trách | T2: DCCA | U2: DCCC | V2: DCCD | W2: DCCS | X2: DCDB | Y2: DCDD | Z2: DCCDA | AA2: DCOT | AB2: DCMX | AC2: DCMT | AD2: DCDM | AE2: DCDT | AF2: DCHT | AG2: DCKT | AH2: DCQT | AI2: DCKX | AJ2: DCVB | AK2: DCVS | AL2: DCVL | AM2: CCCA | AN2: CCCC | AO2: CCCD | AP2: CCCS | AQ2: CCDB | AR2: CCDD | AS2: CCCDA | AT2: CCOT | AU2: CCMX | AV2: CCMT | AW2: CCDM | AX2: CCDT | AY2: CCTH | AZ2: CCKT | BA2: CCQT | BB2: CCKX | BC2: CCVB | BD2: CCVS | BE2: CCVL
A3: DC | B3: DL | C3: DT | D3: CC | E3: CL
A4: DC1TT90 | D4: CC1TT90 | F4: 52 | G4: Bảo vệ môi trường | H4: 2 | I4: 30 | L4: 0 | O4: Khoa CNTT | P4: CÔNG NGHỆ THÔNG TIN | Q4: =_DL_BM -> CNTT | R4: =_DL_Khoa -> CNTT | S4: =+R4&"-"&Q4 -> CNTT-CNTT | AF4: o | AY4: o
A5: DC4TH80 | F5: 738 | G5: Đồ án tốt nghiệp | H5: 8 | K5: 480 | L5: 0 | M5: VĐ | O5: Khoa CNTT | P5: CÔNG NGHỆ THÔNG TIN | Q5: =_DL_BM -> CNTT | R5: =_DL_Khoa -> CNTT | S5: =+R5&"-"&Q5 -> CNTT-CNTT | AF5: x
D6: CC4TH80 | F6: 739 | G6: Đồ án tốt nghiệp | H6: 4 | K6: 240 | L6: 0 | M6: VĐ | O6: Khoa CNTT | P6: CÔNG NGHỆ THÔNG TIN | Q6: =_DL_BM -> CNTT | R6: =_DL_Khoa -> CNTT | S6: =+R6&"-"&Q6 -> CNTT-CNTT | AY6: x
A7: DC4DT80 | B7: DC4DT80 | F7: 740 | G7: Đồ án tốt nghiệp | H7: 8 | K7: 480 | L7: 0 | M7: VĐ | O7: Khoa CNTT | P7: CÔNG NGHỆ THÔNG TIN | Q7: =_DL_BM -> CNTT | R7: =_DL_Khoa -> CNTT | S7: =+R7&"-"&Q7 -> CNTT-CNTT | AE7: x
D8: CC4DT80 | F8: 741 | G8: Đồ án tốt nghiệp | H8: 4 | K8: 240 | L8: 0 | M8: VĐ | O8: Khoa CNTT | P8: CÔNG NGHỆ THÔNG TIN | Q8: =_DL_BM -> CNTT | R8: =_DL_Khoa -> CNTT | S8: =+R8&"-"&Q8 -> CNTT-CNTT | AX8: x
A9: DC4ME80 | F9: 840 | G9: Đồ án tốt nghiệp | H9: 8 | K9: 480 | L9: 0 | M9: VĐ | O9: Khoa CNTT | P9: CÔNG NGHỆ THÔNG TIN | Q9: =_DL_BM -> CNTT | R9: =_DL_Khoa -> CNTT | S9: =+R9&"-"&Q9 -> CNTT-CNTT
A10: DC4TH70 | B10: DC4TH70 | D10: CC4TH70 | F10: 706 | G10: Thực tập tốt nghiệp | H10: 4 | K10: 180 | L10: 0 | M10: VĐ | O10: Khoa CNTT | P10: CÔNG NGHỆ THÔNG TIN | Q10: =_DL_BM -> CNTT | R10: =_DL_Khoa -> CNTT | S10: =+R10&"-"&Q10 -> CNTT-CNTT | AF10: x | AY10: x
A11: DC4DT70 | B11: DC4DT70 | D11: CC4DT70 | F11: 707 | G11: Thực tập tốt nghiệp | H11: 4 | K11: 180 | L11: 0 | M11: VĐ | O11: Khoa CNTT | P11: CÔNG NGHỆ THÔNG TIN | Q11: =_DL_BM -> CNTT | R11: =_DL_Khoa -> CNTT | S11: =+R11&"-"&Q11 -> CNTT-CNTT | AE11: x | AX11: x
A12: DC4ME70 | F12: 839 | G12: Thực tập tốt nghiệp | H12: 4 | K12: 240 | L12: 0 | M12: VĐ | O12: Khoa CNTT | P12: CÔNG NGHỆ THÔNG TIN | Q12: =_DL_BM -> CNTT | R12: =_DL_Khoa -> CNTT | S12: =+R12&"-"&Q12 -> CNTT-CNTT
A13: DC3DT64 | B13: DC3DT64 | F13: 551 | G13: An ninh mạng thông tin | H13: 3 | I13: 45 | L13: 0 | M13: Viết | N13: 60 | O13: Điện - Điện tử | P13: CÔNG NGHỆ THÔNG TIN | Q13: =_DL_BM -> TTDT | R13: =_DL_Khoa -> CNTT | S13: =+R13&"-"&Q13 -> CNTT-TTDT | AE13: x
A14: DC2DT55 | B14: DC2DT55 | F14: 206 | G14: Anten và truyền sóng | H14: 3 | I14: 45 | L14: 0 | M14: Viết | N14: 90 | O14: Điện - Điện tử | P14: CÔNG NGHỆ THÔNG TIN | Q14: =_DL_BM -> TTDT | R14: =_DL_Khoa -> CNTT | S14: =+R14&"-"&Q14 -> CNTT-TTDT | AE14: x
A15: DC3DT81 | B15: DC3DT81 | D15: CC3DT81 | F15: 627 | G15: Công nghệ Multimedia | H15: 2 | I15: 30 | L15: 0 | M15: Viết | N15: 60 | O15: Điện - Điện tử | P15: CÔNG NGHỆ THÔNG TIN | Q15: =_DL_BM -> TTDT | R15: =_DL_Khoa -> CNTT | S15: =+R15&"-"&Q15 -> CNTT-TTDT | AE15: o | AX15: o
A16: DC3DT82 | B16: DC3DT82 | D16: CC3DT82 | F16: 628 | G16: Công nghệ vi điện tử | H16: 2 | I16: 30 | L16: 0 | M16: Viết | N16: 60 | O16: Điện - Điện tử | P16: CÔNG NGHỆ THÔNG TIN | Q16: =_DL_BM -> TTDT | R16: =_DL_Khoa -> CNTT | S16: =+R16&"-"&Q16 -> CNTT-TTDT | AE16: o | AX16: o
A17: DC2DT45 | D17: CC2DT45 | F17: 205 | G17: Cơ sở điều khiển tự động | H17: 3 | I17: 45 | L17: 0 | M17: Viết | N17: 90 | O17: Điện - Điện tử | P17: CÔNG NGHỆ THÔNG TIN | Q17: =_DL_BM -> TTDT | R17: =_DL_Khoa -> CNTT | S17: =+R17&"-"&Q17 -> CNTT-TTDT | AE17: x | AX17: x
A18: DC2DT44 | D18: CC2DT44 | F18: 195 | G18: Cơ sở kỹ thuật đo lường | H18: 2 | I18: 15 | J18: 30 | L18: 0 | M18: Viết | N18: 60 | O18: Điện - Điện tử | P18: CÔNG NGHỆ THÔNG TIN | Q18: =_DL_BM -> TTDT | R18: =_DL_Khoa -> CNTT | S18: =+R18&"-"&Q18 -> CNTT-TTDT | AE18: x | AX18: x
A19: DC3DT60 | D19: CC3DT60 | F19: 553 | G19: Cơ sở truyền số liệu | H19: 3 | I19: 45 | L19: 0 | M19: Viết | N19: 60 | O19: Điện - Điện tử | P19: CÔNG NGHỆ THÔNG TIN | Q19: =_DL_BM -> TTDT | R19: =_DL_Khoa -> CNTT | S19: =+R19&"-"&Q19 -> CNTT-TTDT | AE19: x | AX19: x
A20: DC3ME61 | F20: 828 | G20: Điện tử công suất | H20: 3 | I20: 45 | L20: 0 | O20: Điện - Điện tử | P20: CÔNG NGHỆ THÔNG TIN | Q20: =_DL_BM -> TTDT | R20: =_DL_Khoa -> CNTT | S20: =+R20&"-"&Q20 -> CNTT-TTDT
A21: DC2DT51 | F21: 197 | G21: Điện tử số | H21: 3 | I21: 30 | J21: 30 | L21: 0 | M21: Viết | N21: 60 | O21: Điện - Điện tử | P21: CÔNG NGHỆ THÔNG TIN | Q21: =_DL_BM -> TTDT | R21: =_DL_Khoa -> CNTT | S21: =+R21&"-"&Q21 -> CNTT-TTDT | AE21: x
B22: DL2DT51 | F22: 198 | G22: Điện tử số | H22: 2 | I22: 30 | L22: 0 | M22: Viết | N22: 60 | O22: Điện - Điện tử | P22: CÔNG NGHỆ THÔNG TIN | Q22: =_DL_BM -> TTDT | R22: =_DL_Khoa -> CNTT | S22: =+R22&"-"&Q22 -> CNTT-TTDT
D23: CC2DT51 | F23: 199 | G23: Điện tử số | H23: 2 | I23: 30 | L23: 0 | M23: Viết | N23: 60 | O23: Điện - Điện tử | P23: CÔNG NGHỆ THÔNG TIN | Q23: =_DL_BM -> TTDT | R23: =_DL_Khoa -> CNTT | S23: =+R23&"-"&Q23 -> CNTT-TTDT | AX23: x
A24: DC2DT53 | F24: 201 | G24: Điện tử tương tự | H24: 4 | I24: 45 | J24: 30 | L24: 0 | M24: Viết | N24: 90 | O24: Điện - Điện tử | P24: CÔNG NGHỆ THÔNG TIN | Q24: =_DL_BM -> TTDT | R24: =_DL_Khoa -> CNTT | S24: =+R24&"-"&Q24 -> CNTT-TTDT | AE24: x
B25: DL2DT53 | F25: 202 | G25: Điện tử tương tự | H25: 2 | I25: 30 | L25: 0 | O25: Điện - Điện tử | P25: CÔNG NGHỆ THÔNG TIN | Q25: =_DL_BM -> TTDT | R25: =_DL_Khoa -> CNTT | S25: =+R25&"-"&Q25 -> CNTT-TTDT
D26: CC2DT53 | F26: 203 | G26: Điện tử tương tự | H26: 3 | I26: 30 | J26: 30 | L26: 0 | M26: Viết | N26: 60 | O26: Điện - Điện tử | P26: CÔNG NGHỆ THÔNG TIN | Q26: =_DL_BM -> TTDT | R26: =_DL_Khoa -> CNTT | S26: =+R26&"-"&Q26 -> CNTT-TTDT | AX26: x
A27: DC2DT52 | B27: DC2DT52 | F27: 200 | G27: Đồ án Điện tử số | H27: 2 | K27: 90 | L27: 0 | M27: VĐ | O27: Điện - Điện tử | P27: CÔNG NGHỆ THÔNG TIN | Q27: =_DL_BM -> TTDT | R27: =_DL_Khoa -> CNTT | S27: =+R27&"-"&Q27 -> CNTT-TTDT | AE27: x
A28: DC2DT54 | B28: DC2DT54 | F28: 204 | G28: Đồ án Điện tử tương tự | H28: 2 | K28: 90 | L28: 0 | M28: VĐ | O28: Điện - Điện tử | P28: CÔNG NGHỆ THÔNG TIN | Q28: =_DL_BM -> TTDT | R28: =_DL_Khoa -> CNTT | S28: =+R28&"-"&Q28 -> CNTT-TTDT | AE28: x
A29: DC3ME53 | F29: 832 | G29: Đồ án Hệ thống cơ điện tử | H29: 2 | K29: 90 | L29: 0 | M29: VĐ | O29: Điện - Điện tử | P29: CÔNG NGHỆ THÔNG TIN | Q29: =_DL_BM -> TTDT | R29: =_DL_Khoa -> CNTT | S29: =+R29&"-"&Q29 -> CNTT-TTDT
A30: DC3ME64 | F30: 830 | G30: Đồ án Kỹ thuật vi điều khiển | H30: 2 | K30: 90 | L30: 0 | M30: VĐ | O30: Điện - Điện tử | P30: CÔNG NGHỆ THÔNG TIN | Q30: =_DL_BM -> TTDT | R30: =_DL_Khoa -> CNTT | S30: =+R30&"-"&Q30 -> CNTT-TTDT
A31: DC3DT62 | B31: DC3DT62 | F31: 556 | G31: Đồ án Mạng viễn thông | H31: 2 | K31: 90 | L31: 0 | M31: VĐ | O31: Điện - Điện tử | P31: CÔNG NGHỆ THÔNG TIN | Q31: =_DL_BM -> TTDT | R31: =_DL_Khoa -> CNTT | S31: =+R31&"-"&Q31 -> CNTT-TTDT | AE31: x
A32: DC2CK42 | F32: 841 | G32: Động cơ điện | H32: 2 | L32: 0 | O32: Điện - Điện tử | P32: CÔNG NGHỆ THÔNG TIN | Q32: =_DL_BM -> TTDT | R32: =_DL_Khoa -> CNTT | S32: =+R32&"-"&Q32 -> CNTT-TTDT
A33: DC3DT84 | B33: DC3DT84 | D33: CC3DT84 | F33: 630 | G33: Giao tiếp máy tính và thu nhận dữ liệu | H33: 2 | I33: 30 | L33: 0 | M33: Viết | N33: 60 | O33: Điện - Điện tử | P33: CÔNG NGHỆ THÔNG TIN | Q33: =_DL_BM -> TTDT | R33: =_DL_Khoa -> CNTT | S33: =+R33&"-"&Q33 -> CNTT-TTDT | AE33: o | AX33: x
A34: DC3ME51 | F34: 831 | G34: Hệ thống cơ điện tử | H34: 3 | I34: 45 | L34: 0 | O34: Điện - Điện tử | P34: CÔNG NGHỆ THÔNG TIN | Q34: =_DL_BM -> TTDT | R34: =_DL_Khoa -> CNTT | S34: =+R34&"-"&Q34 -> CNTT-TTDT
A35: DC3ME73 | F35: 834 | G35: Hệ thống giao thông thông minh ITS | H35: 2 | I35: 30 | L35: 0 | O35: Điện - Điện tử | P35: CÔNG NGHỆ THÔNG TIN | Q35: =_DL_BM -> TTDT | R35: =_DL_Khoa -> CNTT | S35: =+R35&"-"&Q35 -> CNTT-TTDT
A36: DC3DT83 | B36: DC3DT83 | D36: CC3DT83 | F36: 629 | G36: Hệ thống nhúng | H36: 2 | I36: 30 | L36: 0 | M36: Viết | N36: 60 | O36: Điện - Điện tử | P36: CÔNG NGHỆ THÔNG TIN | Q36: =_DL_BM -> TTDT | R36: =_DL_Khoa -> CNTT | S36: =+R36&"-"&Q36 -> CNTT-TTDT | AE36: o | AX36: x
A37: DC3DT63 | B37: DC3DT63 | F37: 552 | G37: Hệ thống viễn thông | H37: 3 | I37: 45 | L37: 0 | O37: Điện - Điện tử | P37: CÔNG NGHỆ THÔNG TIN | Q37: =_DL_BM -> TTDT | R37: =_DL_Khoa -> CNTT | S37: =+R37&"-"&Q37 -> CNTT-TTDT | AE37: x
A38: DC1TH47 | B38: DC1TH47 | D38: CC1TH47 | F38: 51 | G38: Kỹ thuật điện | H38: 2 | I38: 30 | L38: 0 | M38: Viết | N38: 60 | O38: Điện - Điện tử | P38: CÔNG NGHỆ THÔNG TIN | Q38: =_DL_BM -> TTDT | R38: =_DL_Khoa -> CNTT | S38: =+R38&"-"&Q38 -> CNTT-TTDT | AE38: o | AX38: o
A39: DC1TH46 | F39: 50 | G39: Kỹ thuật điện - Điện tử | H39: 2 | I39: 15 | J39: 30 | L39: 0 | M39: Viết | N39: 60 | O39: Điện - Điện tử | P39: CÔNG NGHỆ THÔNG TIN | Q39: =_DL_BM -> TTDT | R39: =_DL_Khoa -> CNTT | S39: =+R39&"-"&Q39 -> CNTT-TTDT | AF39: o
A40: DC2CK41 | F40: 102 | G40: Kỹ thuật điện - Điện tử | H40: 4 | I40: 45 | J40: 30 | L40: 0 | M40: Viết | N40: 90 | O40: Điện - Điện tử | P40: CÔNG NGHỆ THÔNG TIN | Q40: =_DL_BM -> TTDT | R40: =_DL_Khoa -> CNTT | S40: =+R40&"-"&Q40 -> CNTT-TTDT | AA40: x | AB40: x | AC40: x | AD40: x
...

Sheet LICH THI
G1: 7 | H1: 8 | I1: 13 | J1: 14 | M1: Số lượt GV huy động | Q1: =Q3-Q2 -> 46 | R1: =R3-R2 -> 108 | S1: =S3-S2 -> 12 | T1: =T3-T2 -> 146 | U1: =U3-U2 -> 36 | V1: =V3-V2 -> 154 | W1: =W3-W2 -> 36 | X1: =SUM(Q1:W1) -> 538 | AJ1: 1 | AK1: =SUMIF(M:M,AJ1,W:W) -> 0 | AP1: 17 | AQ1: 18 | AU1: 20 | AV1: =+AU1+1 -> 21 | AW1: =+AV1+1 -> 22 | AX1: =+AW1+1 -> 23 | AY1: =+AX1+1 -> 24 | AZ1: =+AY1+1 -> 25 | BA1: =+AZ1+1 -> 26 | BB1: =+BA1+1 -> 27 | BC1: =+BB1+1 -> 28 | ... BM1: =+BL1+1 -> 38 | BN1: 39 | BO1: =+BN1+1 -> 40 | BP1: =+BO1+1 -> 41 | BQ1: =+BP1+1 -> 42 | BR1: =+BQ1+1 -> 43 | BS1: =+BR1+1 -> 44 | BT1: =+BS1+1 -> 45 | BU1: =+BT1+1 -> 46 | BV1: =+BU1+1 -> 47 | ... CF1: =+CE1+1 -> 57
A2: _Ngay_gio | B2: _Gio | D2: _stt | G2: _Loc | H2: _Loc | L2: Số SV/Phòng tiêu chuẩn | O2: 45 | P2: _sophong | Q2: =SUM(Q10:Q242) -> 0 | R2: =SUM(R10:R242) -> 0 | S2: =SUM(S10:S242) -> 0 | T2: =SUM(T10:T242) -> 0 | U2: =SUM(U10:U242) -> 0 | V2: =SUM(V10:V242) -> 0 | W2: =SUM(W10:W242) -> 0 | X2: =SUM(Q2:W2) -> 0 | Y2: _Ngaycham | Z2: _Nopdiem | AI2: _Ngay | AJ2: 2 | AK2: =SUMIF(M:M,AJ2,W:W) -> 0
L3: Số SV/Phòng tối thiểu | O3: 10 | P3: =SUM(P10:P242) -> 269 | Q3: =SUMIF($AQ$10:$AQ$242,Q9,$P$10:$P$242)*2 -> 46 | R3: =SUMIF($AQ$10:$AQ$242,R9,$P$10:$P$242)*2 -> 108 | S3: =SUMIF($AQ$10:$AQ$242,S9,$P$10:$P$242)*2 -> 12 | T3: =SUMIF($AQ$10:$AQ$242,T9,$P$10:$P$242)*2 -> 146 | U3: =SUMIF($AQ$10:$AQ$242,U9,$P$10:$P$242)*2 -> 36 | V3: =SUMIF($AQ$10:$AQ$242,V9,$P$10:$P$242)*2 -> 154 | W3: =SUMIF($AQ$10:$AQ$242,W9,$P$10:$P$242)*2 -> 36 | X3: =SUM(Q3:W3) -> 538 | AJ3: 3 | AK3: =SUMIF(M:M,AJ3,W:W) -> 0
E4: TRƯỜNG ĐẠI HỌC CÔNG NGHỆ GTVT | I4: LỊCH THI CẢI THIỆN HỌC KỲ 1 - NĂM HỌC 2015-2016 | AJ4: 4 | AK4: =SUMIF(M:M,AJ4,W:W) -> 0
E5: PHÒNG ĐẢM BẢO CHẤT LƯỢNG ĐÀO TẠO
A6: 42156 | T6: (Kèm theo Thông báo số /TB-ĐHCNGTVT ngày / /2015 của Hiệu trưởng Trường ĐHCN GTVT)
A7: 42174 | C7: NHẬP DỮ LIỆU CỘT NÀY | D7: S T T | E7: Hệ đào tạo - Khóa | F7: Mã học phần | G7: Tên học phần | H7: Số TC | I7: Hình thức thi | J7: Thời gian thi | K7: THI LẦN 1 | Q7: KẾ HOẠCH COI, CHẤM THI LẦN 1 | AA7: GHI CHÚ
A8: 42181 | K8: Ngày thi | M8: Ca thi | N8: Tổng số SV | O8: Số SV/phg | P8: Số phòng | Q8: Phân công GV coi thi | Y8: Thời gian
Q9: LLCT | R9: KHCB | S9: CSKT | T9: KCT | U9: KCK | V9: KTVT | W9: CNTT | X9: Tổng | Y9: Bắt đầu chấm thi | Z9: Nộp bảng điểm | AA9: (Ghép phòng) | AC9: B | AI9: Bộ đề thi | AJ9: Ngân hàng câu hỏi | AN9: Số SV | AO9: Số phòng thi | AT9: TN | AU9: DCCA | AV9: DCCC | AW9: DCCD | AX9: DCCS | AY9: DCDB | AZ9: DCDD | BA9: DCCDA | BB9: DCOT | BC9: DCMX | BD9: DCMT | BE9: DCDM | BF9: DTDT | BG9: DCHT | BH9: DCKT | BI9: DCQT | BJ9: DCKX | BK9: DCVB | BL9: DCVS | BM9: DCVL | BN9: CCCA | BO9: CCCC | BP9: CCCD | BQ9: CCCS | BR9: CCDB | BS9: CCDD | BT9: CCCDA | BU9: CCOT | BV9: CCMX | BW9: CCMT | BX9: CCDM | BY9: CCDT | BZ9: CCTH | CA9: CCKT | CB9: CCQT | CC9: CCKX | CD9: CCVB | CE9: CCVS | CF9: CCVL
A10: =_L_NgayGio -> 42469.292 | B10: =_L_Gio -> 7:00 | C10: DC1CB32-DC | D10: =_L_stt -> 1 | E10: =_L_LocHe -> DC | F10: =_L_MaHP -> DC1CB32 | G10: =_L_Loc -> Tiếng Anh 2 | H10: =_L_Loc -> 4 | I10: =_L_Loc -> Viết | J10: =_L_Loc -> 60 | K10: 42469 | L10: =_L_Ngay -> (Thứ 7) | M10: 1 | N10: =_L_SoSV -> 172 | O10: =_L_SV_P -> 45 | P10: =_L_sophong -> 4 | X10: =SUM(Q10:W10) -> 0 | Y10: =_L_NgayCham -> 42470 | Z10: =_L_NopDiem -> 42476 | AM10: =COUNTIF(F$10:F$243,F10) -> 2 | AN10: =X10-2*P10 -> -8 | AO10: =_L_SV_Pcuoi -> 37 | AP10: =_L_Loc -> CBNN | AQ10: =_L_Loc -> KHCB | AR10: =X10-2*P10 -> -8 | AS10: =+N10/O10 -> 3.8222222 | AU10: =_L_Loc -> x | AV10: =_L_Loc -> x | AW10: =_L_Loc -> x | AX10: =_L_Loc -> x | AY10: =_L_Loc -> x | AZ10: =_L_Loc -> x | BA10: =_L_Loc -> x | BB10: =_L_Loc -> x | ... CF10: =_L_Loc -> 0
A11: =_L_NgayGio -> 42469.292 | B11: =_L_Gio -> 7:00 | C11: CC1LL01-CC | D11: =_L_stt -> 2 | E11: =_L_LocHe -> CC | F11: =_L_MaHP -> CC1LL01 | G11: =_L_Loc -> Những nguyên lý cơ bản của chủ nghĩa Mác - Lênin 1 | H11: =_L_Loc -> 2 | I11: =_L_Loc -> Viết | J11: =_L_Loc -> 75 | K11: 42469 | L11: =_L_Ngay -> (Thứ 7) | M11: 1 | N11: =_L_SoSV -> 26 | O11: =_L_SV_P -> 26 | P11: =_L_sophong -> 1 | X11: =SUM(Q11:W11) -> 0 | Y11: =_L_NgayCham -> 42470 | Z11: =_L_NopDiem -> 42476 | AM11: =COUNTIF(F$10:F$243,F11) -> 1 | AN11: =X11-2*P11 -> -2 | AO11: =_L_SV_Pcuoi -> 26 | AP11: =_L_Loc -> LLNL | AQ11: =_L_Loc -> LLCT | AR11: =X11-2*P11 -> -2 | AS11: =+N11/O11 -> 1 | AU11: =_L_Loc -> x | AV11: =_L_Loc -> x | AW11: =_L_Loc -> x | AX11: =_L_Loc -> x | AY11: =_L_Loc -> x | AZ11: =_L_Loc -> x | BA11: =_L_Loc -> x | BB11: =_L_Loc -> x | ... BM11: =_L_Loc -> x
A12: =_L_NgayGio -> 42469.292 | B12: =_L_Gio -> 7:00 | C12: DC1CB32-DL | D12: =_L_stt -> 3 | E12: =_L_LocHe -> DL | F12: =_L_MaHP -> DC1CB32 | G12: =_L_Loc -> Tiếng Anh 2 | H12: =_L_Loc -> 4 | I12: =_L_Loc -> Viết | J12: =_L_Loc -> 60 | K12: 42469 | L12: =_L_Ngay -> (Thứ 7) | M12: 1 | N12: =_L_SoSV -> 54 | O12: =_L_SV_P -> 53 | P12: =_L_sophong -> 2 | X12: =SUM(Q12:W12) -> 0 | Y12: =_L_NgayCham -> 42470 | Z12: =_L_NopDiem -> 42476 | AM12: =COUNTIF(F$10:F$243,F12) -> 2 | AN12: =X12-2*P12 -> -4 | AO12: =_L_SV_Pcuoi -> 1 | AP12: =_L_Loc -> CBNN | AQ12: =_L_Loc -> KHCB | AR12: =X12-2*P12 -> -4 | AS12: =+N12/O12 -> 1.0188679 | AU12: =_L_Loc -> x | AV12: =_L_Loc -> x | AW12: =_L_Loc -> x | AX12: =_L_Loc -> x | AY12: =_L_Loc -> x | AZ12: =_L_Loc -> x | BA12: =_L_Loc -> x | BB12: =_L_Loc -> x | ... CF12: =_L_Loc -> 0
A13: =_L_NgayGio -> 42469.292 | B13: =_L_Gio -> 7:00 | C13: DL2CO21-DL | D13: =_L_stt -> 4 | E13: =_L_LocHe -> DL | F13: =_L_MaHP -> DL2CO21 | G13: =_L_Loc -> Cơ học cơ sở | H13: =_L_Loc -> 2 | I13: =_L_Loc -> Viết | J13: =_L_Loc -> 60 | K13: 42469 | L13: =_L_Ngay -> (Thứ 7) | M13: 1 | N13: =_L_SoSV -> 31 | O13: =_L_SV_P -> 31 | P13: =_L_sophong -> 1 | X13: =SUM(Q13:W13) -> 0 | Y13: =_L_NgayCham -> 42470 | Z13: =_L_NopDiem -> 42476 | AM13: =COUNTIF(F$10:F$243,F13) -> 1 | AN13: =X13-2*P13 -> -2 | AO13: =_L_SV_Pcuoi -> 31 | AP13: =_L_Loc -> CSCO | AQ13: =_L_Loc -> CSKT | AR13: =X13-2*P13 -> -2 | AS13: =+N13/O13 -> 1 | AU13: =_L_Loc -> 0 | AV13: =_L_Loc -> 0 | AW13: =_L_Loc -> 0 | AX13: =_L_Loc -> 0 | AY13: =_L_Loc -> 0 | AZ13: =_L_Loc -> 0 | BA13: =_L_Loc -> 0 | BB13: =_L_Loc -> 0 | ... CF13: =_L_Loc -> 0
A14: =_L_NgayGio -> 42469.292 | B14: =_L_Gio -> 7:00 | C14: DL2DD33-DL | D14: =_L_stt -> 5 | E14: =_L_LocHe -> DL | F14: =_L_MaHP -> DL2DD33 | G14: =_L_Loc -> Nền và móng | H14: =_L_Loc -> 2 | I14: =_L_Loc -> Viết | J14: =_L_Loc -> 60 | K14: 42469 | L14: =_L_Ngay -> (Thứ 7) | M14: 1 | N14: =_L_SoSV -> 10 | O14: =_L_SV_P -> 10 | P14: =_L_sophong -> 1 | X14: =SUM(Q14:W14) -> 0 | Y14: =_L_NgayCham -> 42470 | Z14: =_L_NopDiem -> 42476 | AM14: =COUNTIF(F$10:F$243,F14) -> 1 | AN14: =X14-2*P14 -> -2 | AO14: =_L_SV_Pcuoi -> 10 | AP14: =_L_Loc -> CTDD | AQ14: =_L_Loc -> KCT | AR14: =X14-2*P14 -> -2 | AS14: =+N14/O14 -> 1 | AU14: =_L_Loc -> 0 | AV14: =_L_Loc -> 0 | AW14: =_L_Loc -> 0 | AX14: =_L_Loc -> 0 | AY14: =_L_Loc -> 0 | AZ14: =_L_Loc -> 0 | BA14: =_L_Loc -> 0 | BB14: =_L_Loc -> 0 | ... BM14: =_L_Loc -> 0
A15: =_L_NgayGio -> 42469.292 | B15: =_L_Gio -> 7:00 | C15: DC3DB61-DC | D15: =_L_stt -> 6 | E15: =_L_LocHe -> DC | F15: =_L_MaHP -> DC3DB61 | G15: =_L_Loc -> Quản lý khai thác và kiểm định đường | H15: =_L_Loc -> 2 | I15: =_L_Loc -> Viết | J15: =_L_Loc -> 75 | K15: 42469 | L15: =_L_Ngay -> (Thứ 7) | M15: 1 | N15: =_L_SoSV -> 9 | O15: =_L_SV_P -> 9 | P15: =_L_sophong -> 1 | X15: =SUM(Q15:W15) -> 0 | Y15: =_L_NgayCham -> 42470 | Z15: =_L_NopDiem -> 42476 | AM15: =COUNTIF(F$10:F$243,F15) -> 1 | AN15: =X15-2*P15 -> -2 | AO15: =_L_SV_Pcuoi -> 9 | AP15: =_L_Loc -> CTDB | AQ15: =_L_Loc -> KCT | AR15: =X15-2*P15 -> -2 | AS15: =+N15/O15 -> 1 | AU15: =_L_Loc -> 0 | AV15: =_L_Loc -> 0 | AW15: =_L_Loc -> x | AX15: =_L_Loc -> 0 | AY15: =_L_Loc -> 0 | AZ15: =_L_Loc -> 0 | BA15: =_L_Loc -> x | BB15: =_L_Loc -> 0 | ... BM15: =_L_Loc -> 0
A16: =_L_NgayGio -> 42469.375 | B16: =_L_Gio -> 9:00 | C16: DC1CB31-DC | D16: =_L_stt -> 7 | E16: =_L_LocHe -> DC | F16: =_L_MaHP -> DC1CB31 | G16: =_L_Loc -> Tiếng Anh 1 | H16: =_L_Loc -> 4 | I16: =_L_Loc -> Viết | J16: =_L_Loc -> 60 | K16: 42469 | L16: =_L_Ngay -> (Thứ 7) | M16: 2 | N16: =_L_SoSV -> 597 | O16: =_L_SV_P -> 45 | P16: =_L_sophong -> 14 | X16: =SUM(Q16:W16) -> 0 | Y16: =_L_NgayCham -> 42470 | Z16: =_L_NopDiem -> 42476 | AM16: =COUNTIF(F$10:F$243,F16) -> 1 | AN16: =X16-2*P16 -> -28 | AO16: =_L_SV_Pcuoi -> 12 | AP16: =_L_Loc -> CBNN | AQ16: =_L_Loc -> KHCB | AR16: =X16-2*P16 -> -28 | AS16: =+N16/O16 -> 13.266667 | AU16: =_L_Loc -> x | AV16: =_L_Loc -> x | AW16: =_L_Loc -> x | AX16: =_L_Loc -> x | AY16: =_L_Loc -> x | AZ16: =_L_Loc -> x | BA16: =_L_Loc -> x | BB16: =_L_Loc -> x | ... BM16: =_L_Loc -> x
A17: =_L_NgayGio -> 42469.375 | B17: =_L_Gio -> 9:00 | C17: CC1LL02-CC | D17: =_L_stt -> 8 | E17: =_L_LocHe -> CC | F17: =_L_MaHP -> CC1LL02 | G17: =_L_Loc -> Những nguyên lý cơ bản của chủ nghĩa Mác - Lênin 2 | H17: =_L_Loc -> 3 | I17: =_L_Loc -> Viết | J17: =_L_Loc -> 90 | K17: 42469 | L17: =_L_Ngay -> (Thứ 7) | M17: 2 | N17: =_L_SoSV -> 25 | O17: =_L_SV_P -> 25 | P17: =_L_sophong -> 1 | X17: =SUM(Q17:W17) -> 0 | Y17: =_L_NgayCham -> 42470 | Z17: =_L_NopDiem -> 42476 | AM17: =COUNTIF(F$10:F$243,F17) -> 1 | AN17: =X17-2*P17 -> -2 | AO17: =_L_SV_Pcuoi -> 25 | AP17: =_L_Loc -> LLNL | AQ17: =_L_Loc -> LLCT | AR17: =X17-2*P17 -> -2 | AS17: =+N17/O17 -> 1 | AU17: =_L_Loc -> x | AV17: =_L_Loc -> x | AW17: =_L_Loc -> x | AX17: =_L_Loc -> x | AY17: =_L_Loc -> x | AZ17: =_L_Loc -> x | BA17: =_L_Loc -> x | BB17: =_L_Loc -> x | ... BM17: =_L_Loc -> x
A18: =_L_NgayGio -> 42469.375 | B18: =_L_Gio -> 9:00 | C18: DL2CT27-DL | D18: =_L_stt -> 9 | E18: =_L_LocHe -> DL | F18: =_L_MaHP -> DL2CT27 | G18: =_L_Loc -> Cơ học kết cấu | H18: =_L_Loc -> 2 | I18: =_L_Loc -> VĐ | J18: =_L_Loc -> 0 | K18: 42469 | L18: =_L_Ngay -> (Thứ 7) | M18: 2 | N18: =_L_SoSV -> 10 | O18: =_L_SV_P -> 0 | P18: =_L_sophong | X18: =SUM(Q18:W18) -> 0 | Y18: =_L_NgayCham -> 42469 | Z18: =_L_NopDiem -> 42471 | AM18: =COUNTIF(F$10:F$243,F18) -> 1 | AN18: =X18-2*P18 -> #VALUE! | AO18: =_L_SV_Pcuoi | AP18: =_L_Loc -> CTKC | AQ18: =_L_Loc -> KCT | AR18: =X18-2*P18 -> #VALUE! | AS18: =+N18/O18 -> #DIV/0! | AU18: =_L_Loc -> 0 | AV18: =_L_Loc -> 0 | AW18: =_L_Loc -> 0 | AX18: =_L_Loc -> 0 | AY18: =_L_Loc -> 0 | AZ18: =_L_Loc -> 0 | BA18: =_L_Loc -> 0 | BB18: =_L_Loc -> 0 | ... BM18: =_L_Loc -> 0
A19: =_L_NgayGio -> 42469.375 | B19: =_L_Gio -> 9:00 | C19: DL3CD61-DL | D19: =_L_stt -> 10 | E19: =_L_LocHe -> DL | F19: =_L_MaHP -> DL3CD61 | G19: =_L_Loc -> Quản lý, khai thác và kiểm định công trình cầu, đường | H19: =_L_Loc -> 2 | I19: =_L_Loc -> Viết | J19: =_L_Loc -> 75 | K19: 42469 | L19: =_L_Ngay -> (Thứ 7) | M19: 2 | N19: =_L_SoSV -> 52 | O19: =_L_SV_P -> 52 | P19: =_L_sophong -> 1 | X19: =SUM(Q19:W19) -> 0 | Y19: =_L_NgayCham -> 42470 | Z19: =_L_NopDiem -> 42476 | AM19: =COUNTIF(F$10:F$243,F19) -> 1 | AN19: =X19-2*P19 -> -2 | AO19: =_L_SV_Pcuoi -> 52 | AP19: =_L_Loc -> CTDB | AQ19: =_L_Loc -> KCT | AR19: =X19-2*P19 -> -2 | AS19: =+N19/O19 -> 1 | AU19: =_L_Loc -> 0 | AV19: =_L_Loc -> 0 | AW19: =_L_Loc -> 0 | AX19: =_L_Loc -> 0 | AY19: =_L_Loc -> 0 | AZ19: =_L_Loc -> 0 | BA19: =_L_Loc -> 0 | BB19: =_L_Loc -> 0 | ... CF19: =_L_Loc -> 0
A20: =_L_NgayGio -> 42469.542 | B20: =_L_Gio -> 13:00 | C20: DC1LL01-DC | D20: =_L_stt -> 11 | E20: =_L_LocHe -> DC | F20: =_L_MaHP -> DC1LL01 | G20: =_L_Loc -> Những nguyên lý cơ bản của chủ nghĩa Mác - Lênin 1 | H20: =_L_Loc -> 2 | I20: =_L_Loc -> Viết | J20: =_L_Loc -> 75 | K20: 42469 | L20: =_L_Ngay -> (Thứ 7) | M20: 3 | N20: =_L_SoSV -> 198 | O20: =_L_SV_P -> 45 | P20: =_L_sophong -> 5 | X20: =SUM(Q20:W20) -> 0 | Y20: =_L_NgayCham -> 42470 | Z20: =_L_NopDiem -> 42476 | AM20: =COUNTIF(F$10:F$243,F20) -> 1 | AN20: =X20-2*P20 -> -10 | AO20: =_L_SV_Pcuoi -> 18 | AP20: =_L_Loc -> LLNL | AQ20: =_L_Loc -> LLCT | AR20: =X20-2*P20 -> -10 | AS20: =+N20/O20 -> 4.4 | AU20: =_L_Loc -> x | AV20: =_L_Loc -> x | AW20: =_L_Loc -> x | AX20: =_L_Loc -> x | AY20: =_L_Loc -> x | AZ20: =_L_Loc -> x | BA20: =_L_Loc -> x | BB20: =_L_Loc -> x | ... CF20: =_L_Loc -> 0
A21: =_L_NgayGio -> 42469.542 | B21: =_L_Gio -> 13:00 | C21: CC1CB31-CC | D21: =_L_stt -> 12 | E21: =_L_LocHe -> CC | F21: =_L_MaHP -> CC1CB31 | G21: =_L_Loc -> Tiếng Anh 1 | H21: =_L_Loc -> 4 | I21: =_L_Loc -> Viết | J21: =_L_Loc -> 60 | K21: 42469 | L21: =_L_Ngay -> (Thứ 7) | M21: 3 | N21: =_L_SoSV -> 27 | O21: =_L_SV_P -> 27 | P21: =_L_sophong -> 1 | X21: =SUM(Q21:W21) -> 0 | Y21: =_L_NgayCham -> 42470 | Z21: =_L_NopDiem -> 42476 | AM21: =COUNTIF(F$10:F$243,F21) -> 1 | AN21: =X21-2*P21 -> -2 | AO21: =_L_SV_Pcuoi -> 27 | AP21: =_L_Loc -> CBNN | AQ21: =_L_Loc -> KHCB | AR21: =X21-2*P21 -> -2 | AS21: =+N21/O21 -> 1 | AU21: =_L_Loc -> 0 | AV21: =_L_Loc -> 0 | AW21: =_L_Loc -> 0 | AX21: =_L_Loc -> 0 | AY21: =_L_Loc -> 0 | AZ21: =_L_Loc -> 0 | BA21: =_L_Loc -> 0 | BB21: =_L_Loc -> 0 | ... BM21: =_L_Loc -> 0
A22: =_L_NgayGio -> 42469.542 | B22: =_L_Gio -> 13:00 | C22: DL1CB22-DL | D22: =_L_stt -> 13 | E22: =_L_LocHe -> DL | F22: =_L_MaHP -> DL1CB22 | G22: =_L_Loc -> Vật lý đại cương 2 | H22: =_L_Loc -> 3 | I22: =_L_Loc -> Viết | J22: =_L_Loc -> 60 | K22: 42469 | L22: =_L_Ngay -> (Thứ 7) | M22: 3 | N22: =_L_SoSV -> 26 | O22: =_L_SV_P -> 26 | P22: =_L_sophong -> 1 | X22: =SUM(Q22:W22) -> 0 | Y22: =_L_NgayCham -> 42470 | Z22: =_L_NopDiem -> 42476 | AM22: =COUNTIF(F$10:F$243,F22) -> 1 | AN22: =X22-2*P22 -> -2 | AO22: =_L_SV_Pcuoi -> 26 | AP22: =_L_Loc -> CBLY | AQ22: =_L_Loc -> KHCB | AR22: =X22-2*P22 -> -2 | AS22: =+N22/O22 -> 1 | AU22: =_L_Loc -> 0 | AV22: =_L_Loc -> 0 | AW22: =_L_Loc -> 0 | AX22: =_L_Loc -> 0 | AY22: =_L_Loc -> 0 | AZ22: =_L_Loc -> 0 | BA22: =_L_Loc -> 0 | BB22: =_L_Loc -> 0 | ... BM22: =_L_Loc -> 0
A23: =_L_NgayGio -> 42469.542 | B23: =_L_Gio -> 13:00 | C23: DL2GT61-DL | D23: =_L_stt -> 14 | E23: =_L_LocHe -> DL | F23: =_L_MaHP -> DL2GT61 | G23: =_L_Loc -> Thủy lực - Thủy văn công trình | H23: =_L_Loc -> 2 | I23: =_L_Loc -> Viết | J23: =_L_Loc -> 90 | K23: 42469 | L23: =_L_Ngay -> (Thứ 7) | M23: 3 | N23: =_L_SoSV -> 6 | O23: =_L_SV_P -> 6 | P23: =_L_sophong -> 1 | X23: =SUM(Q23:W23) -> 0 | Y23: =_L_NgayCham -> 42470 | Z23: =_L_NopDiem -> 42476 | AM23: =COUNTIF(F$10:F$243,F23) -> 1 | AN23: =X23-2*P23 -> -2 | AO23: =_L_SV_Pcuoi -> 6 | AP23: =_L_Loc -> CTMO | AQ23: =_L_Loc -> KCT | AR23: =X23-2*P23 -> -2 | AS23: =+N23/O23 -> 1 | AU23: =_L_Loc -> 0 | AV23: =_L_Loc -> 0 | AW23: =_L_Loc -> 0 | AX23: =_L_Loc -> 0 | AY23: =_L_Loc -> 0 | AZ23: =_L_Loc -> 0 | BA23: =_L_Loc -> 0 | BB23: =_L_Loc -> 0 | ... CF23: =_L_Loc -> 0
A24: =_L_NgayGio -> 42469.542 | B24: =_L_Gio -> 13:00 | C24: DC2GT34-DC | D24: =_L_stt -> 15 | E24: =_L_LocHe -> DC | F24: =_L_MaHP -> DC2GT34 | G24: =_L_Loc -> Đồ án Nền và móng | H24: =_L_Loc -> 1 | I24: =_L_Loc -> VĐ | J24: =_L_Loc -> 0 | K24: 42469 | L24: =_L_Ngay -> (Thứ 7) | M24: 3 | N24: =_L_SoSV -> 1 | O24: =_L_SV_P -> 0 | P24: =_L_sophong | X24: =SUM(Q24:W24) -> 0 | Y24: =_L_NgayCham -> 42469 | Z24: =_L_NopDiem -> 42471 | AM24: =COUNTIF(F$10:F$243,F24) -> 2 | AN24: =X24-2*P24 -> #VALUE! | AO24: =_L_SV_Pcuoi | AP24: =_L_Loc -> CTDK | AQ24: =_L_Loc -> KCT | AR24: =X24-2*P24 -> #VALUE! | AS24: =+N24/O24 -> #DIV/0! | AU24: =_L_Loc -> x | AV24: =_L_Loc -> x | AW24: =_L_Loc -> x | AX24: =_L_Loc -> x | AY24: =_L_Loc -> x | AZ24: =_L_Loc -> 0 | BA24: =_L_Loc -> x | BB24: =_L_Loc -> 0 | ... CF24: =_L_Loc -> 0
A25: =_L_NgayGio -> 42469.542 | B25: =_L_Gio -> 13:00 | C25: DC2GT34-DL | D25: =_L_stt -> 16 | E25: =_L_LocHe -> DL | F25: =_L_MaHP -> DC2GT34 | G25: =_L_Loc -> Đồ án Nền và móng | H25: =_L_Loc -> 1 | I25: =_L_Loc -> VĐ | J25: =_L_Loc -> 0 | K25: 42469 | L25: =_L_Ngay -> (Thứ 7) | M25: 3 | N25: =_L_SoSV -> 7 | O25: =_L_SV_P -> 0 | P25: =_L_sophong | X25: =SUM(Q25:W25) -> 0 | Y25: =_L_NgayCham -> 42469 | Z25: =_L_NopDiem -> 42471 | AM25: =COUNTIF(F$10:F$243,F25) -> 2 | AN25: =X25-2*P25 -> #VALUE! | AO25: =_L_SV_Pcuoi | AP25: =_L_Loc -> CTDK | AQ25: =_L_Loc -> KCT | AR25: =X25-2*P25 -> #VALUE! | AS25: =+N25/O25 -> #DIV/0! | AU25: =_L_Loc -> x | AV25: =_L_Loc -> x | AW25: =_L_Loc -> x | AX25: =_L_Loc -> x | AY25: =_L_Loc -> x | AZ25: =_L_Loc -> 0 | BA25: =_L_Loc -> x | BB25: =_L_Loc -> 0 | ... CF25: =_L_Loc -> 0
A26: =_L_NgayGio -> 42469.625 | B26: =_L_Gio -> 15:00 | C26: DC1LL02-DC | D26: =_L_stt -> 17 | E26: =_L_LocHe -> DC | F26: =_L_MaHP -> DC1LL02 | G26: =_L_Loc -> Những nguyên lý cơ bản của chủ nghĩa Mác - Lênin 2 | H26: =_L_Loc -> 3 | I26: =_L_Loc -> Viết | J26: =_L_Loc -> 90 | K26: 42469 | L26: =_L_Ngay -> (Thứ 7) | M26: 4 | N26: =_L_SoSV -> 165 | O26: =_L_SV_P -> 45 | P26: =_L_sophong -> 4 | X26: =SUM(Q26:W26) -> 0 | Y26: =_L_NgayCham -> 42470 | Z26: =_L_NopDiem -> 42476 | AM26: =COUNTIF(F$10:F$243,F26) -> 1 | AN26: =X26-2*P26 -> -8 | AO26: =_L_SV_Pcuoi -> 30 | AP26: =_L_Loc -> LLNL | AQ26: =_L_Loc -> LLCT | AR26: =X26-2*P26 -> -8 | AS26: =+N26/O26 -> 3.6666667 | AU26: =_L_Loc -> x | AV26: =_L_Loc -> x | AW26: =_L_Loc -> x | AX26: =_L_Loc -> x | AY26: =_L_Loc -> x | AZ26: =_L_Loc -> x | BA26: =_L_Loc -> x | BB26: =_L_Loc -> x | ... BM26: =_L_Loc -> x
A27: =_L_NgayGio -> 42469.625 | B27: =_L_Gio -> 15:00 | C27: CC1CB92-CC | D27: =_L_stt -> 18 | E27: =_L_LocHe -> CC | F27: =_L_MaHP -> CC1CB92 | G27: =_L_Loc -> Môi trường trong xây dựng | H27: =_L_Loc -> 2 | I27: =_L_Loc -> Viết | J27: =_L_Loc -> 90 | K27: 42469 | L27: =_L_Ngay -> (Thứ 7) | M27: 4 | N27: =_L_SoSV -> 25 | O27: =_L_SV_P -> 25 | P27: =_L_sophong -> 1 | X27: =SUM(Q27:W27) -> 0 | Y27: =_L_NgayCham -> 42470 | Z27: =_L_NopDiem -> 42476 | AM27: =COUNTIF(F$10:F$243,F27) -> 1 | AN27: =X27-2*P27 -> -2 | AO27: =_L_SV_Pcuoi -> 25 | AP27: =_L_Loc -> CTMO | AQ27: =_L_Loc -> KCT | AR27: =X27-2*P27 -> -2 | AS27: =+N27/O27 -> 1 | AU27: =_L_Loc -> o | AV27: =_L_Loc -> o | AW27: =_L_Loc -> o | AX27: =_L_Loc -> o | AY27: =_L_Loc -> o | AZ27: =_L_Loc -> o | BA27: =_L_Loc -> o | BB27: =_L_Loc -> 0 | ... CF27: =_L_Loc -> 0
A28: =_L_NgayGio -> 42469.625 | B28: =_L_Gio -> 15:00 | C28: DL2CO25-DL | D28: =_L_stt -> 19 | E28: =_L_LocHe -> DL | F28: =_L_MaHP -> DL2CO25 | G28: =_L_Loc -> Sức bền vật liệu | H28: =_L_Loc -> 2 | I28: =_L_Loc -> Viết | J28: =_L_Loc -> 60 | K28: 42469 | L28: =_L_Ngay -> (Thứ 7) | M28: 4 | N28: =_L_SoSV -> 24 | O28: =_L_SV_P -> 24 | P28: =_L_sophong -> 1 | X28: =SUM(Q28:W28) -> 0 | Y28: =_L_NgayCham -> 42470 | Z28: =_L_NopDiem -> 42476 | AM28: =COUNTIF(F$10:F$243,F28) -> 1 | AN28: =X28-2*P28 -> -2 | AO28: =_L_SV_Pcuoi -> 24 | AP28: =_L_Loc -> CSCO | AQ28: =_L_Loc -> CSKT | AR28: =X28-2*P28 -> -2 | AS28: =+N28/O28 -> 1 | AU28: =_L_Loc -> 0 | AV28: =_L_Loc -> 0 | AW28: =_L_Loc -> 0 | AX28: =_L_Loc -> 0 | AY28: =_L_Loc -> 0 | AZ28: =_L_Loc -> 0 | BA28: =_L_Loc -> 0 | BB28: =_L_Loc -> 0 | ... CF28: =_L_Loc -> 0
A29: =_L_NgayGio -> 42470.292 | B29: =_L_Gio -> 7:00 | C29: DC1LL05-DC | D29: =_L_stt -> 20 | E29: =_L_LocHe -> DC | F29: =_L_MaHP -> DC1LL05 | G29: =_L_Loc -> Pháp luật Việt Nam đại cương | H29: =_L_Loc -> 2 | I29: =_L_Loc -> Viết | J29: =_L_Loc -> 75 | K29: 42470 | L29: =_L_Ngay -> (Cnhật) | M29: 1 | N29: =_L_SoSV -> 160 | O29: =_L_SV_P -> 45 | P29: =_L_sophong -> 4 | X29: =SUM(Q29:W29) -> 0 | Y29: =_L_NgayCham -> 42471 | Z29: =_L_NopDiem -> 42477 | AM29: =COUNTIF(F$10:F$243,F29) -> 1 | AN29: =X29-2*P29 -> -8 | AO29: =_L_SV_Pcuoi -> 25 | AP29: =_L_Loc -> LLPL | AQ29: =_L_Loc -> LLCT | AR29: =X29-2*P29 -> -8 | AS29: =+N29/O29 -> 3.5555556 | AU29: =_L_Loc -> x | AV29: =_L_Loc -> x | AW29: =_L_Loc -> x | AX29: =_L_Loc -> x | AY29: =_L_Loc -> x | AZ29: =_L_Loc -> x | BA29: =_L_Loc -> x | BB29: =_L_Loc -> x | ... BM29: =_L_Loc -> x
A30: =_L_NgayGio -> 42470.292 | B30: =_L_Gio -> 7:00 | C30: CC3KV32-CC | D30: =_L_stt -> 21 | E30: =_L_LocHe -> CC | F30: =_L_MaHP -> CC3KV32 | G30: =_L_Loc -> Phân tích hoạt động kinh doanh | H30: =_L_Loc -> 3 | I30: =_L_Loc -> Viết | J30: =_L_Loc -> 75 | K30: 42470 | L30: =_L_Ngay -> (Cnhật) | M30: 1 | N30: =_L_SoSV -> 12 | O30: =_L_SV_P -> 12 | P30: =_L_sophong -> 1 | X30: =SUM(Q30:W30) -> 0 | Y30: =_L_NgayCham -> 42471 | Z30: =_L_NopDiem -> 42477 | AM30: =COUNTIF(F$10:F$243,F30) -> 1 | AN30: =X30-2*P30 -> -2 | AO30: =_L_SV_Pcuoi -> 12 | AP30: =_L_Loc -> KVQT | AQ30: =_L_Loc -> KTVT | AR30: =X30-2*P30 -> -2 | AS30: =+N30/O30 -> 1 | AU30: =_L_Loc -> 0 | AV30: =_L_Loc -> 0 | AW30: =_L_Loc -> 0 | AX30: =_L_Loc -> 0 | AY30: =_L_Loc -> 0 | AZ30: =_L_Loc -> 0 | BA30: =_L_Loc -> 0 | BB30: =_L_Loc -> 0 | ... BM30: =_L_Loc -> 0
A31: =_L_NgayGio -> 42470.292 | B31: =_L_Gio -> 7:00 | C31: CC1CB11-CC | D31: =_L_stt -> 22 | E31: =_L_LocHe -> CC | F31: =_L_MaHP -> CC1CB11 | G31: =_L_Loc -> Toán 1 | H31: =_L_Loc -> 4 | I31: =_L_Loc -> Viết | J31: =_L_Loc -> 90 | K31: 42470 | L31: =_L_Ngay -> (Cnhật) | M31: 1 | N31: =_L_SoSV -> 24 | O31: =_L_SV_P -> 24 | P31: =_L_sophong -> 1 | X31: =SUM(Q31:W31) -> 0 | Y31: =_L_NgayCham -> 42471 | Z31: =_L_NopDiem -> 42477 | AM31: =COUNTIF(F$10:F$243,F31) -> 1 | AN31: =X31-2*P31 -> -2 | AO31: =_L_SV_Pcuoi -> 24 | AP31: =_L_Loc -> CBTO | AQ31: =_L_Loc -> KHCB | AR31: =X31-2*P31 -> -2 | AS31: =+N31/O31 -> 1 | AU31: =_L_Loc -> x | AV31: =_L_Loc -> x | AW31: =_L_Loc -> x | AX31: =_L_Loc -> x | AY31: =_L_Loc -> x | AZ31: =_L_Loc -> x | BA31: =_L_Loc -> x | BB31: =_L_Loc -> x | ... CF31: =_L_Loc -> 0
A32: =_L_NgayGio -> 42470.292 | B32: =_L_Gio -> 7:00 | C32: DL3CA53-DL | D32: =_L_stt -> 23 | E32: =_L_LocHe -> DL | F32: =_L_MaHP -> DL3CA53 | G32: =_L_Loc -> Kỹ thuật thi công và tổ chức thi công cầu | H32: =_L_Loc -> 3 | I32: =_L_Loc -> Viết | J32: =_L_Loc -> 90 | K32: 42470 | L32: =_L_Ngay -> (Cnhật) | M32: 1 | N32: =_L_SoSV -> 28 | O32: =_L_SV_P -> 28 | P32: =_L_sophong -> 1 | X32: =SUM(Q32:W32) -> 0 | Y32: =_L_NgayCham -> 42471 | Z32: =_L_NopDiem -> 42477 | AM32: =COUNTIF(F$10:F$243,F32) -> 1 | AN32: =X32-2*P32 -> -2 | AO32: =_L_SV_Pcuoi -> 28 | AP32: =_L_Loc -> CTCA | AQ32: =_L_Loc -> KCT | AR32: =X32-2*P32 -> -2 | AS32: =+N32/O32 -> 1 | AU32: =_L_Loc -> 0 | AV32: =_L_Loc -> 0 | AW32: =_L_Loc -> 0 | AX32: =_L_Loc -> 0 | AY32: =_L_Loc -> 0 | AZ32: =_L_Loc -> 0 | BA32: =_L_Loc -> 0 | BB32: =_L_Loc -> 0 | ... CF32: =_L_Loc -> 0
A33: =_L_NgayGio -> 42470.292 | B33: =_L_Gio -> 7:00 | C33: CC2CK33-CC | D33: =_L_stt -> 24 | E33: =_L_LocHe -> CC | F33: =_L_MaHP -> CC2CK33 | G33: =_L_Loc -> Công nghệ kim loại | H33: =_L_Loc -> 3 | I33: =_L_Loc -> Viết | J33: =_L_Loc -> 90 | K33: 42470 | L33: =_L_Ngay -> (Cnhật) | M33: 1 | N33: =_L_SoSV -> 14 | O33: =_L_SV_P -> 14 | P33: =_L_sophong -> 1 | X33: =SUM(Q33:W33) -> 0 | Y33: =_L_NgayCham -> 42471 | Z33: =_L_NopDiem -> 42477 | AM33: =COUNTIF(F$10:F$243,F33) -> 1 | AN33: =X33-2*P33 -> -2 | AO33: =_L_SV_Pcuoi -> 14 | AP33: =_L_Loc -> KCK | AQ33: =_L_Loc -> KCK | AR33: =X33-2*P33 -> -2 | AS33: =+N33/O33 -> 1 | AU33: =_L_Loc -> 0 | AV33: =_L_Loc -> 0 | AW33: =_L_Loc -> 0 | AX33: =_L_Loc -> 0 | AY33: =_L_Loc -> 0 | AZ33: =_L_Loc -> 0 | BA33: =_L_Loc -> 0 | BB33: =_L_Loc -> x | ... BM33: =_L_Loc -> 0
A34: =_L_NgayGio -> 42470.375 | B34: =_L_Gio -> 9:00 | C34: DC1LL04-DC | D34: =_L_stt -> 25 | E34: =_L_LocHe -> DC | F34: =_L_MaHP -> DC1LL04 | G34: =_L_Loc -> Đường lối cách mạng của Đảng cộng sản Việt Nam | H34: =_L_Loc -> 3 | I34: =_L_Loc -> Viết | J34: =_L_Loc -> 90 | K34: 42470 | L34: =_L_Ngay -> (Cnhật) | M34: 2 | N34: =_L_SoSV -> 143 | O34: =_L_SV_P -> 48 | P34: =_L_sophong -> 3 | X34: =SUM(Q34:W34) -> 0 | Y34: =_L_NgayCham -> 42471 | Z34: =_L_NopDiem -> 42477 | AC34: =MOD(RIGHT(F34,2),O34) -> 4 | AM34: =COUNTIF(F$10:F$243,F34) -> 1 | AN34: =X34-2*P34 -> -6 | AO34: =_L_SV_Pcuoi -> 47 | AP34: =_L_Loc -> LLDL | AQ34: =_L_Loc -> LLCT | AR34: =X34-2*P34 -> -6 | AS34: =+N34/O34 -> 2.9791667 | AU34: =_L_Loc -> x | AV34: =_L_Loc -> x | AW34: =_L_Loc -> x | AX34: =_L_Loc -> x | AY34: =_L_Loc -> x | AZ34: =_L_Loc -> x | BA34: =_L_Loc -> x | BB34: =_L_Loc -> x | ... BM34: =_L_Loc -> x
A35: =_L_NgayGio -> 42470.375 | B35: =_L_Gio -> 9:00 | C35: DC2TH34-DC | D35: =_L_stt -> 26 | E35: =_L_LocHe -> DC | F35: =_L_MaHP -> DC2TH34 | G35: =_L_Loc -> Nhập môn chương trình dịch | H35: =_L_Loc -> 2 | I35: =_L_Loc -> Viết | J35: =_L_Loc -> 60 | K35: 42470 | L35: =_L_Ngay -> (Cnhật) | M35: 2 | N35: =_L_SoSV -> 15 | O35: =_L_SV_P -> 15 | P35: =_L_sophong -> 1 | X35: =SUM(Q35:W35) -> 0 | Y35: =_L_NgayCham -> 42471 | Z35: =_L_NopDiem -> 42477 | AM35: =COUNTIF(F$10:F$243,F35) -> 1 | AN35: =X35-2*P35 -> -2 | AO35: =_L_SV_Pcuoi -> 15 | AP35: =_L_Loc -> TTHT | AQ35: =_L_Loc -> CNTT | AR35: =X35-2*P35 -> -2 | AS35: =+N35/O35 -> 1 | AU35: =_L_Loc -> 0 | AV35: =_L_Loc -> 0 | AW35: =_L_Loc -> 0 | AX35: =_L_Loc -> 0 | AY35: =_L_Loc -> 0 | AZ35: =_L_Loc -> 0 | BA35: =_L_Loc -> 0 | BB35: =_L_Loc -> 0 | ... CF35: =_L_Loc -> 0
A36: =_L_NgayGio -> 42470.375 | B36: =_L_Gio -> 9:00 | C36: CC1LL03-CC | D36: =_L_stt -> 27 | E36: =_L_LocHe -> CC | F36: =_L_MaHP -> CC1LL03 | G36: =_L_Loc -> Tư tưởng Hồ Chí Minh | H36: =_L_Loc -> 2 | I36: =_L_Loc -> Viết | J36: =_L_Loc -> 75 | K36: 42470 | L36: =_L_Ngay -> (Cnhật) | M36: 2 | N36: =_L_SoSV -> 11 | O36: =_L_SV_P -> 11 | P36: =_L_sophong -> 1 | X36: =SUM(Q36:W36) -> 0 | Y36: =_L_NgayCham -> 42471 | Z36: =_L_NopDiem -> 42477 | AM36: =COUNTIF(F$10:F$243,F36) -> 1 | AN36: =X36-2*P36 -> -2 | AO36: =_L_SV_Pcuoi -> 11 | AP36: =_L_Loc -> LLTT | AQ36: =_L_Loc -> LLCT | AR36: =X36-2*P36 -> -2 | AS36: =+N36/O36 -> 1 | AU36: =_L_Loc -> 0 | AV36: =_L_Loc -> 0 | AW36: =_L_Loc -> 0 | AX36: =_L_Loc -> 0 | AY36: =_L_Loc -> 0 | AZ36: =_L_Loc -> 0 | BA36: =_L_Loc -> 0 | BB36: =_L_Loc -> 0 | ... BM36: =_L_Loc -> 0
A37: =_L_NgayGio -> 42470.375 | B37: =_L_Gio -> 9:00 | C37: DC3VL25-DC | D37: =_L_stt -> 28 | E37: =_L_LocHe -> DC | F37: =_L_MaHP -> DC3VL25 | G37: =_L_Loc -> Công nghệ vận tải 1 | H37: =_L_Loc -> 3 | I37: =_L_Loc -> Viết | J37: =_L_Loc -> 90 | K37: 42470 | L37: =_L_Ngay -> (Cnhật) | M37: 2 | N37: =_L_SoSV -> 14 | O37: =_L_SV_P -> 14 | P37: =_L_sophong -> 1 | X37: =SUM(Q37:W37) -> 0 | Y37: =_L_NgayCham -> 42471 | Z37: =_L_NopDiem -> 42477 | AM37: =COUNTIF(F$10:F$243,F37) -> 1 | AN37: =X37-2*P37 -> -2 | AO37: =_L_SV_Pcuoi -> 14 | AP37: =_L_Loc -> KVSB | AQ37: =_L_Loc -> KTVT | AR37: =X37-2*P37 -> -2 | AS37: =+N37/O37 -> 1 | AU37: =_L_Loc -> 0 | AV37: =_L_Loc -> 0 | AW37: =_L_Loc -> 0 | AX37: =_L_Loc -> 0 | AY37: =_L_Loc -> 0 | AZ37: =_L_Loc -> 0 | BA37: =_L_Loc -> 0 | BB37: =_L_Loc -> 0 | ... CF37: =_L_Loc -> 0
A38: =_L_NgayGio -> 42470.375 | B38: =_L_Gio -> 9:00 | C38: DL3KT21-DL | D38: =_L_stt -> 29 | E38: =_L_LocHe -> DL | F38: =_L_MaHP -> DL3KT21 | G38: =_L_Loc -> Kế toán tài chính | H38: =_L_Loc -> 2 | I38: =_L_Loc -> Viết | J38: =_L_Loc -> 90 | K38: 42470 | L38: =_L_Ngay -> (Cnhật) | M38: 2 | N38: =_L_SoSV -> 9 | O38: =_L_SV_P -> 9 | P38: =_L_sophong -> 1 | X38: =SUM(Q38:W38) -> 0 | Y38: =_L_NgayCham -> 42471 | Z38: =_L_NopDiem -> 42477 | AM38: =COUNTIF(F$10:F$243,F38) -> 1 | AN38: =X38-2*P38 -> -2 | AO38: =_L_SV_Pcuoi -> 9 | AP38: =_L_Loc -> KVKK | AQ38: =_L_Loc -> KTVT | AR38: =X38-2*P38 -> -2 | AS38: =+N38/O38 -> 1 | AU38: =_L_Loc -> 0 | AV38: =_L_Loc -> 0 | AW38: =_L_Loc -> 0 | AX38: =_L_Loc -> 0 | AY38: =_L_Loc -> 0 | AZ38: =_L_Loc -> 0 | BA38: =_L_Loc -> 0 | BB38: =_L_Loc -> 0 | ... BM38: =_L_Loc -> 0
A39: =_L_NgayGio -> 42470.375 | B39: =_L_Gio -> 9:00 | C39: DC2KX42-DC | D39: =_L_stt -> 30 | E39: =_L_LocHe -> DC | F39: =_L_MaHP -> DC2KX42 | G39: =_L_Loc -> Thiết kế cầu | H39: =_L_Loc -> 2 | I39: =_L_Loc -> Viết | J39: =_L_Loc -> 60 | K39: 42470 | L39: =_L_Ngay -> (Cnhật) | M39: 2 | N39: =_L_SoSV -> 15 | O39: =_L_SV_P -> 15 | P39: =_L_sophong -> 1 | X39: =SUM(Q39:W39) -> 0 | Y39: =_L_NgayCham -> 42471 | Z39: =_L_NopDiem -> 42477 | AM39: =COUNTIF(F$10:F$243,F39) -> 1 | AN39: =X39-2*P39 -> -2 | AO39: =_L_SV_Pcuoi -> 15 | AP39: =_L_Loc -> CTCA | AQ39: =_L_Loc -> KCT | AR39: =X39-2*P39 -> -2 | AS39: =+N39/O39 -> 1 | AU39: =_L_Loc -> 0 | AV39: =_L_Loc -> 0 | AW39: =_L_Loc -> 0 | AX39: =_L_Loc -> 0 | AY39: =_L_Loc -> 0 | AZ39: =_L_Loc -> 0 | BA39: =_L_Loc -> 0 | BB39: =_L_Loc -> 0 | ... CF39: =_L_Loc -> 0
A40: =_L_NgayGio -> 42470.375 | B40: =_L_Gio -> 9:00 | C40: CC1CB21-CC | D40: =_L_stt -> 31 | E40: =_L_LocHe -> CC | F40: =_L_MaHP -> CC1CB21 | G40: =_L_Loc -> Vật lý đại cương 1 | H40: =_L_Loc -> 3 | I40: =_L_Loc -> Viết | J40: =_L_Loc -> 90 | K40: 42470 | L40: =_L_Ngay -> (Cnhật) | M40: 2 | N40: =_L_SoSV -> 12 | O40: =_L_SV_P -> 12 | P40: =_L_sophong -> 1 | X40: =SUM(Q40:W40) -> 0 | Y40: =_L_NgayCham -> 42471 | Z40: =_L_NopDiem -> 42477 | AM40: =COUNTIF(F$10:F$243,F40) -> 1 | AN40: =X40-2*P40 -> -2 | AO40: =_L_SV_Pcuoi -> 12 | AP40: =_L_Loc -> CBLY | AQ40: =_L_Loc -> KHCB | AR40: =X40-2*P40 -> -2 | AS40: =+N40/O40 -> 1 | AU40: =_L_Loc -> 0 | AV40: =_L_Loc -> 0 | AW40: =_L_Loc -> 0 | AX40: =_L_Loc -> 0 | AY40: =_L_Loc -> 0 | AZ40: =_L_Loc -> 0 | BA40: =_L_Loc -> 0 | BB40: =_L_Loc -> 0 | ... BM40: =_L_Loc -> 0
...

Sheet Theo Ngay
C2: PHÂN CÔNG CB COI THI VIẾT THEO TỪNG CA THI
C3: ĐỢT 2 - ĐẠI HỌC, CAO ĐẲNG CHÍNH QUY - HK1 2015-2016
C5: STT | D5: Ngày | E5: Ca | F5: Số phòng | G5: LLCT | H5: KHCB | I5: CSKT | J5: KCT | K5: KCK | L5: KTVT | M5: CNTT | N5: Tổng | S5: Số phòng
A6: =_N_NgayGio -> #N/A | B6: =_N_Gio_ -> 7:00 | C6: 1 | D6: =MIN('LICH THI'!K:K) -> #N/A | E6: 1 | F6: =_N_CongSP_ -> 10 | G6: =_N_CongLLCT -> 0 | H6: =_N_CongKHCB -> 0 | I6: =_N_CongCSKT -> 0 | J6: =_N_CongKCT -> 0 | K6: =_N_CongKCK -> 0 | L6: =_N_CongKTVT -> 0 | M6: =_N_CongCNTT -> 0 | N6: =SUMIF('LICH THI'!$A:$A,'Theo Ngay'!$A6,'LICH THI'!X:X) -> 0 | O6: =IF(D6="","",CHOOSE(WEEKDAY(D6),"(Cnhật)","(Thứ 2)","(Thứ 3)","(Thứ 4)","(Thứ 5)","(Thứ 6)","(Thứ 7)")) -> #N/A | P6: =N6-2*F6 -> -20 | Q6: =SUMIF('LICH THI'!$A:$A,'Theo Ngay'!$A6,'LICH THI'!N:N) -> 268 | S6: 18 | T6: =+S6-F6 -> 8
A7: =_N_NgayGio -> #N/A | B7: =_N_Gio_ -> 9:00 | C7: =_N_stt -> 2 | D7: =D6 -> #N/A | E7: 2 | F7: =_N_CongSP_ -> 10 | G7: =_N_CongLLCT -> 0 | H7: =_N_CongKHCB -> 0 | I7: =_N_CongCSKT -> 0 | J7: =_N_CongKCT -> 0 | K7: =_N_CongKCK -> 0 | L7: =_N_CongKTVT -> 0 | M7: =_N_CongCNTT -> 0 | N7: =SUMIF('LICH THI'!$A:$A,'Theo Ngay'!$A7,'LICH THI'!X:X) -> 0 | P7: =N7-2*F7 -> -20 | Q7: =SUMIF('LICH THI'!$A:$A,'Theo Ngay'!$A7,'LICH THI'!N:N) -> 268 | S7: 21 | T7: =+S7-F7 -> 11
A8: =_N_NgayGio -> #N/A | B8: =_N_Gio_ -> 13:00 | C8: =_N_stt -> 3 | D8: =D7 -> #N/A | E8: 3 | F8: =_N_CongSP_ -> 10 | G8: =_N_CongLLCT -> 0 | H8: =_N_CongKHCB -> 0 | I8: =_N_CongCSKT -> 0 | J8: =_N_CongKCT -> 0 | K8: =_N_CongKCK -> 0 | L8: =_N_CongKTVT -> 0 | M8: =_N_CongCNTT -> 0 | N8: =SUMIF('LICH THI'!$A:$A,'Theo Ngay'!$A8,'LICH THI'!X:X) -> 0 | P8: =N8-2*F8 -> -20 | Q8: =SUMIF('LICH THI'!$A:$A,'Theo Ngay'!$A8,'LICH THI'!N:N) -> 268 | S8: 15 | T8: =+S8-F8 -> 5
A9: =_N_NgayGio -> #N/A | B9: =_N_Gio_ -> 15:00 | C9: =_N_stt -> 4 | D9: =D8 -> #N/A | E9: 4 | F9: =_N_CongSP_ -> 10 | G9: =_N_CongLLCT -> 0 | H9: =_N_CongKHCB -> 0 | I9: =_N_CongCSKT -> 0 | J9: =_N_CongKCT -> 0 | K9: =_N_CongKCK -> 0 | L9: =_N_CongKTVT -> 0 | M9: =_N_CongCNTT -> 0 | N9: =SUMIF('LICH THI'!$A:$A,'Theo Ngay'!$A9,'LICH THI'!X:X) -> 0 | P9: =N9-2*F9 -> -20 | Q9: =SUMIF('LICH THI'!$A:$A,'Theo Ngay'!$A9,'LICH THI'!N:N) -> 268 | S9: 2 | T9: =+S9-F9 -> -8
A10: =_Ngay_Gio_ -> #NAME? | B10: =_N_Gio_ -> 18:00 | C10: =_N_stt -> 5 | D10: =D9 -> #N/A | E10: 5 | F10: =_N_CongSP_ -> 0 | G10: =_N_CongLLCT -> 0 | H10: =_N_CongKHCB -> 0 | I10: =_N_CongCSKT -> 0 | J10: =_N_CongKCT -> 0 | K10: =_N_CongKCK -> 0 | L10: =_N_CongKTVT -> 0 | M10: =_N_CongCNTT -> 0 | N10: =SUMIF('LICH THI'!$A:$A,'Theo Ngay'!$A10,'LICH THI'!X:X) -> 0 | P10: =N10-2*F10 -> 0 | Q10: =SUMIF('LICH THI'!$A:$A,'Theo Ngay'!$A10,'LICH THI'!N:N) -> 0 | S10: 0 | T10: =+S10-F10 -> 0
A11: =_N_NgayGio -> #N/A | B11: =_N_Gio_ -> 7:00 | C11: =_N_stt -> 6 | D11: =+D6+1 -> #N/A | E11: 1 | F11: =_N_CongSP_ -> 10 | G11: =_N_CongLLCT -> 0 | H11: =_N_CongKHCB -> 0 | I11: =_N_CongCSKT -> 0 | J11: =_N_CongKCT -> 0 | K11: =_N_CongKCK -> 0 | L11: =_N_CongKTVT -> 0 | M11: =_N_CongCNTT -> 0 | N11: =SUMIF('LICH THI'!$A:$A,'Theo Ngay'!$A11,'LICH THI'!X:X) -> 0 | O11: =IF(D11="","",CHOOSE(WEEKDAY(D11),"(Cnhật)","(Thứ 2)","(Thứ 3)","(Thứ 4)","(Thứ 5)","(Thứ 6)","(Thứ 7)")) -> #N/A | P11: =N11-2*F11 -> -20 | Q11: =SUMIF('LICH THI'!$A:$A,'Theo Ngay'!$A11,'LICH THI'!N:N) -> 268 | S11: 8 | T11: =+S11-F11 -> -2
A12: =_N_NgayGio -> #N/A | B12: =_N_Gio_ -> 9:00 | C12: =_N_stt -> 7 | D12: =D11 -> #N/A | E12: 2 | F12: =_N_CongSP_ -> 10 | G12: =_N_CongLLCT -> 0 | H12: =_N_CongKHCB -> 0 | I12: =_N_CongCSKT -> 0 | J12: =_N_CongKCT -> 0 | K12: =_N_CongKCK -> 0 | L12: =_N_CongKTVT -> 0 | M12: =_N_CongCNTT -> 0 | N12: =SUMIF('LICH THI'!$A:$A,'Theo Ngay'!$A12,'LICH THI'!X:X) -> 0 | P12: =N12-2*F12 -> -20 | Q12: =SUMIF('LICH THI'!$A:$A,'Theo Ngay'!$A12,'LICH THI'!N:N) -> 268 | S12: 9 | T12: =+S12-F12 -> -1
A13: =_N_NgayGio -> #N/A | B13: =_N_Gio_ -> 13:00 | C13: =_N_stt -> 8 | D13: =D12 -> #N/A | E13: 3 | F13: =_N_CongSP_ -> 10 | G13: =_N_CongLLCT -> 0 | H13: =_N_CongKHCB -> 0 | I13: =_N_CongCSKT -> 0 | J13: =_N_CongKCT -> 0 | K13: =_N_CongKCK -> 0 | L13: =_N_CongKTVT -> 0 | M13: =_N_CongCNTT -> 0 | N13: =SUMIF('LICH THI'!$A:$A,'Theo Ngay'!$A13,'LICH THI'!X:X) -> 0 | P13: =N13-2*F13 -> -20 | Q13: =SUMIF('LICH THI'!$A:$A,'Theo Ngay'!$A13,'LICH THI'!N:N) -> 268 | S13: 5 | T13: =+S13-F13 -> -5
A14: =_N_NgayGio -> #N/A | B14: =_N_Gio_ -> 15:00 | C14: =_N_stt -> 9 | D14: =D13 -> #N/A | E14: 4 | F14: =_N_CongSP_ -> 10 | G14: =_N_CongLLCT -> 0 | H14: =_N_CongKHCB -> 0 | I14: =_N_CongCSKT -> 0 | J14: =_N_CongKCT -> 0 | K14: =_N_CongKCK -> 0 | L14: =_N_CongKTVT -> 0 | M14: =_N_CongCNTT -> 0 | N14: =SUMIF('LICH THI'!$A:$A,'Theo Ngay'!$A14,'LICH THI'!X:X) -> 0 | P14: =N14-2*F14 -> -20 | Q14: =SUMIF('LICH THI'!$A:$A,'Theo Ngay'!$A14,'LICH THI'!N:N) -> 268 | S14: 9 | T14: =+S14-F14 -> -1
A15: =_Ngay_Gio_ -> #NAME? | B15: =_N_Gio_ -> 18:00 | C15: =_N_stt -> 10 | D15: =D14 -> #N/A | E15: 5 | F15: =_N_CongSP_ -> 0 | G15: =_N_CongLLCT -> 0 | H15: =_N_CongKHCB -> 0 | I15: =_N_CongCSKT -> 0 | J15: =_N_CongKCT -> 0 | K15: =_N_CongKCK -> 0 | L15: =_N_CongKTVT -> 0 | M15: =_N_CongCNTT -> 0 | N15: =SUMIF('LICH THI'!$A:$A,'Theo Ngay'!$A15,'LICH THI'!X:X) -> 0 | P15: =N15-2*F15 -> 0 | Q15: =SUMIF('LICH THI'!$A:$A,'Theo Ngay'!$A15,'LICH THI'!N:N) -> 0 | S15: 0 | T15: =+S15-F15 -> 0
A16: =_N_NgayGio -> #N/A | B16: =_N_Gio_ -> 7:00 | C16: =_N_stt -> 11 | D16: =+D11+1 -> #N/A | E16: 1 | F16: =_N_CongSP_ -> 10 | G16: =_N_CongLLCT -> 0 | H16: =_N_CongKHCB -> 0 | I16: =_N_CongCSKT -> 0 | J16: =_N_CongKCT -> 0 | K16: =_N_CongKCK -> 0 | L16: =_N_CongKTVT -> 0 | M16: =_N_CongCNTT -> 0 | N16: =SUMIF('LICH THI'!$A:$A,'Theo Ngay'!$A16,'LICH THI'!X:X) -> 0 | O16: =IF(D16="","",CHOOSE(WEEKDAY(D16),"(Cnhật)","(Thứ 2)","(Thứ 3)","(Thứ 4)","(Thứ 5)","(Thứ 6)","(Thứ 7)")) -> #N/A | P16: =N16-2*F16 -> -20 | Q16: =SUMIF('LICH THI'!$A:$A,'Theo Ngay'!$A16,'LICH THI'!N:N) -> 268 | S16: 0 | T16: =+S16-F16 -> -10
A17: =_N_NgayGio -> #N/A | B17: =_N_Gio_ -> 9:00 | C17: =_N_stt -> 12 | D17: =D16 -> #N/A | E17: 2 | F17: =_N_CongSP_ -> 10 | G17: =_N_CongLLCT -> 0 | H17: =_N_CongKHCB -> 0 | I17: =_N_CongCSKT -> 0 | J17: =_N_CongKCT -> 0 | K17: =_N_CongKCK -> 0 | L17: =_N_CongKTVT -> 0 | M17: =_N_CongCNTT -> 0 | N17: =SUMIF('LICH THI'!$A:$A,'Theo Ngay'!$A17,'LICH THI'!X:X) -> 0 | P17: =N17-2*F17 -> -20 | Q17: =SUMIF('LICH THI'!$A:$A,'Theo Ngay'!$A17,'LICH THI'!N:N) -> 268 | S17: 6 | T17: =+S17-F17 -> -4
A18: =_N_NgayGio -> #N/A | B18: =_N_Gio_ -> 13:00 | C18: =_N_stt -> 13 | D18: =D17 -> #N/A | E18: 3 | F18: =_N_CongSP_ -> 10 | G18: =_N_CongLLCT -> 0 | H18: =_N_CongKHCB -> 0 | I18: =_N_CongCSKT -> 0 | J18: =_N_CongKCT -> 0 | K18: =_N_CongKCK -> 0 | L18: =_N_CongKTVT -> 0 | M18: =_N_CongCNTT -> 0 | N18: =SUMIF('LICH THI'!$A:$A,'Theo Ngay'!$A18,'LICH THI'!X:X) -> 0 | P18: =N18-2*F18 -> -20 | Q18: =SUMIF('LICH THI'!$A:$A,'Theo Ngay'!$A18,'LICH THI'!N:N) -> 268 | S18: 0 | T18: =+S18-F18 -> -10
A19: =_N_NgayGio -> #N/A | B19: =_N_Gio_ -> 15:00 | C19: =_N_stt -> 14 | D19: =D18 -> #N/A | E19: 4 | F19: =_N_CongSP_ -> 10 | G19: =_N_CongLLCT -> 0 | H19: =_N_CongKHCB -> 0 | I19: =_N_CongCSKT -> 0 | J19: =_N_CongKCT -> 0 | K19: =_N_CongKCK -> 0 | L19: =_N_CongKTVT -> 0 | M19: =_N_CongCNTT -> 0 | N19: =SUMIF('LICH THI'!$A:$A,'Theo Ngay'!$A19,'LICH THI'!X:X) -> 0 | P19: =N19-2*F19 -> -20 | Q19: =SUMIF('LICH THI'!$A:$A,'Theo Ngay'!$A19,'LICH THI'!N:N) -> 268 | S19: 0 | T19: =+S19-F19 -> -10
A20: =_Ngay_Gio_ -> #NAME? | B20: =_N_Gio_ -> 18:00 | C20: =_N_stt -> 15 | D20: =D19 -> #N/A | E20: 5 | F20: =_N_CongSP_ -> 0 | G20: =_N_CongLLCT -> 0 | H20: =_N_CongKHCB -> 0 | I20: =_N_CongCSKT -> 0 | J20: =_N_CongKCT -> 0 | K20: =_N_CongKCK -> 0 | L20: =_N_CongKTVT -> 0 | M20: =_N_CongCNTT -> 0 | N20: =SUMIF('LICH THI'!$A:$A,'Theo Ngay'!$A20,'LICH THI'!X:X) -> 0 | P20: =N20-2*F20 -> 0 | Q20: =SUMIF('LICH THI'!$A:$A,'Theo Ngay'!$A20,'LICH THI'!N:N) -> 0 | S20: 0 | T20: =+S20-F20 -> 0
A21: =_N_NgayGio -> #N/A | B21: =_N_Gio_ -> 7:00 | C21: =_N_stt -> 16 | D21: =+D16+1 -> #N/A | E21: 1 | F21: =_N_CongSP_ -> 10 | G21: =_N_CongLLCT -> 0 | H21: =_N_CongKHCB -> 0 | I21: =_N_CongCSKT -> 0 | J21: =_N_CongKCT -> 0 | K21: =_N_CongKCK -> 0 | L21: =_N_CongKTVT -> 0 | M21: =_N_CongCNTT -> 0 | N21: =SUMIF('LICH THI'!$A:$A,'Theo Ngay'!$A21,'LICH THI'!X:X) -> 0 | O21: =IF(D21="","",CHOOSE(WEEKDAY(D21),"(Cnhật)","(Thứ 2)","(Thứ 3)","(Thứ 4)","(Thứ 5)","(Thứ 6)","(Thứ 7)")) -> #N/A | P21: =N21-2*F21 -> -20 | Q21: =SUMIF('LICH THI'!$A:$A,'Theo Ngay'!$A21,'LICH THI'!N:N) -> 268 | S21: 15 | T21: =+S21-F21 -> 5
A22: =_N_NgayGio -> #N/A | B22: =_N_Gio_ -> 9:00 | C22: =_N_stt -> 17 | D22: =D21 -> #N/A | E22: 2 | F22: =_N_CongSP_ -> 10 | G22: =_N_CongLLCT -> 0 | H22: =_N_CongKHCB -> 0 | I22: =_N_CongCSKT -> 0 | J22: =_N_CongKCT -> 0 | K22: =_N_CongKCK -> 0 | L22: =_N_CongKTVT -> 0 | M22: =_N_CongCNTT -> 0 | N22: =SUMIF('LICH THI'!$A:$A,'Theo Ngay'!$A22,'LICH THI'!X:X) -> 0 | P22: =N22-2*F22 -> -20 | Q22: =SUMIF('LICH THI'!$A:$A,'Theo Ngay'!$A22,'LICH THI'!N:N) -> 268 | S22: 21 | T22: =+S22-F22 -> 11
A23: =_N_NgayGio -> #N/A | B23: =_N_Gio_ -> 13:00 | C23: =_N_stt -> 18 | D23: =D22 -> #N/A | E23: 3 | F23: =_N_CongSP_ -> 10 | G23: =_N_CongLLCT -> 0 | H23: =_N_CongKHCB -> 0 | I23: =_N_CongCSKT -> 0 | J23: =_N_CongKCT -> 0 | K23: =_N_CongKCK -> 0 | L23: =_N_CongKTVT -> 0 | M23: =_N_CongCNTT -> 0 | N23: =SUMIF('LICH THI'!$A:$A,'Theo Ngay'!$A23,'LICH THI'!X:X) -> 0 | P23: =N23-2*F23 -> -20 | Q23: =SUMIF('LICH THI'!$A:$A,'Theo Ngay'!$A23,'LICH THI'!N:N) -> 268 | S23: 26 | T23: =+S23-F23 -> 16
A24: =_N_NgayGio -> #N/A | B24: =_N_Gio_ -> 15:00 | C24: =_N_stt -> 19 | D24: =D23 -> #N/A | E24: 4 | F24: =_N_CongSP_ -> 10 | G24: =_N_CongLLCT -> 0 | H24: =_N_CongKHCB -> 0 | I24: =_N_CongCSKT -> 0 | J24: =_N_CongKCT -> 0 | K24: =_N_CongKCK -> 0 | L24: =_N_CongKTVT -> 0 | M24: =_N_CongCNTT -> 0 | N24: =SUMIF('LICH THI'!$A:$A,'Theo Ngay'!$A24,'LICH THI'!X:X) -> 0 | P24: =N24-2*F24 -> -20 | Q24: =SUMIF('LICH THI'!$A:$A,'Theo Ngay'!$A24,'LICH THI'!N:N) -> 268 | S24: 23 | T24: =+S24-F24 -> 13
A25: =_Ngay_Gio_ -> #NAME? | B25: =_N_Gio_ -> 18:00 | C25: =_N_stt -> 20 | D25: =D24 -> #N/A | E25: 5 | F25: =_N_CongSP_ -> 0 | G25: =_N_CongLLCT -> 0 | H25: =_N_CongKHCB -> 0 | I25: =_N_CongCSKT -> 0 | J25: =_N_CongKCT -> 0 | K25: =_N_CongKCK -> 0 | L25: =_N_CongKTVT -> 0 | M25: =_N_CongCNTT -> 0 | N25: =SUMIF('LICH THI'!$A:$A,'Theo Ngay'!$A25,'LICH THI'!X:X) -> 0 | P25: =N25-2*F25 -> 0 | Q25: =SUMIF('LICH THI'!$A:$A,'Theo Ngay'!$A25,'LICH THI'!N:N) -> 0 | S25: 0 | T25: =+S25-F25 -> 0
A26: =_N_NgayGio -> #N/A | B26: =_N_Gio_ -> 7:00 | C26: =_N_stt -> 21 | D26: =+D21+1 -> #N/A | E26: 1 | F26: =_N_CongSP_ -> 10 | G26: =_N_CongLLCT -> 0 | H26: =_N_CongKHCB -> 0 | I26: =_N_CongCSKT -> 0 | J26: =_N_CongKCT -> 0 | K26: =_N_CongKCK -> 0 | L26: =_N_CongKTVT -> 0 | M26: =_N_CongCNTT -> 0 | N26: =SUMIF('LICH THI'!$A:$A,'Theo Ngay'!$A26,'LICH THI'!X:X) -> 0 | O26: =IF(D26="","",CHOOSE(WEEKDAY(D26),"(Cnhật)","(Thứ 2)","(Thứ 3)","(Thứ 4)","(Thứ 5)","(Thứ 6)","(Thứ 7)")) -> #N/A | P26: =N26-2*F26 -> -20 | Q26: =SUMIF('LICH THI'!$A:$A,'Theo Ngay'!$A26,'LICH THI'!N:N) -> 268 | S26: 0 | T26: =+S26-F26 -> -10
A27: =_N_NgayGio -> #N/A | B27: =_N_Gio_ -> 9:00 | C27: =_N_stt -> 22 | D27: =D26 -> #N/A | E27: 2 | F27: =_N_CongSP_ -> 10 | G27: =_N_CongLLCT -> 0 | H27: =_N_CongKHCB -> 0 | I27: =_N_CongCSKT -> 0 | J27: =_N_CongKCT -> 0 | K27: =_N_CongKCK -> 0 | L27: =_N_CongKTVT -> 0 | M27: =_N_CongCNTT -> 0 | N27: =SUMIF('LICH THI'!$A:$A,'Theo Ngay'!$A27,'LICH THI'!X:X) -> 0 | P27: =N27-2*F27 -> -20 | Q27: =SUMIF('LICH THI'!$A:$A,'Theo Ngay'!$A27,'LICH THI'!N:N) -> 268 | S27: 0 | T27: =+S27-F27 -> -10
A28: =_N_NgayGio -> #N/A | B28: =_N_Gio_ -> 13:00 | C28: =_N_stt -> 23 | D28: =D27 -> #N/A | E28: 3 | F28: =_N_CongSP_ -> 10 | G28: =_N_CongLLCT -> 0 | H28: =_N_CongKHCB -> 0 | I28: =_N_CongCSKT -> 0 | J28: =_N_CongKCT -> 0 | K28: =_N_CongKCK -> 0 | L28: =_N_CongKTVT -> 0 | M28: =_N_CongCNTT -> 0 | N28: =SUMIF('LICH THI'!$A:$A,'Theo Ngay'!$A28,'LICH THI'!X:X) -> 0 | P28: =N28-2*F28 -> -20 | Q28: =SUMIF('LICH THI'!$A:$A,'Theo Ngay'!$A28,'LICH THI'!N:N) -> 268 | S28: 0 | T28: =+S28-F28 -> -10
A29: =_N_NgayGio -> #N/A | B29: =_N_Gio_ -> 15:00 | C29: =_N_stt -> 24 | D29: =D28 -> #N/A | E29: 4 | F29: =_N_CongSP_ -> 10 | G29: =_N_CongLLCT -> 0 | H29: =_N_CongKHCB -> 0 | I29: =_N_CongCSKT -> 0 | J29: =_N_CongKCT -> 0 | K29: =_N_CongKCK -> 0 | L29: =_N_CongKTVT -> 0 | M29: =_N_CongCNTT -> 0 | N29: =SUMIF('LICH THI'!$A:$A,'Theo Ngay'!$A29,'LICH THI'!X:X) -> 0 | P29: =N29-2*F29 -> -20 | Q29: =SUMIF('LICH THI'!$A:$A,'Theo Ngay'!$A29,'LICH THI'!N:N) -> 268 | S29: 0 | T29: =+S29-F29 -> -10
A30: =_Ngay_Gio_ -> #NAME? | B30: =_N_Gio_ -> 18:00 | C30: =_N_stt -> 25 | D30: =D29 -> #N/A | E30: 5 | F30: =_N_CongSP_ -> 0 | G30: =_N_CongLLCT -> 0 | H30: =_N_CongKHCB -> 0 | I30: =_N_CongCSKT -> 0 | J30: =_N_CongKCT -> 0 | K30: =_N_CongKCK -> 0 | L30: =_N_CongKTVT -> 0 | M30: =_N_CongCNTT -> 0 | N30: =SUMIF('LICH THI'!$A:$A,'Theo Ngay'!$A30,'LICH THI'!X:X) -> 0 | P30: =N30-2*F30 -> 0 | Q30: =SUMIF('LICH THI'!$A:$A,'Theo Ngay'!$A30,'LICH THI'!N:N) -> 0 | S30: 0 | T30: =+S30-F30 -> 0
A31: =_N_NgayGio -> #N/A | B31: =_N_Gio_ -> 7:00 | C31: =_N_stt -> 26 | D31: =+D26+1 -> #N/A | E31: 1 | F31: =_N_CongSP_ -> 10 | G31: =_N_CongLLCT -> 0 | H31: =_N_CongKHCB -> 0 | I31: =_N_CongCSKT -> 0 | J31: =_N_CongKCT -> 0 | K31: =_N_CongKCK -> 0 | L31: =_N_CongKTVT -> 0 | M31: =_N_CongCNTT -> 0 | N31: =SUMIF('LICH THI'!$A:$A,'Theo Ngay'!$A31,'LICH THI'!X:X) -> 0 | O31: =IF(D31="","",CHOOSE(WEEKDAY(D31),"(Cnhật)","(Thứ 2)","(Thứ 3)","(Thứ 4)","(Thứ 5)","(Thứ 6)","(Thứ 7)")) -> #N/A | P31: =N31-2*F31 -> -20 | Q31: =SUMIF('LICH THI'!$A:$A,'Theo Ngay'!$A31,'LICH THI'!N:N) -> 268 | S31: 0 | T31: =+S31-F31 -> -10
A32: =_N_NgayGio -> #N/A | B32: =_N_Gio_ -> 9:00 | C32: =_N_stt -> 27 | D32: =D31 -> #N/A | E32: 2 | F32: =_N_CongSP_ -> 10 | G32: =_N_CongLLCT -> 0 | H32: =_N_CongKHCB -> 0 | I32: =_N_CongCSKT -> 0 | J32: =_N_CongKCT -> 0 | K32: =_N_CongKCK -> 0 | L32: =_N_CongKTVT -> 0 | M32: =_N_CongCNTT -> 0 | N32: =SUMIF('LICH THI'!$A:$A,'Theo Ngay'!$A32,'LICH THI'!X:X) -> 0 | P32: =N32-2*F32 -> -20 | Q32: =SUMIF('LICH THI'!$A:$A,'Theo Ngay'!$A32,'LICH THI'!N:N) -> 268 | S32: 0 | T32: =+S32-F32 -> -10
A33: =_N_NgayGio -> #N/A | B33: =_N_Gio_ -> 13:00 | C33: =_N_stt -> 28 | D33: =D32 -> #N/A | E33: 3 | F33: =_N_CongSP_ -> 10 | G33: =_N_CongLLCT -> 0 | H33: =_N_CongKHCB -> 0 | I33: =_N_CongCSKT -> 0 | J33: =_N_CongKCT -> 0 | K33: =_N_CongKCK -> 0 | L33: =_N_CongKTVT -> 0 | M33: =_N_CongCNTT -> 0 | N33: =SUMIF('LICH THI'!$A:$A,'Theo Ngay'!$A33,'LICH THI'!X:X) -> 0 | P33: =N33-2*F33 -> -20 | Q33: =SUMIF('LICH THI'!$A:$A,'Theo Ngay'!$A33,'LICH THI'!N:N) -> 268 | S33: 0 | T33: =+S33-F33 -> -10
A34: =_N_NgayGio -> #N/A | B34: =_N_Gio_ -> 15:00 | C34: =_N_stt -> 29 | D34: =D33 -> #N/A | E34: 4 | F34: =_N_CongSP_ -> 10 | G34: =_N_CongLLCT -> 0 | H34: =_N_CongKHCB -> 0 | I34: =_N_CongCSKT -> 0 | J34: =_N_CongKCT -> 0 | K34: =_N_CongKCK -> 0 | L34: =_N_CongKTVT -> 0 | M34: =_N_CongCNTT -> 0 | N34: =SUMIF('LICH THI'!$A:$A,'Theo Ngay'!$A34,'LICH THI'!X:X) -> 0 | P34: =N34-2*F34 -> -20 | Q34: =SUMIF('LICH THI'!$A:$A,'Theo Ngay'!$A34,'LICH THI'!N:N) -> 268 | S34: 0 | T34: =+S34-F34 -> -10
A35: =_Ngay_Gio_ -> #NAME? | B35: =_N_Gio_ -> 18:00 | C35: =_N_stt -> 30 | D35: =D34 -> #N/A | E35: 5 | F35: =_N_CongSP_ -> 0 | G35: =_N_CongLLCT -> 0 | H35: =_N_CongKHCB -> 0 | I35: =_N_CongCSKT -> 0 | J35: =_N_CongKCT -> 0 | K35: =_N_CongKCK -> 0 | L35: =_N_CongKTVT -> 0 | M35: =_N_CongCNTT -> 0 | N35: =SUMIF('LICH THI'!$A:$A,'Theo Ngay'!$A35,'LICH THI'!X:X) -> 0 | P35: =N35-2*F35 -> 0 | Q35: =SUMIF('LICH THI'!$A:$A,'Theo Ngay'!$A35,'LICH THI'!N:N) -> 0 | S35: 0 | T35: =+S35-F35 -> 0
A36: =_N_NgayGio -> #N/A | B36: =_N_Gio_ -> 7:00 | C36: =_N_stt -> 31 | D36: =+D31+1 -> #N/A | E36: 1 | F36: =_N_CongSP_ -> 10 | G36: =_N_CongLLCT -> 0 | H36: =_N_CongKHCB -> 0 | I36: =_N_CongCSKT -> 0 | J36: =_N_CongKCT -> 0 | K36: =_N_CongKCK -> 0 | L36: =_N_CongKTVT -> 0 | M36: =_N_CongCNTT -> 0 | N36: =SUMIF('LICH THI'!$A:$A,'Theo Ngay'!$A36,'LICH THI'!X:X) -> 0 | O36: =IF(D36="","",CHOOSE(WEEKDAY(D36),"(Cnhật)","(Thứ 2)","(Thứ 3)","(Thứ 4)","(Thứ 5)","(Thứ 6)","(Thứ 7)")) -> #N/A | P36: =N36-2*F36 -> -20 | Q36: =SUMIF('LICH THI'!$A:$A,'Theo Ngay'!$A36,'LICH THI'!N:N) -> 268 | S36: 15 | T36: =+S36-F36 -> 5
