Workbook
Name _CT_MaHe: Sheet1!XFD1&"-"&MID(Sheet1!XEX1,3,2)
Name _CT_MaHe: SVDK!XFD1&"-"&MID(SVDK!XEX1,3,2)
Name _CT_MaHP: MID(SVDK!$Z1,FIND("(",SVDK!$Z1,1)+1,FIND(")",SVDK!$Z1,1)-FIND("(",SVDK!$Z1,1)-1)
Name _CT_MaHP1: SVDK!_CT_MaHP&"-"&MID(SVDK!$V1,3,2)
Name _CT_TT: SVDK!XFD$1+1
Name _De_Loc2: VLOOKUP(De!$A1,'LICH THI'!$C:$AQ,De!A$1,0)
Name _De_stt: De!A1048576+1
Name _DL_BM: IF(DATA!$O1="","",VLOOKUP(DATA!$O1,Mã!$A:$C,3,0))
Name _DL_Khoa: IF(DATA!$P1="","",VLOOKUP(DATA!$P1,Mã!$E:$F,2,0))
Name _DSVD: IF('DS VĐ'!$B1="","",VLOOKUP('DS VĐ'!$A1,SVDK!$A:$AC,'DS VĐ'!A$1,0))
Name _DSVD_SBD: IF('DS VĐ'!$B1="","",'DS VĐ'!A1048576+1)
Name _DSVD_stt: IF('DS VĐ'!A1048576="","",IF('DS VĐ'!A1048576<'DS VĐ'!$P$6,'DS VĐ'!A1048576+1,""))
Name _DSViet: IF('DS Viết'!$B1="","",VLOOKUP('DS Viết'!$A1,SVDK!$A:$AC,'DS Viết'!A$1,0))
Name _DSviet_SBD: IF('DS Viết'!$B1="","",'DS Viết'!A1048576+1)
Name _DSviet_stt: IF('DS Viết'!A1048576="","",IF('DS Viết'!A1048576<'DS Viết'!$N$6,'DS Viết'!A1048576+1,""))
Name _L_Gio: IF('LICH THI'!L1=1,"7:00",IF('LICH THI'!L1=2,"9:00",IF('LICH THI'!L1=3,"13:00",IF('LICH THI'!L1=4,"15:00",IF('LICH THI'!L1=5,"18:00","6:30")))))
Name _L_Loc2: VLOOKUP('LICH THI'!$A1,'LICH THI'!$C:$AQ,'LICH THI'!A$1,0)
Name _L_MaHP: IF(MID('LICH THI'!$C1,8,1)="-",LEFT('LICH THI'!$C1,7),IF(MID('LICH THI'!$C1,9,1)="-",LEFT('LICH THI'!$C1,8),LEFT('LICH THI'!$C1,9)))
Name _L_Ngay: IF('LICH THI'!XFD1="","",CHOOSE(WEEKDAY('LICH THI'!XFD1),"(Cnhật)","(Thứ 2)","(Thứ 3)","(Thứ 4)","(Thứ 5)","(Thứ 6)","(Thứ 7)"))
Name _L_NgayCham: IF(OR('LICH THI'!XEO1="TH",'LICH THI'!XEO1="VĐ"),'LICH THI'!XEQ1,IF('LICH THI'!XER1="(Thứ 6)",'LICH THI'!XEQ1+3,'LICH THI'!XEQ1+1))
Name _L_NgayGio: 'LICH THI'!K1+'LICH THI'!B1
Name _L_NopDiem: IF(OR('LICH THI'!XEN1="TH",'LICH THI'!XEN1="VĐ"),'LICH THI'!XEP1+2,'LICH THI'!XEP1+7)
Name _L_sophong: IF('LICH THI'!$O1=0,"",IF(LEFT('LICH THI'!L1,4)="Ghép",ROUNDUP('LICH THI'!$N1/'LICH THI'!$O1,0)-0.5,ROUNDUP('LICH THI'!$N1/'LICH THI'!$O1,0)))
Name _L_SoSV: COUNTIF(SVDK!$AC:$AC,'LICH THI'!XET1)
Name _L_stt: 'LICH THI'!A1048576+1
Name _L_SV_Pcuoi: IF('LICH THI'!$O1=0,"",'LICH THI'!$N1-'LICH THI'!$O1*(ROUNDUP('LICH THI'!$P1,0)-1))
Name _N_CongCNTT: SUMIF('LICH THI'!$A:$A,'Theo Ngay'!$A1,'LICH THI'!$W:$W)
Name _N_CongCSKT: SUMIF('LICH THI'!$A:$A,'Theo Ngay'!$A1,'LICH THI'!$S:$S)
Name _N_CongKCK: SUMIF('LICH THI'!$A:$A,'Theo Ngay'!$A1,'LICH THI'!$U:$U)
Name _N_CongKCT: SUMIF('LICH THI'!$A:$A,'Theo Ngay'!$A1,'LICH THI'!$T:$T)
Name _N_CongKHCB: SUMIF('LICH THI'!$A:$A,'Theo Ngay'!$A1,'LICH THI'!$R:$R)
Name _N_CongKTVT: SUMIF('LICH THI'!$A:$A,'Theo Ngay'!$A1,'LICH THI'!$V:$V)
Name _N_CongLLCT: SUMIF('LICH THI'!$A:$A,'Theo Ngay'!$A1,'LICH THI'!$Q:$Q)
Name _N_CongSP_: SUMIF('LICH THI'!$A:$A,'Theo Ngay'!$A1,'LICH THI'!$P:$P)
Name _N_Gio_: IF('Theo Ngay'!$E1=1,"7:00",IF('Theo Ngay'!$E1=2,"9:00",IF('Theo Ngay'!$E1=3,"13:00",IF('Theo Ngay'!$E1=4,"15:00",IF('Theo Ngay'!$E1=5,"18:00","6:30")))))
Name _N_NgayGio: 'Theo Ngay'!$D1+'Theo Ngay'!$B1
Name _N_stt: 'Theo Ngay'!A1048576+1
Name _P_SBD: IF(Phach!A1048576="","",IF(Phach!A1048576+1>Phach!$H$1*Phach!A$5,"",IF(Phach!A1048576<Phach!$E$1,Phach!A1048576+1,"")))
Name _P_SBD1: IF(Phach!A$5<=Phach!$K$1,(Phach!A$5-1)*Phach!$H$1+1,"")
Name _P_SP: IFERROR(VLOOKUP(Phach!$B$1&"-"&Phach!XFD1,SVDK!$A:$AC,SVDK!$N$1,0),"")

Sheet Mã
A1: Phụ trách
A2: BM phụ trách | B2: Khoa phụ trách
A4: NLCN Mác - Lênin | B4: LÝ LUẬN CHÍNH TRỊ | C4: LLNL | E4: LÝ LUẬN CHÍNH TRỊ | F4: LLCT
A5: Tư tưởng Hồ Chí Minh | B5: LÝ LUẬN CHÍNH TRỊ | C5: LLTT | E5: KHOA HỌC CƠ BẢN | F5: KHCB
A6: ĐLCM của ĐCSVN | B6: LÝ LUẬN CHÍNH TRỊ | C6: LLDL | E6: CÔNG NGHỆ THÔNG TIN | F6: CNTT
A7: Giáo dục pháp luật | B7: LÝ LUẬN CHÍNH TRỊ | C7: LLPL | E7: GIÁO DỤC THỂ CHẤT | F7: GDTC
A8: Ngoại ngữ | B8: KHOA HỌC CƠ BẢN | C8: CBNN | E8: GIÁO DỤC QPAN | F8: QPAN
A9: Toán | B9: KHOA HỌC CƠ BẢN | C9: CBTO | E9: CƠ SỞ KỸ THUẬT | F9: CSKT
A10: Vật lý | B10: KHOA HỌC CƠ BẢN | C10: CBLY | E10: CÔNG TRÌNH | F10: KCT
A11: Hóa học | B11: KHOA HỌC CƠ BẢN | C11: CBHO | E11: KINH TẾ - VẬN TẢI | F11: KTVT
A12: Hệ thống thông tin | B12: CÔNG NGHỆ THÔNG TIN | C12: TTHT | E12: CƠ KHÍ | F12: KCK
A13: CÔNG NGHỆ THÔNG TIN | B13: CÔNG NGHỆ THÔNG TIN | C13: CNTT
A14: Giáo dục thể chất | B14: GIÁO DỤC THỂ CHẤT | C14: CDTC
A15: Quốc phòng - An ninh | B15: GIÁO DỤC QPAN | C15: QPAN
A16: Hình họa - Vẽ kĩ thuật | B16: CƠ SỞ KỸ THUẬT | C16: CSVE
A17: CNKT Môi trường | B17: CÔNG TRÌNH | C17: CTMO
A18: Cơ sở ngành kinh tế | B18: KINH TẾ - VẬN TẢI | C18: KVCS
A19: Khoa Cơ khí | B19: CƠ KHÍ | C19: KCK
A20: Quản trị doanh nghiệp | B20: KINH TẾ - VẬN TẢI | C20: KVQT
A21: Vận tải sắt - bộ | B21: KINH TẾ - VẬN TẢI | C21: KVSB
A22: Kinh tế xây dựng | B22: KINH TẾ - VẬN TẢI | C22: KVKX
A23: Điện - Điện tử | B23: CÔNG NGHỆ THÔNG TIN | C23: TTDT
A24: Khoa CNTT | B24: CÔNG NGHỆ THÔNG TIN | C24: CNTT
... A45: Tin học công trình | B45: CÔNG TRÌNH | C45: CTUD

Sheet DATA
A1: Mã học phần | F1: Số TT | G1: Học phần | H1: Số TC | I1: Khối lượng (tiết, giờ) | M1: THI | AB1: NGÀNH | AU1: NGÀNH
A2: ĐHCQ | B2: ĐHLT | C2: ĐTLT | D2: CĐCQ | E2: CĐLT | G2: Tên đầy đủ | I2: LT, BT | J2: TL, TH, TN | K2: TT, ĐA, BTL (h) | L2: Tự học (h) | M2: Hình thức | N2: Thời gian | O2: BM phụ trách | P2: Khoa phụ trách | T2: DCCA | U2: DCCC | V2: DCCD | W2: DCCS | X2: DCDB | Y2: DCDD | Z2: DCCDA | AA2: DCOT | AB2: DCMX | AC2: DCMT | AD2: DCDM | AE2: DCDT | AF2: DCHT | AG2: DCKT | AH2: DCQT | AI2: DCKX | AJ2: DCVB | AK2: DCVS | AL2: DCVL | AM2: CCCA | AN2: CCCC | AO2: CCCD | AP2: CCCS | AQ2: CCDB | AR2: CCDD | AS2: CCCDA | AT2: CCOT | AU2: CCMX | AV2: CCMT | AW2: CCDM | AX2: CCDT | AY2: CCTH | AZ2: CCKT | BA2: CCQT | BB2: CCKX | BC2: CCVB | BD2: CCVS | BE2: CCVL
A3: DC | B3: DL | C3: DT | D3: CC | E3: CL
A4: DC1TT90 | D4: CC1TT90 | F4: 52 | G4: Bảo vệ môi trường | H4: 2 | I4: 30 | L4: 0 | O4: Khoa CNTT | P4: CÔNG NGHỆ THÔNG TIN | Q4: =_DL_BM -> CNTT | R4: =_DL_Khoa -> CNTT | S4: =+R4&"-"&Q4 -> CNTT-CNTT | AF4: o | AY4: o
A5: DC4TH80 | F5: 738 | G5: Đồ án tốt nghiệp | H5: 8 | K5: 480 | L5: 0 | M5: VĐ | O5: Khoa CNTT | P5: CÔNG NGHỆ THÔNG TIN | Q5: =_DL_BM -> CNTT | R5: =_DL_Khoa -> CNTT | S5: =+R5&"-"&Q5 -> CNTT-CNTT | AF5: x
D6: CC4TH80 | F6: 739 | G6: Đồ án tốt nghiệp | H6: 4 | K6: 240 | L6: 0 | M6: VĐ | O6: Khoa CNTT | P6: CÔNG NGHỆ THÔNG TIN | Q6: =_DL_BM -> CNTT | R6: =_DL_Khoa -> CNTT | S6: =+R6&"-"&Q6 -> CNTT-CNTT | AY6: x
A7: DC4DT80 | B7: DC4DT80 | F7: 740 | G7: Đồ án tốt nghiệp | H7: 8 | K7: 480 | L7: 0 | M7: VĐ | O7: Khoa CNTT | P7: CÔNG NGHỆ THÔNG TIN | Q7: =_DL_BM -> CNTT | R7: =_DL_Khoa -> CNTT | S7: =+R7&"-"&Q7 -> CNTT-CNTT | AE7: x
D8: CC4DT80 | F8: 741 | G8: Đồ án tốt nghiệp | H8: 4 | K8: 240 | L8: 0 | M8: VĐ | O8: Khoa CNTT | P8: CÔNG NGHỆ THÔNG TIN | Q8: =_DL_BM -> CNTT | R8: =_DL_Khoa -> CNTT | S8: =+R8&"-"&Q8 -> CNTT-CNTT | AX8: x
A9: DC4ME80 | F9: 840 | G9: Đồ án tốt nghiệp | H9: 8 | K9: 480 | L9: 0 | M9: VĐ | O9: Khoa CNTT | P9: CÔNG NGHỆ THÔNG TIN | Q9: =_DL_BM -> CNTT | R9: =_DL_Khoa -> CNTT | S9: =+R9&"-"&Q9 -> CNTT-CNTT
A10: DC4TH70 | B10: DC4TH70 | D10: CC4TH70 | F10: 706 | G10: Thực tập tốt nghiệp | H10: 4 | K10: 180 | L10: 0 | M10: VĐ | O10: Khoa CNTT | P10: CÔNG NGHỆ THÔNG TIN | Q10: =_DL_BM -> CNTT | R10: =_DL_Khoa -> CNTT | S10: =+R10&"-"&Q10 -> CNTT-CNTT | AF10: x | AY10: x
A11: DC4DT70 | B11: DC4DT70 | D11: CC4DT70 | F11: 707 | G11: Thực tập tốt nghiệp | H11: 4 | K11: 180 | L11: 0 | M11: VĐ | O11: Khoa CNTT | P11: CÔNG NGHỆ THÔNG TIN | Q11: =_DL_BM -> CNTT | R11: =_DL_Khoa -> CNTT | S11: =+R11&"-"&Q11 -> CNTT-CNTT | AE11: x | AX11: x
A12: DC4ME70 | F12: 839 | G12: Thực tập tốt nghiệp | H12: 4 | K12: 240 | L12: 0 | M12: VĐ | O12: Khoa CNTT | P12: CÔNG NGHỆ THÔNG TIN | Q12: =_DL_BM -> CNTT | R12: =_DL_Khoa -> CNTT | S12: =+R12&"-"&Q12 -> CNTT-CNTT
A13: DC3DT64 | B13: DC3DT64 | F13: 551 | G13: An ninh mạng thông tin | H13: 3 | I13: 45 | L13: 0 | M13: Viết | N13: 60 | O13: Điện - Điện tử | P13: CÔNG NGHỆ THÔNG TIN | Q13: =_DL_BM -> TTDT | R13: =_DL_Khoa -> CNTT | S13: =+R13&"-"&Q13 -> CNTT-TTDT | AE13: x
A14: DC2DT55 | B14: DC2DT55 | F14: 206 | G14: Anten và truyền sóng | H14: 3 | I14: 45 | L14: 0 | M14: Viết | N14: 90 | O14: Điện - Điện tử | P14: CÔNG NGHỆ THÔNG TIN | Q14: =_DL_BM -> TTDT | R14: =_DL_Khoa -> CNTT | S14: =+R14&"-"&Q14 -> CNTT-TTDT | AE14: x
A15: DC3DT81 | B15: DC3DT81 | D15: CC3DT81 | F15: 627 | G15: Công nghệ Multimedia | H15: 2 | I15: 30 | L15: 0 | M15: Viết | N15: 60 | O15: Điện - Điện tử | P15: CÔNG NGHỆ THÔNG TIN | Q15: =_DL_BM -> TTDT | R15: =_DL_Khoa -> CNTT | S15: =+R15&"-"&Q15 -> CNTT-TTDT | AE15: o | AX15: o
A16: DC3DT82 | B16: DC3DT82 | D16: CC3DT82 | F16: 628 | G16: Công nghệ vi điện tử | H16: 2 | I16: 30 | L16: 0 | M16: Viết | N16: 60 | O16: Điện - Điện tử | P16: CÔNG NGHỆ THÔNG TIN | Q16: =_DL_BM -> TTDT | R16: =_DL_Khoa -> CNTT | S16: =+R16&"-"&Q16 -> CNTT-TTDT | AE16: o | AX16: o
A17: DC2DT45 | D17: CC2DT45 | F17: 205 | G17: Cơ sở điều khiển tự động | H17: 3 | I17: 45 | L17: 0 | M17: Viết | N17: 90 | O17: Điện - Điện tử | P17: CÔNG NGHỆ THÔNG TIN | Q17: =_DL_BM -> TTDT | R17: =_DL_Khoa -> CNTT | S17: =+R17&"-"&Q17 -> CNTT-TTDT | AE17: x | AX17: x
A18: DC2DT44 | D18: CC2DT44 | F18: 195 | G18: Cơ sở kỹ thuật đo lường | H18: 2 | I18: 15 | J18: 30 | L18: 0 | M18: Viết | N18: 60 | O18: Điện - Điện tử | P18: CÔNG NGHỆ THÔNG TIN | Q18: =_DL_BM -> TTDT | R18: =_DL_Khoa -> CNTT | S18: =+R18&"-"&Q18 -> CNTT-TTDT | AE18: x | AX18: x
A19: DC3DT60 | D19: CC3DT60 | F19: 553 | G19: Cơ sở truyền số liệu | H19: 3 | I19: 45 | L19: 0 | M19: Viết | N19: 60 | O19: Điện - Điện tử | P19: CÔNG NGHỆ THÔNG TIN | Q19: =_DL_BM -> TTDT | R19: =_DL_Khoa -> CNTT | S19: =+R19&"-"&Q19 -> CNTT-TTDT | AE19: x | AX19: x
A20: DC3ME61 | F20: 828 | G20: Điện tử công suất | H20: 3 | I20: 45 | L20: 0 | O20: Điện - Điện tử | P20: CÔNG NGHỆ THÔNG TIN | Q20: =_DL_BM -> TTDT | R20: =_DL_Khoa -> CNTT | S20: =+R20&"-"&Q20 -> CNTT-TTDT
A21: DC2DT51 | F21: 197 | G21: Điện tử số | H21: 3 | I21: 30 | J21: 30 | L21: 0 | M21: Viết | N21: 60 | O21: Điện - Điện tử | P21: CÔNG NGHỆ THÔNG TIN | Q21: =_DL_BM -> TTDT | R21: =_DL_Khoa -> CNTT | S21: =+R21&"-"&Q21 -> CNTT-TTDT | AE21: x
B22: DL2DT51 | F22: 198 | G22: Điện tử số | H22: 2 | I22: 30 | L22: 0 | M22: Viết | N22: 60 | O22: Điện - Điện tử | P22: CÔNG NGHỆ THÔNG TIN | Q22: =_DL_BM -> TTDT | R22: =_DL_Khoa -> CNTT | S22: =+R22&"-"&Q22 -> CNTT-TTDT
D23: CC2DT51 | F23: 199 | G23: Điện tử số | H23: 2 | I23: 30 | L23: 0 | M23: Viết | N23: 60 | O23: Điện - Điện tử | P23: CÔNG NGHỆ THÔNG TIN | Q23: =_DL_BM -> TTDT | R23: =_DL_Khoa -> CNTT | S23: =+R23&"-"&Q23 -> CNTT-TTDT | AX23: x
A24: DC2DT53 | F24: 201 | G24: Điện tử tương tự | H24: 4 | I24: 45 | J24: 30 | L24: 0 | M24: Viết | N24: 90 | O24: Điện - Điện tử | P24: CÔNG NGHỆ THÔNG TIN | Q24: =_DL_BM -> TTDT | R24: =_DL_Khoa -> CNTT | S24: =+R24&"-"&Q24 -> CNTT-TTDT | AE24: x
B25: DL2DT53 | F25: 202 | G25: Điện tử tương tự | H25: 2 | I25: 30 | L25: 0 | O25: Điện - Điện tử | P25: CÔNG NGHỆ THÔNG TIN | Q25: =_DL_BM -> TTDT | R25: =_DL_Khoa -> CNTT | S25: =+R25&"-"&Q25 -> CNTT-TTDT
D26: CC2DT53 | F26: 203 | G26: Điện tử tương tự | H26: 3 | I26: 30 | J26: 30 | L26: 0 | M26: Viết | N26: 60 | O26: Điện - Điện tử | P26: CÔNG NGHỆ THÔNG TIN | Q26: =_DL_BM -> TTDT | R26: =_DL_Khoa -> CNTT | S26: =+R26&"-"&Q26 -> CNTT-TTDT | AX26: x
A27: DC2DT52 | B27: DC2DT52 | F27: 200 | G27: Đồ án Điện tử số | H27: 2 | K27: 90 | L27: 0 | M27: VĐ | O27: Điện - Điện tử | P27: CÔNG NGHỆ THÔNG TIN | Q27: =_DL_BM -> TTDT | R27: =_DL_Khoa -> CNTT | S27: =+R27&"-"&Q27 -> CNTT-TTDT | AE27: x
A28: DC2DT54 | B28: DC2DT54 | F28: 204 | G28: Đồ án Điện tử tương tự | H28: 2 | K28: 90 | L28: 0 | M28: VĐ | O28: Điện - Điện tử | P28: CÔNG NGHỆ THÔNG TIN | Q28: =_DL_BM -> TTDT | R28: =_DL_Khoa -> CNTT | S28: =+R28&"-"&Q28 -> CNTT-TTDT | AE28: x
A29: DC3ME53 | F29: 832 | G29: Đồ án Hệ thống cơ điện tử | H29: 2 | K29: 90 | L29: 0 | M29: VĐ | O29: Điện - Điện tử | P29: CÔNG NGHỆ THÔNG TIN | Q29: =_DL_BM -> TTDT | R29: =_DL_Khoa -> CNTT | S29: =+R29&"-"&Q29 -> CNTT-TTDT
A30: DC3ME64 | F30: 830 | G30: Đồ án Kỹ thuật vi điều khiển | H30: 2 | K30: 90 | L30: 0 | M30: VĐ | O30: Điện - Điện tử | P30: CÔNG NGHỆ THÔNG TIN | Q30: =_DL_BM -> TTDT | R30: =_DL_Khoa -> CNTT | S30: =+R30&"-"&Q30 -> CNTT-TTDT
A31: DC3DT62 | B31: DC3DT62 | F31: 556 | G31: Đồ án Mạng viễn thông | H31: 2 | K31: 90 | L31: 0 | M31: VĐ | O31: Điện - Điện tử | P31: CÔNG NGHỆ THÔNG TIN | Q31: =_DL_BM -> TTDT | R31: =_DL_Khoa -> CNTT | S31: =+R31&"-"&Q31 -> CNTT-TTDT | AE31: x
A32: DC2CK42 | F32: 841 | G32: Động cơ điện | H32: 2 | L32: 0 | O32: Điện - Điện tử | P32: CÔNG NGHỆ THÔNG TIN | Q32: =_DL_BM -> TTDT | R32: =_DL_Khoa -> CNTT | S32: =+R32&"-"&Q32 -> CNTT-TTDT
A33: DC3DT84 | B33: DC3DT84 | D33: CC3DT84 | F33: 630 | G33: Giao tiếp máy tính và thu nhận dữ liệu | H33: 2 | I33: 30 | L33: 0 | M33: Viết | N33: 60 | O33: Điện - Điện tử | P33: CÔNG NGHỆ THÔNG TIN | Q33: =_DL_BM -> TTDT | R33: =_DL_Khoa -> CNTT | S33: =+R33&"-"&Q33 -> CNTT-TTDT | AE33: o | AX33: x
A34: DC3ME51 | F34: 831 | G34: Hệ thống cơ điện tử | H34: 3 | I34: 45 | L34: 0 | O34: Điện - Điện tử | P34: CÔNG NGHỆ THÔNG TIN | Q34: =_DL_BM -> TTDT | R34: =_DL_Khoa -> CNTT | S34: =+R34&"-"&Q34 -> CNTT-TTDT
A35: DC3ME73 | F35: 834 | G35: Hệ thống giao thông thông minh ITS | H35: 2 | I35: 30 | L35: 0 | O35: Điện - Điện tử | P35: CÔNG NGHỆ THÔNG TIN | Q35: =_DL_BM -> TTDT | R35: =_DL_Khoa -> CNTT | S35: =+R35&"-"&Q35 -> CNTT-TTDT
A36: DC3DT83 | B36: DC3DT83 | D36: CC3DT83 | F36: 629 | G36: Hệ thống nhúng | H36: 2 | I36: 30 | L36: 0 | M36: Viết | N36: 60 | O36: Điện - Điện tử | P36: CÔNG NGHỆ THÔNG TIN | Q36: =_DL_BM -> TTDT | R36: =_DL_Khoa -> CNTT | S36: =+R36&"-"&Q36 -> CNTT-TTDT | AE36: o | AX36: x
A37: DC3DT63 | B37: DC3DT63 | F37: 552 | G37: Hệ thống viễn thông | H37: 3 | I37: 45 | L37: 0 | O37: Điện - Điện tử | P37: CÔNG NGHỆ THÔNG TIN | Q37: =_DL_BM -> TTDT | R37: =_DL_Khoa -> CNTT | S37: =+R37&"-"&Q37 -> CNTT-TTDT | AE37: x
A38: DC1TH47 | B38: DC1TH47 | D38: CC1TH47 | F38: 51 | G38: Kỹ thuật điện | H38: 2 | I38: 30 | L38: 0 | M38: Viết | N38: 60 | O38: Điện - Điện tử | P38: CÔNG NGHỆ THÔNG TIN | Q38: =_DL_BM -> TTDT | R38: =_DL_Khoa -> CNTT | S38: =+R38&"-"&Q38 -> CNTT-TTDT | AE38: o | AX38: o
A39: DC1TH46 | F39: 50 | G39: Kỹ thuật điện - Điện tử | H39: 2 | I39: 15 | J39: 30 | L39: 0 | M39: Viết | N39: 60 | O39: Điện - Điện tử | P39: CÔNG NGHỆ THÔNG TIN | Q39: =_DL_BM -> TTDT | R39: =_DL_Khoa -> CNTT | S39: =+R39&"-"&Q39 -> CNTT-TTDT | AF39: o
A40: DC2CK41 | F40: 102 | G40: Kỹ thuật điện - Điện tử | H40: 4 | I40: 45 | J40: 30 | L40: 0 | M40: Viết | N40: 90 | O40: Điện - Điện tử | P40: CÔNG NGHỆ THÔNG TIN | Q40: =_DL_BM -> TTDT | R40: =_DL_Khoa -> CNTT | S40: =+R40&"-"&Q40 -> CNTT-TTDT | AA40: x | AB40: x | AC40: x | AD40: x
B41: DL2CK41 | F41: 103 | G41: Kỹ thuật điện - Điện tử | H41: 2 | I41: 30 | L41: 0 | M41: Viết | N41: 60 | O41: Điện - Điện tử | P41: CÔNG NGHỆ THÔNG TIN | Q41: =_DL_BM -> TTDT | R41: =_DL_Khoa -> CNTT | S41: =+R41&"-"&Q41 -> CNTT-TTDT
C42: DT2CK41 | D42: CC2CK41 | F42: 104 | G42: Kỹ thuật điện - Điện tử | H42: 3 | I42: 30 | J42: 30 | L42: 0 | M42: Viết | N42: 60 | O42: Điện - Điện tử | P42: CÔNG NGHỆ THÔNG TIN | Q42: =_DL_BM -> TTDT | R42: =_DL_Khoa -> CNTT | S42: =+R42&"-"&Q42 -> CNTT-TTDT | AT42: x | AU42: x | AV42: x | AW42: x
A43: DC2CT41 | B43: DC2CT41 | C43: DC2CT41 | D43: CC2CT41 | E43: CC2CT41 | F43: 216 | G43: Kỹ thuật điện công trình | H43: 2 | I43: 30 | L43: 0 | M43: Viết | N43: 60 | O43: Điện - Điện tử | P43: CÔNG NGHỆ THÔNG TIN | Q43: =_DL_BM -> TTDT | R43: =_DL_Khoa -> CNTT | S43: =+R43&"-"&Q43 -> CNTT-TTDT | T43: o | U43: o | V43: o | W43: o | X43: o | Y43: o | Z43: o | AN43: o | AO43: o | AP43: o | AR43: o
A44: DC3ME71 | F44: 836 | G44: Kỹ thuật laser | H44: 2 | I44: 30 | L44: 0 | O44: Điện - Điện tử | P44: CÔNG NGHỆ THÔNG TIN | Q44: =_DL_BM -> TTDT | R44: =_DL_Khoa -> CNTT | S44: =+R44&"-"&Q44 -> CNTT-TTDT
A45: DC2TH38 | D45: CC2TH38 | F45: 245 | G45: Kỹ thuật phần mềm ứng dụng | H45: 2 | I45: 30 | L45: 0 | M45: Viết | N45: 60 | O45: Điện - Điện tử | P45: CÔNG NGHỆ THÔNG TIN | Q45: =_DL_BM -> TTDT | R45: =_DL_Khoa -> CNTT | S45: =+R45&"-"&Q45 -> CNTT-TTDT | AE45: o | AX45: o
A46: DC2DT61 | F46: 240 | G46: Kỹ thuật số | H46: 2 | I46: 30 | J46: 30 | L46: 0 | M46: Viết | N46: 60 | O46: Điện - Điện tử | P46: CÔNG NGHỆ THÔNG TIN | Q46: =_DL_BM -> TTDT | R46: =_DL_Khoa -> CNTT | S46: =+R46&"-"&Q46 -> CNTT-TTDT | AF46: o
A47: DC3ME63 | F47: 829 | G47: Kỹ thuật vi điều khiển | H47: 3 | I47: 45 | L47: 0 | O47: Điện - Điện tử | P47: CÔNG NGHỆ THÔNG TIN | Q47: =_DL_BM -> TTDT | R47: =_DL_Khoa -> CNTT | S47: =+R47&"-"&Q47 -> CNTT-TTDT
A48: DC2DT63 | F48: 241 | G48: Kỹ thuật vi xử lý | H48: 2 | I48: 30 | J48: 30 | L48: 0 | M48: Viết | N48: 60 | O48: Điện - Điện tử | P48: CÔNG NGHỆ THÔNG TIN | Q48: =_DL_BM -> TTDT | R48: =_DL_Khoa -> CNTT | S48: =+R48&"-"&Q48 -> CNTT-TTDT | AF48: o
A49: DC2DT62 | F49: 208 | G49: Kỹ thuật vi xử lý và ứng dụng | H49: 4 | I49: 45 | J49: 30 | L49: 0 | M49: Viết | N49: 60 | O49: Điện - Điện tử | P49: CÔNG NGHỆ THÔNG TIN | Q49: =_DL_BM -> TTDT | R49: =_DL_Khoa -> CNTT | S49: =+R49&"-"&Q49 -> CNTT-TTDT | AE49: x
B50: DL2DT62 | F50: 209 | G50: Kỹ thuật vi xử lý và ứng dụng | H50: 2 | I50: 30 | L50: 0 | M50: Viết | N50: 60 | O50: Điện - Điện tử | P50: CÔNG NGHỆ THÔNG TIN | Q50: =_DL_BM -> TTDT | R50: =_DL_Khoa -> CNTT | S50: =+R50&"-"&Q50 -> CNTT-TTDT
D51: CC2DT62 | F51: 210 | G51: Kỹ thuật vi xử lý và ứng dụng | H51: 3 | I51: 30 | J51: 30 | L51: 0 | M51: Viết | N51: 60 | O51: Điện - Điện tử | P51: CÔNG NGHỆ THÔNG TIN | Q51: =_DL_BM -> TTDT | R51: =_DL_Khoa -> CNTT | S51: =+R51&"-"&Q51 -> CNTT-TTDT | AX51: x
A52: DC3OT71 | F52: 842 | G52: Lập trình PLC | H52: 3 | L52: 0 | O52: Điện - Điện tử | P52: CÔNG NGHỆ THÔNG TIN | Q52: =_DL_BM -> TTDT | R52: =_DL_Khoa -> CNTT | S52: =+R52&"-"&Q52 -> CNTT-TTDT
A53: DC2DT41 | D53: CC2DT41 | F53: 192 | G53: Linh kiện điện tử | H53: 3 | I53: 30 | J53: 30 | L53: 0 | M53: Viết | N53: 60 | O53: Điện - Điện tử | P53: CÔNG NGHỆ THÔNG TIN | Q53: =_DL_BM -> TTDT | R53: =_DL_Khoa -> CNTT | S53: =+R53&"-"&Q53 -> CNTT-TTDT | AE53: x | AX53: x
A54: DC2DT42 | D54: CC2DT42 | F54: 193 | G54: Lý thuyết mạch | H54: 3 | I54: 30 | J54: 30 | L54: 0 | M54: Viết | N54: 90 | O54: Điện - Điện tử | P54: CÔNG NGHỆ THÔNG TIN | Q54: =_DL_BM -> TTDT | R54: =_DL_Khoa -> CNTT | S54: =+R54&"-"&Q54 -> CNTT-TTDT | AE54: x | AX54: x
A55: DC2DT43 | D55: CC2DT43 | F55: 194 | G55: Lý thuyết truyền tin | H55: 3 | I55: 45 | L55: 0 | M55: Viết | N55: 60 | O55: Điện - Điện tử | P55: CÔNG NGHỆ THÔNG TIN | Q55: =_DL_BM -> TTDT | R55: =_DL_Khoa -> CNTT | S55: =+R55&"-"&Q55 -> CNTT-TTDT | AE55: x | AX55: x
A56: DC3DT61 | F56: 554 | G56: Mạng viễn thông | H56: 4 | I56: 60 | L56: 0 | O56: Điện - Điện tử | P56: CÔNG NGHỆ THÔNG TIN | Q56: =_DL_BM -> TTDT | R56: =_DL_Khoa -> CNTT | S56: =+R56&"-"&Q56 -> CNTT-TTDT | AE56: x
B57: DL3DT61 | F57: 555 | G57: Mạng viễn thông | H57: 2 | I57: 30 | L57: 0 | O57: Điện - Điện tử | P57: CÔNG NGHỆ THÔNG TIN | Q57: =_DL_BM -> TTDT | R57: =_DL_Khoa -> CNTT | S57: =+R57&"-"&Q57 -> CNTT-TTDT
D58: CC3DT61 | F58: 557 | G58: Mạng viễn thông | H58: 3 | I58: 45 | L58: 0 | M58: Viết | N58: 60 | O58: Điện - Điện tử | P58: CÔNG NGHỆ THÔNG TIN | Q58: =_DL_BM -> TTDT | R58: =_DL_Khoa -> CNTT | S58: =+R58&"-"&Q58 -> CNTT-TTDT | AX58: x
A59: DC1TH48 | B59: DC1TH48 | D59: CC1TH48 | F59: 53 | G59: Matlab và ứng dụng | H59: 2 | I59: 15 | J59: 30 | L59: 0 | M59: TH | O59: Điện - Điện tử | P59: CÔNG NGHỆ THÔNG TIN | Q59: =_DL_BM -> TTDT | R59: =_DL_Khoa -> CNTT | S59: =+R59&"-"&Q59 -> CNTT-TTDT | AE59: o | AX59: o
A60: DC3ME84 | F60: 833 | G60: Robot công nghiệp | H60: 2 | I60: 30 | L60: 0 | O60: Điện - Điện tử | P60: CÔNG NGHỆ THÔNG TIN | Q60: =_DL_BM -> TTDT | R60: =_DL_Khoa -> CNTT | S60: =+R60&"-"&Q60 -> CNTT-TTDT
A61: DC2DT56 | D61: CC2DT56 | F61: 207 | G61: Tín hiệu và hệ thống | H61: 2 | I61: 30 | L61: 0 | M61: Viết | N61: 60 | O61: Điện - Điện tử | P61: CÔNG NGHỆ THÔNG TIN | Q61: =_DL_BM -> TTDT | R61: =_DL_Khoa -> CNTT | S61: =+R61&"-"&Q61 -> CNTT-TTDT | AE61: x | AX61: x
A62: DC3ME74 | F62: 835 | G62: Tự động hóa quá trình sản xuất | H62: 2 | I62: 30 | L62: 0 | O62: Điện - Điện tử | P62: CÔNG NGHỆ THÔNG TIN | Q62: =_DL_BM -> TTDT | R62: =_DL_Khoa -> CNTT | S62: =+R62&"-"&Q62 -> CNTT-TTDT
A63: DC3DT73 | B63: DC3DT73 | F63: 558 | G63: Thông tin di động | H63: 3 | I63: 45 | L63: 0 | O63: Điện - Điện tử | P63: CÔNG NGHỆ THÔNG TIN | Q63: =_DL_BM -> TTDT | R63: =_DL_Khoa -> CNTT | S63: =+R63&"-"&Q63 -> CNTT-TTDT | AE63: x
A64: DC3DT74 | D64: CC3DT74 | F64: 559 | G64: Thông tin quang | H64: 3 | I64: 45 | L64: 0 | M64: Viết | N64: 60 | O64: Điện - Điện tử | P64: CÔNG NGHỆ THÔNG TIN | Q64: =_DL_BM -> TTDT | R64: =_DL_Khoa -> CNTT | S64: =+R64&"-"&Q64 -> CNTT-TTDT | AE64: x | AX64: x
A65: DC3DT71 | D65: CC3DT71 | F65: 549 | G65: Thông tin số | H65: 3 | I65: 45 | L65: 0 | M65: Viết | N65: 60 | O65: Điện - Điện tử | P65: CÔNG NGHỆ THÔNG TIN | Q65: =_DL_BM -> TTDT | R65: =_DL_Khoa -> CNTT | S65: =+R65&"-"&Q65 -> CNTT-TTDT | AE65: x | AX65: x
A66: DC3DT72 | D66: CC3DT72 | F66: 550 | G66: Thông tin vô tuyến | H66: 3 | I66: 45 | L66: 0 | O66: Điện - Điện tử | P66: CÔNG NGHỆ THÔNG TIN | Q66: =_DL_BM -> TTDT | R66: =_DL_Khoa -> CNTT | S66: =+R66&"-"&Q66 -> CNTT-TTDT | AE66: x | AX66: x
A67: DC4DT21 | D67: CC4DT21 | F67: 678 | G67: Thực tập Điện tử cơ bản | H67: 3 | K67: 135 | L67: 0 | M67: TH | O67: Điện - Điện tử | P67: CÔNG NGHỆ THÔNG TIN | Q67: =_DL_BM -> TTDT | R67: =_DL_Khoa -> CNTT | S67: =+R67&"-"&Q67 -> CNTT-TTDT | AE67: x | AX67: x
A68: DC4DT23 | D68: CC4DT23 | F68: 680 | G68: Thực tập Điện tử viễn thông | H68: 3 | K68: 135 | L68: 0 | M68: TH | O68: Điện - Điện tử | P68: CÔNG NGHỆ THÔNG TIN | Q68: =_DL_BM -> TTDT | R68: =_DL_Khoa -> CNTT | S68: =+R68&"-"&Q68 -> CNTT-TTDT | AE68: x | AX68: x
A69: DC4ME51 | F69: 838 | G69: Thực tập Hệ thống cơ điện tử | H69: 5 | J69: 150 | L69: 0 | M69: TH | O69: Điện - Điện tử | P69: CÔNG NGHỆ THÔNG TIN | Q69: =_DL_BM -> TTDT | R69: =_DL_Khoa -> CNTT | S69: =+R69&"-"&Q69 -> CNTT-TTDT
A70: DC4DT22 | D70: CC4DT22 | F70: 679 | G70: Thực tập Lắp ráp điện tử | H70: 2 | K70: 90 | L70: 0 | M70: TH | O70: Điện - Điện tử | P70: CÔNG NGHỆ THÔNG TIN | Q70: =_DL_BM -> TTDT | R70: =_DL_Khoa -> CNTT | S70: =+R70&"-"&Q70 -> CNTT-TTDT | AE70: x | AX70: x
A71: DC2DT46 | B71: DC2DT46 | F71: 196 | G71: Trường điện từ | H71: 3 | I71: 45 | L71: 0 | M71: Viết | N71: 90 | O71: Điện - Điện tử | P71: CÔNG NGHỆ THÔNG TIN | Q71: =_DL_BM -> TTDT | R71: =_DL_Khoa -> CNTT | S71: =+R71&"-"&Q71 -> CNTT-TTDT | AE71: x
A72: DC2DT64 | D72: CC2DT64 | F72: 211 | G72: Xử lý tín hiệu số | H72: 3 | I72: 45 | L72: 0 | M72: Viết | N72: 60 | O72: Điện - Điện tử | P72: CÔNG NGHỆ THÔNG TIN | Q72: =_DL_BM -> TTDT | R72: =_DL_Khoa -> CNTT | S72: =+R72&"-"&Q72 -> CNTT-TTDT | AE72: x | AX72: x
A73: DC3HT51 | F73: 533 | G73: An toàn và bảo mật hệ thống thông tin | H73: 2 | I73: 30 | L73: 0 | O73: Công nghệ mạng | P73: CÔNG NGHỆ THÔNG TIN | Q73: =_DL_BM -> TTMA | R73: =_DL_Khoa -> CNTT | S73: =+R73&"-"&Q73 -> CNTT-TTMA | AF73: x
D74: CC2TH80 | F74: 249 | G74: Các hệ phân tán | H74: 2 | I74: 30 | L74: 0 | O74: Công nghệ mạng | P74: CÔNG NGHỆ THÔNG TIN | Q74: =_DL_BM -> TTMA | R74: =_DL_Khoa -> CNTT | S74: =+R74&"-"&Q74 -> CNTT-TTMA | AY74: o
D75: CC3TH85 | F75: 626 | G75: Công nghệ Web và dịch vụ trực tuyến | H75: 2 | I75: 30 | L75: 0 | M75: VĐ | O75: Công nghệ mạng | P75: CÔNG NGHỆ THÔNG TIN | Q75: =_DL_BM -> TTMA | R75: =_DL_Khoa -> CNTT | S75: =+R75&"-"&Q75 -> CNTT-TTMA | AY75: o
D76: CC3TH42 | F76: 542 | G76: Công nghệ, thiết bị và thiết kế mạng | H76: 3 | I76: 30 | J76: 30 | L76: 0 | M76: VĐ | O76: Công nghệ mạng | P76: CÔNG NGHỆ THÔNG TIN | Q76: =_DL_BM -> TTMA | R76: =_DL_Khoa -> CNTT | S76: =+R76&"-"&Q76 -> CNTT-TTMA | AY76: x
A77: DC3TH24 | F77: 620 | G77: Cơ sở dữ liệu phân tán | H77: 2 | I77: 30 | L77: 0 | O77: Công nghệ mạng | P77: CÔNG NGHỆ THÔNG TIN | Q77: =_DL_BM -> TTMA | R77: =_DL_Khoa -> CNTT | S77: =+R77&"-"&Q77 -> CNTT-TTMA | AF77: o
A78: DC3HT48 | F78: 537 | G78: Đồ án Mạng máy tính | H78: 3 | K78: 135 | L78: 0 | M78: VĐ | O78: Công nghệ mạng | P78: CÔNG NGHỆ THÔNG TIN | Q78: =_DL_BM -> TTMA | R78: =_DL_Khoa -> CNTT | S78: =+R78&"-"&Q78 -> CNTT-TTMA | AF78: x
A79: DC3TH25 | F79: 622 | G79: Đồ họa ứng dụng | H79: 2 | I79: 30 | L79: 0 | O79: Công nghệ mạng | P79: CÔNG NGHỆ THÔNG TIN | Q79: =_DL_BM -> TTMA | R79: =_DL_Khoa -> CNTT | S79: =+R79&"-"&Q79 -> CNTT-TTMA | AF79: o
A80: DC3TH63 | F80: 619 | G80: Hệ điều hành Unix | H80: 2 | I80: 15 | J80: 30 | L80: 0 | O80: Công nghệ mạng | P80: CÔNG NGHỆ THÔNG TIN | Q80: =_DL_BM -> TTMA | R80: =_DL_Khoa -> CNTT | S80: =+R80&"-"&Q80 -> CNTT-TTMA | AF80: o
A81: DC2HT11 | F81: 170 | G81: Kiến trúc máy tính | H81: 3 | I81: 30 | J81: 30 | L81: 0 | M81: Viết | N81: 90 | O81: Công nghệ mạng | P81: CÔNG NGHỆ THÔNG TIN | Q81: =_DL_BM -> TTMA | R81: =_DL_Khoa -> CNTT | S81: =+R81&"-"&Q81 -> CNTT-TTMA | AF81: x
A82: DC2DT57 | D82: CC2DT57 | F82: 244 | G82: Kiến trúc máy tính | H82: 2 | I82: 30 | L82: 0 | M82: Viết | N82: 60 | O82: Công nghệ mạng | P82: CÔNG NGHỆ THÔNG TIN | Q82: =_DL_BM -> TTMA | R82: =_DL_Khoa -> CNTT | S82: =+R82&"-"&Q82 -> CNTT-TTMA | AE82: o | AX82: o
D83: CC3TH11 | F83: 540 | G83: Kỹ thuật đồ hoạ ứng dụng | H83: 3 | I83: 30 | J83: 30 | L83: 0 | O83: Công nghệ mạng | P83: CÔNG NGHỆ THÔNG TIN | Q83: =_DL_BM -> TTMA | R83: =_DL_Khoa -> CNTT | S83: =+R83&"-"&Q83 -> CNTT-TTMA | AY83: x
D84: CC3TH43 | F84: 543 | G84: Lập trình quản lý | H84: 2 | I84: 15 | J84: 30 | L84: 0 | M84: VĐ | O84: Công nghệ mạng | P84: CÔNG NGHỆ THÔNG TIN | Q84: =_DL_BM -> TTMA | R84: =_DL_Khoa -> CNTT | S84: =+R84&"-"&Q84 -> CNTT-TTMA | AY84: x
A85: DC2HT36 | F85: 179 | G85: Lập trình trên môi trường Web | H85: 3 | I85: 30 | J85: 30 | L85: 0 | O85: Công nghệ mạng | P85: CÔNG NGHỆ THÔNG TIN | Q85: =_DL_BM -> TTMA | R85: =_DL_Khoa -> CNTT | S85: =+R85&"-"&Q85 -> CNTT-TTMA | AF85: x
D86: CC3TH62 | F86: 624 | G86: Linux và phần mềm mã nguồn mở | H86: 2 | I86: 15 | J86: 30 | L86: 0 | M86: VĐ | O86: Công nghệ mạng | P86: CÔNG NGHỆ THÔNG TIN | Q86: =_DL_BM -> TTMA | R86: =_DL_Khoa -> CNTT | S86: =+R86&"-"&Q86 -> CNTT-TTMA | AY86: o
D87: CC2TH14 | F87: 189 | G87: Mạng cơ bản - Internet | H87: 3 | I87: 30 | J87: 30 | L87: 0 | M87: Viết | N87: 90 | O87: Công nghệ mạng | P87: CÔNG NGHỆ THÔNG TIN | Q87: =_DL_BM -> TTMA | R87: =_DL_Khoa -> CNTT | S87: =+R87&"-"&Q87 -> CNTT-TTMA | AY87: x
A88: DC2HT13 | F88: 175 | G88: Nhập môn mạng máy tính | H88: 3 | I88: 30 | J88: 30 | L88: 0 | M88: Viết | N88: 90 | O88: Công nghệ mạng | P88: CÔNG NGHỆ THÔNG TIN | Q88: =_DL_BM -> TTMA | R88: =_DL_Khoa -> CNTT | S88: =+R88&"-"&Q88 -> CNTT-TTMA | AF88: x
A89: DC3TT47 | D89: CC3TT47 | F89: 539 | G89: Quản trị mạng | H89: 3 | I89: 30 | J89: 30 | L89: 0 | M89: VĐ | O89: Công nghệ mạng | P89: CÔNG NGHỆ THÔNG TIN | Q89: =_DL_BM -> TTMA | R89: =_DL_Khoa -> CNTT | S89: =+R89&"-"&Q89 -> CNTT-TTMA | AF89: x | AY89: x
D90: CC3TH14 | F90: 547 | G90: SQL | H90: 3 | I90: 30 | J90: 30 | L90: 0 | M90: VĐ | O90: Công nghệ mạng | P90: CÔNG NGHỆ THÔNG TIN | Q90: =_DL_BM -> TTMA | R90: =_DL_Khoa -> CNTT | S90: =+R90&"-"&Q90 -> CNTT-TTMA | AY90: x
A91: DC3HT46 | F91: 538 | G91: Thiết kế mạng máy tính | H91: 3 | I91: 15 | J91: 60 | L91: 0 | M91: Viết | N91: 90 | O91: Công nghệ mạng | P91: CÔNG NGHỆ THÔNG TIN | Q91: =_DL_BM -> TTMA | R91: =_DL_Khoa -> CNTT | S91: =+R91&"-"&Q91 -> CNTT-TTMA | AF91: x
D92: CC3TH45 | F92: 623 | G92: Thiết kế mô hình trên AutoCAD | H92: 2 | I92: 15 | J92: 30 | L92: 0 | O92: Công nghệ mạng | P92: CÔNG NGHỆ THÔNG TIN | Q92: =_DL_BM -> TTMA | R92: =_DL_Khoa -> CNTT | S92: =+R92&"-"&Q92 -> CNTT-TTMA | AY92: o
D93: CC3TH41 | F93: 541 | G93: Thiết kế và lập trình Web | H93: 4 | I93: 45 | J93: 30 | L93: 0 | M93: VĐ | O93: Công nghệ mạng | P93: CÔNG NGHỆ THÔNG TIN | Q93: =_DL_BM -> TTMA | R93: =_DL_Khoa -> CNTT | S93: =+R93&"-"&Q93 -> CNTT-TTMA | AY93: x
A94: DC3HT12 | F94: 529 | G94: Trí tuệ nhân tạo | H94: 3 | I94: 45 | L94: 0 | O94: Công nghệ mạng | P94: CÔNG NGHỆ THÔNG TIN | Q94: =_DL_BM -> TTMA | R94: =_DL_Khoa -> CNTT | S94: =+R94&"-"&Q94 -> CNTT-TTMA | AF94: x
D95: CC3TH12 | F95: 545 | G95: Trí tuệ nhân tạo | H95: 2 | I95: 30 | L95: 0 | M95: VĐ | O95: Công nghệ mạng | P95: CÔNG NGHỆ THÔNG TIN | Q95: =_DL_BM -> TTMA | R95: =_DL_Khoa -> CNTT | S95: =+R95&"-"&Q95 -> CNTT-TTMA | AY95: x
D96: CC2TH75 | F96: 246 | G96: Access | H96: 2 | I96: 30 | L96: 0 | M96: TH | O96: Hệ thống thông tin | P96: CÔNG NGHỆ THÔNG TIN | Q96: =_DL_BM -> TTHT | R96: =_DL_Khoa -> CNTT | S96: =+R96&"-"&Q96 -> CNTT-TTHT | AY96: o
A97: DC2TH33 | F97: 242 | G97: Automat và ngôn ngữ hình thức | H97: 2 | I97: 30 | L97: 0 | M97: Viết | O97: Hệ thống thông tin | P97: CÔNG NGHỆ THÔNG TIN | Q97: =_DL_BM -> TTHT | R97: =_DL_Khoa -> CNTT | S97: =+R97&"-"&Q97 -> CNTT-TTHT | AF97: o
A98: DC2HT26 | D98: CC2HT26 | F98: 174 | G98: Cấu trúc dữ liệu và giải thuật | H98: 4 | I98: 60 | L98: 0 | M98: Viết | N98: 60 | O98: Hệ thống thông tin | P98: CÔNG NGHỆ THÔNG TIN | Q98: =_DL_BM -> TTHT | R98: =_DL_Khoa -> CNTT | S98: =+R98&"-"&Q98 -> CNTT-TTHT | AF98: x | AY98: x
D99: CC2TH11 | F99: 188 | G99: Cấu trúc máy tính + hợp ngữ | H99: 2 | I99: 30 | L99: 0 | M99: Viết | N99: 60 | O99: Hệ thống thông tin | P99: CÔNG NGHỆ THÔNG TIN | Q99: =_DL_BM -> TTHT | R99: =_DL_Khoa -> CNTT | S99: =+R99&"-"&Q99 -> CNTT-TTHT | AY99: x
A100: DC2HT38 | F100: 181 | G100: Công nghệ phần mềm | H100: 3 | I100: 45 | L100: 0 | O100: Hệ thống thông tin | P100: CÔNG NGHỆ THÔNG TIN | Q100: =_DL_BM -> TTHT | R100: =_DL_Khoa -> CNTT | S100: =+R100&"-"&Q100 -> CNTT-TTHT | AF100: x
...

Sheet LICH THI
G1: 7 | H1: 8 | I1: 13 | J1: 14 | M1: Số lượt GV huy động | Q1: =Q3-Q2 -> 46 | R1: =R3-R2 -> 108 | S1: =S3-S2 -> 12 | T1: =T3-T2 -> 146 | U1: =U3-U2 -> 36 | V1: =V3-V2 -> 154 | W1: =W3-W2 -> 36 | X1: =SUM(Q1:W1) -> 538 | AJ1: 1 | AK1: =SUMIF(M:M,AJ1,W:W) -> 0 | AP1: 17 | AQ1: 18 | AU1: 20 | AV1: =+AU1+1 -> 21 | AW1: =+AV1+1 -> 22 | AX1: =+AW1+1 -> 23 | AY1: =+AX1+1 -> 24 | AZ1: =+AY1+1 -> 25 | BA1: =+AZ1+1 -> 26 | BB1: =+BA1+1 -> 27 | BC1: =+BB1+1 -> 28 | ... BM1: =+BL1+1 -> 38 | BN1: 39 | BO1: =+BN1+1 -> 40 | BP1: =+BO1+1 -> 41 | BQ1: =+BP1+1 -> 42 | BR1: =+BQ1+1 -> 43 | BS1: =+BR1+1 -> 44 | BT1: =+BS1+1 -> 45 | BU1: =+BT1+1 -> 46 | BV1: =+BU1+1 -> 47 | ... CF1: =+CE1+1 -> 57
A2: _Ngay_gio | B2: _Gio | D2: _stt | G2: _Loc | H2: _Loc | L2: Số SV/Phòng tiêu chuẩn | O2: 45 | P2: _sophong | Q2: =SUM(Q10:Q242) -> 0 | R2: =SUM(R10:R242) -> 0 | S2: =SUM(S10:S242) -> 0 | T2: =SUM(T10:T242) -> 0 | U2: =SUM(U10:U242) -> 0 | V2: =SUM(V10:V242) -> 0 | W2: =SUM(W10:W242) -> 0 | X2: =SUM(Q2:W2) -> 0 | Y2: _Ngaycham | Z2: _Nopdiem | AI2: _Ngay | AJ2: 2 | AK2: =SUMIF(M:M,AJ2,W:W) -> 0
L3: Số SV/Phòng tối thiểu | O3: 10 | P3: =SUM(P10:P242) -> 269 | Q3: =SUMIF($AQ$10:$AQ$242,Q9,$P$10:$P$242)*2 -> 46 | R3: =SUMIF($AQ$10:$AQ$242,R9,$P$10:$P$242)*2 -> 108 | S3: =SUMIF($AQ$10:$AQ$242,S9,$P$10:$P$242)*2 -> 12 | T3: =SUMIF($AQ$10:$AQ$242,T9,$P$10:$P$242)*2 -> 146 | U3: =SUMIF($AQ$10:$AQ$242,U9,$P$10:$P$242)*2 -> 36 | V3: =SUMIF($AQ$10:$AQ$242,V9,$P$10:$P$242)*2 -> 154 | W3: =SUMIF($AQ$10:$AQ$242,W9,$P$10:$P$242)*2 -> 36 | X3: =SUM(Q3:W3) -> 538 | AJ3: 3 | AK3: =SUMIF(M:M,AJ3,W:W) -> 0
E4: TRƯỜNG ĐẠI HỌC CÔNG NGHỆ GTVT | I4: LỊCH THI CẢI THIỆN HỌC KỲ 1 - NĂM HỌC 2015-2016 | AJ4: 4 | AK4: =SUMIF(M:M,AJ4,W:W) -> 0
E5: PHÒNG ĐẢM BẢO CHẤT LƯỢNG ĐÀO TẠO
A6: 42156 | T6: (Kèm theo Thông báo số /TB-ĐHCNGTVT ngày / /2015 của Hiệu trưởng Trường ĐHCN GTVT)
A7: 42174 | C7: NHẬP DỮ LIỆU CỘT NÀY | D7: S T T | E7: Hệ đào tạo - Khóa | F7: Mã học phần | G7: Tên học phần | H7: Số TC | I7: Hình thức thi | J7: Thời gian thi | K7: THI LẦN 1 | Q7: KẾ HOẠCH COI, CHẤM THI LẦN 1 | AA7: GHI CHÚ
A8: 42181 | K8: Ngày thi | M8: Ca thi | N8: Tổng số SV | O8: Số SV/phg | P8: Số phòng | Q8: Phân công GV coi thi | Y8: Thời gian
Q9: LLCT | R9: KHCB | S9: CSKT | T9: KCT | U9: KCK | V9: KTVT | W9: CNTT | X9: Tổng | Y9: Bắt đầu chấm thi | Z9: Nộp bảng điểm | AA9: (Ghép phòng) | AC9: B | AI9: Bộ đề thi | AJ9: Ngân hàng câu hỏi | AN9: Số SV | AO9: Số phòng thi | AT9: TN | AU9: DCCA | AV9: DCCC | AW9: DCCD | AX9: DCCS | AY9: DCDB | AZ9: DCDD | BA9: DCCDA | BB9: DCOT | BC9: DCMX | BD9: DCMT | BE9: DCDM | BF9: DTDT | BG9: DCHT | BH9: DCKT | BI9: DCQT | BJ9: DCKX | BK9: DCVB | BL9: DCVS | BM9: DCVL | BN9: CCCA | BO9: CCCC | BP9: CCCD | BQ9: CCCS | BR9: CCDB | BS9: CCDD | BT9: CCCDA | BU9: CCOT | BV9: CCMX | BW9: CCMT | BX9: CCDM | BY9: CCDT | BZ9: CCTH | CA9: CCKT | CB9: CCQT | CC9: CCKX | CD9: CCVB | CE9: CCVS | CF9: CCVL
A10: =_L_NgayGio -> 42469.292 | B10: =_L_Gio -> 7:00 | C10: DC1CB32-DC | D10: =_L_stt -> 1 | E10: =_L_LocHe -> DC | F10: =_L_MaHP -> DC1CB32 | G10: =_L_Loc -> Tiếng Anh 2 | H10: =_L_Loc -> 4 | I10: =_L_Loc -> Viết | J10: =_L_Loc -> 60 | K10: 42469 | L10: =_L_Ngay -> (Thứ 7) | M10: 1 | N10: =_L_SoSV -> 172 | O10: =_L_SV_P -> 45 | P10: =_L_sophong -> 4 | X10: =SUM(Q10:W10) -> 0 | Y10: =_L_NgayCham -> 42470 | Z10: =_L_NopDiem -> 42476 | AM10: =COUNTIF(F$10:F$243,F10) -> 2 | AN10: =X10-2*P10 -> -8 | AO10: =_L_SV_Pcuoi -> 37 | AP10: =_L_Loc -> CBNN | AQ10: =_L_Loc -> KHCB | AR10: =X10-2*P10 -> -8 | AS10: =+N10/O10 -> 3.8222222 | AU10: =_L_Loc -> x | AV10: =_L_Loc -> x | AW10: =_L_Loc -> x | AX10: =_L_Loc -> x | AY10: =_L_Loc -> x | AZ10: =_L_Loc -> x | BA10: =_L_Loc -> x | BB10: =_L_Loc -> x | ... CF10: =_L_Loc -> 0
A11: =_L_NgayGio -> 42469.292 | B11: =_L_Gio -> 7:00 | C11: CC1LL01-CC | D11: =_L_stt -> 2 | E11: =_L_LocHe -> CC | F11: =_L_MaHP -> CC1LL01 | G11: =_L_Loc -> Những nguyên lý cơ bản của chủ nghĩa Mác - Lênin 1 | H11: =_L_Loc -> 2 | I11: =_L_Loc -> Viết | J11: =_L_Loc -> 75 | K11: 42469 | L11: =_L_Ngay -> (Thứ 7) | M11: 1 | N11: =_L_SoSV -> 26 | O11: =_L_SV_P -> 26 | P11: =_L_sophong -> 1 | X11: =SUM(Q11:W11) -> 0 | Y11: =_L_NgayCham -> 42470 | Z11: =_L_NopDiem -> 42476 | AM11: =COUNTIF(F$10:F$243,F11) -> 1 | AN11: =X11-2*P11 -> -2 | AO11: =_L_SV_Pcuoi -> 26 | AP11: =_L_Loc -> LLNL | AQ11: =_L_Loc -> LLCT | AR11: =X11-2*P11 -> -2 | AS11: =+N11/O11 -> 1 | AU11: =_L_Loc -> x | AV11: =_L_Loc -> x | AW11: =_L_Loc -> x | AX11: =_L_Loc -> x | AY11: =_L_Loc -> x | AZ11: =_L_Loc -> x | BA11: =_L_Loc -> x | BB11: =_L_Loc -> x | ... BM11: =_L_Loc -> x
A12: =_L_NgayGio -> 42469.292 | B12: =_L_Gio -> 7:00 | C12: DC1CB32-DL | D12: =_L_stt -> 3 | E12: =_L_LocHe -> DL | F12: =_L_MaHP -> DC1CB32 | G12: =_L_Loc -> Tiếng Anh 2 | H12: =_L_Loc -> 4 | I12: =_L_Loc -> Viết | J12: =_L_Loc -> 60 | K12: 42469 | L12: =_L_Ngay -> (Thứ 7) | M12: 1 | N12: =_L_SoSV -> 54 | O12: =_L_SV_P -> 53 | P12: =_L_sophong -> 2 | X12: =SUM(Q12:W12) -> 0 | Y12: =_L_NgayCham -> 42470 | Z12: =_L_NopDiem -> 42476 | AM12: =COUNTIF(F$10:F$243,F12) -> 2 | AN12: =X12-2*P12 -> -4 | AO12: =_L_SV_Pcuoi -> 1 | AP12: =_L_Loc -> CBNN | AQ12: =_L_Loc -> KHCB | AR12: =X12-2*P12 -> -4 | AS12: =+N12/O12 -> 1.0188679 | AU12: =_L_Loc -> x | AV12: =_L_Loc -> x | AW12: =_L_Loc -> x | AX12: =_L_Loc -> x | AY12: =_L_Loc -> x | AZ12: =_L_Loc -> x | BA12: =_L_Loc -> x | BB12: =_L_Loc -> x | ... CF12: =_L_Loc -> 0
A13: =_L_NgayGio -> 42469.292 | B13: =_L_Gio -> 7:00 | C13: DL2CO21-DL | D13: =_L_stt -> 4 | E13: =_L_LocHe -> DL | F13: =_L_MaHP -> DL2CO21 | G13: =_L_Loc -> Cơ học cơ sở | H13: =_L_Loc -> 2 | I13: =_L_Loc -> Viết | J13: =_L_Loc -> 60 | K13: 42469 | L13: =_L_Ngay -> (Thứ 7) | M13: 1 | N13: =_L_SoSV -> 31 | O13: =_L_SV_P -> 31 | P13: =_L_sophong -> 1 | X13: =SUM(Q13:W13) -> 0 | Y13: =_L_NgayCham -> 42470 | Z13: =_L_NopDiem -> 42476 | AM13: =COUNTIF(F$10:F$243,F13) -> 1 | AN13: =X13-2*P13 -> -2 | AO13: =_L_SV_Pcuoi -> 31 | AP13: =_L_Loc -> CSCO | AQ13: =_L_Loc -> CSKT | AR13: =X13-2*P13 -> -2 | AS13: =+N13/O13 -> 1 | AU13: =_L_Loc -> 0 | AV13: =_L_Loc -> 0 | AW13: =_L_Loc -> 0 | AX13: =_L_Loc -> 0 | AY13: =_L_Loc -> 0 | AZ13: =_L_Loc -> 0 | BA13: =_L_Loc -> 0 | BB13: =_L_Loc -> 0 | ... CF13: =_L_Loc -> 0
A14: =_L_NgayGio -> 42469.292 | B14: =_L_Gio -> 7:00 | C14: DL2DD33-DL | D14: =_L_stt -> 5 | E14: =_L_LocHe -> DL | F14: =_L_MaHP -> DL2DD33 | G14: =_L_Loc -> Nền và móng | H14: =_L_Loc -> 2 | I14: =_L_Loc -> Viết | J14: =_L_Loc -> 60 | K14: 42469 | L14: =_L_Ngay -> (Thứ 7) | M14: 1 | N14: =_L_SoSV -> 10 | O14: =_L_SV_P -> 10 | P14: =_L_sophong -> 1 | X14: =SUM(Q14:W14) -> 0 | Y14: =_L_NgayCham -> 42470 | Z14: =_L_NopDiem -> 42476 | AM14: =COUNTIF(F$10:F$243,F14) -> 1 | AN14: =X14-2*P14 -> -2 | AO14: =_L_SV_Pcuoi -> 10 | AP14: =_L_Loc -> CTDD | AQ14: =_L_Loc -> KCT | AR14: =X14-2*P14 -> -2 | AS14: =+N14/O14 -> 1 | AU14: =_L_Loc -> 0 | AV14: =_L_Loc -> 0 | AW14: =_L_Loc -> 0 | AX14: =_L_Loc -> 0 | AY14: =_L_Loc -> 0 | AZ14: =_L_Loc -> 0 | BA14: =_L_Loc -> 0 | BB14: =_L_Loc -> 0 | ... BM14: =_L_Loc -> 0
A15: =_L_NgayGio -> 42469.292 | B15: =_L_Gio -> 7:00 | C15: DC3DB61-DC | D15: =_L_stt -> 6 | E15: =_L_LocHe -> DC | F15: =_L_MaHP -> DC3DB61 | G15: =_L_Loc -> Quản lý khai thác và kiểm định đường | H15: =_L_Loc -> 2 | I15: =_L_Loc -> Viết | J15: =_L_Loc -> 75 | K15: 42469 | L15: =_L_Ngay -> (Thứ 7) | M15: 1 | N15: =_L_SoSV -> 9 | O15: =_L_SV_P -> 9 | P15: =_L_sophong -> 1 | X15: =SUM(Q15:W15) -> 0 | Y15: =_L_NgayCham -> 42470 | Z15: =_L_NopDiem -> 42476 | AM15: =COUNTIF(F$10:F$243,F15) -> 1 | AN15: =X15-2*P15 -> -2 | AO15: =_L_SV_Pcuoi -> 9 | AP15: =_L_Loc -> CTDB | AQ15: =_L_Loc -> KCT | AR15: =X15-2*P15 -> -2 | AS15: =+N15/O15 -> 1 | AU15: =_L_Loc -> 0 | AV15: =_L_Loc -> 0 | AW15: =_L_Loc -> x | AX15: =_L_Loc -> 0 | AY15: =_L_Loc -> 0 | AZ15: =_L_Loc -> 0 | BA15: =_L_Loc -> x | BB15: =_L_Loc -> 0 | ... BM15: =_L_Loc -> 0
A16: =_L_NgayGio -> 42469.375 | B16: =_L_Gio -> 9:00 | C16: DC1CB31-DC | D16: =_L_stt -> 7 | E16: =_L_LocHe -> DC | F16: =_L_MaHP -> DC1CB31 | G16: =_L_Loc -> Tiếng Anh 1 | H16: =_L_Loc -> 4 | I16: =_L_Loc -> Viết | J16: =_L_Loc -> 60 | K16: 42469 | L16: =_L_Ngay -> (Thứ 7) | M16: 2 | N16: =_L_SoSV -> 597 | O16: =_L_SV_P -> 45 | P16: =_L_sophong -> 14 | X16: =SUM(Q16:W16) -> 0 | Y16: =_L_NgayCham -> 42470 | Z16: =_L_NopDiem -> 42476 | AM16: =COUNTIF(F$10:F$243,F16) -> 1 | AN16: =X16-2*P16 -> -28 | AO16: =_L_SV_Pcuoi -> 12 | AP16: =_L_Loc -> CBNN | AQ16: =_L_Loc -> KHCB | AR16: =X16-2*P16 -> -28 | AS16: =+N16/O16 -> 13.266667 | AU16: =_L_Loc -> x | AV16: =_L_Loc -> x | AW16: =_L_Loc -> x | AX16: =_L_Loc -> x | AY16: =_L_Loc -> x | AZ16: =_L_Loc -> x | BA16: =_L_Loc -> x | BB16: =_L_Loc -> x | ... BM16: =_L_Loc -> x
A17: =_L_NgayGio -> 42469.375 | B17: =_L_Gio -> 9:00 | C17: CC1LL02-CC | D17: =_L_stt -> 8 | E17: =_L_LocHe -> CC | F17: =_L_MaHP -> CC1LL02 | G17: =_L_Loc -> Những nguyên lý cơ bản của chủ nghĩa Mác - Lênin 2 | H17: =_L_Loc -> 3 | I17: =_L_Loc -> Viết | J17: =_L_Loc -> 90 | K17: 42469 | L17: =_L_Ngay -> (Thứ 7) | M17: 2 | N17: =_L_SoSV -> 25 | O17: =_L_SV_P -> 25 | P17: =_L_sophong -> 1 | X17: =SUM(Q17:W17) -> 0 | Y17: =_L_NgayCham -> 42470 | Z17: =_L_NopDiem -> 42476 | AM17: =COUNTIF(F$10:F$243,F17) -> 1 | AN17: =X17-2*P17 -> -2 | AO17: =_L_SV_Pcuoi -> 25 | AP17: =_L_Loc -> LLNL | AQ17: =_L_Loc -> LLCT | AR17: =X17-2*P17 -> -2 | AS17: =+N17/O17 -> 1 | AU17: =_L_Loc -> x | AV17: =_L_Loc -> x | AW17: =_L_Loc -> x | AX17: =_L_Loc -> x | AY17: =_L_Loc -> x | AZ17: =_L_Loc -> x | BA17: =_L_Loc -> x | BB17: =_L_Loc -> x | ... BM17: =_L_Loc -> x
A18: =_L_NgayGio -> 42469.375 | B18: =_L_Gio -> 9:00 | C18: DL2CT27-DL | D18: =_L_stt -> 9 | E18: =_L_LocHe -> DL | F18: =_L_MaHP -> DL2CT27 | G18: =_L_Loc -> Cơ học kết cấu | H18: =_L_Loc -> 2 | I18: =_L_Loc -> VĐ | J18: =_L_Loc -> 0 | K18: 42469 | L18: =_L_Ngay -> (Thứ 7) | M18: 2 | N18: =_L_SoSV -> 10 | O18: =_L_SV_P -> 0 | P18: =_L_sophong | X18: =SUM(Q18:W18) -> 0 | Y18: =_L_NgayCham -> 42469 | Z18: =_L_NopDiem -> 42471 | AM18: =COUNTIF(F$10:F$243,F18) -> 1 | AN18: =X18-2*P18 -> #VALUE! | AO18: =_L_SV_Pcuoi | AP18: =_L_Loc -> CTKC | AQ18: =_L_Loc -> KCT | AR18: =X18-2*P18 -> #VALUE! | AS18: =+N18/O18 -> #DIV/0! | AU18: =_L_Loc -> 0 | AV18: =_L_Loc -> 0 | AW18: =_L_Loc -> 0 | AX18: =_L_Loc -> 0 | AY18: =_L_Loc -> 0 | AZ18: =_L_Loc -> 0 | BA18: =_L_Loc -> 0 | BB18: =_L_Loc -> 0 | ... BM18: =_L_Loc -> 0
A19: =_L_NgayGio -> 42469.375 | B19: =_L_Gio -> 9:00 | C19: DL3CD61-DL | D19: =_L_stt -> 10 | E19: =_L_LocHe -> DL | F19: =_L_MaHP -> DL3CD61 | G19: =_L_Loc -> Quản lý, khai thác và kiểm định công trình cầu, đường | H19: =_L_Loc -> 2 | I19: =_L_Loc -> Viết | J19: =_L_Loc -> 75 | K19: 42469 | L19: =_L_Ngay -> (Thứ 7) | M19: 2 | N19: =_L_SoSV -> 52 | O19: =_L_SV_P -> 52 | P19: =_L_sophong -> 1 | X19: =SUM(Q19:W19) -> 0 | Y19: =_L_NgayCham -> 42470 | Z19: =_L_NopDiem -> 42476 | AM19: =COUNTIF(F$10:F$243,F19) -> 1 | AN19: =X19-2*P19 -> -2 | AO19: =_L_SV_Pcuoi -> 52 | AP19: =_L_Loc -> CTDB | AQ19: =_L_Loc -> KCT | AR19: =X19-2*P19 -> -2 | AS19: =+N19/O19 -> 1 | AU19: =_L_Loc -> 0 | AV19: =_L_Loc -> 0 | AW19: =_L_Loc -> 0 | AX19: =_L_Loc -> 0 | AY19: =_L_Loc -> 0 | AZ19: =_L_Loc -> 0 | BA19: =_L_Loc -> 0 | BB19: =_L_Loc -> 0 | ... CF19: =_L_Loc -> 0
A20: =_L_NgayGio -> 42469.542 | B20: =_L_Gio -> 13:00 | C20: DC1LL01-DC | D20: =_L_stt -> 11 | E20: =_L_LocHe -> DC | F20: =_L_MaHP -> DC1LL01 | G20: =_L_Loc -> Những nguyên lý cơ bản của chủ nghĩa Mác - Lênin 1 | H20: =_L_Loc -> 2 | I20: =_L_Loc -> Viết | J20: =_L_Loc -> 75 | K20: 42469 | L20: =_L_Ngay -> (Thứ 7) | M20: 3 | N20: =_L_SoSV -> 198 | O20: =_L_SV_P -> 45 | P20: =_L_sophong -> 5 | X20: =SUM(Q20:W20) -> 0 | Y20: =_L_NgayCham -> 42470 | Z20: =_L_NopDiem -> 42476 | AM20: =COUNTIF(F$10:F$243,F20) -> 1 | AN20: =X20-2*P20 -> -10 | AO20: =_L_SV_Pcuoi -> 18 | AP20: =_L_Loc -> LLNL | AQ20: =_L_Loc -> LLCT | AR20: =X20-2*P20 -> -10 | AS20: =+N20/O20 -> 4.4 | AU20: =_L_Loc -> x | AV20: =_L_Loc -> x | AW20: =_L_Loc -> x | AX20: =_L_Loc -> x | AY20: =_L_Loc -> x | AZ20: =_L_Loc -> x | BA20: =_L_Loc -> x | BB20: =_L_Loc -> x | ... CF20: =_L_Loc -> 0
A21: =_L_NgayGio -> 42469.542 | B21: =_L_Gio -> 13:00 | C21: CC1CB31-CC | D21: =_L_stt -> 12 | E21: =_L_LocHe -> CC | F21: =_L_MaHP -> CC1CB31 | G21: =_L_Loc -> Tiếng Anh 1 | H21: =_L_Loc -> 4 | I21: =_L_Loc -> Viết | J21: =_L_Loc -> 60 | K21: 42469 | L21: =_L_Ngay -> (Thứ 7) | M21: 3 | N21: =_L_SoSV -> 27 | O21: =_L_SV_P -> 27 | P21: =_L_sophong -> 1 | X21: =SUM(Q21:W21) -> 0 | Y21: =_L_NgayCham -> 42470 | Z21: =_L_NopDiem -> 42476 | AM21: =COUNTIF(F$10:F$243,F21) -> 1 | AN21: =X21-2*P21 -> -2 | AO21: =_L_SV_Pcuoi -> 27 | AP21: =_L_Loc -> CBNN | AQ21: =_L_Loc -> KHCB | AR21: =X21-2*P21 -> -2 | AS21: =+N21/O21 -> 1 | AU21: =_L_Loc -> 0 | AV21: =_L_Loc -> 0 | AW21: =_L_Loc -> 0 | AX21: =_L_Loc -> 0 | AY21: =_L_Loc -> 0 | AZ21: =_L_Loc -> 0 | BA21: =_L_Loc -> 0 | BB21: =_L_Loc -> 0 | ... BM21: =_L_Loc -> 0
A22: =_L_NgayGio -> 42469.542 | B22: =_L_Gio -> 13:00 | C22: DL1CB22-DL | D22: =_L_stt -> 13 | E22: =_L_LocHe -> DL | F22: =_L_MaHP -> DL1CB22 | G22: =_L_Loc -> Vật lý đại cương 2 | H22: =_L_Loc -> 3 | I22: =_L_Loc -> Viết | J22: =_L_Loc -> 60 | K22: 42469 | L22: =_L_Ngay -> (Thứ 7) | M22: 3 | N22: =_L_SoSV -> 26 | O22: =_L_SV_P -> 26 | P22: =_L_sophong -> 1 | X22: =SUM(Q22:W22) -> 0 | Y22: =_L_NgayCham -> 42470 | Z22: =_L_NopDiem -> 42476 | AM22: =COUNTIF(F$10:F$243,F22) -> 1 | AN22: =X22-2*P22 -> -2 | AO22: =_L_SV_Pcuoi -> 26 | AP22: =_L_Loc -> CBLY | AQ22: =_L_Loc -> KHCB | AR22: =X22-2*P22 -> -2 | AS22: =+N22/O22 -> 1 | AU22: =_L_Loc -> 0 | AV22: =_L_Loc -> 0 | AW22: =_L_Loc -> 0 | AX22: =_L_Loc -> 0 | AY22: =_L_Loc -> 0 | AZ22: =_L_Loc -> 0 | BA22: =_L_Loc -> 0 | BB22: =_L_Loc -> 0 | ... BM22: =_L_Loc -> 0
A23: =_L_NgayGio -> 42469.542 | B23: =_L_Gio -> 13:00 | C23: DL2GT61-DL | D23: =_L_stt -> 14 | E23: =_L_LocHe -> DL | F23: =_L_MaHP -> DL2GT61 | G23: =_L_Loc -> Thủy lực - Thủy văn công trình | H23: =_L_Loc -> 2 | I23: =_L_Loc -> Viết | J23: =_L_Loc -> 90 | K23: 42469 | L23: =_L_Ngay -> (Thứ 7) | M23: 3 | N23: =_L_SoSV -> 6 | O23: =_L_SV_P -> 6 | P23: =_L_sophong -> 1 | X23: =SUM(Q23:W23) -> 0 | Y23: =_L_NgayCham -> 42470 | Z23: =_L_NopDiem -> 42476 | AM23: =COUNTIF(F$10:F$243,F23) -> 1 | AN23: =X23-2*P23 -> -2 | AO23: =_L_SV_Pcuoi -> 6 | AP23: =_L_Loc -> CTMO | AQ23: =_L_Loc -> KCT | AR23: =X23-2*P23 -> -2 | AS23: =+N23/O23 -> 1 | AU23: =_L_Loc -> 0 | AV23: =_L_Loc -> 0 | AW23: =_L_Loc -> 0 | AX23: =_L_Loc -> 0 | AY23: =_L_Loc -> 0 | AZ23: =_L_Loc -> 0 | BA23: =_L_Loc -> 0 | BB23: =_L_Loc -> 0 | ... CF23: =_L_Loc -> 0
A24: =_L_NgayGio -> 42469.542 | B24: =_L_Gio -> 13:00 | C24: DC2GT34-DC | D24: =_L_stt -> 15 | E24: =_L_LocHe -> DC | F24: =_L_MaHP -> DC2GT34 | G24: =_L_Loc -> Đồ án Nền và móng | H24: =_L_Loc -> 1 | I24: =_L_Loc -> VĐ | J24: =_L_Loc -> 0 | K24: 42469 | L24: =_L_Ngay -> (Thứ 7) | M24: 3 | N24: =_L_SoSV -> 1 | O24: =_L_SV_P -> 0 | P24: =_L_sophong | X24: =SUM(Q24:W24) -> 0 | Y24: =_L_NgayCham -> 42469 | Z24: =_L_NopDiem -> 42471 | AM24: =COUNTIF(F$10:F$243,F24) -> 2 | AN24: =X24-2*P24 -> #VALUE! | AO24: =_L_SV_Pcuoi | AP24: =_L_Loc -> CTDK | AQ24: =_L_Loc -> KCT | AR24: =X24-2*P24 -> #VALUE! | AS24: =+N24/O24 -> #DIV/0! | AU24: =_L_Loc -> x | AV24: =_L_Loc -> x | AW24: =_L_Loc -> x | AX24: =_L_Loc -> x | AY24: =_L_Loc -> x | AZ24: =_L_Loc -> 0 | BA24: =_L_Loc -> x | BB24: =_L_Loc -> 0 | ... CF24: =_L_Loc -> 0
A25: =_L_NgayGio -> 42469.542 | B25: =_L_Gio -> 13:00 | C25: DC2GT34-DL | D25: =_L_stt -> 16 | E25: =_L_LocHe -> DL | F25: =_L_MaHP -> DC2GT34 | G25: =_L_Loc -> Đồ án Nền và móng | H25: =_L_Loc -> 1 | I25: =_L_Loc -> VĐ | J25: =_L_Loc -> 0 | K25: 42469 | L25: =_L_Ngay -> (Thứ 7) | M25: 3 | N25: =_L_SoSV -> 7 | O25: =_L_SV_P -> 0 | P25: =_L_sophong | X25: =SUM(Q25:W25) -> 0 | Y25: =_L_NgayCham -> 42469 | Z25: =_L_NopDiem -> 42471 | AM25: =COUNTIF(F$10:F$243,F25) -> 2 | AN25: =X25-2*P25 -> #VALUE! | AO25: =_L_SV_Pcuoi | AP25: =_L_Loc -> CTDK | AQ25: =_L_Loc -> KCT | AR25: =X25-2*P25 -> #VALUE! | AS25: =+N25/O25 -> #DIV/0! | AU25: =_L_Loc -> x | AV25: =_L_Loc -> x | AW25: =_L_Loc -> x | AX25: =_L_Loc -> x | AY25: =_L_Loc -> x | AZ25: =_L_Loc -> 0 | BA25: =_L_Loc -> x | BB25: =_L_Loc -> 0 | ... CF25: =_L_Loc -> 0
A26: =_L_NgayGio -> 42469.625 | B26: =_L_Gio -> 15:00 | C26: DC1LL02-DC | D26: =_L_stt -> 17 | E26: =_L_LocHe -> DC | F26: =_L_MaHP -> DC1LL02 | G26: =_L_Loc -> Những nguyên lý cơ bản của chủ nghĩa Mác - Lênin 2 | H26: =_L_Loc -> 3 | I26: =_L_Loc -> Viết | J26: =_L_Loc -> 90 | K26: 42469 | L26: =_L_Ngay -> (Thứ 7) | M26: 4 | N26: =_L_SoSV -> 165 | O26: =_L_SV_P -> 45 | P26: =_L_sophong -> 4 | X26: =SUM(Q26:W26) -> 0 | Y26: =_L_NgayCham -> 42470 | Z26: =_L_NopDiem -> 42476 | AM26: =COUNTIF(F$10:F$243,F26) -> 1 | AN26: =X26-2*P26 -> -8 | AO26: =_L_SV_Pcuoi -> 30 | AP26: =_L_Loc -> LLNL | AQ26: =_L_Loc -> LLCT | AR26: =X26-2*P26 -> -8 | AS26: =+N26/O26 -> 3.6666667 | AU26: =_L_Loc -> x | AV26: =_L_Loc -> x | AW26: =_L_Loc -> x | AX26: =_L_Loc -> x | AY26: =_L_Loc -> x | AZ26: =_L_Loc -> x | BA26: =_L_Loc -> x | BB26: =_L_Loc -> x | ... BM26: =_L_Loc -> x
A27: =_L_NgayGio -> 42469.625 | B27: =_L_Gio -> 15:00 | C27: CC1CB92-CC | D27: =_L_stt -> 18 | E27: =_L_LocHe -> CC | F27: =_L_MaHP -> CC1CB92 | G27: =_L_Loc -> Môi trường trong xây dựng | H27: =_L_Loc -> 2 | I27: =_L_Loc -> Viết | J27: =_L_Loc -> 90 | K27: 42469 | L27: =_L_Ngay -> (Thứ 7) | M27: 4 | N27: =_L_SoSV -> 25 | O27: =_L_SV_P -> 25 | P27: =_L_sophong -> 1 | X27: =SUM(Q27:W27) -> 0 | Y27: =_L_NgayCham -> 42470 | Z27: =_L_NopDiem -> 42476 | AM27: =COUNTIF(F$10:F$243,F27) -> 1 | AN27: =X27-2*P27 -> -2 | AO27: =_L_SV_Pcuoi -> 25 | AP27: =_L_Loc -> CTMO | AQ27: =_L_Loc -> KCT | AR27: =X27-2*P27 -> -2 | AS27: =+N27/O27 -> 1 | AU27: =_L_Loc -> o | AV27: =_L_Loc -> o | AW27: =_L_Loc -> o | AX27: =_L_Loc -> o | AY27: =_L_Loc -> o | AZ27: =_L_Loc -> o | BA27: =_L_Loc -> o | BB27: =_L_Loc -> 0 | ... CF27: =_L_Loc -> 0
A28: =_L_NgayGio -> 42469.625 | B28: =_L_Gio -> 15:00 | C28: DL2CO25-DL | D28: =_L_stt -> 19 | E28: =_L_LocHe -> DL | F28: =_L_MaHP -> DL2CO25 | G28: =_L_Loc -> Sức bền vật liệu | H28: =_L_Loc -> 2 | I28: =_L_Loc -> Viết | J28: =_L_Loc -> 60 | K28: 42469 | L28: =_L_Ngay -> (Thứ 7) | M28: 4 | N28: =_L_SoSV -> 24 | O28: =_L_SV_P -> 24 | P28: =_L_sophong -> 1 | X28: =SUM(Q28:W28) -> 0 | Y28: =_L_NgayCham -> 42470 | Z28: =_L_NopDiem -> 42476 | AM28: =COUNTIF(F$10:F$243,F28) -> 1 | AN28: =X28-2*P28 -> -2 | AO28: =_L_SV_Pcuoi -> 24 | AP28: =_L_Loc -> CSCO | AQ28: =_L_Loc -> CSKT | AR28: =X28-2*P28 -> -2 | AS28: =+N28/O28 -> 1 | AU28: =_L_Loc -> 0 | AV28: =_L_Loc -> 0 | AW28: =_L_Loc -> 0 | AX28: =_L_Loc -> 0 | AY28: =_L_Loc -> 0 | AZ28: =_L_Loc -> 0 | BA28: =_L_Loc -> 0 | BB28: =_L_Loc -> 0 | ... CF28: =_L_Loc -> 0
A29: =_L_NgayGio -> 42470.292 | B29: =_L_Gio -> 7:00 | C29: DC1LL05-DC | D29: =_L_stt -> 20 | E29: =_L_LocHe -> DC | F29: =_L_MaHP -> DC1LL05 | G29: =_L_Loc -> Pháp luật Việt Nam đại cương | H29: =_L_Loc -> 2 | I29: =_L_Loc -> Viết | J29: =_L_Loc -> 75 | K29: 42470 | L29: =_L_Ngay -> (Cnhật) | M29: 1 | N29: =_L_SoSV -> 160 | O29: =_L_SV_P -> 45 | P29: =_L_sophong -> 4 | X29: =SUM(Q29:W29) -> 0 | Y29: =_L_NgayCham -> 42471 | Z29: =_L_NopDiem -> 42477 | AM29: =COUNTIF(F$10:F$243,F29) -> 1 | AN29: =X29-2*P29 -> -8 | AO29: =_L_SV_Pcuoi -> 25 | AP29: =_L_Loc -> LLPL | AQ29: =_L_Loc -> LLCT | AR29: =X29-2*P29 -> -8 | AS29: =+N29/O29 -> 3.5555556 | AU29: =_L_Loc -> x | AV29: =_L_Loc -> x | AW29: =_L_Loc -> x | AX29: =_L_Loc -> x | AY29: =_L_Loc -> x | AZ29: =_L_Loc -> x | BA29: =_L_Loc -> x | BB29: =_L_Loc -> x | ... BM29: =_L_Loc -> x
A30: =_L_NgayGio -> 42470.292 | B30: =_L_Gio -> 7:00 | C30: CC3KV32-CC | D30: =_L_stt -> 21 | E30: =_L_LocHe -> CC | F30: =_L_MaHP -> CC3KV32 | G30: =_L_Loc -> Phân tích hoạt động kinh doanh | H30: =_L_Loc -> 3 | I30: =_L_Loc -> Viết | J30: =_L_Loc -> 75 | K30: 42470 | L30: =_L_Ngay -> (Cnhật) | M30: 1 | N30: =_L_SoSV -> 12 | O30: =_L_SV_P -> 12 | P30: =_L_sophong -> 1 | X30: =SUM(Q30:W30) -> 0 | Y30: =_L_NgayCham -> 42471 | Z30: =_L_NopDiem -> 42477 | AM30: =COUNTIF(F$10:F$243,F30) -> 1 | AN30: =X30-2*P30 -> -2 | AO30: =_L_SV_Pcuoi -> 12 | AP30: =_L_Loc -> KVQT | AQ30: =_L_Loc -> KTVT | AR30: =X30-2*P30 -> -2 | AS30: =+N30/O30 -> 1 | AU30: =_L_Loc -> 0 | AV30: =_L_Loc -> 0 | AW30: =_L_Loc -> 0 | AX30: =_L_Loc -> 0 | AY30: =_L_Loc -> 0 | AZ30: =_L_Loc -> 0 | BA30: =_L_Loc -> 0 | BB30: =_L_Loc -> 0 | ... BM30: =_L_Loc -> 0
A31: =_L_NgayGio -> 42470.292 | B31: =_L_Gio -> 7:00 | C31: CC1CB11-CC | D31: =_L_stt -> 22 | E31: =_L_LocHe -> CC | F31: =_L_MaHP -> CC1CB11 | G31: =_L_Loc -> Toán 1 | H31: =_L_Loc -> 4 | I31: =_L_Loc -> Viết | J31: =_L_Loc -> 90 | K31: 42470 | L31: =_L_Ngay -> (Cnhật) | M31: 1 | N31: =_L_SoSV -> 24 | O31: =_L_SV_P -> 24 | P31: =_L_sophong -> 1 | X31: =SUM(Q31:W31) -> 0 | Y31: =_L_NgayCham -> 42471 | Z31: =_L_NopDiem -> 42477 | AM31: =COUNTIF(F$10:F$243,F31) -> 1 | AN31: =X31-2*P31 -> -2 | AO31: =_L_SV_Pcuoi -> 24 | AP31: =_L_Loc -> CBTO | AQ31: =_L_Loc -> KHCB | AR31: =X31-2*P31 -> -2 | AS31: =+N31/O31 -> 1 | AU31: =_L_Loc -> x | AV31: =_L_Loc -> x | AW31: =_L_Loc -> x | AX31: =_L_Loc -> x | AY31: =_L_Loc -> x | AZ31: =_L_Loc -> x | BA31: =_L_Loc -> x | BB31: =_L_Loc -> x | ... CF31: =_L_Loc -> 0
A32: =_L_NgayGio -> 42470.292 | B32: =_L_Gio -> 7:00 | C32: DL3CA53-DL | D32: =_L_stt -> 23 | E32: =_L_LocHe -> DL | F32: =_L_MaHP -> DL3CA53 | G32: =_L_Loc -> Kỹ thuật thi công và tổ chức thi công cầu | H32: =_L_Loc -> 3 | I32: =_L_Loc -> Viết | J32: =_L_Loc -> 90 | K32: 42470 | L32: =_L_Ngay -> (Cnhật) | M32: 1 | N32: =_L_SoSV -> 28 | O32: =_L_SV_P -> 28 | P32: =_L_sophong -> 1 | X32: =SUM(Q32:W32) -> 0 | Y32: =_L_NgayCham -> 42471 | Z32: =_L_NopDiem -> 42477 | AM32: =COUNTIF(F$10:F$243,F32) -> 1 | AN32: =X32-2*P32 -> -2 | AO32: =_L_SV_Pcuoi -> 28 | AP32: =_L_Loc -> CTCA | AQ32: =_L_Loc -> KCT | AR32: =X32-2*P32 -> -2 | AS32: =+N32/O32 -> 1 | AU32: =_L_Loc -> 0 | AV32: =_L_Loc -> 0 | AW32: =_L_Loc -> 0 | AX32: =_L_Loc -> 0 | AY32: =_L_Loc -> 0 | AZ32: =_L_Loc -> 0 | BA32: =_L_Loc -> 0 | BB32: =_L_Loc -> 0 | ... CF32: =_L_Loc -> 0
A33: =_L_NgayGio -> 42470.292 | B33: =_L_Gio -> 7:00 | C33: CC2CK33-CC | D33: =_L_stt -> 24 | E33: =_L_LocHe -> CC | F33: =_L_MaHP -> CC2CK33 | G33: =_L_Loc -> Công nghệ kim loại | H33: =_L_Loc -> 3 | I33: =_L_Loc -> Viết | J33: =_L_Loc -> 90 | K33: 42470 | L33: =_L_Ngay -> (Cnhật) | M33: 1 | N33: =_L_SoSV -> 14 | O33: =_L_SV_P -> 14 | P33: =_L_sophong -> 1 | X33: =SUM(Q33:W33) -> 0 | Y33: =_L_NgayCham -> 42471 | Z33: =_L_NopDiem -> 42477 | AM33: =COUNTIF(F$10:F$243,F33) -> 1 | AN33: =X33-2*P33 -> -2 | AO33: =_L_SV_Pcuoi -> 14 | AP33: =_L_Loc -> KCK | AQ33: =_L_Loc -> KCK | AR33: =X33-2*P33 -> -2 | AS33: =+N33/O33 -> 1 | AU33: =_L_Loc -> 0 | AV33: =_L_Loc -> 0 | AW33: =_L_Loc -> 0 | AX33: =_L_Loc -> 0 | AY33: =_L_Loc -> 0 | AZ33: =_L_Loc -> 0 | BA33: =_L_Loc -> 0 | BB33: =_L_Loc -> x | ... BM33: =_L_Loc -> 0
A34: =_L_NgayGio -> 42470.375 | B34: =_L_Gio -> 9:00 | C34: DC1LL04-DC | D34: =_L_stt -> 25 | E34: =_L_LocHe -> DC | F34: =_L_MaHP -> DC1LL04 | G34: =_L_Loc -> Đường lối cách mạng của Đảng cộng sản Việt Nam | H34: =_L_Loc -> 3 | I34: =_L_Loc -> Viết | J34: =_L_Loc -> 90 | K34: 42470 | L34: =_L_Ngay -> (Cnhật) | M34: 2 | N34: =_L_SoSV -> 143 | O34: =_L_SV_P -> 48 | P34: =_L_sophong -> 3 | X34: =SUM(Q34:W34) -> 0 | Y34: =_L_NgayCham -> 42471 | Z34: =_L_NopDiem -> 42477 | AC34: =MOD(RIGHT(F34,2),O34) -> 4 | AM34: =COUNTIF(F$10:F$243,F34) -> 1 | AN34: =X34-2*P34 -> -6 | AO34: =_L_SV_Pcuoi -> 47 | AP34: =_L_Loc -> LLDL | AQ34: =_L_Loc -> LLCT | AR34: =X34-2*P34 -> -6 | AS34: =+N34/O34 -> 2.9791667 | AU34: =_L_Loc -> x | AV34: =_L_Loc -> x | AW34: =_L_Loc -> x | AX34: =_L_Loc -> x | AY34: =_L_Loc -> x | AZ34: =_L_Loc -> x | BA34: =_L_Loc -> x | BB34: =_L_Loc -> x | ... BM34: =_L_Loc -> x
A35: =_L_NgayGio -> 42470.375 | B35: =_L_Gio -> 9:00 | C35: DC2TH34-DC | D35: =_L_stt -> 26 | E35: =_L_LocHe -> DC | F35: =_L_MaHP -> DC2TH34 | G35: =_L_Loc -> Nhập môn chương trình dịch | H35: =_L_Loc -> 2 | I35: =_L_Loc -> Viết | J35: =_L_Loc -> 60 | K35: 42470 | L35: =_L_Ngay -> (Cnhật) | M35: 2 | N35: =_L_SoSV -> 15 | O35: =_L_SV_P -> 15 | P35: =_L_sophong -> 1 | X35: =SUM(Q35:W35) -> 0 | Y35: =_L_NgayCham -> 42471 | Z35: =_L_NopDiem -> 42477 | AM35: =COUNTIF(F$10:F$243,F35) -> 1 | AN35: =X35-2*P35 -> -2 | AO35: =_L_SV_Pcuoi -> 15 | AP35: =_L_Loc -> TTHT | AQ35: =_L_Loc -> CNTT | AR35: =X35-2*P35 -> -2 | AS35: =+N35/O35 -> 1 | AU35: =_L_Loc -> 0 | AV35: =_L_Loc -> 0 | AW35: =_L_Loc -> 0 | AX35: =_L_Loc -> 0 | AY35: =_L_Loc -> 0 | AZ35: =_L_Loc -> 0 | BA35: =_L_Loc -> 0 | BB35: =_L_Loc -> 0 | ... CF35: =_L_Loc -> 0
A36: =_L_NgayGio -> 42470.375 | B36: =_L_Gio -> 9:00 | C36: CC1LL03-CC | D36: =_L_stt -> 27 | E36: =_L_LocHe -> CC | F36: =_L_MaHP -> CC1LL03 | G36: =_L_Loc -> Tư tưởng Hồ Chí Minh | H36: =_L_Loc -> 2 | I36: =_L_Loc -> Viết | J36: =_L_Loc -> 75 | K36: 42470 | L36: =_L_Ngay -> (Cnhật) | M36: 2 | N36: =_L_SoSV -> 11 | O36: =_L_SV_P -> 11 | P36: =_L_sophong -> 1 | X36: =SUM(Q36:W36) -> 0 | Y36: =_L_NgayCham -> 42471 | Z36: =_L_NopDiem -> 42477 | AM36: =COUNTIF(F$10:F$243,F36) -> 1 | AN36: =X36-2*P36 -> -2 | AO36: =_L_SV_Pcuoi -> 11 | AP36: =_L_Loc -> LLTT | AQ36: =_L_Loc -> LLCT | AR36: =X36-2*P36 -> -2 | AS36: =+N36/O36 -> 1 | AU36: =_L_Loc -> 0 | AV36: =_L_Loc -> 0 | AW36: =_L_Loc -> 0 | AX36: =_L_Loc -> 0 | AY36: =_L_Loc -> 0 | AZ36: =_L_Loc -> 0 | BA36: =_L_Loc -> 0 | BB36: =_L_Loc -> 0 | ... BM36: =_L_Loc -> 0
A37: =_L_NgayGio -> 42470.375 | B37: =_L_Gio -> 9:00 | C37: DC3VL25-DC | D37: =_L_stt -> 28 | E37: =_L_LocHe -> DC | F37: =_L_MaHP -> DC3VL25 | G37: =_L_Loc -> Công nghệ vận tải 1 | H37: =_L_Loc -> 3 | I37: =_L_Loc -> Viết | J37: =_L_Loc -> 90 | K37: 42470 | L37: =_L_Ngay -> (Cnhật) | M37: 2 | N37: =_L_SoSV -> 14 | O37: =_L_SV_P -> 14 | P37: =_L_sophong -> 1 | X37: =SUM(Q37:W37) -> 0 | Y37: =_L_NgayCham -> 42471 | Z37: =_L_NopDiem -> 42477 | AM37: =COUNTIF(F$10:F$243,F37) -> 1 | AN37: =X37-2*P37 -> -2 | AO37: =_L_SV_Pcuoi -> 14 | AP37: =_L_Loc -> KVSB | AQ37: =_L_Loc -> KTVT | AR37: =X37-2*P37 -> -2 | AS37: =+N37/O37 -> 1 | AU37: =_L_Loc -> 0 | AV37: =_L_Loc -> 0 | AW37: =_L_Loc -> 0 | AX37: =_L_Loc -> 0 | AY37: =_L_Loc -> 0 | AZ37: =_L_Loc -> 0 | BA37: =_L_Loc -> 0 | BB37: =_L_Loc -> 0 | ... CF37: =_L_Loc -> 0
A38: =_L_NgayGio -> 42470.375 | B38: =_L_Gio -> 9:00 | C38: DL3KT21-DL | D38: =_L_stt -> 29 | E38: =_L_LocHe -> DL | F38: =_L_MaHP -> DL3KT21 | G38: =_L_Loc -> Kế toán tài chính | H38: =_L_Loc -> 2 | I38: =_L_Loc -> Viết | J38: =_L_Loc -> 90 | K38: 42470 | L38: =_L_Ngay -> (Cnhật) | M38: 2 | N38: =_L_SoSV -> 9 | O38: =_L_SV_P -> 9 | P38: =_L_sophong -> 1 | X38: =SUM(Q38:W38) -> 0 | Y38: =_L_NgayCham -> 42471 | Z38: =_L_NopDiem -> 42477 | AM38: =COUNTIF(F$10:F$243,F38) -> 1 | AN38: =X38-2*P38 -> -2 | AO38: =_L_SV_Pcuoi -> 9 | AP38: =_L_Loc -> KVKK | AQ38: =_L_Loc -> KTVT | AR38: =X38-2*P38 -> -2 | AS38: =+N38/O38 -> 1 | AU38: =_L_Loc -> 0 | AV38: =_L_Loc -> 0 | AW38: =_L_Loc -> 0 | AX38: =_L_Loc -> 0 | AY38: =_L_Loc -> 0 | AZ38: =_L_Loc -> 0 | BA38: =_L_Loc -> 0 | BB38: =_L_Loc -> 0 | ... BM38: =_L_Loc -> 0
A39: =_L_NgayGio -> 42470.375 | B39: =_L_Gio -> 9:00 | C39: DC2KX42-DC | D39: =_L_stt -> 30 | E39: =_L_LocHe -> DC | F39: =_L_MaHP -> DC2KX42 | G39: =_L_Loc -> Thiết kế cầu | H39: =_L_Loc -> 2 | I39: =_L_Loc -> Viết | J39: =_L_Loc -> 60 | K39: 42470 | L39: =_L_Ngay -> (Cnhật) | M39: 2 | N39: =_L_SoSV -> 15 | O39: =_L_SV_P -> 15 | P39: =_L_sophong -> 1 | X39: =SUM(Q39:W39) -> 0 | Y39: =_L_NgayCham -> 42471 | Z39: =_L_NopDiem -> 42477 | AM39: =COUNTIF(F$10:F$243,F39) -> 1 | AN39: =X39-2*P39 -> -2 | AO39: =_L_SV_Pcuoi -> 15 | AP39: =_L_Loc -> CTCA | AQ39: =_L_Loc -> KCT | AR39: =X39-2*P39 -> -2 | AS39: =+N39/O39 -> 1 | AU39: =_L_Loc -> 0 | AV39: =_L_Loc -> 0 | AW39: =_L_Loc -> 0 | AX39: =_L_Loc -> 0 | AY39: =_L_Loc -> 0 | AZ39: =_L_Loc -> 0 | BA39: =_L_Loc -> 0 | BB39: =_L_Loc -> 0 | ... CF39: =_L_Loc -> 0
A40: =_L_NgayGio -> 42470.375 | B40: =_L_Gio -> 9:00 | C40: CC1CB21-CC | D40: =_L_stt -> 31 | E40: =_L_LocHe -> CC | F40: =_L_MaHP -> CC1CB21 | G40: =_L_Loc -> Vật lý đại cương 1 | H40: =_L_Loc -> 3 | I40: =_L_Loc -> Viết | J40: =_L_Loc -> 90 | K40: 42470 | L40: =_L_Ngay -> (Cnhật) | M40: 2 | N40: =_L_SoSV -> 12 | O40: =_L_SV_P -> 12 | P40: =_L_sophong -> 1 | X40: =SUM(Q40:W40) -> 0 | Y40: =_L_NgayCham -> 42471 | Z40: =_L_NopDiem -> 42477 | AM40: =COUNTIF(F$10:F$243,F40) -> 1 | AN40: =X40-2*P40 -> -2 | AO40: =_L_SV_Pcuoi -> 12 | AP40: =_L_Loc -> CBLY | AQ40: =_L_Loc -> KHCB | AR40: =X40-2*P40 -> -2 | AS40: =+N40/O40 -> 1 | AU40: =_L_Loc -> 0 | AV40: =_L_Loc -> 0 | AW40: =_L_Loc -> 0 | AX40: =_L_Loc -> 0 | AY40: =_L_Loc -> 0 | AZ40: =_L_Loc -> 0 | BA40: =_L_Loc -> 0 | BB40: =_L_Loc -> 0 | ... BM40: =_L_Loc -> 0
A41: =_L_NgayGio -> 42470.375 | B41: =_L_Gio -> 9:00 | C41: DC3CT92-DC | D41: =_L_stt -> 32 | E41: =_L_LocHe -> DC | F41: =_L_MaHP -> DC3CT92 | G41: =_L_Loc -> Dự toán công trình | H41: =_L_Loc -> 2 | I41: =_L_Loc -> Viết | J41: =_L_Loc -> 90 | K41: 42470 | L41: =_L_Ngay -> (Cnhật) | M41: 2 | N41: =_L_SoSV -> 4 | O41: =_L_SV_P -> 4 | P41: =_L_sophong -> 1 | X41: =SUM(Q41:W41) -> 0 | Y41: =_L_NgayCham -> 42471 | Z41: =_L_NopDiem -> 42477 | AM41: =COUNTIF(F$10:F$243,F41) -> 2 | AN41: =X41-2*P41 -> -2 | AO41: =_L_SV_Pcuoi -> 4 | AP41: =_L_Loc -> CTDB | AQ41: =_L_Loc -> KCT | AR41: =X41-2*P41 -> -2 | AS41: =+N41/O41 -> 1 | AU41: =_L_Loc -> o | AV41: =_L_Loc -> o | AW41: =_L_Loc -> o | AX41: =_L_Loc -> o | AY41: =_L_Loc -> o | AZ41: =_L_Loc -> o | BA41: =_L_Loc -> o | BB41: =_L_Loc -> 0 | ... CF41: =_L_Loc -> 0
A42: =_L_NgayGio -> 42470.375 | B42: =_L_Gio -> 9:00 | C42: DC3CT92-DL | D42: =_L_stt -> 33 | E42: =_L_LocHe -> DL | F42: =_L_MaHP -> DC3CT92 | G42: =_L_Loc -> Dự toán công trình | H42: =_L_Loc -> 2 | I42: =_L_Loc -> Viết | J42: =_L_Loc -> 90 | K42: 42470 | L42: =_L_Ngay -> (Cnhật) | M42: 2 | N42: =_L_SoSV -> 11 | O42: =_L_SV_P -> 11 | P42: =_L_sophong -> 1 | X42: =SUM(Q42:W42) -> 0 | Y42: =_L_NgayCham -> 42471 | Z42: =_L_NopDiem -> 42477 | AM42: =COUNTIF(F$10:F$243,F42) -> 2 | AN42: =X42-2*P42 -> -2 | AO42: =_L_SV_Pcuoi -> 11 | AP42: =_L_Loc -> CTDB | AQ42: =_L_Loc -> KCT | AR42: =X42-2*P42 -> -2 | AS42: =+N42/O42 -> 1 | AU42: =_L_Loc -> o | AV42: =_L_Loc -> o | AW42: =_L_Loc -> o | AX42: =_L_Loc -> o | AY42: =_L_Loc -> o | AZ42: =_L_Loc -> o | BA42: =_L_Loc -> o | BB42: =_L_Loc -> 0 | ... CF42: =_L_Loc -> 0
A43: =_L_NgayGio -> 42470.375 | B43: =_L_Gio -> 9:00 | C43: DL3CA41-DL | D43: =_L_stt -> 34 | E43: =_L_LocHe -> DL | F43: =_L_MaHP -> DL3CA41 | G43: =_L_Loc -> Thiết kế cầu | H43: =_L_Loc -> 2 | I43: =_L_Loc -> Viết | J43: =_L_Loc -> 90 | K43: 42470 | L43: =_L_Ngay -> (Cnhật) | M43: 2 | N43: =_L_SoSV -> 16 | O43: =_L_SV_P -> 16 | P43: =_L_sophong -> 1 | X43: =SUM(Q43:W43) -> 0 | Y43: =_L_NgayCham -> 42471 | Z43: =_L_NopDiem -> 42477 | AM43: =COUNTIF(F$10:F$243,F43) -> 1 | AN43: =X43-2*P43 -> -2 | AO43: =_L_SV_Pcuoi -> 16 | AP43: =_L_Loc -> CTCA | AQ43: =_L_Loc -> KCT | AR43: =X43-2*P43 -> -2 | AS43: =+N43/O43 -> 1 | AU43: =_L_Loc -> 0 | AV43: =_L_Loc -> 0 | AW43: =_L_Loc -> 0 | AX43: =_L_Loc -> 0 | AY43: =_L_Loc -> 0 | AZ43: =_L_Loc -> 0 | BA43: =_L_Loc -> 0 | BB43: =_L_Loc -> 0 | ... BM43: =_L_Loc -> 0
A44: =_L_NgayGio -> 42470.375 | B44: =_L_Gio -> 9:00 | C44: DL3DD41-DL | D44: =_L_stt -> 35 | E44: =_L_LocHe -> DL | F44: =_L_MaHP -> DL3DD41 | G44: =_L_Loc -> Kiến trúc dân dụng và công nghiệp | H44: =_L_Loc -> 2 | I44: =_L_Loc -> Viết | J44: =_L_Loc -> 60 | K44: 42470 | L44: =_L_Ngay -> (Cnhật) | M44: 2 | N44: =_L_SoSV -> 5 | O44: =_L_SV_P -> 5 | P44: =_L_sophong -> 1 | X44: =SUM(Q44:W44) -> 0 | Y44: =_L_NgayCham -> 42471 | Z44: =_L_NopDiem -> 42477 | AM44: =COUNTIF(F$10:F$243,F44) -> 1 | AN44: =X44-2*P44 -> -2 | AO44: =_L_SV_Pcuoi -> 5 | AP44: =_L_Loc -> CTDD | AQ44: =_L_Loc -> KCT | AR44: =X44-2*P44 -> -2 | AS44: =+N44/O44 -> 1 | AU44: =_L_Loc -> 0 | AV44: =_L_Loc -> 0 | AW44: =_L_Loc -> 0 | AX44: =_L_Loc -> 0 | AY44: =_L_Loc -> 0 | AZ44: =_L_Loc -> 0 | BA44: =_L_Loc -> 0 | BB44: =_L_Loc -> 0 | ... BM44: =_L_Loc -> 0
A45: =_L_NgayGio -> 42470.375 | B45: =_L_Gio -> 9:00 | C45: DC2DT53-DC | D45: =_L_stt -> 36 | E45: =_L_LocHe -> DC | F45: =_L_MaHP -> DC2DT53 | G45: =_L_Loc -> Điện tử tương tự | H45: =_L_Loc -> 4 | I45: =_L_Loc -> Viết | J45: =_L_Loc -> 90 | K45: 42470 | L45: =_L_Ngay -> (Cnhật) | M45: 2 | N45: =_L_SoSV -> 15 | O45: =_L_SV_P -> 15 | P45: =_L_sophong -> 1 | X45: =SUM(Q45:W45) -> 0 | Y45: =_L_NgayCham -> 42471 | Z45: =_L_NopDiem -> 42477 | AM45: =COUNTIF(F$10:F$243,F45) -> 1 | AN45: =X45-2*P45 -> -2 | AO45: =_L_SV_Pcuoi -> 15 | AP45: =_L_Loc -> TTDT | AQ45: =_L_Loc -> CNTT | AR45: =X45-2*P45 -> -2 | AS45: =+N45/O45 -> 1 | AU45: =_L_Loc -> 0 | AV45: =_L_Loc -> 0 | AW45: =_L_Loc -> 0 | AX45: =_L_Loc -> 0 | AY45: =_L_Loc -> 0 | AZ45: =_L_Loc -> 0 | BA45: =_L_Loc -> 0 | BB45: =_L_Loc -> 0 | ... CF45: =_L_Loc -> 0
A46: =_L_NgayGio -> 42470.375 | B46: =_L_Gio -> 9:00 | C46: CC3CD53-CC | D46: =_L_stt -> 37 | E46: =_L_LocHe -> CC | F46: =_L_MaHP -> CC3CD53 | G46: =_L_Loc -> Tổ chức thi công công trình xây dựng | H46: =_L_Loc -> 3 | I46: =_L_Loc -> Viết | J46: =_L_Loc -> 90 | K46: 42470 | L46: =_L_Ngay -> (Cnhật) | M46: 2 | N46: =_L_SoSV -> 12 | O46: =_L_SV_P -> 12 | P46: =_L_sophong -> 1 | X46: =SUM(Q46:W46) -> 0 | Y46: =_L_NgayCham -> 42471 | Z46: =_L_NopDiem -> 42477 | AM46: =COUNTIF(F$10:F$243,F46) -> 1 | AN46: =X46-2*P46 -> -2 | AO46: =_L_SV_Pcuoi -> 12 | AP46: =_L_Loc -> CTDB | AQ46: =_L_Loc -> KCT | AR46: =X46-2*P46 -> -2 | AS46: =+N46/O46 -> 1 | AU46: =_L_Loc -> 0 | AV46: =_L_Loc -> 0 | AW46: =_L_Loc -> 0 | AX46: =_L_Loc -> 0 | AY46: =_L_Loc -> 0 | AZ46: =_L_Loc -> 0 | BA46: =_L_Loc -> 0 | BB46: =_L_Loc -> 0 | ... BM46: =_L_Loc -> 0
A47: =_L_NgayGio -> 42470.542 | B47: =_L_Gio -> 13:00 | C47: DC2GT42-DC | D47: =_L_stt -> 38 | E47: =_L_LocHe -> DC | F47: =_L_MaHP -> DC2GT42 | G47: =_L_Loc -> Máy xây dựng | H47: =_L_Loc -> 2 | I47: =_L_Loc -> Viết | J47: =_L_Loc -> 90 | K47: 42470 | L47: =_L_Ngay -> (Cnhật) | M47: 3 | N47: =_L_SoSV -> 132 | O47: =_L_SV_P -> 45 | P47: =_L_sophong -> 3 | X47: =SUM(Q47:W47) -> 0 | Y47: =_L_NgayCham -> 42471 | Z47: =_L_NopDiem -> 42477 | AM47: =COUNTIF(F$10:F$243,F47) -> 1 | AN47: =X47-2*P47 -> -6 | AO47: =_L_SV_Pcuoi -> 42 | AP47: =_L_Loc -> CKMX | AQ47: =_L_Loc -> KCK | AR47: =X47-2*P47 -> -6 | AS47: =+N47/O47 -> 2.9333333 | AU47: =_L_Loc -> x | AV47: =_L_Loc -> x | AW47: =_L_Loc -> x | AX47: =_L_Loc -> x | AY47: =_L_Loc -> x | AZ47: =_L_Loc -> 0 | BA47: =_L_Loc -> x | BB47: =_L_Loc -> 0 | ... CF47: =_L_Loc -> 0
A48: =_L_NgayGio -> 42470.542 | B48: =_L_Gio -> 13:00 | C48: DC2KV77-DC | D48: =_L_stt -> 39 | E48: =_L_LocHe -> DC | F48: =_L_MaHP -> DC2KV77 | G48: =_L_Loc -> Pháp luật kinh tế | H48: =_L_Loc -> 3 | I48: =_L_Loc -> Viết | J48: =_L_Loc -> 90 | K48: 42470 | L48: =_L_Ngay -> (Cnhật) | M48: 3 | N48: =_L_SoSV -> 102 | O48: =_L_SV_P -> 45 | P48: =_L_sophong -> 3 | X48: =SUM(Q48:W48) -> 0 | Y48: =_L_NgayCham -> 42471 | Z48: =_L_NopDiem -> 42477 | AM48: =COUNTIF(F$10:F$243,F48) -> 1 | AN48: =X48-2*P48 -> -6 | AO48: =_L_SV_Pcuoi -> 12 | AP48: =_L_Loc -> KVCS | AQ48: =_L_Loc -> KTVT | AR48: =X48-2*P48 -> -6 | AS48: =+N48/O48 -> 2.2666667 | AU48: =_L_Loc -> 0 | AV48: =_L_Loc -> 0 | AW48: =_L_Loc -> 0 | AX48: =_L_Loc -> 0 | AY48: =_L_Loc -> 0 | AZ48: =_L_Loc -> 0 | BA48: =_L_Loc -> 0 | BB48: =_L_Loc -> 0 | ... CF48: =_L_Loc -> 0
A49: =_L_NgayGio -> 42470.542 | B49: =_L_Gio -> 13:00 | C49: DL3DB53-DL | D49: =_L_stt -> 40 | E49: =_L_LocHe -> DL | F49: =_L_MaHP -> DL3DB53 | G49: =_L_Loc -> Kỹ thuật thi công và tổ chức thi công đường bộ | H49: =_L_Loc -> 3 | I49: =_L_Loc -> Viết | J49: =_L_Loc -> 90 | K49: 42470 | L49: =_L_Ngay -> (Cnhật) | M49: 3 | N49: =_L_SoSV -> 9 | O49: =_L_SV_P -> 9 | P49: =_L_sophong -> 1 | X49: =SUM(Q49:W49) -> 0 | Y49: =_L_NgayCham -> 42471 | Z49: =_L_NopDiem -> 42477 | AM49: =COUNTIF(F$10:F$243,F49) -> 1 | AN49: =X49-2*P49 -> -2 | AO49: =_L_SV_Pcuoi -> 9 | AP49: =_L_Loc -> CTDB | AQ49: =_L_Loc -> KCT | AR49: =X49-2*P49 -> -2 | AS49: =+N49/O49 -> 1 | AU49: =_L_Loc -> 0 | AV49: =_L_Loc -> 0 | AW49: =_L_Loc -> 0 | AX49: =_L_Loc -> 0 | AY49: =_L_Loc -> 0 | AZ49: =_L_Loc -> 0 | BA49: =_L_Loc -> 0 | BB49: =_L_Loc -> 0 | ... CF49: =_L_Loc -> 0
A50: =_L_NgayGio -> 42470.542 | B50: =_L_Gio -> 13:00 | C50: CC3DB51-CC | D50: =_L_stt -> 41 | E50: =_L_LocHe -> CC | F50: =_L_MaHP -> CC3DB51 | G50: =_L_Loc -> Kỹ thuật thi công nền đường | H50: =_L_Loc -> 2 | I50: =_L_Loc -> VĐ | J50: =_L_Loc -> 0 | K50: 42470 | L50: =_L_Ngay -> (Cnhật) | M50: 3 | N50: =_L_SoSV -> 7 | O50: =_L_SV_P -> 0 | P50: =_L_sophong | X50: =SUM(Q50:W50) -> 0 | Y50: =_L_NgayCham -> 42470 | Z50: =_L_NopDiem -> 42472 | AM50: =COUNTIF(F$10:F$243,F50) -> 1 | AN50: =X50-2*P50 -> #VALUE! | AO50: =_L_SV_Pcuoi | AP50: =_L_Loc -> CTDB | AQ50: =_L_Loc -> KCT | AR50: =X50-2*P50 -> #VALUE! | AS50: =+N50/O50 -> #DIV/0! | AU50: =_L_Loc -> 0 | AV50: =_L_Loc -> 0 | AW50: =_L_Loc -> 0 | AX50: =_L_Loc -> 0 | AY50: =_L_Loc -> 0 | AZ50: =_L_Loc -> 0 | BA50: =_L_Loc -> 0 | BB50: =_L_Loc -> 0 | ... CF50: =_L_Loc -> 0
A51: =_L_NgayGio -> 42470.625 | B51: =_L_Gio -> 15:00 | C51: DC1LL03-DC | D51: =_L_stt -> 42 | E51: =_L_LocHe -> DC | F51: =_L_MaHP -> DC1LL03 | G51: =_L_Loc -> Tư tưởng Hồ Chí Minh | H51: =_L_Loc -> 2 | I51: =_L_Loc -> Viết | J51: =_L_Loc -> 90 | K51: 42470 | L51: =_L_Ngay -> (Cnhật) | M51: 4 | N51: =_L_SoSV -> 89 | O51: =_L_SV_P -> 45 | P51: =_L_sophong -> 2 | X51: =SUM(Q51:W51) -> 0 | Y51: =_L_NgayCham -> 42471 | Z51: =_L_NopDiem -> 42477 | AM51: =COUNTIF(F$10:F$243,F51) -> 1 | AN51: =X51-2*P51 -> -4 | AO51: =_L_SV_Pcuoi -> 44 | AP51: =_L_Loc -> LLTT | AQ51: =_L_Loc -> LLCT | AR51: =X51-2*P51 -> -4 | AS51: =+N51/O51 -> 1.9777778 | AU51: =_L_Loc -> x | AV51: =_L_Loc -> x | AW51: =_L_Loc -> x | AX51: =_L_Loc -> x | AY51: =_L_Loc -> x | AZ51: =_L_Loc -> x | BA51: =_L_Loc -> x | BB51: =_L_Loc -> x | ... CF51: =_L_Loc -> 0
A52: =_L_NgayGio -> 42470.625 | B52: =_L_Gio -> 15:00 | C52: DC2GT52-DC | D52: =_L_stt -> 43 | E52: =_L_LocHe -> DC | F52: =_L_MaHP -> DC2GT52 | G52: =_L_Loc -> Kết cấu bêtông cốt thép | H52: =_L_Loc -> 3 | I52: =_L_Loc -> Viết | J52: =_L_Loc -> 90 | K52: 42470 | L52: =_L_Ngay -> (Cnhật) | M52: 4 | N52: =_L_SoSV -> 122 | O52: =_L_SV_P -> 45 | P52: =_L_sophong -> 3 | X52: =SUM(Q52:W52) -> 0 | Y52: =_L_NgayCham -> 42471 | Z52: =_L_NopDiem -> 42477 | AM52: =COUNTIF(F$10:F$243,F52) -> 1 | AN52: =X52-2*P52 -> -6 | AO52: =_L_SV_Pcuoi -> 32 | AP52: =_L_Loc -> CTKC | AQ52: =_L_Loc -> KCT | AR52: =X52-2*P52 -> -6 | AS52: =+N52/O52 -> 2.7111111 | AU52: =_L_Loc -> x | AV52: =_L_Loc -> 0 | AW52: =_L_Loc -> x | AX52: =_L_Loc -> 0 | AY52: =_L_Loc -> x | AZ52: =_L_Loc -> 0 | BA52: =_L_Loc -> x | BB52: =_L_Loc -> 0 | ... CF52: =_L_Loc -> 0
A53: =_L_NgayGio -> 42470.625 | B53: =_L_Gio -> 15:00 | C53: DC2HT37-DC | D53: =_L_stt -> 44 | E53: =_L_LocHe -> DC | F53: =_L_MaHP -> DC2HT37 | G53: =_L_Loc -> Phân tích và thiết kế hệ thống thông tin | H53: =_L_Loc -> 3 | I53: =_L_Loc -> VĐ | J53: =_L_Loc -> 0 | K53: 42470 | L53: =_L_Ngay -> (Cnhật) | M53: 4 | N53: =_L_SoSV -> 6 | O53: =_L_SV_P -> 0 | P53: =_L_sophong | X53: =SUM(Q53:W53) -> 0 | Y53: =_L_NgayCham -> 42470 | Z53: =_L_NopDiem -> 42472 | AM53: =COUNTIF(F$10:F$243,F53) -> 1 | AN53: =X53-2*P53 -> #VALUE! | AO53: =_L_SV_Pcuoi | AP53: =_L_Loc -> TTHT | AQ53: =_L_Loc -> CNTT | AR53: =X53-2*P53 -> #VALUE! | AS53: =+N53/O53 -> #DIV/0! | AU53: =_L_Loc -> 0 | AV53: =_L_Loc -> 0 | AW53: =_L_Loc -> 0 | AX53: =_L_Loc -> 0 | AY53: =_L_Loc -> 0 | AZ53: =_L_Loc -> 0 | BA53: =_L_Loc -> 0 | BB53: =_L_Loc -> 0 | ... CF53: =_L_Loc -> 0
A54: =_L_NgayGio -> 42470.625 | B54: =_L_Gio -> 15:00 | C54: DC2TH33-DC | D54: =_L_stt -> 45 | E54: =_L_LocHe -> DC | F54: =_L_MaHP -> DC2TH33 | G54: =_L_Loc -> Automat và ngôn ngữ hình thức | H54: =_L_Loc -> 2 | I54: =_L_Loc -> Viết | J54: =_L_Loc -> 0 | K54: 42470 | L54: =_L_Ngay -> (Cnhật) | M54: 4 | N54: =_L_SoSV -> 6 | O54: =_L_SV_P -> 6 | P54: =_L_sophong -> 1 | X54: =SUM(Q54:W54) -> 0 | Y54: =_L_NgayCham -> 42471 | Z54: =_L_NopDiem -> 42477 | AM54: =COUNTIF(F$10:F$243,F54) -> 1 | AN54: =X54-2*P54 -> -2 | AO54: =_L_SV_Pcuoi -> 6 | AP54: =_L_Loc -> TTHT | AQ54: =_L_Loc -> CNTT | AR54: =X54-2*P54 -> -2 | AS54: =+N54/O54 -> 1 | AU54: =_L_Loc -> 0 | AV54: =_L_Loc -> 0 | AW54: =_L_Loc -> 0 | AX54: =_L_Loc -> 0 | AY54: =_L_Loc -> 0 | AZ54: =_L_Loc -> 0 | BA54: =_L_Loc -> 0 | BB54: =_L_Loc -> 0 | ... CF54: =_L_Loc -> 0
A55: =_L_NgayGio -> 42470.625 | B55: =_L_Gio -> 15:00 | C55: DC2CB89-DC | D55: =_L_stt -> 46 | E55: =_L_LocHe -> DC | F55: =_L_MaHP -> DC2CB89 | G55: =_L_Loc -> Bảo hiểm trong giao thông vận tải | H55: =_L_Loc -> 2 | I55: =_L_Loc -> Viết | J55: =_L_Loc -> 75 | K55: 42470 | L55: =_L_Ngay -> (Cnhật) | M55: 4 | N55: =_L_SoSV -> 7 | O55: =_L_SV_P -> 7 | P55: =_L_sophong -> 1 | X55: =SUM(Q55:W55) -> 0 | Y55: =_L_NgayCham -> 42471 | Z55: =_L_NopDiem -> 42477 | AM55: =COUNTIF(F$10:F$243,F55) -> 1 | AN55: =X55-2*P55 -> -2 | AO55: =_L_SV_Pcuoi -> 7 | AP55: =_L_Loc -> KVSB | AQ55: =_L_Loc -> KTVT | AR55: =X55-2*P55 -> -2 | AS55: =+N55/O55 -> 1 | AU55: =_L_Loc -> 0 | AV55: =_L_Loc -> 0 | AW55: =_L_Loc -> 0 | AX55: =_L_Loc -> 0 | AY55: =_L_Loc -> 0 | AZ55: =_L_Loc -> 0 | BA55: =_L_Loc -> 0 | BB55: =_L_Loc -> 0 | ... CF55: =_L_Loc -> 0
A56: =_L_NgayGio -> 42470.625 | B56: =_L_Gio -> 15:00 | C56: DC2CK41-DC | D56: =_L_stt -> 47 | E56: =_L_LocHe -> DC | F56: =_L_MaHP -> DC2CK41 | G56: =_L_Loc -> Kỹ thuật điện - Điện tử | H56: =_L_Loc -> 4 | I56: =_L_Loc -> Viết | J56: =_L_Loc -> 90 | K56: 42470 | L56: =_L_Ngay -> (Cnhật) | M56: 4 | N56: =_L_SoSV -> 7 | O56: =_L_SV_P -> 7 | P56: =_L_sophong -> 1 | X56: =SUM(Q56:W56) -> 0 | Y56: =_L_NgayCham -> 42471 | Z56: =_L_NopDiem -> 42477 | AM56: =COUNTIF(F$10:F$243,F56) -> 1 | AN56: =X56-2*P56 -> -2 | AO56: =_L_SV_Pcuoi -> 7 | AP56: =_L_Loc -> TTDT | AQ56: =_L_Loc -> CNTT | AR56: =X56-2*P56 -> -2 | AS56: =+N56/O56 -> 1 | AU56: =_L_Loc -> 0 | AV56: =_L_Loc -> 0 | AW56: =_L_Loc -> 0 | AX56: =_L_Loc -> 0 | AY56: =_L_Loc -> 0 | AZ56: =_L_Loc -> 0 | BA56: =_L_Loc -> 0 | BB56: =_L_Loc -> x | ... BM56: =_L_Loc -> 0
A57: =_L_NgayGio -> 42470.625 | B57: =_L_Gio -> 15:00 | C57: DC2DD11-DC | D57: =_L_stt -> 48 | E57: =_L_LocHe -> DC | F57: =_L_MaHP -> DC2DD11 | G57: =_L_Loc -> Hình họa - Vẽ kỹ thuật | H57: =_L_Loc -> 4 | I57: =_L_Loc -> Viết | J57: =_L_Loc -> 120 | K57: 42470 | L57: =_L_Ngay -> (Cnhật) | M57: 4 | N57: =_L_SoSV -> 6 | O57: =_L_SV_P -> 6 | P57: =_L_sophong -> 1 | X57: =SUM(Q57:W57) -> 0 | Y57: =_L_NgayCham -> 42471 | Z57: =_L_NopDiem -> 42477 | AM57: =COUNTIF(F$10:F$243,F57) -> 1 | AN57: =X57-2*P57 -> -2 | AO57: =_L_SV_Pcuoi -> 6 | AP57: =_L_Loc -> CSVE | AQ57: =_L_Loc -> CSKT | AR57: =X57-2*P57 -> -2 | AS57: =+N57/O57 -> 1 | AU57: =_L_Loc -> 0 | AV57: =_L_Loc -> 0 | AW57: =_L_Loc -> 0 | AX57: =_L_Loc -> 0 | AY57: =_L_Loc -> 0 | AZ57: =_L_Loc -> 0 | BA57: =_L_Loc -> 0 | BB57: =_L_Loc -> 0 | ... CF57: =_L_Loc -> 0
A58: =_L_NgayGio -> 42470.625 | B58: =_L_Gio -> 15:00 | C58: DC3DD51-DC | D58: =_L_stt -> 49 | E58: =_L_LocHe -> DC | F58: =_L_MaHP -> DC3DD51 | G58: =_L_Loc -> Kỹ thuật thi công 1 | H58: =_L_Loc -> 3 | I58: =_L_Loc -> Viết | J58: =_L_Loc -> 90 | K58: 42470 | L58: =_L_Ngay -> (Cnhật) | M58: 4 | N58: =_L_SoSV -> 7 | O58: =_L_SV_P -> 7 | P58: =_L_sophong -> 1 | X58: =SUM(Q58:W58) -> 0 | Y58: =_L_NgayCham -> 42471 | Z58: =_L_NopDiem -> 42477 | AM58: =COUNTIF(F$10:F$243,F58) -> 1 | AN58: =X58-2*P58 -> -2 | AO58: =_L_SV_Pcuoi -> 7 | AP58: =_L_Loc -> CTDD | AQ58: =_L_Loc -> KCT | AR58: =X58-2*P58 -> -2 | AS58: =+N58/O58 -> 1 | AU58: =_L_Loc -> 0 | AV58: =_L_Loc -> 0 | AW58: =_L_Loc -> 0 | AX58: =_L_Loc -> 0 | AY58: =_L_Loc -> 0 | AZ58: =_L_Loc -> x | BA58: =_L_Loc -> 0 | BB58: =_L_Loc -> 0 | ... BM58: =_L_Loc -> 0
A59: =_L_NgayGio -> 42470.625 | B59: =_L_Gio -> 15:00 | C59: DL2GT52-DL | D59: =_L_stt -> 50 | E59: =_L_LocHe -> DL | F59: =_L_MaHP -> DL2GT52 | G59: =_L_Loc -> Kết cấu bêtông cốt thép | H59: =_L_Loc -> 2 | I59: =_L_Loc -> Viết | J59: =_L_Loc -> 90 | K59: 42470 | L59: =_L_Ngay -> (Cnhật) | M59: 4 | N59: =_L_SoSV -> 11 | O59: =_L_SV_P -> 11 | P59: =_L_sophong -> 1 | X59: =SUM(Q59:W59) -> 0 | Y59: =_L_NgayCham -> 42471 | Z59: =_L_NopDiem -> 42477 | AM59: =COUNTIF(F$10:F$243,F59) -> 1 | AN59: =X59-2*P59 -> -2 | AO59: =_L_SV_Pcuoi -> 11 | AP59: =_L_Loc -> CTKC | AQ59: =_L_Loc -> KCT | AR59: =X59-2*P59 -> -2 | AS59: =+N59/O59 -> 1 | AU59: =_L_Loc -> 0 | AV59: =_L_Loc -> 0 | AW59: =_L_Loc -> 0 | AX59: =_L_Loc -> 0 | AY59: =_L_Loc -> 0 | AZ59: =_L_Loc -> 0 | BA59: =_L_Loc -> 0 | BB59: =_L_Loc -> 0 | ... CF59: =_L_Loc -> 0
A60: =_L_NgayGio -> 42470.625 | B60: =_L_Gio -> 15:00 | C60: DC2CT62-DC | D60: =_L_stt -> 51 | E60: =_L_LocHe -> DC | F60: =_L_MaHP -> DC2CT62 | G60: =_L_Loc -> Thủy lực công trình | H60: =_L_Loc -> 2 | I60: =_L_Loc -> Viết | J60: =_L_Loc -> 90 | K60: 42470 | L60: =_L_Ngay -> (Cnhật) | M60: 4 | N60: =_L_SoSV -> 8 | O60: =_L_SV_P -> 8 | P60: =_L_sophong -> 1 | X60: =SUM(Q60:W60) -> 0 | Y60: =_L_NgayCham -> 42471 | Z60: =_L_NopDiem -> 42477 | AM60: =COUNTIF(F$10:F$243,F60) -> 1 | AN60: =X60-2*P60 -> -2 | AO60: =_L_SV_Pcuoi -> 8 | AP60: =_L_Loc -> CTMO | AQ60: =_L_Loc -> KCT | AR60: =X60-2*P60 -> -2 | AS60: =+N60/O60 -> 1 | AU60: =_L_Loc -> 0 | AV60: =_L_Loc -> 0 | AW60: =_L_Loc -> 0 | AX60: =_L_Loc -> 0 | AY60: =_L_Loc -> 0 | AZ60: =_L_Loc -> x | BA60: =_L_Loc -> 0 | BB60: =_L_Loc -> 0 | ... CF60: =_L_Loc -> 0
A61: =_L_NgayGio -> 42471.625 | B61: =_L_Gio -> 15:00 | C61: DC1CB94-DC | D61: =_L_stt -> 52 | E61: =_L_LocHe -> DC | F61: =_L_MaHP -> DC1CB94 | G61: =_L_Loc -> An toàn lao động và môi trường công nghiệp | H61: =_L_Loc -> 2 | I61: =_L_Loc -> Viết | J61: =_L_Loc -> 60 | K61: 42471 | L61: =_L_Ngay -> (Thứ 2) | M61: 4 | N61: =_L_SoSV -> 6 | O61: =_L_SV_P -> 6 | P61: =_L_sophong -> 1 | X61: =SUM(Q61:W61) -> 0 | Y61: =_L_NgayCham -> 42472 | Z61: =_L_NopDiem -> 42478 | AM61: =COUNTIF(F$10:F$243,F61) -> 1 | AN61: =X61-2*P61 -> -2 | AO61: =_L_SV_Pcuoi -> 6 | AP61: =_L_Loc -> KCK | AQ61: =_L_Loc -> KCK | AR61: =X61-2*P61 -> -2 | AS61: =+N61/O61 -> 1 | AU61: =_L_Loc -> 0 | AV61: =_L_Loc -> 0 | AW61: =_L_Loc -> 0 | AX61: =_L_Loc -> 0 | AY61: =_L_Loc -> 0 | AZ61: =_L_Loc -> 0 | BA61: =_L_Loc -> 0 | BB61: =_L_Loc -> o | ... CF61: =_L_Loc -> 0
A62: =_L_NgayGio -> 42471.75 | B62: =_L_Gio -> 18:00 | C62: DC1CB99-DC | D62: =_L_stt -> 53 | E62: =_L_LocHe -> DC | F62: =_L_MaHP -> DC1CB99 | G62: =_L_Loc -> Phương pháp nghiên cứu khoa học | H62: =_L_Loc -> 2 | I62: =_L_Loc -> Viết | J62: =_L_Loc -> 75 | K62: 42471 | L62: =_L_Ngay -> (Thứ 2) | M62: 5 | N62: =_L_SoSV -> 106 | O62: =_L_SV_P -> 45 | P62: =_L_sophong -> 3 | X62: =SUM(Q62:W62) -> 0 | Y62: =_L_NgayCham -> 42472 | Z62: =_L_NopDiem -> 42478 | AM62: =COUNTIF(F$10:F$243,F62) -> 2 | AN62: =X62-2*P62 -> -6 | AO62: =_L_SV_Pcuoi -> 16 | AP62: =_L_Loc | AQ62: =_L_Loc -> KTVT | AR62: =X62-2*P62 -> -6 | AS62: =+N62/O62 -> 2.3555556 | AU62: =_L_Loc -> 0 | AV62: =_L_Loc -> 0 | AW62: =_L_Loc -> 0 | AX62: =_L_Loc -> 0 | AY62: =_L_Loc -> 0 | AZ62: =_L_Loc -> 0 | BA62: =_L_Loc -> 0 | BB62: =_L_Loc -> 0 | ... BM62: =_L_Loc -> o
A63: =_L_NgayGio -> 42471.75 | B63: =_L_Gio -> 18:00 | C63: DC1CB99-DL | D63: =_L_stt -> 54 | E63: =_L_LocHe -> DL | F63: =_L_MaHP -> DC1CB99 | G63: =_L_Loc -> Phương pháp nghiên cứu khoa học | H63: =_L_Loc -> 2 | I63: =_L_Loc -> Viết | J63: =_L_Loc -> 75 | K63: 42471 | L63: =_L_Ngay -> (Thứ 2) | M63: 5 | N63: =_L_SoSV -> 2 | O63: =_L_SV_P -> 2 | P63: =_L_sophong -> 1 | X63: =SUM(Q63:W63) -> 0 | Y63: =_L_NgayCham -> 42472 | Z63: =_L_NopDiem -> 42478 | AM63: =COUNTIF(F$10:F$243,F63) -> 2 | AN63: =X63-2*P63 -> -2 | AO63: =_L_SV_Pcuoi -> 2 | AP63: =_L_Loc | AQ63: =_L_Loc -> KTVT | AR63: =X63-2*P63 -> -2 | AS63: =+N63/O63 -> 1 | AU63: =_L_Loc -> 0 | AV63: =_L_Loc -> 0 | AW63: =_L_Loc -> 0 | AX63: =_L_Loc -> 0 | AY63: =_L_Loc -> 0 | AZ63: =_L_Loc -> 0 | BA63: =_L_Loc -> 0 | BB63: =_L_Loc -> 0 | ... BM63: =_L_Loc -> o
A64: =_L_NgayGio -> 42471.75 | B64: =_L_Gio -> 18:00 | C64: DC3CA52-DC | D64: =_L_stt -> 55 | E64: =_L_LocHe -> DC | F64: =_L_MaHP -> DC3CA52 | G64: =_L_Loc -> Kỹ thuật thi công cầu 2 | H64: =_L_Loc -> 3 | I64: =_L_Loc -> Viết | J64: =_L_Loc -> 90 | K64: 42471 | L64: =_L_Ngay -> (Thứ 2) | M64: 5 | N64: =_L_SoSV -> 25 | O64: =_L_SV_P -> 25 | P64: =_L_sophong -> 1 | X64: =SUM(Q64:W64) -> 0 | Y64: =_L_NgayCham -> 42472 | Z64: =_L_NopDiem -> 42478 | AM64: =COUNTIF(F$10:F$243,F64) -> 1 | AN64: =X64-2*P64 -> -2 | AO64: =_L_SV_Pcuoi -> 25 | AP64: =_L_Loc -> CTCA | AQ64: =_L_Loc -> KCT | AR64: =X64-2*P64 -> -2 | AS64: =+N64/O64 -> 1 | AU64: =_L_Loc -> x | AV64: =_L_Loc -> 0 | AW64: =_L_Loc -> x | AX64: =_L_Loc -> x | AY64: =_L_Loc -> 0 | AZ64: =_L_Loc -> 0 | BA64: =_L_Loc -> x | BB64: =_L_Loc -> 0 | ... CF64: =_L_Loc -> 0
A65: =_L_NgayGio -> 42471.75 | B65: =_L_Gio -> 18:00 | C65: DC3DT82-DC | D65: =_L_stt -> 56 | E65: =_L_LocHe -> DC | F65: =_L_MaHP -> DC3DT82 | G65: =_L_Loc -> Công nghệ vi điện tử | H65: =_L_Loc -> 2 | I65: =_L_Loc -> Viết | J65: =_L_Loc -> 60 | K65: 42471 | L65: =_L_Ngay -> (Thứ 2) | M65: 5 | N65: =_L_SoSV -> 23 | O65: =_L_SV_P -> 23 | P65: =_L_sophong -> 1 | X65: =SUM(Q65:W65) -> 0 | Y65: =_L_NgayCham -> 42472 | Z65: =_L_NopDiem -> 42478 | AM65: =COUNTIF(F$10:F$243,F65) -> 1 | AN65: =X65-2*P65 -> -2 | AO65: =_L_SV_Pcuoi -> 23 | AP65: =_L_Loc -> TTDT | AQ65: =_L_Loc -> CNTT | AR65: =X65-2*P65 -> -2 | AS65: =+N65/O65 -> 1 | AU65: =_L_Loc -> 0 | AV65: =_L_Loc -> 0 | AW65: =_L_Loc -> 0 | AX65: =_L_Loc -> 0 | AY65: =_L_Loc -> 0 | AZ65: =_L_Loc -> 0 | BA65: =_L_Loc -> 0 | BB65: =_L_Loc -> 0 | ... BM65: =_L_Loc -> 0
A66: =_L_NgayGio -> 42471.75 | B66: =_L_Gio -> 18:00 | C66: DC2GT51-DC | D66: =_L_stt -> 57 | E66: =_L_LocHe -> DC | F66: =_L_MaHP -> DC2GT51 | G66: =_L_Loc -> Kết cấu thép | H66: =_L_Loc -> 2 | I66: =_L_Loc -> Viết | J66: =_L_Loc -> 75 | K66: 42471 | L66: =_L_Ngay -> (Thứ 2) | M66: 5 | N66: =_L_SoSV -> 105 | O66: =_L_SV_P -> 45 | P66: =_L_sophong -> 3 | X66: =SUM(Q66:W66) -> 0 | Y66: =_L_NgayCham -> 42472 | Z66: =_L_NopDiem -> 42478 | AM66: =COUNTIF(F$10:F$243,F66) -> 1 | AN66: =X66-2*P66 -> -6 | AO66: =_L_SV_Pcuoi -> 15 | AP66: =_L_Loc -> CTKC | AQ66: =_L_Loc -> KCT | AR66: =X66-2*P66 -> -6 | AS66: =+N66/O66 -> 2.3333333 | AU66: =_L_Loc -> x | AV66: =_L_Loc -> 0 | AW66: =_L_Loc -> x | AX66: =_L_Loc -> 0 | AY66: =_L_Loc -> x | AZ66: =_L_Loc -> 0 | BA66: =_L_Loc -> x | BB66: =_L_Loc -> 0 | ... CF66: =_L_Loc -> 0
A67: =_L_NgayGio -> 42471.75 | B67: =_L_Gio -> 18:00 | C67: DC2DD51-DC | D67: =_L_stt -> 58 | E67: =_L_LocHe -> DC | F67: =_L_MaHP -> DC2DD51 | G67: =_L_Loc -> Kết cấu thép | H67: =_L_Loc -> 2 | I67: =_L_Loc -> Viết | J67: =_L_Loc -> 75 | K67: 42471 | L67: =_L_Ngay -> (Thứ 2) | M67: 5 | N67: =_L_SoSV -> 26 | O67: =_L_SV_P -> 26 | P67: =_L_sophong -> 1 | X67: =SUM(Q67:W67) -> 0 | Y67: =_L_NgayCham -> 42472 | Z67: =_L_NopDiem -> 42478 | AM67: =COUNTIF(F$10:F$243,F67) -> 1 | AN67: =X67-2*P67 -> -2 | AO67: =_L_SV_Pcuoi -> 26 | AP67: =_L_Loc -> CTKC | AQ67: =_L_Loc -> KCT | AR67: =X67-2*P67 -> -2 | AS67: =+N67/O67 -> 1 | AU67: =_L_Loc -> 0 | AV67: =_L_Loc -> 0 | AW67: =_L_Loc -> 0 | AX67: =_L_Loc -> 0 | AY67: =_L_Loc -> 0 | AZ67: =_L_Loc -> x | BA67: =_L_Loc -> 0 | BB67: =_L_Loc -> 0 | ... CF67: =_L_Loc -> 0
A68: =_L_NgayGio -> 42472.75 | B68: =_L_Gio -> 18:00 | C68: DC3MX53-DC | D68: =_L_stt -> 59 | E68: =_L_LocHe -> DC | F68: =_L_MaHP -> DC3MX53 | G68: =_L_Loc -> Sử dụng máy xây dựng | H68: =_L_Loc -> 2 | I68: =_L_Loc -> Viết | J68: =_L_Loc -> 90 | K68: 42472 | L68: =_L_Ngay -> (Thứ 3) | M68: 5 | N68: =_L_SoSV -> 5 | O68: =_L_SV_P -> 5 | P68: =_L_sophong -> 1 | X68: =SUM(Q68:W68) -> 0 | Y68: =_L_NgayCham -> 42473 | Z68: =_L_NopDiem -> 42479 | AM68: =COUNTIF(F$10:F$243,F68) -> 1 | AN68: =X68-2*P68 -> -2 | AO68: =_L_SV_Pcuoi -> 5 | AP68: =_L_Loc -> CKMX | AQ68: =_L_Loc -> KCK | AR68: =X68-2*P68 -> -2 | AS68: =+N68/O68 -> 1 | AU68: =_L_Loc -> 0 | AV68: =_L_Loc -> 0 | AW68: =_L_Loc -> 0 | AX68: =_L_Loc -> 0 | AY68: =_L_Loc -> 0 | AZ68: =_L_Loc -> 0 | BA68: =_L_Loc -> 0 | BB68: =_L_Loc -> 0 | ... BM68: =_L_Loc -> 0
A69: =_L_NgayGio -> 42472.75 | B69: =_L_Gio -> 18:00 | C69: DC3KT26-DC | D69: =_L_stt -> 60 | E69: =_L_LocHe -> DC | F69: =_L_MaHP -> DC3KT26 | G69: =_L_Loc -> Kế toán quản trị | H69: =_L_Loc -> 3 | I69: =_L_Loc -> Viết | J69: =_L_Loc -> 90 | K69: 42472 | L69: =_L_Ngay -> (Thứ 3) | M69: 5 | N69: =_L_SoSV -> 87 | O69: =_L_SV_P -> 45 | P69: =_L_sophong -> 2 | X69: =SUM(Q69:W69) -> 0 | Y69: =_L_NgayCham -> 42473 | Z69: =_L_NopDiem -> 42479 | AM69: =COUNTIF(F$10:F$243,F69) -> 1 | AN69: =X69-2*P69 -> -4 | AO69: =_L_SV_Pcuoi -> 42 | AP69: =_L_Loc -> KVKK | AQ69: =_L_Loc -> KTVT | AR69: =X69-2*P69 -> -4 | AS69: =+N69/O69 -> 1.9333333 | AU69: =_L_Loc -> 0 | AV69: =_L_Loc -> 0 | AW69: =_L_Loc -> 0 | AX69: =_L_Loc -> 0 | AY69: =_L_Loc -> 0 | AZ69: =_L_Loc -> 0 | BA69: =_L_Loc -> 0 | BB69: =_L_Loc -> 0 | ... CF69: =_L_Loc -> 0
A70: =_L_NgayGio -> 42472.75 | B70: =_L_Gio -> 18:00 | C70: DC3MT37-DC | D70: =_L_stt -> 61 | E70: =_L_LocHe -> DC | F70: =_L_MaHP -> DC3MT37 | G70: =_L_Loc -> Điện tàu thủy | H70: =_L_Loc -> 3 | I70: =_L_Loc -> Viết | J70: =_L_Loc -> 90 | K70: 42472 | L70: =_L_Ngay -> (Thứ 3) | M70: 5 | N70: =_L_SoSV -> 9 | O70: =_L_SV_P -> 9 | P70: =_L_sophong -> 1 | X70: =SUM(Q70:W70) -> 0 | Y70: =_L_NgayCham -> 42473 | Z70: =_L_NopDiem -> 42479 | AM70: =COUNTIF(F$10:F$243,F70) -> 1 | AN70: =X70-2*P70 -> -2 | AO70: =_L_SV_Pcuoi -> 9 | AP70: =_L_Loc -> CKMT | AQ70: =_L_Loc -> KCK | AR70: =X70-2*P70 -> -2 | AS70: =+N70/O70 -> 1 | AU70: =_L_Loc -> 0 | AV70: =_L_Loc -> 0 | AW70: =_L_Loc -> 0 | AX70: =_L_Loc -> 0 | AY70: =_L_Loc -> 0 | AZ70: =_L_Loc -> 0 | BA70: =_L_Loc -> 0 | BB70: =_L_Loc -> 0 | ... CF70: =_L_Loc -> 0
A71: =_L_NgayGio -> 42472.75 | B71: =_L_Gio -> 18:00 | C71: DC1CB21-DC | D71: =_L_stt -> 62 | E71: =_L_LocHe -> DC | F71: =_L_MaHP -> DC1CB21 | G71: =_L_Loc -> Vật lý đại cương 1 | H71: =_L_Loc -> 4 | I71: =_L_Loc -> Viết | J71: =_L_Loc -> 90 | K71: 42472 | L71: =_L_Ngay -> (Thứ 3) | M71: 5 | N71: =_L_SoSV -> 74 | O71: =_L_SV_P -> 45 | P71: =_L_sophong -> 2 | X71: =SUM(Q71:W71) -> 0 | Y71: =_L_NgayCham -> 42473 | Z71: =_L_NopDiem -> 42479 | AM71: =COUNTIF(F$10:F$243,F71) -> 1 | AN71: =X71-2*P71 -> -4 | AO71: =_L_SV_Pcuoi -> 29 | AP71: =_L_Loc -> CBLY | AQ71: =_L_Loc -> KHCB | AR71: =X71-2*P71 -> -4 | AS71: =+N71/O71 -> 1.6444444 | AU71: =_L_Loc -> x | AV71: =_L_Loc -> x | AW71: =_L_Loc -> x | AX71: =_L_Loc -> x | AY71: =_L_Loc -> x | AZ71: =_L_Loc -> x | BA71: =_L_Loc -> x | BB71: =_L_Loc -> x | ... CF71: =_L_Loc -> 0
A72: =_L_NgayGio -> 42472.75 | B72: =_L_Gio -> 18:00 | C72: DC2VB67-DC | D72: =_L_stt -> 63 | E72: =_L_LocHe -> DC | F72: =_L_MaHP -> DC2VB67 | G72: =_L_Loc -> Định mức kinh tế kỹ thuật vận tải ô tô | H72: =_L_Loc -> 3 | I72: =_L_Loc -> Viết | J72: =_L_Loc -> 90 | K72: 42472 | L72: =_L_Ngay -> (Thứ 3) | M72: 5 | N72: =_L_SoSV -> 6 | O72: =_L_SV_P -> 6 | P72: =_L_sophong -> 1 | X72: =SUM(Q72:W72) -> 0 | Y72: =_L_NgayCham -> 42473 | Z72: =_L_NopDiem -> 42479 | AM72: =COUNTIF(F$10:F$243,F72) -> 1 | AN72: =X72-2*P72 -> -2 | AO72: =_L_SV_Pcuoi -> 6 | AP72: =_L_Loc -> KVSB | AQ72: =_L_Loc -> KTVT | AR72: =X72-2*P72 -> -2 | AS72: =+N72/O72 -> 1 | AU72: =_L_Loc -> 0 | AV72: =_L_Loc -> 0 | AW72: =_L_Loc -> 0 | AX72: =_L_Loc -> 0 | AY72: =_L_Loc -> 0 | AZ72: =_L_Loc -> 0 | BA72: =_L_Loc -> 0 | BB72: =_L_Loc -> 0 | ... CF72: =_L_Loc -> 0
A73: =_L_NgayGio -> 42472.75 | B73: =_L_Gio -> 18:00 | C73: DC2KV22-DC | D73: =_L_stt -> 64 | E73: =_L_LocHe -> DC | F73: =_L_MaHP -> DC2KV22 | G73: =_L_Loc -> Định mức kinh tế kỹ thuật | H73: =_L_Loc -> 3 | I73: =_L_Loc -> Viết | J73: =_L_Loc -> 90 | K73: 42472 | L73: =_L_Ngay -> (Thứ 3) | M73: 5 | N73: =_L_SoSV -> 6 | O73: =_L_SV_P -> 6 | P73: =_L_sophong -> 1 | X73: =SUM(Q73:W73) -> 0 | Y73: =_L_NgayCham -> 42473 | Z73: =_L_NopDiem -> 42479 | AM73: =COUNTIF(F$10:F$243,F73) -> 1 | AN73: =X73-2*P73 -> -2 | AO73: =_L_SV_Pcuoi -> 6 | AP73: =_L_Loc -> KVSB | AQ73: =_L_Loc -> KTVT | AR73: =X73-2*P73 -> -2 | AS73: =+N73/O73 -> 1 | AU73: =_L_Loc -> 0 | AV73: =_L_Loc -> 0 | AW73: =_L_Loc -> 0 | AX73: =_L_Loc -> 0 | AY73: =_L_Loc -> 0 | AZ73: =_L_Loc -> 0 | BA73: =_L_Loc -> 0 | BB73: =_L_Loc -> 0 | ... BM73: =_L_Loc -> x
A74: =_L_NgayGio -> 42472.75 | B74: =_L_Gio -> 18:00 | C74: DC3CA41-DC | D74: =_L_stt -> 65 | E74: =_L_LocHe -> DC | F74: =_L_MaHP -> DC3CA41 | G74: =_L_Loc -> Thiết kế cầu 1 | H74: =_L_Loc -> 4 | I74: =_L_Loc -> Viết | J74: =_L_Loc -> 90 | K74: 42472 | L74: =_L_Ngay -> (Thứ 3) | M74: 5 | N74: =_L_SoSV -> 5 | O74: =_L_SV_P -> 5 | P74: =_L_sophong -> 1 | X74: =SUM(Q74:W74) -> 0 | Y74: =_L_NgayCham -> 42473 | Z74: =_L_NopDiem -> 42479 | AM74: =COUNTIF(F$10:F$243,F74) -> 1 | AN74: =X74-2*P74 -> -2 | AO74: =_L_SV_Pcuoi -> 5 | AP74: =_L_Loc -> CTCA | AQ74: =_L_Loc -> KCT | AR74: =X74-2*P74 -> -2 | AS74: =+N74/O74 -> 1 | AU74: =_L_Loc -> x | AV74: =_L_Loc -> 0 | AW74: =_L_Loc -> x | AX74: =_L_Loc -> x | AY74: =_L_Loc -> 0 | AZ74: =_L_Loc -> 0 | BA74: =_L_Loc -> x | BB74: =_L_Loc -> 0 | ... CF74: =_L_Loc -> 0
A75: =_L_NgayGio -> 42472.75 | B75: =_L_Gio -> 18:00 | C75: DC2KX36-DC | D75: =_L_stt -> 66 | E75: =_L_LocHe -> DC | F75: =_L_MaHP -> DC2KX36 | G75: =_L_Loc -> Vật liệu xây dựng | H75: =_L_Loc -> 2 | I75: =_L_Loc -> Viết | J75: =_L_Loc -> 75 | K75: 42472 | L75: =_L_Ngay -> (Thứ 3) | M75: 5 | N75: =_L_SoSV -> 8 | O75: =_L_SV_P -> 8 | P75: =_L_sophong -> 1 | X75: =SUM(Q75:W75) -> 0 | Y75: =_L_NgayCham -> 42473 | Z75: =_L_NopDiem -> 42479 | AM75: =COUNTIF(F$10:F$243,F75) -> 1 | AN75: =X75-2*P75 -> -2 | AO75: =_L_SV_Pcuoi -> 8 | AP75: =_L_Loc -> CTKC | AQ75: =_L_Loc -> KCT | AR75: =X75-2*P75 -> -2 | AS75: =+N75/O75 -> 1 | AU75: =_L_Loc -> 0 | AV75: =_L_Loc -> 0 | AW75: =_L_Loc -> 0 | AX75: =_L_Loc -> 0 | AY75: =_L_Loc -> 0 | AZ75: =_L_Loc -> 0 | BA75: =_L_Loc -> 0 | BB75: =_L_Loc -> 0 | ... BM75: =_L_Loc -> 0
A76: =_L_NgayGio -> 42472.75 | B76: =_L_Gio -> 18:00 | C76: DC3QT62-DC | D76: =_L_stt -> 67 | E76: =_L_LocHe -> DC | F76: =_L_MaHP -> DC3QT62 | G76: =_L_Loc -> Quản trị sản xuất 2 | H76: =_L_Loc -> 3 | I76: =_L_Loc -> Viết | J76: =_L_Loc -> 90 | K76: 42472 | L76: =_L_Ngay -> (Thứ 3) | M76: 5 | N76: =_L_SoSV -> 7 | O76: =_L_SV_P -> 7 | P76: =_L_sophong -> 1 | X76: =SUM(Q76:W76) -> 0 | Y76: =_L_NgayCham -> 42473 | Z76: =_L_NopDiem -> 42479 | AM76: =COUNTIF(F$10:F$243,F76) -> 1 | AN76: =X76-2*P76 -> -2 | AO76: =_L_SV_Pcuoi -> 7 | AP76: =_L_Loc -> KVKX | AQ76: =_L_Loc -> KTVT | AR76: =X76-2*P76 -> -2 | AS76: =+N76/O76 -> 1 | AU76: =_L_Loc -> 0 | AV76: =_L_Loc -> 0 | AW76: =_L_Loc -> 0 | AX76: =_L_Loc -> 0 | AY76: =_L_Loc -> 0 | AZ76: =_L_Loc -> 0 | BA76: =_L_Loc -> 0 | BB76: =_L_Loc -> 0 | ... BM76: =_L_Loc -> 0
A77: =_L_NgayGio -> 42472.75 | B77: =_L_Gio -> 18:00 | C77: DC3QT94-DC | D77: =_L_stt -> 68 | E77: =_L_LocHe -> DC | F77: =_L_MaHP -> DC3QT94 | G77: =_L_Loc -> Hệ thống thông tin quản lý | H77: =_L_Loc -> 2 | I77: =_L_Loc -> Viết | J77: =_L_Loc -> 75 | K77: 42472 | L77: =_L_Ngay -> (Thứ 3) | M77: 5 | N77: =_L_SoSV -> 8 | O77: =_L_SV_P -> 8 | P77: =_L_sophong -> 1 | X77: =SUM(Q77:W77) -> 0 | Y77: =_L_NgayCham -> 42473 | Z77: =_L_NopDiem -> 42479 | AM77: =COUNTIF(F$10:F$243,F77) -> 1 | AN77: =X77-2*P77 -> -2 | AO77: =_L_SV_Pcuoi -> 8 | AP77: =_L_Loc -> KVQT | AQ77: =_L_Loc -> KTVT | AR77: =X77-2*P77 -> -2 | AS77: =+N77/O77 -> 1 | AU77: =_L_Loc -> 0 | AV77: =_L_Loc -> 0 | AW77: =_L_Loc -> 0 | AX77: =_L_Loc -> 0 | AY77: =_L_Loc -> 0 | AZ77: =_L_Loc -> 0 | BA77: =_L_Loc -> 0 | BB77: =_L_Loc -> 0 | ... BM77: =_L_Loc -> 0
A78: =_L_NgayGio -> 42473.625 | B78: =_L_Gio -> 15:00 | C78: CC1LL04-CC | D78: =_L_stt -> 69 | E78: =_L_LocHe -> CC | F78: =_L_MaHP -> CC1LL04 | G78: =_L_Loc -> Đường lối cách mạng của Đảng cộng sản Việt Nam | H78: =_L_Loc -> 3 | I78: =_L_Loc -> Viết | J78: =_L_Loc -> 90 | K78: 42473 | L78: =_L_Ngay -> (Thứ 4) | M78: 4 | N78: =_L_SoSV -> 8 | O78: =_L_SV_P -> 8 | P78: =_L_sophong -> 1 | X78: =SUM(Q78:W78) -> 0 | Y78: =_L_NgayCham -> 42474 | Z78: =_L_NopDiem -> 42480 | AM78: =COUNTIF(F$10:F$243,F78) -> 1 | AN78: =X78-2*P78 -> -2 | AO78: =_L_SV_Pcuoi -> 8 | AP78: =_L_Loc -> LLDL | AQ78: =_L_Loc -> LLCT | AR78: =X78-2*P78 -> -2 | AS78: =+N78/O78 -> 1 | AU78: =_L_Loc -> x | AV78: =_L_Loc -> x | AW78: =_L_Loc -> x | AX78: =_L_Loc -> x | AY78: =_L_Loc -> x | AZ78: =_L_Loc -> x | BA78: =_L_Loc -> x | BB78: =_L_Loc -> x | ... BM78: =_L_Loc -> x
A79: =_L_NgayGio -> 42473.75 | B79: =_L_Gio -> 18:00 | C79: DC3CA51-DC | D79: =_L_stt -> 70 | E79: =_L_LocHe -> DC | F79: =_L_MaHP -> DC3CA51 | G79: =_L_Loc -> Kỹ thuật thi công cầu 1 | H79: =_L_Loc -> 3 | I79: =_L_Loc -> Viết | J79: =_L_Loc -> 90 | K79: 42473 | L79: =_L_Ngay -> (Thứ 4) | M79: 5 | N79: =_L_SoSV -> 24 | O79: =_L_SV_P -> 24 | P79: =_L_sophong -> 1 | X79: =SUM(Q79:W79) -> 0 | Y79: =_L_NgayCham -> 42474 | Z79: =_L_NopDiem -> 42480 | AM79: =COUNTIF(F$10:F$243,F79) -> 1 | AN79: =X79-2*P79 -> -2 | AO79: =_L_SV_Pcuoi -> 24 | AP79: =_L_Loc -> CTCA | AQ79: =_L_Loc -> KCT | AR79: =X79-2*P79 -> -2 | AS79: =+N79/O79 -> 1 | AU79: =_L_Loc -> x | AV79: =_L_Loc -> 0 | AW79: =_L_Loc -> x | AX79: =_L_Loc -> x | AY79: =_L_Loc -> 0 | AZ79: =_L_Loc -> 0 | BA79: =_L_Loc -> x | BB79: =_L_Loc -> 0 | ... BM79: =_L_Loc -> 0
A80: =_L_NgayGio -> 42473.75 | B80: =_L_Gio -> 18:00 | C80: DC2CO13-DC | D80: =_L_stt -> 71 | E80: =_L_LocHe -> DC | F80: =_L_MaHP -> DC2CO13 | G80: =_L_Loc -> Vẽ kỹ thuật | H80: =_L_Loc -> 4 | I80: =_L_Loc -> Viết | J80: =_L_Loc -> 90 | K80: 42473 | L80: =_L_Ngay -> (Thứ 4) | M80: 5 | N80: =_L_SoSV -> 13 | O80: =_L_SV_P -> 13 | P80: =_L_sophong -> 1 | X80: =SUM(Q80:W80) -> 0 | Y80: =_L_NgayCham -> 42474 | Z80: =_L_NopDiem -> 42480 | AM80: =COUNTIF(F$10:F$243,F80) -> 1 | AN80: =X80-2*P80 -> -2 | AO80: =_L_SV_Pcuoi -> 13 | AP80: =_L_Loc -> CSVE | AQ80: =_L_Loc -> CSKT | AR80: =X80-2*P80 -> -2 | AS80: =+N80/O80 -> 1 | AU80: =_L_Loc -> 0 | AV80: =_L_Loc -> 0 | AW80: =_L_Loc -> 0 | AX80: =_L_Loc -> 0 | AY80: =_L_Loc -> 0 | AZ80: =_L_Loc -> 0 | BA80: =_L_Loc -> 0 | BB80: =_L_Loc -> x | ... BM80: =_L_Loc -> 0
A81: =_L_NgayGio -> 42473.75 | B81: =_L_Gio -> 18:00 | C81: DC1CB17-DC | D81: =_L_stt -> 72 | E81: =_L_LocHe -> DC | F81: =_L_MaHP -> DC1CB17 | G81: =_L_Loc -> Toán 1 | H81: =_L_Loc -> 4 | I81: =_L_Loc -> Viết | J81: =_L_Loc -> 90 | K81: 42473 | L81: =_L_Ngay -> (Thứ 4) | M81: 5 | N81: =_L_SoSV -> 43 | O81: =_L_SV_P -> 43 | P81: =_L_sophong -> 1 | X81: =SUM(Q81:W81) -> 0 | Y81: =_L_NgayCham -> 42474 | Z81: =_L_NopDiem -> 42480 | AM81: =COUNTIF(F$10:F$243,F81) -> 1 | AN81: =X81-2*P81 -> -2 | AO81: =_L_SV_Pcuoi -> 43 | AP81: =_L_Loc -> CBTO | AQ81: =_L_Loc -> KHCB | AR81: =X81-2*P81 -> -2 | AS81: =+N81/O81 -> 1 | AU81: =_L_Loc -> 0 | AV81: =_L_Loc -> 0 | AW81: =_L_Loc -> 0 | AX81: =_L_Loc -> 0 | AY81: =_L_Loc -> 0 | AZ81: =_L_Loc -> 0 | BA81: =_L_Loc -> 0 | BB81: =_L_Loc -> 0 | ... CF81: =_L_Loc -> 0
A82: =_L_NgayGio -> 42473.75 | B82: =_L_Gio -> 18:00 | C82: DC1CB12-DC | D82: =_L_stt -> 73 | E82: =_L_LocHe -> DC | F82: =_L_MaHP -> DC1CB12 | G82: =_L_Loc -> Toán 2 | H82: =_L_Loc -> 3 | I82: =_L_Loc -> Viết | J82: =_L_Loc -> 60 | K82: 42473 | L82: =_L_Ngay -> (Thứ 4) | M82: 5 | N82: =_L_SoSV -> 66 | O82: =_L_SV_P -> 45 | P82: =_L_sophong -> 2 | X82: =SUM(Q82:W82) -> 0 | Y82: =_L_NgayCham -> 42474 | Z82: =_L_NopDiem -> 42480 | AM82: =COUNTIF(F$10:F$243,F82) -> 2 | AN82: =X82-2*P82 -> -4 | AO82: =_L_SV_Pcuoi -> 21 | AP82: =_L_Loc -> CBTO | AQ82: =_L_Loc -> KHCB | AR82: =X82-2*P82 -> -4 | AS82: =+N82/O82 -> 1.4666667 | AU82: =_L_Loc -> x | AV82: =_L_Loc -> x | AW82: =_L_Loc -> x | AX82: =_L_Loc -> x | AY82: =_L_Loc -> x | AZ82: =_L_Loc -> x | BA82: =_L_Loc -> x | BB82: =_L_Loc -> x | ... CF82: =_L_Loc -> 0
A83: =_L_NgayGio -> 42473.75 | B83: =_L_Gio -> 18:00 | C83: DC3KT24-DC | D83: =_L_stt -> 74 | E83: =_L_LocHe -> DC | F83: =_L_MaHP -> DC3KT24 | G83: =_L_Loc -> Kế toán tổng hợp | H83: =_L_Loc -> 3 | I83: =_L_Loc -> Viết | J83: =_L_Loc -> 90 | K83: 42473 | L83: =_L_Ngay -> (Thứ 4) | M83: 5 | N83: =_L_SoSV -> 2 | O83: =_L_SV_P -> 2 | P83: =_L_sophong -> 1 | X83: =SUM(Q83:W83) -> 0 | Y83: =_L_NgayCham -> 42474 | Z83: =_L_NopDiem -> 42480 | AM83: =COUNTIF(F$10:F$243,F83) -> 2 | AN83: =X83-2*P83 -> -2 | AO83: =_L_SV_Pcuoi -> 2 | AP83: =_L_Loc -> KVKK | AQ83: =_L_Loc -> KTVT | AR83: =X83-2*P83 -> -2 | AS83: =+N83/O83 -> 1 | AU83: =_L_Loc -> 0 | AV83: =_L_Loc -> 0 | AW83: =_L_Loc -> 0 | AX83: =_L_Loc -> 0 | AY83: =_L_Loc -> 0 | AZ83: =_L_Loc -> 0 | BA83: =_L_Loc -> 0 | BB83: =_L_Loc -> 0 | ... BM83: =_L_Loc -> 0
A84: =_L_NgayGio -> 42473.75 | B84: =_L_Gio -> 18:00 | C84: DC3KT24-DL | D84: =_L_stt -> 75 | E84: =_L_LocHe -> DL | F84: =_L_MaHP -> DC3KT24 | G84: =_L_Loc -> Kế toán tổng hợp | H84: =_L_Loc -> 3 | I84: =_L_Loc -> Viết | J84: =_L_Loc -> 90 | K84: 42473 | L84: =_L_Ngay -> (Thứ 4) | M84: 5 | N84: =_L_SoSV -> 15 | O84: =_L_SV_P -> 15 | P84: =_L_sophong -> 1 | X84: =SUM(Q84:W84) -> 0 | Y84: =_L_NgayCham -> 42474 | Z84: =_L_NopDiem -> 42480 | AM84: =COUNTIF(F$10:F$243,F84) -> 2 | AN84: =X84-2*P84 -> -2 | AO84: =_L_SV_Pcuoi -> 15 | AP84: =_L_Loc -> KVKK | AQ84: =_L_Loc -> KTVT | AR84: =X84-2*P84 -> -2 | AS84: =+N84/O84 -> 1 | AU84: =_L_Loc -> 0 | AV84: =_L_Loc -> 0 | AW84: =_L_Loc -> 0 | AX84: =_L_Loc -> 0 | AY84: =_L_Loc -> 0 | AZ84: =_L_Loc -> 0 | BA84: =_L_Loc -> 0 | BB84: =_L_Loc -> 0 | ... BM84: =_L_Loc -> 0
A85: =_L_NgayGio -> 42473.75 | B85: =_L_Gio -> 18:00 | C85: DC2HT26-DC | D85: =_L_stt -> 76 | E85: =_L_LocHe -> DC | F85: =_L_MaHP -> DC2HT26 | G85: =_L_Loc -> Cấu trúc dữ liệu và giải thuật | H85: =_L_Loc -> 4 | I85: =_L_Loc -> Viết | J85: =_L_Loc -> 60 | K85: 42473 | L85: =_L_Ngay -> (Thứ 4) | M85: 5 | N85: =_L_SoSV -> 10 | O85: =_L_SV_P -> 10 | P85: =_L_sophong -> 1 | X85: =SUM(Q85:W85) -> 0 | Y85: =_L_NgayCham -> 42474 | Z85: =_L_NopDiem -> 42480 | AM85: =COUNTIF(F$10:F$243,F85) -> 1 | AN85: =X85-2*P85 -> -2 | AO85: =_L_SV_Pcuoi -> 10 | AP85: =_L_Loc -> TTHT | AQ85: =_L_Loc -> CNTT | AR85: =X85-2*P85 -> -2 | AS85: =+N85/O85 -> 1 | AU85: =_L_Loc -> 0 | AV85: =_L_Loc -> 0 | AW85: =_L_Loc -> 0 | AX85: =_L_Loc -> 0 | AY85: =_L_Loc -> 0 | AZ85: =_L_Loc -> 0 | BA85: =_L_Loc -> 0 | BB85: =_L_Loc -> 0 | ... CF85: =_L_Loc -> 0
A86: =_L_NgayGio -> 42473.75 | B86: =_L_Gio -> 18:00 | C86: DC1CB12-DL | D86: =_L_stt -> 77 | E86: =_L_LocHe -> DL | F86: =_L_MaHP -> DC1CB12 | G86: =_L_Loc -> Toán 2 | H86: =_L_Loc -> 3 | I86: =_L_Loc -> Viết | J86: =_L_Loc -> 60 | K86: 42473 | L86: =_L_Ngay -> (Thứ 4) | M86: 5 | N86: =_L_SoSV -> 28 | O86: =_L_SV_P -> 28 | P86: =_L_sophong -> 1 | X86: =SUM(Q86:W86) -> 0 | Y86: =_L_NgayCham -> 42474 | Z86: =_L_NopDiem -> 42480 | AM86: =COUNTIF(F$10:F$243,F86) -> 2 | AN86: =X86-2*P86 -> -2 | AO86: =_L_SV_Pcuoi -> 28 | AP86: =_L_Loc -> CBTO | AQ86: =_L_Loc -> KHCB | AR86: =X86-2*P86 -> -2 | AS86: =+N86/O86 -> 1 | AU86: =_L_Loc -> x | AV86: =_L_Loc -> x | AW86: =_L_Loc -> x | AX86: =_L_Loc -> x | AY86: =_L_Loc -> x | AZ86: =_L_Loc -> x | BA86: =_L_Loc -> x | BB86: =_L_Loc -> x | ... BM86: =_L_Loc -> x
A87: =_L_NgayGio -> 42473.75 | B87: =_L_Gio -> 18:00 | C87: DC2CK33-DC | D87: =_L_stt -> 78 | E87: =_L_LocHe -> DC | F87: =_L_MaHP -> DC2CK33 | G87: =_L_Loc -> Công nghệ kim loại | H87: =_L_Loc -> 3 | I87: =_L_Loc -> Viết | J87: =_L_Loc -> 90 | K87: 42473 | L87: =_L_Ngay -> (Thứ 4) | M87: 5 | N87: =_L_SoSV -> 16 | O87: =_L_SV_P -> 16 | P87: =_L_sophong -> 1 | X87: =SUM(Q87:W87) -> 0 | Y87: =_L_NgayCham -> 42474 | Z87: =_L_NopDiem -> 42480 | AM87: =COUNTIF(F$10:F$243,F87) -> 1 | AN87: =X87-2*P87 -> -2 | AO87: =_L_SV_Pcuoi -> 16 | AP87: =_L_Loc -> KCK | AQ87: =_L_Loc -> KCK | AR87: =X87-2*P87 -> -2 | AS87: =+N87/O87 -> 1 | AU87: =_L_Loc -> 0 | AV87: =_L_Loc -> 0 | AW87: =_L_Loc -> 0 | AX87: =_L_Loc -> 0 | AY87: =_L_Loc -> 0 | AZ87: =_L_Loc -> 0 | BA87: =_L_Loc -> 0 | BB87: =_L_Loc -> x | ... CF87: =_L_Loc -> 0
A88: =_L_NgayGio -> 42473.75 | B88: =_L_Gio -> 18:00 | C88: DC3HT51-DC | D88: =_L_stt -> 79 | E88: =_L_LocHe -> DC | F88: =_L_MaHP -> DC3HT51 | G88: =_L_Loc -> An toàn và bảo mật hệ thống thông tin | H88: =_L_Loc -> 2 | I88: =_L_Loc -> 0 | J88: =_L_Loc -> 0 | K88: 42473 | L88: =_L_Ngay -> (Thứ 4) | M88: 5 | N88: =_L_SoSV -> 17 | O88: =_L_SV_P -> 17 | P88: =_L_sophong -> 1 | X88: =SUM(Q88:W88) -> 0 | Y88: =_L_NgayCham -> 42474 | Z88: =_L_NopDiem -> 42480 | AM88: =COUNTIF(F$10:F$243,F88) -> 1 | AN88: =X88-2*P88 -> -2 | AO88: =_L_SV_Pcuoi -> 17 | AP88: =_L_Loc -> TTMA | AQ88: =_L_Loc -> CNTT | AR88: =X88-2*P88 -> -2 | AS88: =+N88/O88 -> 1 | AU88: =_L_Loc -> 0 | AV88: =_L_Loc -> 0 | AW88: =_L_Loc -> 0 | AX88: =_L_Loc -> 0 | AY88: =_L_Loc -> 0 | AZ88: =_L_Loc -> 0 | BA88: =_L_Loc -> 0 | BB88: =_L_Loc -> 0 | ... BM88: =_L_Loc -> 0
A89: =_L_NgayGio -> 42473.75 | B89: =_L_Gio -> 18:00 | C89: DC3CT55-DC | D89: =_L_stt -> 80 | E89: =_L_LocHe -> DC | F89: =_L_MaHP -> DC3CT55 | G89: =_L_Loc -> Quản lý dự án đầu tư xây dựng công trình | H89: =_L_Loc -> 3 | I89: =_L_Loc -> Viết | J89: =_L_Loc -> 90 | K89: 42473 | L89: =_L_Ngay -> (Thứ 4) | M89: 5 | N89: =_L_SoSV -> 29 | O89: =_L_SV_P -> 29 | P89: =_L_sophong -> 1 | X89: =SUM(Q89:W89) -> 0 | Y89: =_L_NgayCham -> 42474 | Z89: =_L_NopDiem -> 42480 | AM89: =COUNTIF(F$10:F$243,F89) -> 2 | AN89: =X89-2*P89 -> -2 | AO89: =_L_SV_Pcuoi -> 29 | AP89: =_L_Loc -> CTMO | AQ89: =_L_Loc -> KCT | AR89: =X89-2*P89 -> -2 | AS89: =+N89/O89 -> 1 | AU89: =_L_Loc -> x | AV89: =_L_Loc -> x | AW89: =_L_Loc -> x | AX89: =_L_Loc -> x | AY89: =_L_Loc -> x | AZ89: =_L_Loc -> x | BA89: =_L_Loc -> x | BB89: =_L_Loc -> 0 | ... BM89: =_L_Loc -> 0
A90: =_L_NgayGio -> 42473.75 | B90: =_L_Gio -> 18:00 | C90: DC3CT55-DL | D90: =_L_stt -> 81 | E90: =_L_LocHe -> DL | F90: =_L_MaHP -> DC3CT55 | G90: =_L_Loc -> Quản lý dự án đầu tư xây dựng công trình | H90: =_L_Loc -> 3 | I90: =_L_Loc -> Viết | J90: =_L_Loc -> 90 | K90: 42473 | L90: =_L_Ngay -> (Thứ 4) | M90: 5 | N90: =_L_SoSV -> 99 | O90: =_L_SV_P -> 50 | P90: =_L_sophong -> 2 | X90: =SUM(Q90:W90) -> 0 | Y90: =_L_NgayCham -> 42474 | Z90: =_L_NopDiem -> 42480 | AM90: =COUNTIF(F$10:F$243,F90) -> 2 | AN90: =X90-2*P90 -> -4 | AO90: =_L_SV_Pcuoi -> 49 | AP90: =_L_Loc -> CTMO | AQ90: =_L_Loc -> KCT | AR90: =X90-2*P90 -> -4 | AS90: =+N90/O90 -> 1.98 | AU90: =_L_Loc -> x | AV90: =_L_Loc -> x | AW90: =_L_Loc -> x | AX90: =_L_Loc -> x | AY90: =_L_Loc -> x | AZ90: =_L_Loc -> x | BA90: =_L_Loc -> x | BB90: =_L_Loc -> 0 | ... BM90: =_L_Loc -> 0
A91: =_L_NgayGio -> 42473.75 | B91: =_L_Gio -> 18:00 | C91: DC3KT29-DC | D91: =_L_stt -> 82 | E91: =_L_LocHe -> DC | F91: =_L_MaHP -> DC3KT29 | G91: =_L_Loc -> Kế toán xây dựng cơ bản | H91: =_L_Loc -> 2 | I91: =_L_Loc -> Viết | J91: =_L_Loc -> 90 | K91: 42473 | L91: =_L_Ngay -> (Thứ 4) | M91: 5 | N91: =_L_SoSV -> 6 | O91: =_L_SV_P -> 6 | P91: =_L_sophong -> 1 | X91: =SUM(Q91:W91) -> 0 | Y91: =_L_NgayCham -> 42474 | Z91: =_L_NopDiem -> 42480 | AM91: =COUNTIF(F$10:F$243,F91) -> 1 | AN91: =X91-2*P91 -> -2 | AO91: =_L_SV_Pcuoi -> 6 | AP91: =_L_Loc -> KVKK | AQ91: =_L_Loc -> KTVT | AR91: =X91-2*P91 -> -2 | AS91: =+N91/O91 -> 1 | AU91: =_L_Loc -> 0 | AV91: =_L_Loc -> 0 | AW91: =_L_Loc -> 0 | AX91: =_L_Loc -> 0 | AY91: =_L_Loc -> 0 | AZ91: =_L_Loc -> 0 | BA91: =_L_Loc -> 0 | BB91: =_L_Loc -> 0 | ... BM91: =_L_Loc -> 0
A92: =_L_NgayGio -> 42473.75 | B92: =_L_Gio -> 18:00 | C92: DC2KV72-DC | D92: =_L_stt -> 83 | E92: =_L_LocHe -> DC | F92: =_L_MaHP -> DC2KV72 | G92: =_L_Loc -> Quản trị học | H92: =_L_Loc -> 2 | I92: =_L_Loc -> Viết | J92: =_L_Loc -> 75 | K92: 42473 | L92: =_L_Ngay -> (Thứ 4) | M92: 5 | N92: =_L_SoSV -> 13 | O92: =_L_SV_P -> 13 | P92: =_L_sophong -> 1 | X92: =SUM(Q92:W92) -> 0 | Y92: =_L_NgayCham -> 42474 | Z92: =_L_NopDiem -> 42480 | AM92: =COUNTIF(F$10:F$243,F92) -> 1 | AN92: =X92-2*P92 -> -2 | AO92: =_L_SV_Pcuoi -> 13 | AP92: =_L_Loc -> KVQT | AQ92: =_L_Loc -> KTVT | AR92: =X92-2*P92 -> -2 | AS92: =+N92/O92 -> 1 | AU92: =_L_Loc -> 0 | AV92: =_L_Loc -> 0 | AW92: =_L_Loc -> 0 | AX92: =_L_Loc -> 0 | AY92: =_L_Loc -> 0 | AZ92: =_L_Loc -> 0 | BA92: =_L_Loc -> 0 | BB92: =_L_Loc -> 0 | ... CF92: =_L_Loc -> 0
A93: =_L_NgayGio -> 42473.75 | B93: =_L_Gio -> 18:00 | C93: DC3KT33-DC | D93: =_L_stt -> 84 | E93: =_L_LocHe -> DC | F93: =_L_MaHP -> DC3KT33 | G93: =_L_Loc -> Tiếng Anh 3 | H93: =_L_Loc -> 3 | I93: =_L_Loc -> Viết | J93: =_L_Loc -> 60 | K93: 42473 | L93: =_L_Ngay -> (Thứ 4) | M93: 5 | N93: =_L_SoSV -> 17 | O93: =_L_SV_P -> 17 | P93: =_L_sophong -> 1 | X93: =SUM(Q93:W93) -> 0 | Y93: =_L_NgayCham -> 42474 | Z93: =_L_NopDiem -> 42480 | AM93: =COUNTIF(F$10:F$243,F93) -> 1 | AN93: =X93-2*P93 -> -2 | AO93: =_L_SV_Pcuoi -> 17 | AP93: =_L_Loc -> CBNN | AQ93: =_L_Loc -> KHCB | AR93: =X93-2*P93 -> -2 | AS93: =+N93/O93 -> 1 | AU93: =_L_Loc -> 0 | AV93: =_L_Loc -> 0 | AW93: =_L_Loc -> 0 | AX93: =_L_Loc -> 0 | AY93: =_L_Loc -> 0 | AZ93: =_L_Loc -> 0 | BA93: =_L_Loc -> 0 | BB93: =_L_Loc -> 0 | ... BM93: =_L_Loc -> 0
A94: =_L_NgayGio -> 42473.75 | B94: =_L_Gio -> 18:00 | C94: DC3QT65-DC | D94: =_L_stt -> 85 | E94: =_L_LocHe -> DC | F94: =_L_MaHP -> DC3QT65 | G94: =_L_Loc -> Quản trị nhân sự | H94: =_L_Loc -> 3 | I94: =_L_Loc -> Viết | J94: =_L_Loc -> 75 | K94: 42473 | L94: =_L_Ngay -> (Thứ 4) | M94: 5 | N94: =_L_SoSV -> 9 | O94: =_L_SV_P -> 9 | P94: =_L_sophong -> 1 | X94: =SUM(Q94:W94) -> 0 | Y94: =_L_NgayCham -> 42474 | Z94: =_L_NopDiem -> 42480 | AM94: =COUNTIF(F$10:F$243,F94) -> 1 | AN94: =X94-2*P94 -> -2 | AO94: =_L_SV_Pcuoi -> 9 | AP94: =_L_Loc -> KVQT | AQ94: =_L_Loc -> KTVT | AR94: =X94-2*P94 -> -2 | AS94: =+N94/O94 -> 1 | AU94: =_L_Loc -> 0 | AV94: =_L_Loc -> 0 | AW94: =_L_Loc -> 0 | AX94: =_L_Loc -> 0 | AY94: =_L_Loc -> 0 | AZ94: =_L_Loc -> 0 | BA94: =_L_Loc -> 0 | BB94: =_L_Loc -> 0 | ... CF94: =_L_Loc -> 0
A95: =_L_NgayGio -> 42473.75 | B95: =_L_Gio -> 18:00 | C95: CC2CT32-CC | D95: =_L_stt -> 86 | E95: =_L_LocHe -> CC | F95: =_L_MaHP -> CC2CT32 | G95: =_L_Loc -> Cơ học đất | H95: =_L_Loc -> 3 | I95: =_L_Loc -> Viết | J95: =_L_Loc -> 90 | K95: 42473 | L95: =_L_Ngay -> (Thứ 4) | M95: 5 | N95: =_L_SoSV -> 23 | O95: =_L_SV_P -> 23 | P95: =_L_sophong -> 1 | X95: =SUM(Q95:W95) -> 0 | Y95: =_L_NgayCham -> 42474 | Z95: =_L_NopDiem -> 42480 | AM95: =COUNTIF(F$10:F$243,F95) -> 1 | AN95: =X95-2*P95 -> -2 | AO95: =_L_SV_Pcuoi -> 23 | AP95: =_L_Loc -> CTDK | AQ95: =_L_Loc -> KCT | AR95: =X95-2*P95 -> -2 | AS95: =+N95/O95 -> 1 | AU95: =_L_Loc -> x | AV95: =_L_Loc -> x | AW95: =_L_Loc -> x | AX95: =_L_Loc -> x | AY95: =_L_Loc -> x | AZ95: =_L_Loc -> x | BA95: =_L_Loc -> x | BB95: =_L_Loc -> 0 | ... BM95: =_L_Loc -> 0
A96: =_L_NgayGio -> 42473.75 | B96: =_L_Gio -> 18:00 | C96: CC1CB94-CC | D96: =_L_stt -> 87 | E96: =_L_LocHe -> CC | F96: =_L_MaHP -> CC1CB94 | G96: =_L_Loc -> An toàn lao động và môi trường công nghiệp | H96: =_L_Loc -> 2 | I96: =_L_Loc -> Viết | J96: =_L_Loc -> 60 | K96: 42473 | L96: =_L_Ngay -> (Thứ 4) | M96: 5 | N96: =_L_SoSV -> 5 | O96: =_L_SV_P -> 5 | P96: =_L_sophong -> 1 | X96: =SUM(Q96:W96) -> 0 | Y96: =_L_NgayCham -> 42474 | Z96: =_L_NopDiem -> 42480 | AM96: =COUNTIF(F$10:F$243,F96) -> 1 | AN96: =X96-2*P96 -> -2 | AO96: =_L_SV_Pcuoi -> 5 | AP96: =_L_Loc -> KCK | AQ96: =_L_Loc -> KCK | AR96: =X96-2*P96 -> -2 | AS96: =+N96/O96 -> 1 | AU96: =_L_Loc -> 0 | AV96: =_L_Loc -> 0 | AW96: =_L_Loc -> 0 | AX96: =_L_Loc -> 0 | AY96: =_L_Loc -> 0 | AZ96: =_L_Loc -> 0 | BA96: =_L_Loc -> 0 | BB96: =_L_Loc -> o | ... BM96: =_L_Loc -> o
A97: =_L_NgayGio -> 42473.75 | B97: =_L_Gio -> 18:00 | C97: CC3OT36-CC | D97: =_L_stt -> 88 | E97: =_L_LocHe -> CC | F97: =_L_MaHP -> CC3OT36 | G97: =_L_Loc -> Hệ thống điều hòa và thiết bị tiện nghi trên ô tô | H97: =_L_Loc -> 2 | I97: =_L_Loc -> Viết | J97: =_L_Loc -> 60 | K97: 42473 | L97: =_L_Ngay -> (Thứ 4) | M97: 5 | N97: =_L_SoSV -> 10 | O97: =_L_SV_P -> 10 | P97: =_L_sophong -> 1 | X97: =SUM(Q97:W97) -> 0 | Y97: =_L_NgayCham -> 42474 | Z97: =_L_NopDiem -> 42480 | AM97: =COUNTIF(F$10:F$243,F97) -> 1 | AN97: =X97-2*P97 -> -2 | AO97: =_L_SV_Pcuoi -> 10 | AP97: =_L_Loc -> CKOT | AQ97: =_L_Loc -> KCK | AR97: =X97-2*P97 -> -2 | AS97: =+N97/O97 -> 1 | AU97: =_L_Loc -> 0 | AV97: =_L_Loc -> 0 | AW97: =_L_Loc -> 0 | AX97: =_L_Loc -> 0 | AY97: =_L_Loc -> 0 | AZ97: =_L_Loc -> 0 | BA97: =_L_Loc -> 0 | BB97: =_L_Loc -> o | ... CF97: =_L_Loc -> 0
A98: =_L_NgayGio -> 42473.75 | B98: =_L_Gio -> 18:00 | C98: CC3CK71-CC | D98: =_L_stt -> 89 | E98: =_L_LocHe -> CC | F98: =_L_MaHP -> CC3CK71 | G98: =_L_Loc -> Động cơ đốt trong | H98: =_L_Loc -> 4 | I98: =_L_Loc -> Viết | J98: =_L_Loc -> 90 | K98: 42473 | L98: =_L_Ngay -> (Thứ 4) | M98: 5 | N98: =_L_SoSV -> 8 | O98: =_L_SV_P -> 8 | P98: =_L_sophong -> 1 | X98: =SUM(Q98:W98) -> 0 | Y98: =_L_NgayCham -> 42474 | Z98: =_L_NopDiem -> 42480 | AM98: =COUNTIF(F$10:F$243,F98) -> 1 | AN98: =X98-2*P98 -> -2 | AO98: =_L_SV_Pcuoi -> 8 | AP98: =_L_Loc -> KCK | AQ98: =_L_Loc -> KCK | AR98: =X98-2*P98 -> -2 | AS98: =+N98/O98 -> 1 | AU98: =_L_Loc -> 0 | AV98: =_L_Loc -> 0 | AW98: =_L_Loc -> 0 | AX98: =_L_Loc -> 0 | AY98: =_L_Loc -> 0 | AZ98: =_L_Loc -> 0 | BA98: =_L_Loc -> 0 | BB98: =_L_Loc -> x | ... BM98: =_L_Loc -> 0
A99: =_L_NgayGio -> 42474.75 | B99: =_L_Gio -> 18:00 | C99: DC2CT65-DC | D99: =_L_stt -> 90 | E99: =_L_LocHe -> DC | F99: =_L_MaHP -> DC2CT65 | G99: =_L_Loc -> An toàn lao động | H99: =_L_Loc -> 2 | I99: =_L_Loc -> Viết | J99: =_L_Loc -> 90 | K99: 42474 | L99: =_L_Ngay -> (Thứ 5) | M99: 5 | N99: =_L_SoSV -> 29 | O99: =_L_SV_P -> 29 | P99: =_L_sophong -> 1 | X99: =SUM(Q99:W99) -> 0 | Y99: =_L_NgayCham -> 42475 | Z99: =_L_NopDiem -> 42481 | AM99: =COUNTIF(F$10:F$243,F99) -> 1 | AN99: =X99-2*P99 -> -2 | AO99: =_L_SV_Pcuoi -> 29 | AP99: =_L_Loc -> CTKS | AQ99: =_L_Loc -> KCT | AR99: =X99-2*P99 -> -2 | AS99: =+N99/O99 -> 1 | AU99: =_L_Loc -> o | AV99: =_L_Loc -> o | AW99: =_L_Loc -> o | AX99: =_L_Loc -> o | AY99: =_L_Loc -> o | AZ99: =_L_Loc -> x | BA99: =_L_Loc -> o | BB99: =_L_Loc -> 0 | ... CF99: =_L_Loc -> 0
A100: =_L_NgayGio -> 42474.75 | B100: =_L_Gio -> 18:00 | C100: DC1CB11-DC | D100: =_L_stt -> 91 | E100: =_L_LocHe -> DC | F100: =_L_MaHP -> DC1CB11 | G100: =_L_Loc -> Toán 1 | H100: =_L_Loc -> 4 | I100: =_L_Loc -> Viết | J100: =_L_Loc -> 90 | K100: 42474 | L100: =_L_Ngay -> (Thứ 5) | M100: 5 | N100: =_L_SoSV -> 86 | O100: =_L_SV_P -> 45 | P100: =_L_sophong -> 2 | X100: =SUM(Q100:W100) -> 0 | Y100: =_L_NgayCham -> 42475 | Z100: =_L_NopDiem -> 42481 | AM100: =COUNTIF(F$10:F$243,F100) -> 1 | AN100: =X100-2*P100 -> -4 | AO100: =_L_SV_Pcuoi -> 41 | AP100: =_L_Loc -> CBTO | AQ100: =_L_Loc -> KHCB | AR100: =X100-2*P100 -> -4 | AS100: =+N100/O100 -> 1.9111111 | AU100: =_L_Loc -> x | AV100: =_L_Loc -> x | AW100: =_L_Loc -> x | AX100: =_L_Loc -> x | AY100: =_L_Loc -> x | AZ100: =_L_Loc -> x | BA100: =_L_Loc -> x | BB100: =_L_Loc -> x | ... CF100: =_L_Loc -> 0
...

Sheet Theo Ngay
C2: PHÂN CÔNG CB COI THI VIẾT THEO TỪNG CA THI
C3: ĐỢT 2 - ĐẠI HỌC, CAO ĐẲNG CHÍNH QUY - HK1 2015-2016
C5: STT | D5: Ngày | E5: Ca | F5: Số phòng | G5: LLCT | H5: KHCB | I5: CSKT | J5: KCT | K5: KCK | L5: KTVT | M5: CNTT | N5: Tổng | S5: Số phòng
A6: =_N_NgayGio -> #N/A | B6: =_N_Gio_ -> 7:00 | C6: 1 | D6: =MIN('LICH THI'!K:K) -> #N/A | E6: 1 | F6: =_N_CongSP_ -> 10 | G6: =_N_CongLLCT -> 0 | H6: =_N_CongKHCB -> 0 | I6: =_N_CongCSKT -> 0 | J6: =_N_CongKCT -> 0 | K6: =_N_CongKCK -> 0 | L6: =_N_CongKTVT -> 0 | M6: =_N_CongCNTT -> 0 | N6: =SUMIF('LICH THI'!$A:$A,'Theo Ngay'!$A6,'LICH THI'!X:X) -> 0 | O6: =IF(D6="","",CHOOSE(WEEKDAY(D6),"(Cnhật)","(Thứ 2)","(Thứ 3)","(Thứ 4)","(Thứ 5)","(Thứ 6)","(Thứ 7)")) -> #N/A | P6: =N6-2*F6 -> -20 | Q6: =SUMIF('LICH THI'!$A:$A,'Theo Ngay'!$A6,'LICH THI'!N:N) -> 268 | S6: 18 | T6: =+S6-F6 -> 8
A7: =_N_NgayGio -> #N/A | B7: =_N_Gio_ -> 9:00 | C7: =_N_stt -> 2 | D7: =D6 -> #N/A | E7: 2 | F7: =_N_CongSP_ -> 10 | G7: =_N_CongLLCT -> 0 | H7: =_N_CongKHCB -> 0 | I7: =_N_CongCSKT -> 0 | J7: =_N_CongKCT -> 0 | K7: =_N_CongKCK -> 0 | L7: =_N_CongKTVT -> 0 | M7: =_N_CongCNTT -> 0 | N7: =SUMIF('LICH THI'!$A:$A,'Theo Ngay'!$A7,'LICH THI'!X:X) -> 0 | P7: =N7-2*F7 -> -20 | Q7: =SUMIF('LICH THI'!$A:$A,'Theo Ngay'!$A7,'LICH THI'!N:N) -> 268 | S7: 21 | T7: =+S7-F7 -> 11
A8: =_N_NgayGio -> #N/A | B8: =_N_Gio_ -> 13:00 | C8: =_N_stt -> 3 | D8: =D7 -> #N/A | E8: 3 | F8: =_N_CongSP_ -> 10 | G8: =_N_CongLLCT -> 0 | H8: =_N_CongKHCB -> 0 | I8: =_N_CongCSKT -> 0 | J8: =_N_CongKCT -> 0 | K8: =_N_CongKCK -> 0 | L8: =_N_CongKTVT -> 0 | M8: =_N_CongCNTT -> 0 | N8: =SUMIF('LICH THI'!$A:$A,'Theo Ngay'!$A8,'LICH THI'!X:X) -> 0 | P8: =N8-2*F8 -> -20 | Q8: =SUMIF('LICH THI'!$A:$A,'Theo Ngay'!$A8,'LICH THI'!N:N) -> 268 | S8: 15 | T8: =+S8-F8 -> 5
A9: =_N_NgayGio -> #N/A | B9: =_N_Gio_ -> 15:00 | C9: =_N_stt -> 4 | D9: =D8 -> #N/A | E9: 4 | F9: =_N_CongSP_ -> 10 | G9: =_N_CongLLCT -> 0 | H9: =_N_CongKHCB -> 0 | I9: =_N_CongCSKT -> 0 | J9: =_N_CongKCT -> 0 | K9: =_N_CongKCK -> 0 | L9: =_N_CongKTVT -> 0 | M9: =_N_CongCNTT -> 0 | N9: =SUMIF('LICH THI'!$A:$A,'Theo Ngay'!$A9,'LICH THI'!X:X) -> 0 | P9: =N9-2*F9 -> -20 | Q9: =SUMIF('LICH THI'!$A:$A,'Theo Ngay'!$A9,'LICH THI'!N:N) -> 268 | S9: 2 | T9: =+S9-F9 -> -8
A10: =_Ngay_Gio_ -> #NAME? | B10: =_N_Gio_ -> 18:00 | C10: =_N_stt -> 5 | D10: =D9 -> #N/A | E10: 5 | F10: =_N_CongSP_ -> 0 | G10: =_N_CongLLCT -> 0 | H10: =_N_CongKHCB -> 0 | I10: =_N_CongCSKT -> 0 | J10: =_N_CongKCT -> 0 | K10: =_N_CongKCK -> 0 | L10: =_N_CongKTVT -> 0 | M10: =_N_CongCNTT -> 0 | N10: =SUMIF('LICH THI'!$A:$A,'Theo Ngay'!$A10,'LICH THI'!X:X) -> 0 | P10: =N10-2*F10 -> 0 | Q10: =SUMIF('LICH THI'!$A:$A,'Theo Ngay'!$A10,'LICH THI'!N:N) -> 0 | S10: 0 | T10: =+S10-F10 -> 0
A11: =_N_NgayGio -> #N/A | B11: =_N_Gio_ -> 7:00 | C11: =_N_stt -> 6 | D11: =+D6+1 -> #N/A | E11: 1 | F11: =_N_CongSP_ -> 10 | G11: =_N_CongLLCT -> 0 | H11: =_N_CongKHCB -> 0 | I11: =_N_CongCSKT -> 0 | J11: =_N_CongKCT -> 0 | K11: =_N_CongKCK -> 0 | L11: =_N_CongKTVT -> 0 | M11: =_N_CongCNTT -> 0 | N11: =SUMIF('LICH THI'!$A:$A,'Theo Ngay'!$A11,'LICH THI'!X:X) -> 0 | O11: =IF(D11="","",CHOOSE(WEEKDAY(D11),"(Cnhật)","(Thứ 2)","(Thứ 3)","(Thứ 4)","(Thứ 5)","(Thứ 6)","(Thứ 7)")) -> #N/A | P11: =N11-2*F11 -> -20 | Q11: =SUMIF('LICH THI'!$A:$A,'Theo Ngay'!$A11,'LICH THI'!N:N) -> 268 | S11: 8 | T11: =+S11-F11 -> -2
A12: =_N_NgayGio -> #N/A | B12: =_N_Gio_ -> 9:00 | C12: =_N_stt -> 7 | D12: =D11 -> #N/A | E12: 2 | F12: =_N_CongSP_ -> 10 | G12: =_N_CongLLCT -> 0 | H12: =_N_CongKHCB -> 0 | I12: =_N_CongCSKT -> 0 | J12: =_N_CongKCT -> 0 | K12: =_N_CongKCK -> 0 | L12: =_N_CongKTVT -> 0 | M12: =_N_CongCNTT -> 0 | N12: =SUMIF('LICH THI'!$A:$A,'Theo Ngay'!$A12,'LICH THI'!X:X) -> 0 | P12: =N12-2*F12 -> -20 | Q12: =SUMIF('LICH THI'!$A:$A,'Theo Ngay'!$A12,'LICH THI'!N:N) -> 268 | S12: 9 | T12: =+S12-F12 -> -1
A13: =_N_NgayGio -> #N/A | B13: =_N_Gio_ -> 13:00 | C13: =_N_stt -> 8 | D13: =D12 -> #N/A | E13: 3 | F13: =_N_CongSP_ -> 10 | G13: =_N_CongLLCT -> 0 | H13: =_N_CongKHCB -> 0 | I13: =_N_CongCSKT -> 0 | J13: =_N_CongKCT -> 0 | K13: =_N_CongKCK -> 0 | L13: =_N_CongKTVT -> 0 | M13: =_N_CongCNTT -> 0 | N13: =SUMIF('LICH THI'!$A:$A,'Theo Ngay'!$A13,'LICH THI'!X:X) -> 0 | P13: =N13-2*F13 -> -20 | Q13: =SUMIF('LICH THI'!$A:$A,'Theo Ngay'!$A13,'LICH THI'!N:N) -> 268 | S13: 5 | T13: =+S13-F13 -> -5
A14: =_N_NgayGio -> #N/A | B14: =_N_Gio_ -> 15:00 | C14: =_N_stt -> 9 | D14: =D13 -> #N/A | E14: 4 | F14: =_N_CongSP_ -> 10 | G14: =_N_CongLLCT -> 0 | H14: =_N_CongKHCB -> 0 | I14: =_N_CongCSKT -> 0 | J14: =_N_CongKCT -> 0 | K14: =_N_CongKCK -> 0 | L14: =_N_CongKTVT -> 0 | M14: =_N_CongCNTT -> 0 | N14: =SUMIF('LICH THI'!$A:$A,'Theo Ngay'!$A14,'LICH THI'!X:X) -> 0 | P14: =N14-2*F14 -> -20 | Q14: =SUMIF('LICH THI'!$A:$A,'Theo Ngay'!$A14,'LICH THI'!N:N) -> 268 | S14: 9 | T14: =+S14-F14 -> -1
A15: =_Ngay_Gio_ -> #NAME? | B15: =_N_Gio_ -> 18:00 | C15: =_N_stt -> 10 | D15: =D14 -> #N/A | E15: 5 | F15: =_N_CongSP_ -> 0 | G15: =_N_CongLLCT -> 0 | H15: =_N_CongKHCB -> 0 | I15: =_N_CongCSKT -> 0 | J15: =_N_CongKCT -> 0 | K15: =_N_CongKCK -> 0 | L15: =_N_CongKTVT -> 0 | M15: =_N_CongCNTT -> 0 | N15: =SUMIF('LICH THI'!$A:$A,'Theo Ngay'!$A15,'LICH THI'!X:X) -> 0 | P15: =N15-2*F15 -> 0 | Q15: =SUMIF('LICH THI'!$A:$A,'Theo Ngay'!$A15,'LICH THI'!N:N) -> 0 | S15: 0 | T15: =+S15-F15 -> 0
A16: =_N_NgayGio -> #N/A | B16: =_N_Gio_ -> 7:00 | C16: =_N_stt -> 11 | D16: =+D11+1 -> #N/A | E16: 1 | F16: =_N_CongSP_ -> 10 | G16: =_N_CongLLCT -> 0 | H16: =_N_CongKHCB -> 0 | I16: =_N_CongCSKT -> 0 | J16: =_N_CongKCT -> 0 | K16: =_N_CongKCK -> 0 | L16: =_N_CongKTVT -> 0 | M16: =_N_CongCNTT -> 0 | N16: =SUMIF('LICH THI'!$A:$A,'Theo Ngay'!$A16,'LICH THI'!X:X) -> 0 | O16: =IF(D16="","",CHOOSE(WEEKDAY(D16),"(Cnhật)","(Thứ 2)","(Thứ 3)","(Thứ 4)","(Thứ 5)","(Thứ 6)","(Thứ 7)")) -> #N/A | P16: =N16-2*F16 -> -20 | Q16: =SUMIF('LICH THI'!$A:$A,'Theo Ngay'!$A16,'LICH THI'!N:N) -> 268 | S16: 0 | T16: =+S16-F16 -> -10
A17: =_N_NgayGio -> #N/A | B17: =_N_Gio_ -> 9:00 | C17: =_N_stt -> 12 | D17: =D16 -> #N/A | E17: 2 | F17: =_N_CongSP_ -> 10 | G17: =_N_CongLLCT -> 0 | H17: =_N_CongKHCB -> 0 | I17: =_N_CongCSKT -> 0 | J17: =_N_CongKCT -> 0 | K17: =_N_CongKCK -> 0 | L17: =_N_CongKTVT -> 0 | M17: =_N_CongCNTT -> 0 | N17: =SUMIF('LICH THI'!$A:$A,'Theo Ngay'!$A17,'LICH THI'!X:X) -> 0 | P17: =N17-2*F17 -> -20 | Q17: =SUMIF('LICH THI'!$A:$A,'Theo Ngay'!$A17,'LICH THI'!N:N) -> 268 | S17: 6 | T17: =+S17-F17 -> -4
A18: =_N_NgayGio -> #N/A | B18: =_N_Gio_ -> 13:00 | C18: =_N_stt -> 13 | D18: =D17 -> #N/A | E18: 3 | F18: =_N_CongSP_ -> 10 | G18: =_N_CongLLCT -> 0 | H18: =_N_CongKHCB -> 0 | I18: =_N_CongCSKT -> 0 | J18: =_N_CongKCT -> 0 | K18: =_N_CongKCK -> 0 | L18: =_N_CongKTVT -> 0 | M18: =_N_CongCNTT -> 0 | N18: =SUMIF('LICH THI'!$A:$A,'Theo Ngay'!$A18,'LICH THI'!X:X) -> 0 | P18: =N18-2*F18 -> -20 | Q18: =SUMIF('LICH THI'!$A:$A,'Theo Ngay'!$A18,'LICH THI'!N:N) -> 268 | S18: 0 | T18: =+S18-F18 -> -10
A19: =_N_NgayGio -> #N/A | B19: =_N_Gio_ -> 15:00 | C19: =_N_stt -> 14 | D19: =D18 -> #N/A | E19: 4 | F19: =_N_CongSP_ -> 10 | G19: =_N_CongLLCT -> 0 | H19: =_N_CongKHCB -> 0 | I19: =_N_CongCSKT -> 0 | J19: =_N_CongKCT -> 0 | K19: =_N_CongKCK -> 0 | L19: =_N_CongKTVT -> 0 | M19: =_N_CongCNTT -> 0 | N19: =SUMIF('LICH THI'!$A:$A,'Theo Ngay'!$A19,'LICH THI'!X:X) -> 0 | P19: =N19-2*F19 -> -20 | Q19: =SUMIF('LICH THI'!$A:$A,'Theo Ngay'!$A19,'LICH THI'!N:N) -> 268 | S19: 0 | T19: =+S19-F19 -> -10
A20: =_Ngay_Gio_ -> #NAME? | B20: =_N_Gio_ -> 18:00 | C20: =_N_stt -> 15 | D20: =D19 -> #N/A | E20: 5 | F20: =_N_CongSP_ -> 0 | G20: =_N_CongLLCT -> 0 | H20: =_N_CongKHCB -> 0 | I20: =_N_CongCSKT -> 0 | J20: =_N_CongKCT -> 0 | K20: =_N_CongKCK -> 0 | L20: =_N_CongKTVT -> 0 | M20: =_N_CongCNTT -> 0 | N20: =SUMIF('LICH THI'!$A:$A,'Theo Ngay'!$A20,'LICH THI'!X:X) -> 0 | P20: =N20-2*F20 -> 0 | Q20: =SUMIF('LICH THI'!$A:$A,'Theo Ngay'!$A20,'LICH THI'!N:N) -> 0 | S20: 0 | T20: =+S20-F20 -> 0
A21: =_N_NgayGio -> #N/A | B21: =_N_Gio_ -> 7:00 | C21: =_N_stt -> 16 | D21: =+D16+1 -> #N/A | E21: 1 | F21: =_N_CongSP_ -> 10 | G21: =_N_CongLLCT -> 0 | H21: =_N_CongKHCB -> 0 | I21: =_N_CongCSKT -> 0 | J21: =_N_CongKCT -> 0 | K21: =_N_CongKCK -> 0 | L21: =_N_CongKTVT -> 0 | M21: =_N_CongCNTT -> 0 | N21: =SUMIF('LICH THI'!$A:$A,'Theo Ngay'!$A21,'LICH THI'!X:X) -> 0 | O21: =IF(D21="","",CHOOSE(WEEKDAY(D21),"(Cnhật)","(Thứ 2)","(Thứ 3)","(Thứ 4)","(Thứ 5)","(Thứ 6)","(Thứ 7)")) -> #N/A | P21: =N21-2*F21 -> -20 | Q21: =SUMIF('LICH THI'!$A:$A,'Theo Ngay'!$A21,'LICH THI'!N:N) -> 268 | S21: 15 | T21: =+S21-F21 -> 5
A22: =_N_NgayGio -> #N/A | B22: =_N_Gio_ -> 9:00 | C22: =_N_stt -> 17 | D22: =D21 -> #N/A | E22: 2 | F22: =_N_CongSP_ -> 10 | G22: =_N_CongLLCT -> 0 | H22: =_N_CongKHCB -> 0 | I22: =_N_CongCSKT -> 0 | J22: =_N_CongKCT -> 0 | K22: =_N_CongKCK -> 0 | L22: =_N_CongKTVT -> 0 | M22: =_N_CongCNTT -> 0 | N22: =SUMIF('LICH THI'!$A:$A,'Theo Ngay'!$A22,'LICH THI'!X:X) -> 0 | P22: =N22-2*F22 -> -20 | Q22: =SUMIF('LICH THI'!$A:$A,'Theo Ngay'!$A22,'LICH THI'!N:N) -> 268 | S22: 21 | T22: =+S22-F22 -> 11
A23: =_N_NgayGio -> #N/A | B23: =_N_Gio_ -> 13:00 | C23: =_N_stt -> 18 | D23: =D22 -> #N/A | E23: 3 | F23: =_N_CongSP_ -> 10 | G23: =_N_CongLLCT -> 0 | H23: =_N_CongKHCB -> 0 | I23: =_N_CongCSKT -> 0 | J23: =_N_CongKCT -> 0 | K23: =_N_CongKCK -> 0 | L23: =_N_CongKTVT -> 0 | M23: =_N_CongCNTT -> 0 | N23: =SUMIF('LICH THI'!$A:$A,'Theo Ngay'!$A23,'LICH THI'!X:X) -> 0 | P23: =N23-2*F23 -> -20 | Q23: =SUMIF('LICH THI'!$A:$A,'Theo Ngay'!$A23,'LICH THI'!N:N) -> 268 | S23: 26 | T23: =+S23-F23 -> 16
A24: =_N_NgayGio -> #N/A | B24: =_N_Gio_ -> 15:00 | C24: =_N_stt -> 19 | D24: =D23 -> #N/A | E24: 4 | F24: =_N_CongSP_ -> 10 | G24: =_N_CongLLCT -> 0 | H24: =_N_CongKHCB -> 0 | I24: =_N_CongCSKT -> 0 | J24: =_N_CongKCT -> 0 | K24: =_N_CongKCK -> 0 | L24: =_N_CongKTVT -> 0 | M24: =_N_CongCNTT -> 0 | N24: =SUMIF('LICH THI'!$A:$A,'Theo Ngay'!$A24,'LICH THI'!X:X) -> 0 | P24: =N24-2*F24 -> -20 | Q24: =SUMIF('LICH THI'!$A:$A,'Theo Ngay'!$A24,'LICH THI'!N:N) -> 268 | S24: 23 | T24: =+S24-F24 -> 13
A25: =_Ngay_Gio_ -> #NAME? | B25: =_N_Gio_ -> 18:00 | C25: =_N_stt -> 20 | D25: =D24 -> #N/A | E25: 5 | F25: =_N_CongSP_ -> 0 | G25: =_N_CongLLCT -> 0 | H25: =_N_CongKHCB -> 0 | I25: =_N_CongCSKT -> 0 | J25: =_N_CongKCT -> 0 | K25: =_N_CongKCK -> 0 | L25: =_N_CongKTVT -> 0 | M25: =_N_CongCNTT -> 0 | N25: =SUMIF('LICH THI'!$A:$A,'Theo Ngay'!$A25,'LICH THI'!X:X) -> 0 | P25: =N25-2*F25 -> 0 | Q25: =SUMIF('LICH THI'!$A:$A,'Theo Ngay'!$A25,'LICH THI'!N:N) -> 0 | S25: 0 | T25: =+S25-F25 -> 0
A26: =_N_NgayGio -> #N/A | B26: =_N_Gio_ -> 7:00 | C26: =_N_stt -> 21 | D26: =+D21+1 -> #N/A | E26: 1 | F26: =_N_CongSP_ -> 10 | G26: =_N_CongLLCT -> 0 | H26: =_N_CongKHCB -> 0 | I26: =_N_CongCSKT -> 0 | J26: =_N_CongKCT -> 0 | K26: =_N_CongKCK -> 0 | L26: =_N_CongKTVT -> 0 | M26: =_N_CongCNTT -> 0 | N26: =SUMIF('LICH THI'!$A:$A,'Theo Ngay'!$A26,'LICH THI'!X:X) -> 0 | O26: =IF(D26="","",CHOOSE(WEEKDAY(D26),"(Cnhật)","(Thứ 2)","(Thứ 3)","(Thứ 4)","(Thứ 5)","(Thứ 6)","(Thứ 7)")) -> #N/A | P26: =N26-2*F26 -> -20 | Q26: =SUMIF('LICH THI'!$A:$A,'Theo Ngay'!$A26,'LICH THI'!N:N) -> 268 | S26: 0 | T26: =+S26-F26 -> -10
A27: =_N_NgayGio -> #N/A | B27: =_N_Gio_ -> 9:00 | C27: =_N_stt -> 22 | D27: =D26 -> #N/A | E27: 2 | F27: =_N_CongSP_ -> 10 | G27: =_N_CongLLCT -> 0 | H27: =_N_CongKHCB -> 0 | I27: =_N_CongCSKT -> 0 | J27: =_N_CongKCT -> 0 | K27: =_N_CongKCK -> 0 | L27: =_N_CongKTVT -> 0 | M27: =_N_CongCNTT -> 0 | N27: =SUMIF('LICH THI'!$A:$A,'Theo Ngay'!$A27,'LICH THI'!X:X) -> 0 | P27: =N27-2*F27 -> -20 | Q27: =SUMIF('LICH THI'!$A:$A,'Theo Ngay'!$A27,'LICH THI'!N:N) -> 268 | S27: 0 | T27: =+S27-F27 -> -10
A28: =_N_NgayGio -> #N/A | B28: =_N_Gio_ -> 13:00 | C28: =_N_stt -> 23 | D28: =D27 -> #N/A | E28: 3 | F28: =_N_CongSP_ -> 10 | G28: =_N_CongLLCT -> 0 | H28: =_N_CongKHCB -> 0 | I28: =_N_CongCSKT -> 0 | J28: =_N_CongKCT -> 0 | K28: =_N_CongKCK -> 0 | L28: =_N_CongKTVT -> 0 | M28: =_N_CongCNTT -> 0 | N28: =SUMIF('LICH THI'!$A:$A,'Theo Ngay'!$A28,'LICH THI'!X:X) -> 0 | P28: =N28-2*F28 -> -20 | Q28: =SUMIF('LICH THI'!$A:$A,'Theo Ngay'!$A28,'LICH THI'!N:N) -> 268 | S28: 0 | T28: =+S28-F28 -> -10
A29: =_N_NgayGio -> #N/A | B29: =_N_Gio_ -> 15:00 | C29: =_N_stt -> 24 | D29: =D28 -> #N/A | E29: 4 | F29: =_N_CongSP_ -> 10 | G29: =_N_CongLLCT -> 0 | H29: =_N_CongKHCB -> 0 | I29: =_N_CongCSKT -> 0 | J29: =_N_CongKCT -> 0 | K29: =_N_CongKCK -> 0 | L29: =_N_CongKTVT -> 0 | M29: =_N_CongCNTT -> 0 | N29: =SUMIF('LICH THI'!$A:$A,'Theo Ngay'!$A29,'LICH THI'!X:X) -> 0 | P29: =N29-2*F29 -> -20 | Q29: =SUMIF('LICH THI'!$A:$A,'Theo Ngay'!$A29,'LICH THI'!N:N) -> 268 | S29: 0 | T29: =+S29-F29 -> -10
A30: =_Ngay_Gio_ -> #NAME? | B30: =_N_Gio_ -> 18:00 | C30: =_N_stt -> 25 | D30: =D29 -> #N/A | E30: 5 | F30: =_N_CongSP_ -> 0 | G30: =_N_CongLLCT -> 0 | H30: =_N_CongKHCB -> 0 | I30: =_N_CongCSKT -> 0 | J30: =_N_CongKCT -> 0 | K30: =_N_CongKCK -> 0 | L30: =_N_CongKTVT -> 0 | M30: =_N_CongCNTT -> 0 | N30: =SUMIF('LICH THI'!$A:$A,'Theo Ngay'!$A30,'LICH THI'!X:X) -> 0 | P30: =N30-2*F30 -> 0 | Q30: =SUMIF('LICH THI'!$A:$A,'Theo Ngay'!$A30,'LICH THI'!N:N) -> 0 | S30: 0 | T30: =+S30-F30 -> 0
A31: =_N_NgayGio -> #N/A | B31: =_N_Gio_ -> 7:00 | C31: =_N_stt -> 26 | D31: =+D26+1 -> #N/A | E31: 1 | F31: =_N_CongSP_ -> 10 | G31: =_N_CongLLCT -> 0 | H31: =_N_CongKHCB -> 0 | I31: =_N_CongCSKT -> 0 | J31: =_N_CongKCT -> 0 | K31: =_N_CongKCK -> 0 | L31: =_N_CongKTVT -> 0 | M31: =_N_CongCNTT -> 0 | N31: =SUMIF('LICH THI'!$A:$A,'Theo Ngay'!$A31,'LICH THI'!X:X) -> 0 | O31: =IF(D31="","",CHOOSE(WEEKDAY(D31),"(Cnhật)","(Thứ 2)","(Thứ 3)","(Thứ 4)","(Thứ 5)","(Thứ 6)","(Thứ 7)")) -> #N/A | P31: =N31-2*F31 -> -20 | Q31: =SUMIF('LICH THI'!$A:$A,'Theo Ngay'!$A31,'LICH THI'!N:N) -> 268 | S31: 0 | T31: =+S31-F31 -> -10
A32: =_N_NgayGio -> #N/A | B32: =_N_Gio_ -> 9:00 | C32: =_N_stt -> 27 | D32: =D31 -> #N/A | E32: 2 | F32: =_N_CongSP_ -> 10 | G32: =_N_CongLLCT -> 0 | H32: =_N_CongKHCB -> 0 | I32: =_N_CongCSKT -> 0 | J32: =_N_CongKCT -> 0 | K32: =_N_CongKCK -> 0 | L32: =_N_CongKTVT -> 0 | M32: =_N_CongCNTT -> 0 | N32: =SUMIF('LICH THI'!$A:$A,'Theo Ngay'!$A32,'LICH THI'!X:X) -> 0 | P32: =N32-2*F32 -> -20 | Q32: =SUMIF('LICH THI'!$A:$A,'Theo Ngay'!$A32,'LICH THI'!N:N) -> 268 | S32: 0 | T32: =+S32-F32 -> -10
A33: =_N_NgayGio -> #N/A | B33: =_N_Gio_ -> 13:00 | C33: =_N_stt -> 28 | D33: =D32 -> #N/A | E33: 3 | F33: =_N_CongSP_ -> 10 | G33: =_N_CongLLCT -> 0 | H33: =_N_CongKHCB -> 0 | I33: =_N_CongCSKT -> 0 | J33: =_N_CongKCT -> 0 | K33: =_N_CongKCK -> 0 | L33: =_N_CongKTVT -> 0 | M33: =_N_CongCNTT -> 0 | N33: =SUMIF('LICH THI'!$A:$A,'Theo Ngay'!$A33,'LICH THI'!X:X) -> 0 | P33: =N33-2*F33 -> -20 | Q33: =SUMIF('LICH THI'!$A:$A,'Theo Ngay'!$A33,'LICH THI'!N:N) -> 268 | S33: 0 | T33: =+S33-F33 -> -10
A34: =_N_NgayGio -> #N/A | B34: =_N_Gio_ -> 15:00 | C34: =_N_stt -> 29 | D34: =D33 -> #N/A | E34: 4 | F34: =_N_CongSP_ -> 10 | G34: =_N_CongLLCT -> 0 | H34: =_N_CongKHCB -> 0 | I34: =_N_CongCSKT -> 0 | J34: =_N_CongKCT -> 0 | K34: =_N_CongKCK -> 0 | L34: =_N_CongKTVT -> 0 | M34: =_N_CongCNTT -> 0 | N34: =SUMIF('LICH THI'!$A:$A,'Theo Ngay'!$A34,'LICH THI'!X:X) -> 0 | P34: =N34-2*F34 -> -20 | Q34: =SUMIF('LICH THI'!$A:$A,'Theo Ngay'!$A34,'LICH THI'!N:N) -> 268 | S34: 0 | T34: =+S34-F34 -> -10
A35: =_Ngay_Gio_ -> #NAME? | B35: =_N_Gio_ -> 18:00 | C35: =_N_stt -> 30 | D35: =D34 -> #N/A | E35: 5 | F35: =_N_CongSP_ -> 0 | G35: =_N_CongLLCT -> 0 | H35: =_N_CongKHCB -> 0 | I35: =_N_CongCSKT -> 0 | J35: =_N_CongKCT -> 0 | K35: =_N_CongKCK -> 0 | L35: =_N_CongKTVT -> 0 | M35: =_N_CongCNTT -> 0 | N35: =SUMIF('LICH THI'!$A:$A,'Theo Ngay'!$A35,'LICH THI'!X:X) -> 0 | P35: =N35-2*F35 -> 0 | Q35: =SUMIF('LICH THI'!$A:$A,'Theo Ngay'!$A35,'LICH THI'!N:N) -> 0 | S35: 0 | T35: =+S35-F35 -> 0
A36: =_N_NgayGio -> #N/A | B36: =_N_Gio_ -> 7:00 | C36: =_N_stt -> 31 | D36: =+D31+1 -> #N/A | E36: 1 | F36: =_N_CongSP_ -> 10 | G36: =_N_CongLLCT -> 0 | H36: =_N_CongKHCB -> 0 | I36: =_N_CongCSKT -> 0 | J36: =_N_CongKCT -> 0 | K36: =_N_CongKCK -> 0 | L36: =_N_CongKTVT -> 0 | M36: =_N_CongCNTT -> 0 | N36: =SUMIF('LICH THI'!$A:$A,'Theo Ngay'!$A36,'LICH THI'!X:X) -> 0 | O36: =IF(D36="","",CHOOSE(WEEKDAY(D36),"(Cnhật)","(Thứ 2)","(Thứ 3)","(Thứ 4)","(Thứ 5)","(Thứ 6)","(Thứ 7)")) -> #N/A | P36: =N36-2*F36 -> -20 | Q36: =SUMIF('LICH THI'!$A:$A,'Theo Ngay'!$A36,'LICH THI'!N:N) -> 268 | S36: 15 | T36: =+S36-F36 -> 5
A37: =_N_NgayGio -> #N/A | B37: =_N_Gio_ -> 9:00 | C37: =_N_stt -> 32 | D37: =D36 -> #N/A | E37: 2 | F37: =_N_CongSP_ -> 10 | G37: =_N_CongLLCT -> 0 | H37: =_N_CongKHCB -> 0 | I37: =_N_CongCSKT -> 0 | J37: =_N_CongKCT -> 0 | K37: =_N_CongKCK -> 0 | L37: =_N_CongKTVT -> 0 | M37: =_N_CongCNTT -> 0 | N37: =SUMIF('LICH THI'!$A:$A,'Theo Ngay'!$A37,'LICH THI'!X:X) -> 0 | P37: =N37-2*F37 -> -20 | Q37: =SUMIF('LICH THI'!$A:$A,'Theo Ngay'!$A37,'LICH THI'!N:N) -> 268 | S37: 15 | T37: =+S37-F37 -> 5
A38: =_N_NgayGio -> #N/A | B38: =_N_Gio_ -> 13:00 | C38: =_N_stt -> 33 | D38: =D37 -> #N/A | E38: 3 | F38: =_N_CongSP_ -> 10 | G38: =_N_CongLLCT -> 0 | H38: =_N_CongKHCB -> 0 | I38: =_N_CongCSKT -> 0 | J38: =_N_CongKCT -> 0 | K38: =_N_CongKCK -> 0 | L38: =_N_CongKTVT -> 0 | M38: =_N_CongCNTT -> 0 | N38: =SUMIF('LICH THI'!$A:$A,'Theo Ngay'!$A38,'LICH THI'!X:X) -> 0 | P38: =N38-2*F38 -> -20 | Q38: =SUMIF('LICH THI'!$A:$A,'Theo Ngay'!$A38,'LICH THI'!N:N) -> 268 | S38: 17 | T38: =+S38-F38 -> 7
A39: =_N_NgayGio -> #N/A | B39: =_N_Gio_ -> 15:00 | C39: =_N_stt -> 34 | D39: =D38 -> #N/A | E39: 4 | F39: =_N_CongSP_ -> 10 | G39: =_N_CongLLCT -> 0 | H39: =_N_CongKHCB -> 0 | I39: =_N_CongCSKT -> 0 | J39: =_N_CongKCT -> 0 | K39: =_N_CongKCK -> 0 | L39: =_N_CongKTVT -> 0 | M39: =_N_CongCNTT -> 0 | N39: =SUMIF('LICH THI'!$A:$A,'Theo Ngay'!$A39,'LICH THI'!X:X) -> 0 | P39: =N39-2*F39 -> -20 | Q39: =SUMIF('LICH THI'!$A:$A,'Theo Ngay'!$A39,'LICH THI'!N:N) -> 268 | S39: 16 | T39: =+S39-F39 -> 6
A40: =_Ngay_Gio_ -> #NAME? | B40: =_N_Gio_ -> 18:00 | C40: =_N_stt -> 35 | D40: =D39 -> #N/A | E40: 5 | F40: =_N_CongSP_ -> 0 | G40: =_N_CongLLCT -> 0 | H40: =_N_CongKHCB -> 0 | I40: =_N_CongCSKT -> 0 | J40: =_N_CongKCT -> 0 | K40: =_N_CongKCK -> 0 | L40: =_N_CongKTVT -> 0 | M40: =_N_CongCNTT -> 0 | N40: =SUMIF('LICH THI'!$A:$A,'Theo Ngay'!$A40,'LICH THI'!X:X) -> 0 | P40: =N40-2*F40 -> 0 | Q40: =SUMIF('LICH THI'!$A:$A,'Theo Ngay'!$A40,'LICH THI'!N:N) -> 0 | S40: 0 | T40: =+S40-F40 -> 0
A41: =_N_NgayGio -> #N/A | B41: =_N_Gio_ -> 7:00 | C41: =_N_stt -> 36 | D41: =+D36+1 -> #N/A | E41: 1 | F41: =_N_CongSP_ -> 10 | G41: =_N_CongLLCT -> 0 | H41: =_N_CongKHCB -> 0 | I41: =_N_CongCSKT -> 0 | J41: =_N_CongKCT -> 0 | K41: =_N_CongKCK -> 0 | L41: =_N_CongKTVT -> 0 | M41: =_N_CongCNTT -> 0 | N41: =SUMIF('LICH THI'!$A:$A,'Theo Ngay'!$A41,'LICH THI'!X:X) -> 0 | O41: =IF(D41="","",CHOOSE(WEEKDAY(D41),"(Cnhật)","(Thứ 2)","(Thứ 3)","(Thứ 4)","(Thứ 5)","(Thứ 6)","(Thứ 7)")) -> #N/A | P41: =N41-2*F41 -> -20 | Q41: =SUMIF('LICH THI'!$A:$A,'Theo Ngay'!$A41,'LICH THI'!N:N) -> 268 | S41: 7 | T41: =+S41-F41 -> -3
A42: =_N_NgayGio -> #N/A | B42: =_N_Gio_ -> 9:00 | C42: =_N_stt -> 37 | D42: =D41 -> #N/A | E42: 2 | F42: =_N_CongSP_ -> 10 | G42: =_N_CongLLCT -> 0 | H42: =_N_CongKHCB -> 0 | I42: =_N_CongCSKT -> 0 | J42: =_N_CongKCT -> 0 | K42: =_N_CongKCK -> 0 | L42: =_N_CongKTVT -> 0 | M42: =_N_CongCNTT -> 0 | N42: =SUMIF('LICH THI'!$A:$A,'Theo Ngay'!$A42,'LICH THI'!X:X) -> 0 | P42: =N42-2*F42 -> -20 | Q42: =SUMIF('LICH THI'!$A:$A,'Theo Ngay'!$A42,'LICH THI'!N:N) -> 268 | S42: 7 | T42: =+S42-F42 -> -3
A43: =_N_NgayGio -> #N/A | B43: =_N_Gio_ -> 13:00 | C43: =_N_stt -> 38 | D43: =D42 -> #N/A | E43: 3 | F43: =_N_CongSP_ -> 10 | G43: =_N_CongLLCT -> 0 | H43: =_N_CongKHCB -> 0 | I43: =_N_CongCSKT -> 0 | J43: =_N_CongKCT -> 0 | K43: =_N_CongKCK -> 0 | L43: =_N_CongKTVT -> 0 | M43: =_N_CongCNTT -> 0 | N43: =SUMIF('LICH THI'!$A:$A,'Theo Ngay'!$A43,'LICH THI'!X:X) -> 0 | P43: =N43-2*F43 -> -20 | Q43: =SUMIF('LICH THI'!$A:$A,'Theo Ngay'!$A43,'LICH THI'!N:N) -> 268 | S43: 17 | T43: =+S43-F43 -> 7
A44: =_N_NgayGio -> #N/A | B44: =_N_Gio_ -> 15:00 | C44: =_N_stt -> 39 | D44: =D43 -> #N/A | E44: 4 | F44: =_N_CongSP_ -> 10 | G44: =_N_CongLLCT -> 0 | H44: =_N_CongKHCB -> 0 | I44: =_N_CongCSKT -> 0 | J44: =_N_CongKCT -> 0 | K44: =_N_CongKCK -> 0 | L44: =_N_CongKTVT -> 0 | M44: =_N_CongCNTT -> 0 | N44: =SUMIF('LICH THI'!$A:$A,'Theo Ngay'!$A44,'LICH THI'!X:X) -> 0 | P44: =N44-2*F44 -> -20 | Q44: =SUMIF('LICH THI'!$A:$A,'Theo Ngay'!$A44,'LICH THI'!N:N) -> 268 | S44: 15 | T44: =+S44-F44 -> 5
A45: =_Ngay_Gio_ -> #NAME? | B45: =_N_Gio_ -> 18:00 | C45: =_N_stt -> 40 | D45: =D44 -> #N/A | E45: 5 | F45: =_N_CongSP_ -> 0 | G45: =_N_CongLLCT -> 0 | H45: =_N_CongKHCB -> 0 | I45: =_N_CongCSKT -> 0 | J45: =_N_CongKCT -> 0 | K45: =_N_CongKCK -> 0 | L45: =_N_CongKTVT -> 0 | M45: =_N_CongCNTT -> 0 | N45: =SUMIF('LICH THI'!$A:$A,'Theo Ngay'!$A45,'LICH THI'!X:X) -> 0 | P45: =N45-2*F45 -> 0 | Q45: =SUMIF('LICH THI'!$A:$A,'Theo Ngay'!$A45,'LICH THI'!N:N) -> 0 | S45: 0 | T45: =+S45-F45 -> 0
A46: =_N_NgayGio -> #N/A | B46: =_N_Gio_ -> 7:00 | C46: =_N_stt -> 41 | D46: =+D41+1 -> #N/A | E46: 1 | F46: =_N_CongSP_ -> 10 | G46: =_N_CongLLCT -> 0 | H46: =_N_CongKHCB -> 0 | I46: =_N_CongCSKT -> 0 | J46: =_N_CongKCT -> 0 | K46: =_N_CongKCK -> 0 | L46: =_N_CongKTVT -> 0 | M46: =_N_CongCNTT -> 0 | N46: =SUMIF('LICH THI'!$A:$A,'Theo Ngay'!$A46,'LICH THI'!X:X) -> 0 | O46: =IF(D46="","",CHOOSE(WEEKDAY(D46),"(Cnhật)","(Thứ 2)","(Thứ 3)","(Thứ 4)","(Thứ 5)","(Thứ 6)","(Thứ 7)")) -> #N/A | P46: =N46-2*F46 -> -20 | Q46: =SUMIF('LICH THI'!$A:$A,'Theo Ngay'!$A46,'LICH THI'!N:N) -> 268 | S46: 4 | T46: =+S46-F46 -> -6
A47: =_N_NgayGio -> #N/A | B47: =_N_Gio_ -> 9:00 | C47: =_N_stt -> 42 | D47: =D46 -> #N/A | E47: 2 | F47: =_N_CongSP_ -> 10 | G47: =_N_CongLLCT -> 0 | H47: =_N_CongKHCB -> 0 | I47: =_N_CongCSKT -> 0 | J47: =_N_CongKCT -> 0 | K47: =_N_CongKCK -> 0 | L47: =_N_CongKTVT -> 0 | M47: =_N_CongCNTT -> 0 | N47: =SUMIF('LICH THI'!$A:$A,'Theo Ngay'!$A47,'LICH THI'!X:X) -> 0 | P47: =N47-2*F47 -> -20 | Q47: =SUMIF('LICH THI'!$A:$A,'Theo Ngay'!$A47,'LICH THI'!N:N) -> 268 | S47: 7 | T47: =+S47-F47 -> -3
A48: =_N_NgayGio -> #N/A | B48: =_N_Gio_ -> 13:00 | C48: =_N_stt -> 43 | D48: =D47 -> #N/A | E48: 3 | F48: =_N_CongSP_ -> 10 | G48: =_N_CongLLCT -> 0 | H48: =_N_CongKHCB -> 0 | I48: =_N_CongCSKT -> 0 | J48: =_N_CongKCT -> 0 | K48: =_N_CongKCK -> 0 | L48: =_N_CongKTVT -> 0 | M48: =_N_CongCNTT -> 0 | N48: =SUMIF('LICH THI'!$A:$A,'Theo Ngay'!$A48,'LICH THI'!X:X) -> 0 | P48: =N48-2*F48 -> -20 | Q48: =SUMIF('LICH THI'!$A:$A,'Theo Ngay'!$A48,'LICH THI'!N:N) -> 268 | S48: 10 | T48: =+S48-F48 -> 0
A49: =_N_NgayGio -> #N/A | B49: =_N_Gio_ -> 15:00 | C49: =_N_stt -> 44 | D49: =D48 -> #N/A | E49: 4 | F49: =_N_CongSP_ -> 10 | G49: =_N_CongLLCT -> 0 | H49: =_N_CongKHCB -> 0 | I49: =_N_CongCSKT -> 0 | J49: =_N_CongKCT -> 0 | K49: =_N_CongKCK -> 0 | L49: =_N_CongKTVT -> 0 | M49: =_N_CongCNTT -> 0 | N49: =SUMIF('LICH THI'!$A:$A,'Theo Ngay'!$A49,'LICH THI'!X:X) -> 0 | P49: =N49-2*F49 -> -20 | Q49: =SUMIF('LICH THI'!$A:$A,'Theo Ngay'!$A49,'LICH THI'!N:N) -> 268 | S49: 0 | T49: =+S49-F49 -> -10
A50: =_Ngay_Gio_ -> #NAME? | B50: =_N_Gio_ -> 18:00 | C50: =_N_stt -> 45 | D50: =D49 -> #N/A | E50: 5 | F50: =_N_CongSP_ -> 0 | G50: =_N_CongLLCT -> 0 | H50: =_N_CongKHCB -> 0 | I50: =_N_CongCSKT -> 0 | J50: =_N_CongKCT -> 0 | K50: =_N_CongKCK -> 0 | L50: =_N_CongKTVT -> 0 | M50: =_N_CongCNTT -> 0 | N50: =SUMIF('LICH THI'!$A:$A,'Theo Ngay'!$A50,'LICH THI'!X:X) -> 0 | P50: =N50-2*F50 -> 0 | Q50: =SUMIF('LICH THI'!$A:$A,'Theo Ngay'!$A50,'LICH THI'!N:N) -> 0 | S50: 0 | T50: =+S50-F50 -> 0
A51: =_N_NgayGio -> #N/A | B51: =_N_Gio_ -> 7:00 | C51: =_N_stt -> 46 | D51: =+D46+1 -> #N/A | E51: 1 | F51: =_N_CongSP_ -> 10 | G51: =_N_CongLLCT -> 0 | H51: =_N_CongKHCB -> 0 | I51: =_N_CongCSKT -> 0 | J51: =_N_CongKCT -> 0 | K51: =_N_CongKCK -> 0 | L51: =_N_CongKTVT -> 0 | M51: =_N_CongCNTT -> 0 | N51: =SUMIF('LICH THI'!$A:$A,'Theo Ngay'!$A51,'LICH THI'!X:X) -> 0 | O51: =IF(D51="","",CHOOSE(WEEKDAY(D51),"(Cnhật)","(Thứ 2)","(Thứ 3)","(Thứ 4)","(Thứ 5)","(Thứ 6)","(Thứ 7)")) -> #N/A | P51: =N51-2*F51 -> -20 | Q51: =SUMIF('LICH THI'!$A:$A,'Theo Ngay'!$A51,'LICH THI'!N:N) -> 268 | S51: 13 | T51: =+S51-F51 -> 3
A52: =_N_NgayGio -> #N/A | B52: =_N_Gio_ -> 9:00 | C52: =_N_stt -> 47 | D52: =D51 -> #N/A | E52: 2 | F52: =_N_CongSP_ -> 10 | G52: =_N_CongLLCT -> 0 | H52: =_N_CongKHCB -> 0 | I52: =_N_CongCSKT -> 0 | J52: =_N_CongKCT -> 0 | K52: =_N_CongKCK -> 0 | L52: =_N_CongKTVT -> 0 | M52: =_N_CongCNTT -> 0 | N52: =SUMIF('LICH THI'!$A:$A,'Theo Ngay'!$A52,'LICH THI'!X:X) -> 0 | P52: =N52-2*F52 -> -20 | Q52: =SUMIF('LICH THI'!$A:$A,'Theo Ngay'!$A52,'LICH THI'!N:N) -> 268 | S52: 8 | T52: =+S52-F52 -> -2
A53: =_N_NgayGio -> #N/A | B53: =_N_Gio_ -> 13:00 | C53: =_N_stt -> 48 | D53: =D52 -> #N/A | E53: 3 | F53: =_N_CongSP_ -> 10 | G53: =_N_CongLLCT -> 0 | H53: =_N_CongKHCB -> 0 | I53: =_N_CongCSKT -> 0 | J53: =_N_CongKCT -> 0 | K53: =_N_CongKCK -> 0 | L53: =_N_CongKTVT -> 0 | M53: =_N_CongCNTT -> 0 | N53: =SUMIF('LICH THI'!$A:$A,'Theo Ngay'!$A53,'LICH THI'!X:X) -> 0 | P53: =N53-2*F53 -> -20 | Q53: =SUMIF('LICH THI'!$A:$A,'Theo Ngay'!$A53,'LICH THI'!N:N) -> 268 | S53: 6 | T53: =+S53-F53 -> -4
A54: =_N_NgayGio -> #N/A | B54: =_N_Gio_ -> 15:00 | C54: =_N_stt -> 49 | D54: =D53 -> #N/A | E54: 4 | F54: =_N_CongSP_ -> 10 | G54: =_N_CongLLCT -> 0 | H54: =_N_CongKHCB -> 0 | I54: =_N_CongCSKT -> 0 | J54: =_N_CongKCT -> 0 | K54: =_N_CongKCK -> 0 | L54: =_N_CongKTVT -> 0 | M54: =_N_CongCNTT -> 0 | N54: =SUMIF('LICH THI'!$A:$A,'Theo Ngay'!$A54,'LICH THI'!X:X) -> 0 | P54: =N54-2*F54 -> -20 | Q54: =SUMIF('LICH THI'!$A:$A,'Theo Ngay'!$A54,'LICH THI'!N:N) -> 268 | S54: 4 | T54: =+S54-F54 -> -6
A55: =_Ngay_Gio_ -> #NAME? | B55: =_N_Gio_ -> 18:00 | C55: =_N_stt -> 50 | D55: =D54 -> #N/A | E55: 5 | F55: =_N_CongSP_ -> 0 | G55: =_N_CongLLCT -> 0 | H55: =_N_CongKHCB -> 0 | I55: =_N_CongCSKT -> 0 | J55: =_N_CongKCT -> 0 | K55: =_N_CongKCK -> 0 | L55: =_N_CongKTVT -> 0 | M55: =_N_CongCNTT -> 0 | N55: =SUMIF('LICH THI'!$A:$A,'Theo Ngay'!$A55,'LICH THI'!X:X) -> 0 | P55: =N55-2*F55 -> 0 | Q55: =SUMIF('LICH THI'!$A:$A,'Theo Ngay'!$A55,'LICH THI'!N:N) -> 0 | S55: 0 | T55: =+S55-F55 -> 0
A56: =_N_NgayGio -> #N/A | B56: =_N_Gio_ -> 7:00 | C56: =_N_stt -> 51 | D56: =+D51+1 -> #N/A | E56: 1 | F56: =_N_CongSP_ -> 10 | G56: =_N_CongLLCT -> 0 | H56: =_N_CongKHCB -> 0 | I56: =_N_CongCSKT -> 0 | J56: =_N_CongKCT -> 0 | K56: =_N_CongKCK -> 0 | L56: =_N_CongKTVT -> 0 | M56: =_N_CongCNTT -> 0 | N56: =SUMIF('LICH THI'!$A:$A,'Theo Ngay'!$A56,'LICH THI'!X:X) -> 0 | O56: =IF(D56="","",CHOOSE(WEEKDAY(D56),"(Cnhật)","(Thứ 2)","(Thứ 3)","(Thứ 4)","(Thứ 5)","(Thứ 6)","(Thứ 7)")) -> #N/A | P56: =N56-2*F56 -> -20 | Q56: =SUMIF('LICH THI'!$A:$A,'Theo Ngay'!$A56,'LICH THI'!N:N) -> 268 | S56: 13 | T56: =+S56-F56 -> 3
A57: =_N_NgayGio -> #N/A | B57: =_N_Gio_ -> 9:00 | C57: =_N_stt -> 52 | D57: =D56 -> #N/A | E57: 2 | F57: =_N_CongSP_ -> 10 | G57: =_N_CongLLCT -> 0 | H57: =_N_CongKHCB -> 0 | I57: =_N_CongCSKT -> 0 | J57: =_N_CongKCT -> 0 | K57: =_N_CongKCK -> 0 | L57: =_N_CongKTVT -> 0 | M57: =_N_CongCNTT -> 0 | N57: =SUMIF('LICH THI'!$A:$A,'Theo Ngay'!$A57,'LICH THI'!X:X) -> 0 | P57: =N57-2*F57 -> -20 | Q57: =SUMIF('LICH THI'!$A:$A,'Theo Ngay'!$A57,'LICH THI'!N:N) -> 268 | S57: 18 | T57: =+S57-F57 -> 8
A58: =_N_NgayGio -> #N/A | B58: =_N_Gio_ -> 13:00 | C58: =_N_stt -> 53 | D58: =D57 -> #N/A | E58: 3 | F58: =_N_CongSP_ -> 10 | G58: =_N_CongLLCT -> 0 | H58: =_N_CongKHCB -> 0 | I58: =_N_CongCSKT -> 0 | J58: =_N_CongKCT -> 0 | K58: =_N_CongKCK -> 0 | L58: =_N_CongKTVT -> 0 | M58: =_N_CongCNTT -> 0 | N58: =SUMIF('LICH THI'!$A:$A,'Theo Ngay'!$A58,'LICH THI'!X:X) -> 0 | P58: =N58-2*F58 -> -20 | Q58: =SUMIF('LICH THI'!$A:$A,'Theo Ngay'!$A58,'LICH THI'!N:N) -> 268 | S58: 22 | T58: =+S58-F58 -> 12
A59: =_N_NgayGio -> #N/A | B59: =_N_Gio_ -> 15:00 | C59: =_N_stt -> 54 | D59: =D58 -> #N/A | E59: 4 | F59: =_N_CongSP_ -> 10 | G59: =_N_CongLLCT -> 0 | H59: =_N_CongKHCB -> 0 | I59: =_N_CongCSKT -> 0 | J59: =_N_CongKCT -> 0 | K59: =_N_CongKCK -> 0 | L59: =_N_CongKTVT -> 0 | M59: =_N_CongCNTT -> 0 | N59: =SUMIF('LICH THI'!$A:$A,'Theo Ngay'!$A59,'LICH THI'!X:X) -> 0 | P59: =N59-2*F59 -> -20 | Q59: =SUMIF('LICH THI'!$A:$A,'Theo Ngay'!$A59,'LICH THI'!N:N) -> 268 | S59: 18 | T59: =+S59-F59 -> 8
A60: =_Ngay_Gio_ -> #NAME? | B60: =_N_Gio_ -> 18:00 | C60: =_N_stt -> 55 | D60: =D59 -> #N/A | E60: 5 | F60: =_N_CongSP_ -> 0 | G60: =_N_CongLLCT -> 0 | H60: =_N_CongKHCB -> 0 | I60: =_N_CongCSKT -> 0 | J60: =_N_CongKCT -> 0 | K60: =_N_CongKCK -> 0 | L60: =_N_CongKTVT -> 0 | M60: =_N_CongCNTT -> 0 | N60: =SUMIF('LICH THI'!$A:$A,'Theo Ngay'!$A60,'LICH THI'!X:X) -> 0 | P60: =N60-2*F60 -> 0 | Q60: =SUMIF('LICH THI'!$A:$A,'Theo Ngay'!$A60,'LICH THI'!N:N) -> 0 | S60: 0 | T60: =+S60-F60 -> 0
A61: =_N_NgayGio -> #N/A | B61: =_N_Gio_ -> 7:00 | C61: =_N_stt -> 56 | D61: =+D56+1 -> #N/A | E61: 1 | F61: =_N_CongSP_ -> 10 | G61: =_N_CongLLCT -> 0 | H61: =_N_CongKHCB -> 0 | I61: =_N_CongCSKT -> 0 | J61: =_N_CongKCT -> 0 | K61: =_N_CongKCK -> 0 | L61: =_N_CongKTVT -> 0 | M61: =_N_CongCNTT -> 0 | N61: =SUMIF('LICH THI'!$A:$A,'Theo Ngay'!$A61,'LICH THI'!X:X) -> 0 | O61: =IF(D61="","",CHOOSE(WEEKDAY(D61),"(Cnhật)","(Thứ 2)","(Thứ 3)","(Thứ 4)","(Thứ 5)","(Thứ 6)","(Thứ 7)")) -> #N/A | P61: =N61-2*F61 -> -20 | Q61: =SUMIF('LICH THI'!$A:$A,'Theo Ngay'!$A61,'LICH THI'!N:N) -> 268 | S61: 0 | T61: =+S61-F61 -> -10
A62: =_N_NgayGio -> #N/A | B62: =_N_Gio_ -> 9:00 | C62: =_N_stt -> 57 | D62: =D61 -> #N/A | E62: 2 | F62: =_N_CongSP_ -> 10 | G62: =_N_CongLLCT -> 0 | H62: =_N_CongKHCB -> 0 | I62: =_N_CongCSKT -> 0 | J62: =_N_CongKCT -> 0 | K62: =_N_CongKCK -> 0 | L62: =_N_CongKTVT -> 0 | M62: =_N_CongCNTT -> 0 | N62: =SUMIF('LICH THI'!$A:$A,'Theo Ngay'!$A62,'LICH THI'!X:X) -> 0 | P62: =N62-2*F62 -> -20 | Q62: =SUMIF('LICH THI'!$A:$A,'Theo Ngay'!$A62,'LICH THI'!N:N) -> 268 | S62: 0 | T62: =+S62-F62 -> -10
A63: =_N_NgayGio -> #N/A | B63: =_N_Gio_ -> 13:00 | C63: =_N_stt -> 58 | D63: =D62 -> #N/A | E63: 3 | F63: =_N_CongSP_ -> 10 | G63: =_N_CongLLCT -> 0 | H63: =_N_CongKHCB -> 0 | I63: =_N_CongCSKT -> 0 | J63: =_N_CongKCT -> 0 | K63: =_N_CongKCK -> 0 | L63: =_N_CongKTVT -> 0 | M63: =_N_CongCNTT -> 0 | N63: =SUMIF('LICH THI'!$A:$A,'Theo Ngay'!$A63,'LICH THI'!X:X) -> 0 | P63: =N63-2*F63 -> -20 | Q63: =SUMIF('LICH THI'!$A:$A,'Theo Ngay'!$A63,'LICH THI'!N:N) -> 268 | S63: 0 | T63: =+S63-F63 -> -10
A64: =_N_NgayGio -> #N/A | B64: =_N_Gio_ -> 15:00 | C64: =_N_stt -> 59 | D64: =D63 -> #N/A | E64: 4 | F64: =_N_CongSP_ -> 10 | G64: =_N_CongLLCT -> 0 | H64: =_N_CongKHCB -> 0 | I64: =_N_CongCSKT -> 0 | J64: =_N_CongKCT -> 0 | K64: =_N_CongKCK -> 0 | L64: =_N_CongKTVT -> 0 | M64: =_N_CongCNTT -> 0 | N64: =SUMIF('LICH THI'!$A:$A,'Theo Ngay'!$A64,'LICH THI'!X:X) -> 0 | P64: =N64-2*F64 -> -20 | Q64: =SUMIF('LICH THI'!$A:$A,'Theo Ngay'!$A64,'LICH THI'!N:N) -> 268 | S64: 0 | T64: =+S64-F64 -> -10
A65: =_Ngay_Gio_ -> #NAME? | B65: =_N_Gio_ -> 18:00 | C65: =_N_stt -> 60 | D65: =D64 -> #N/A | E65: 5 | F65: =_N_CongSP_ -> 0 | G65: =_N_CongLLCT -> 0 | H65: =_N_CongKHCB -> 0 | I65: =_N_CongCSKT -> 0 | J65: =_N_CongKCT -> 0 | K65: =_N_CongKCK -> 0 | L65: =_N_CongKTVT -> 0 | M65: =_N_CongCNTT -> 0 | N65: =SUMIF('LICH THI'!$A:$A,'Theo Ngay'!$A65,'LICH THI'!X:X) -> 0 | P65: =N65-2*F65 -> 0 | Q65: =SUMIF('LICH THI'!$A:$A,'Theo Ngay'!$A65,'LICH THI'!N:N) -> 0 | S65: 0 | T65: =+S65-F65 -> 0
A66: =_N_NgayGio -> #N/A | B66: =_N_Gio_ -> 7:00 | C66: =_N_stt -> 61 | D66: =+D61+1 -> #N/A | E66: 1 | F66: =_N_CongSP_ -> 10 | G66: =_N_CongLLCT -> 0 | H66: =_N_CongKHCB -> 0 | I66: =_N_CongCSKT -> 0 | J66: =_N_CongKCT -> 0 | K66: =_N_CongKCK -> 0 | L66: =_N_CongKTVT -> 0 | M66: =_N_CongCNTT -> 0 | N66: =SUMIF('LICH THI'!$A:$A,'Theo Ngay'!$A66,'LICH THI'!X:X) -> 0 | O66: =IF(D66="","",CHOOSE(WEEKDAY(D66),"(Cnhật)","(Thứ 2)","(Thứ 3)","(Thứ 4)","(Thứ 5)","(Thứ 6)","(Thứ 7)")) -> #N/A | P66: =N66-2*F66 -> -20 | Q66: =SUMIF('LICH THI'!$A:$A,'Theo Ngay'!$A66,'LICH THI'!N:N) -> 268 | S66: 0 | T66: =+S66-F66 -> -10
A67: =_N_NgayGio -> #N/A | B67: =_N_Gio_ -> 9:00 | C67: =_N_stt -> 62 | D67: =D66 -> #N/A | E67: 2 | F67: =_N_CongSP_ -> 10 | G67: =_N_CongLLCT -> 0 | H67: =_N_CongKHCB -> 0 | I67: =_N_CongCSKT -> 0 | J67: =_N_CongKCT -> 0 | K67: =_N_CongKCK -> 0 | L67: =_N_CongKTVT -> 0 | M67: =_N_CongCNTT -> 0 | N67: =SUMIF('LICH THI'!$A:$A,'Theo Ngay'!$A67,'LICH THI'!X:X) -> 0 | P67: =N67-2*F67 -> -20 | Q67: =SUMIF('LICH THI'!$A:$A,'Theo Ngay'!$A67,'LICH THI'!N:N) -> 268 | S67: 0 | T67: =+S67-F67 -> -10
A68: =_N_NgayGio -> #N/A | B68: =_N_Gio_ -> 13:00 | C68: =_N_stt -> 63 | D68: =D67 -> #N/A | E68: 3 | F68: =_N_CongSP_ -> 10 | G68: =_N_CongLLCT -> 0 | H68: =_N_CongKHCB -> 0 | I68: =_N_CongCSKT -> 0 | J68: =_N_CongKCT -> 0 | K68: =_N_CongKCK -> 0 | L68: =_N_CongKTVT -> 0 | M68: =_N_CongCNTT -> 0 | N68: =SUMIF('LICH THI'!$A:$A,'Theo Ngay'!$A68,'LICH THI'!X:X) -> 0 | P68: =N68-2*F68 -> -20 | Q68: =SUMIF('LICH THI'!$A:$A,'Theo Ngay'!$A68,'LICH THI'!N:N) -> 268 | S68: 0 | T68: =+S68-F68 -> -10
A69: =_N_NgayGio -> #N/A | B69: =_N_Gio_ -> 15:00 | C69: =_N_stt -> 64 | D69: =D68 -> #N/A | E69: 4 | F69: =_N_CongSP_ -> 10 | G69: =_N_CongLLCT -> 0 | H69: =_N_CongKHCB -> 0 | I69: =_N_CongCSKT -> 0 | J69: =_N_CongKCT -> 0 | K69: =_N_CongKCK -> 0 | L69: =_N_CongKTVT -> 0 | M69: =_N_CongCNTT -> 0 | N69: =SUMIF('LICH THI'!$A:$A,'Theo Ngay'!$A69,'LICH THI'!X:X) -> 0 | P69: =N69-2*F69 -> -20 | Q69: =SUMIF('LICH THI'!$A:$A,'Theo Ngay'!$A69,'LICH THI'!N:N) -> 268 | S69: 0 | T69: =+S69-F69 -> -10
A70: =_Ngay_Gio_ -> #NAME? | B70: =_N_Gio_ -> 18:00 | C70: =_N_stt -> 65 | D70: =D69 -> #N/A | E70: 5 | F70: =_N_CongSP_ -> 0 | G70: =_N_CongLLCT -> 0 | H70: =_N_CongKHCB -> 0 | I70: =_N_CongCSKT -> 0 | J70: =_N_CongKCT -> 0 | K70: =_N_CongKCK -> 0 | L70: =_N_CongKTVT -> 0 | M70: =_N_CongCNTT -> 0 | N70: =SUMIF('LICH THI'!$A:$A,'Theo Ngay'!$A70,'LICH THI'!X:X) -> 0 | P70: =N70-2*F70 -> 0 | Q70: =SUMIF('LICH THI'!$A:$A,'Theo Ngay'!$A70,'LICH THI'!N:N) -> 0 | S70: 0 | T70: =+S70-F70 -> 0
A71: =_N_NgayGio -> #N/A | B71: =_N_Gio_ -> 7:00 | C71: =_N_stt -> 66 | D71: =+D66+1 -> #N/A | E71: 1 | F71: =_N_CongSP_ -> 10 | G71: =_N_CongLLCT -> 0 | H71: =_N_CongKHCB -> 0 | I71: =_N_CongCSKT -> 0 | J71: =_N_CongKCT -> 0 | K71: =_N_CongKCK -> 0 | L71: =_N_CongKTVT -> 0 | M71: =_N_CongCNTT -> 0 | N71: =SUMIF('LICH THI'!$A:$A,'Theo Ngay'!$A71,'LICH THI'!X:X) -> 0 | O71: =IF(D71="","",CHOOSE(WEEKDAY(D71),"(Cnhật)","(Thứ 2)","(Thứ 3)","(Thứ 4)","(Thứ 5)","(Thứ 6)","(Thứ 7)")) -> #N/A | P71: =N71-2*F71 -> -20 | Q71: =SUMIF('LICH THI'!$A:$A,'Theo Ngay'!$A71,'LICH THI'!N:N) -> 268 | S71: 19 | T71: =+S71-F71 -> 9
A72: =_N_NgayGio -> #N/A | B72: =_N_Gio_ -> 9:00 | C72: =_N_stt -> 67 | D72: =D71 -> #N/A | E72: 2 | F72: =_N_CongSP_ -> 10 | G72: =_N_CongLLCT -> 0 | H72: =_N_CongKHCB -> 0 | I72: =_N_CongCSKT -> 0 | J72: =_N_CongKCT -> 0 | K72: =_N_CongKCK -> 0 | L72: =_N_CongKTVT -> 0 | M72: =_N_CongCNTT -> 0 | N72: =SUMIF('LICH THI'!$A:$A,'Theo Ngay'!$A72,'LICH THI'!X:X) -> 0 | P72: =N72-2*F72 -> -20 | Q72: =SUMIF('LICH THI'!$A:$A,'Theo Ngay'!$A72,'LICH THI'!N:N) -> 268 | S72: 21 | T72: =+S72-F72 -> 11
A73: =_N_NgayGio -> #N/A | B73: =_N_Gio_ -> 13:00 | C73: =_N_stt -> 68 | D73: =D72 -> #N/A | E73: 3 | F73: =_N_CongSP_ -> 10 | G73: =_N_CongLLCT -> 0 | H73: =_N_CongKHCB -> 0 | I73: =_N_CongCSKT -> 0 | J73: =_N_CongKCT -> 0 | K73: =_N_CongKCK -> 0 | L73: =_N_CongKTVT -> 0 | M73: =_N_CongCNTT -> 0 | N73: =SUMIF('LICH THI'!$A:$A,'Theo Ngay'!$A73,'LICH THI'!X:X) -> 0 | P73: =N73-2*F73 -> -20 | Q73: =SUMIF('LICH THI'!$A:$A,'Theo Ngay'!$A73,'LICH THI'!N:N) -> 268 | S73: 27 | T73: =+S73-F73 -> 17
A74: =_N_NgayGio -> #N/A | B74: =_N_Gio_ -> 15:00 | C74: =_N_stt -> 69 | D74: =D73 -> #N/A | E74: 4 | F74: =_N_CongSP_ -> 10 | G74: =_N_CongLLCT -> 0 | H74: =_N_CongKHCB -> 0 | I74: =_N_CongCSKT -> 0 | J74: =_N_CongKCT -> 0 | K74: =_N_CongKCK -> 0 | L74: =_N_CongKTVT -> 0 | M74: =_N_CongCNTT -> 0 | N74: =SUMIF('LICH THI'!$A:$A,'Theo Ngay'!$A74,'LICH THI'!X:X) -> 0 | P74: =N74-2*F74 -> -20 | Q74: =SUMIF('LICH THI'!$A:$A,'Theo Ngay'!$A74,'LICH THI'!N:N) -> 268 | S74: 14 | T74: =+S74-F74 -> 4
A75: =_Ngay_Gio_ -> #NAME? | B75: =_N_Gio_ -> 18:00 | C75: =_N_stt -> 70 | D75: =D74 -> #N/A | E75: 5 | F75: =_N_CongSP_ -> 0 | G75: =_N_CongLLCT -> 0 | H75: =_N_CongKHCB -> 0 | I75: =_N_CongCSKT -> 0 | J75: =_N_CongKCT -> 0 | K75: =_N_CongKCK -> 0 | L75: =_N_CongKTVT -> 0 | M75: =_N_CongCNTT -> 0 | N75: =SUMIF('LICH THI'!$A:$A,'Theo Ngay'!$A75,'LICH THI'!X:X) -> 0 | P75: =N75-2*F75 -> 0 | Q75: =SUMIF('LICH THI'!$A:$A,'Theo Ngay'!$A75,'LICH THI'!N:N) -> 0 | S75: 0 | T75: =+S75-F75 -> 0
A76: =_N_NgayGio -> #N/A | B76: =_N_Gio_ -> 7:00 | C76: =_N_stt -> 71 | D76: =+D71+1 -> #N/A | E76: 1 | F76: =_N_CongSP_ -> 10 | G76: =_N_CongLLCT -> 0 | H76: =_N_CongKHCB -> 0 | I76: =_N_CongCSKT -> 0 | J76: =_N_CongKCT -> 0 | K76: =_N_CongKCK -> 0 | L76: =_N_CongKTVT -> 0 | M76: =_N_CongCNTT -> 0 | N76: =SUMIF('LICH THI'!$A:$A,'Theo Ngay'!$A76,'LICH THI'!X:X) -> 0 | O76: =IF(D76="","",CHOOSE(WEEKDAY(D76),"(Cnhật)","(Thứ 2)","(Thứ 3)","(Thứ 4)","(Thứ 5)","(Thứ 6)","(Thứ 7)")) -> #N/A | P76: =N76-2*F76 -> -20 | Q76: =SUMIF('LICH THI'!$A:$A,'Theo Ngay'!$A76,'LICH THI'!N:N) -> 268 | S76: 0 | T76: =+S76-F76 -> -10
A77: =_N_NgayGio -> #N/A | B77: =_N_Gio_ -> 9:00 | C77: =_N_stt -> 72 | D77: =D76 -> #N/A | E77: 2 | F77: =_N_CongSP_ -> 10 | G77: =_N_CongLLCT -> 0 | H77: =_N_CongKHCB -> 0 | I77: =_N_CongCSKT -> 0 | J77: =_N_CongKCT -> 0 | K77: =_N_CongKCK -> 0 | L77: =_N_CongKTVT -> 0 | M77: =_N_CongCNTT -> 0 | N77: =SUMIF('LICH THI'!$A:$A,'Theo Ngay'!$A77,'LICH THI'!X:X) -> 0 | P77: =N77-2*F77 -> -20 | Q77: =SUMIF('LICH THI'!$A:$A,'Theo Ngay'!$A77,'LICH THI'!N:N) -> 268 | S77: 9 | T77: =+S77-F77 -> -1
A78: =_N_NgayGio -> #N/A | B78: =_N_Gio_ -> 13:00 | C78: =_N_stt -> 73 | D78: =D77 -> #N/A | E78: 3 | F78: =_N_CongSP_ -> 10 | G78: =_N_CongLLCT -> 0 | H78: =_N_CongKHCB -> 0 | I78: =_N_CongCSKT -> 0 | J78: =_N_CongKCT -> 0 | K78: =_N_CongKCK -> 0 | L78: =_N_CongKTVT -> 0 | M78: =_N_CongCNTT -> 0 | N78: =SUMIF('LICH THI'!$A:$A,'Theo Ngay'!$A78,'LICH THI'!X:X) -> 0 | P78: =N78-2*F78 -> -20 | Q78: =SUMIF('LICH THI'!$A:$A,'Theo Ngay'!$A78,'LICH THI'!N:N) -> 268 | S78: 9 | T78: =+S78-F78 -> -1
A79: =_N_NgayGio -> #N/A | B79: =_N_Gio_ -> 15:00 | C79: =_N_stt -> 74 | D79: =D78 -> #N/A | E79: 4 | F79: =_N_CongSP_ -> 10 | G79: =_N_CongLLCT -> 0 | H79: =_N_CongKHCB -> 0 | I79: =_N_CongCSKT -> 0 | J79: =_N_CongKCT -> 0 | K79: =_N_CongKCK -> 0 | L79: =_N_CongKTVT -> 0 | M79: =_N_CongCNTT -> 0 | N79: =SUMIF('LICH THI'!$A:$A,'Theo Ngay'!$A79,'LICH THI'!X:X) -> 0 | P79: =N79-2*F79 -> -20 | Q79: =SUMIF('LICH THI'!$A:$A,'Theo Ngay'!$A79,'LICH THI'!N:N) -> 268 | S79: 13 | T79: =+S79-F79 -> 3
A80: =_Ngay_Gio_ -> #NAME? | B80: =_N_Gio_ -> 18:00 | C80: =_N_stt -> 75 | D80: =D79 -> #N/A | E80: 5 | F80: =_N_CongSP_ -> 0 | G80: =_N_CongLLCT -> 0 | H80: =_N_CongKHCB -> 0 | I80: =_N_CongCSKT -> 0 | J80: =_N_CongKCT -> 0 | K80: =_N_CongKCK -> 0 | L80: =_N_CongKTVT -> 0 | M80: =_N_CongCNTT -> 0 | N80: =SUMIF('LICH THI'!$A:$A,'Theo Ngay'!$A80,'LICH THI'!X:X) -> 0 | P80: =N80-2*F80 -> 0 | Q80: =SUMIF('LICH THI'!$A:$A,'Theo Ngay'!$A80,'LICH THI'!N:N) -> 0 | S80: 0 | T80: =+S80-F80 -> 0
A81: =_N_NgayGio -> #N/A | B81: =_N_Gio_ -> 7:00 | C81: =_N_stt -> 76 | D81: =+D76+1 -> #N/A | E81: 1 | F81: =_N_CongSP_ -> 10 | G81: =_N_CongLLCT -> 0 | H81: =_N_CongKHCB -> 0 | I81: =_N_CongCSKT -> 0 | J81: =_N_CongKCT -> 0 | K81: =_N_CongKCK -> 0 | L81: =_N_CongKTVT -> 0 | M81: =_N_CongCNTT -> 0 | N81: =SUMIF('LICH THI'!$A:$A,'Theo Ngay'!$A81,'LICH THI'!X:X) -> 0 | O81: =IF(D81="","",CHOOSE(WEEKDAY(D81),"(Cnhật)","(Thứ 2)","(Thứ 3)","(Thứ 4)","(Thứ 5)","(Thứ 6)","(Thứ 7)")) -> #N/A | P81: =N81-2*F81 -> -20 | Q81: =SUMIF('LICH THI'!$A:$A,'Theo Ngay'!$A81,'LICH THI'!N:N) -> 268 | S81: 0 | T81: =+S81-F81 -> -10
A82: =_N_NgayGio -> #N/A | B82: =_N_Gio_ -> 9:00 | C82: =_N_stt -> 77 | D82: =D81 -> #N/A | E82: 2 | F82: =_N_CongSP_ -> 10 | G82: =_N_CongLLCT -> 0 | H82: =_N_CongKHCB -> 0 | I82: =_N_CongCSKT -> 0 | J82: =_N_CongKCT -> 0 | K82: =_N_CongKCK -> 0 | L82: =_N_CongKTVT -> 0 | M82: =_N_CongCNTT -> 0 | N82: =SUMIF('LICH THI'!$A:$A,'Theo Ngay'!$A82,'LICH THI'!X:X) -> 0 | P82: =N82-2*F82 -> -20 | Q82: =SUMIF('LICH THI'!$A:$A,'Theo Ngay'!$A82,'LICH THI'!N:N) -> 268 | S82: 0 | T82: =+S82-F82 -> -10
A83: =_N_NgayGio -> #N/A | B83: =_N_Gio_ -> 13:00 | C83: =_N_stt -> 78 | D83: =D82 -> #N/A | E83: 3 | F83: =_N_CongSP_ -> 10 | G83: =_N_CongLLCT -> 0 | H83: =_N_CongKHCB -> 0 | I83: =_N_CongCSKT -> 0 | J83: =_N_CongKCT -> 0 | K83: =_N_CongKCK -> 0 | L83: =_N_CongKTVT -> 0 | M83: =_N_CongCNTT -> 0 | N83: =SUMIF('LICH THI'!$A:$A,'Theo Ngay'!$A83,'LICH THI'!X:X) -> 0 | P83: =N83-2*F83 -> -20 | Q83: =SUMIF('LICH THI'!$A:$A,'Theo Ngay'!$A83,'LICH THI'!N:N) -> 268 | S83: 6 | T83: =+S83-F83 -> -4
A84: =_N_NgayGio -> #N/A | B84: =_N_Gio_ -> 15:00 | C84: =_N_stt -> 79 | D84: =D83 -> #N/A | E84: 4 | F84: =_N_CongSP_ -> 10 | G84: =_N_CongLLCT -> 0 | H84: =_N_CongKHCB -> 0 | I84: =_N_CongCSKT -> 0 | J84: =_N_CongKCT -> 0 | K84: =_N_CongKCK -> 0 | L84: =_N_CongKTVT -> 0 | M84: =_N_CongCNTT -> 0 | N84: =SUMIF('LICH THI'!$A:$A,'Theo Ngay'!$A84,'LICH THI'!X:X) -> 0 | P84: =N84-2*F84 -> -20 | Q84: =SUMIF('LICH THI'!$A:$A,'Theo Ngay'!$A84,'LICH THI'!N:N) -> 268 | S84: 10 | T84: =+S84-F84 -> 0
A85: =_Ngay_Gio_ -> #NAME? | B85: =_N_Gio_ -> 18:00 | C85: =_N_stt -> 80 | D85: =D84 -> #N/A | E85: 5 | F85: =_N_CongSP_ -> 0 | G85: =_N_CongLLCT -> 0 | H85: =_N_CongKHCB -> 0 | I85: =_N_CongCSKT -> 0 | J85: =_N_CongKCT -> 0 | K85: =_N_CongKCK -> 0 | L85: =_N_CongKTVT -> 0 | M85: =_N_CongCNTT -> 0 | N85: =SUMIF('LICH THI'!$A:$A,'Theo Ngay'!$A85,'LICH THI'!X:X) -> 0 | P85: =N85-2*F85 -> 0 | Q85: =SUMIF('LICH THI'!$A:$A,'Theo Ngay'!$A85,'LICH THI'!N:N) -> 0 | S85: 0 | T85: =+S85-F85 -> 0
A86: =_N_NgayGio -> #N/A | B86: =_N_Gio_ -> 7:00 | C86: =_N_stt -> 81 | D86: =+D81+1 -> #N/A | E86: 1 | F86: =_N_CongSP_ -> 10 | G86: =_N_CongLLCT -> 0 | H86: =_N_CongKHCB -> 0 | I86: =_N_CongCSKT -> 0 | J86: =_N_CongKCT -> 0 | K86: =_N_CongKCK -> 0 | L86: =_N_CongKTVT -> 0 | M86: =_N_CongCNTT -> 0 | N86: =SUMIF('LICH THI'!$A:$A,'Theo Ngay'!$A86,'LICH THI'!X:X) -> 0 | O86: =IF(D86="","",CHOOSE(WEEKDAY(D86),"(Cnhật)","(Thứ 2)","(Thứ 3)","(Thứ 4)","(Thứ 5)","(Thứ 6)","(Thứ 7)")) -> #N/A | P86: =N86-2*F86 -> -20 | Q86: =SUMIF('LICH THI'!$A:$A,'Theo Ngay'!$A86,'LICH THI'!N:N) -> 268 | S86: 0 | T86: =+S86-F86 -> -10
A87: =_N_NgayGio -> #N/A | B87: =_N_Gio_ -> 9:00 | C87: =_N_stt -> 82 | D87: =D86 -> #N/A | E87: 2 | F87: =_N_CongSP_ -> 10 | G87: =_N_CongLLCT -> 0 | H87: =_N_CongKHCB -> 0 | I87: =_N_CongCSKT -> 0 | J87: =_N_CongKCT -> 0 | K87: =_N_CongKCK -> 0 | L87: =_N_CongKTVT -> 0 | M87: =_N_CongCNTT -> 0 | N87: =SUMIF('LICH THI'!$A:$A,'Theo Ngay'!$A87,'LICH THI'!X:X) -> 0 | P87: =N87-2*F87 -> -20 | Q87: =SUMIF('LICH THI'!$A:$A,'Theo Ngay'!$A87,'LICH THI'!N:N) -> 268 | S87: 0 | T87: =+S87-F87 -> -10
A88: =_N_NgayGio -> #N/A | B88: =_N_Gio_ -> 13:00 | C88: =_N_stt -> 83 | D88: =D87 -> #N/A | E88: 3 | F88: =_N_CongSP_ -> 10 | G88: =_N_CongLLCT -> 0 | H88: =_N_CongKHCB -> 0 | I88: =_N_CongCSKT -> 0 | J88: =_N_CongKCT -> 0 | K88: =_N_CongKCK -> 0 | L88: =_N_CongKTVT -> 0 | M88: =_N_CongCNTT -> 0 | N88: =SUMIF('LICH THI'!$A:$A,'Theo Ngay'!$A88,'LICH THI'!X:X) -> 0 | P88: =N88-2*F88 -> -20 | Q88: =SUMIF('LICH THI'!$A:$A,'Theo Ngay'!$A88,'LICH THI'!N:N) -> 268 | S88: 19 | T88: =+S88-F88 -> 9
A89: =_N_NgayGio -> #N/A | B89: =_N_Gio_ -> 15:00 | C89: =_N_stt -> 84 | D89: =D88 -> #N/A | E89: 4 | F89: =_N_CongSP_ -> 10 | G89: =_N_CongLLCT -> 0 | H89: =_N_CongKHCB -> 0 | I89: =_N_CongCSKT -> 0 | J89: =_N_CongKCT -> 0 | K89: =_N_CongKCK -> 0 | L89: =_N_CongKTVT -> 0 | M89: =_N_CongCNTT -> 0 | N89: =SUMIF('LICH THI'!$A:$A,'Theo Ngay'!$A89,'LICH THI'!X:X) -> 0 | P89: =N89-2*F89 -> -20 | Q89: =SUMIF('LICH THI'!$A:$A,'Theo Ngay'!$A89,'LICH THI'!N:N) -> 268 | S89: 3 | T89: =+S89-F89 -> -7
A90: =_Ngay_Gio_ -> #NAME? | B90: =_N_Gio_ -> 18:00 | C90: =_N_stt -> 85 | D90: =D89 -> #N/A | E90: 5 | F90: =_N_CongSP_ -> 0 | G90: =_N_CongLLCT -> 0 | H90: =_N_CongKHCB -> 0 | I90: =_N_CongCSKT -> 0 | J90: =_N_CongKCT -> 0 | K90: =_N_CongKCK -> 0 | L90: =_N_CongKTVT -> 0 | M90: =_N_CongCNTT -> 0 | N90: =SUMIF('LICH THI'!$A:$A,'Theo Ngay'!$A90,'LICH THI'!X:X) -> 0 | P90: =N90-2*F90 -> 0 | Q90: =SUMIF('LICH THI'!$A:$A,'Theo Ngay'!$A90,'LICH THI'!N:N) -> 0 | S90: 0 | T90: =+S90-F90 -> 0
A91: =_N_NgayGio -> #N/A | B91: =_N_Gio_ -> 7:00 | C91: =_N_stt -> 86 | D91: =+D86+1 -> #N/A | E91: 1 | F91: =_N_CongSP_ -> 10 | G91: =_N_CongLLCT -> 0 | H91: =_N_CongKHCB -> 0 | I91: =_N_CongCSKT -> 0 | J91: =_N_CongKCT -> 0 | K91: =_N_CongKCK -> 0 | L91: =_N_CongKTVT -> 0 | M91: =_N_CongCNTT -> 0 | N91: =SUMIF('LICH THI'!$A:$A,'Theo Ngay'!$A91,'LICH THI'!X:X) -> 0 | O91: =IF(D91="","",CHOOSE(WEEKDAY(D91),"(Cnhật)","(Thứ 2)","(Thứ 3)","(Thứ 4)","(Thứ 5)","(Thứ 6)","(Thứ 7)")) -> #N/A | P91: =N91-2*F91 -> -20 | Q91: =SUMIF('LICH THI'!$A:$A,'Theo Ngay'!$A91,'LICH THI'!N:N) -> 268 | S91: 6 | T91: =+S91-F91 -> -4
A92: =_N_NgayGio -> #N/A | B92: =_N_Gio_ -> 9:00 | C92: =_N_stt -> 87 | D92: =D91 -> #N/A | E92: 2 | F92: =_N_CongSP_ -> 10 | G92: =_N_CongLLCT -> 0 | H92: =_N_CongKHCB -> 0 | I92: =_N_CongCSKT -> 0 | J92: =_N_CongKCT -> 0 | K92: =_N_CongKCK -> 0 | L92: =_N_CongKTVT -> 0 | M92: =_N_CongCNTT -> 0 | N92: =SUMIF('LICH THI'!$A:$A,'Theo Ngay'!$A92,'LICH THI'!X:X) -> 0 | P92: =N92-2*F92 -> -20 | Q92: =SUMIF('LICH THI'!$A:$A,'Theo Ngay'!$A92,'LICH THI'!N:N) -> 268 | S92: 11 | T92: =+S92-F92 -> 1
A93: =_N_NgayGio -> #N/A | B93: =_N_Gio_ -> 13:00 | C93: =_N_stt -> 88 | D93: =D92 -> #N/A | E93: 3 | F93: =_N_CongSP_ -> 10 | G93: =_N_CongLLCT -> 0 | H93: =_N_CongKHCB -> 0 | I93: =_N_CongCSKT -> 0 | J93: =_N_CongKCT -> 0 | K93: =_N_CongKCK -> 0 | L93: =_N_CongKTVT -> 0 | M93: =_N_CongCNTT -> 0 | N93: =SUMIF('LICH THI'!$A:$A,'Theo Ngay'!$A93,'LICH THI'!X:X) -> 0 | P93: =N93-2*F93 -> -20 | Q93: =SUMIF('LICH THI'!$A:$A,'Theo Ngay'!$A93,'LICH THI'!N:N) -> 268 | S93: 8 | T93: =+S93-F93 -> -2
A94: =_N_NgayGio -> #N/A | B94: =_N_Gio_ -> 15:00 | C94: =_N_stt -> 89 | D94: =D93 -> #N/A | E94: 4 | F94: =_N_CongSP_ -> 10 | G94: =_N_CongLLCT -> 0 | H94: =_N_CongKHCB -> 0 | I94: =_N_CongCSKT -> 0 | J94: =_N_CongKCT -> 0 | K94: =_N_CongKCK -> 0 | L94: =_N_CongKTVT -> 0 | M94: =_N_CongCNTT -> 0 | N94: =SUMIF('LICH THI'!$A:$A,'Theo Ngay'!$A94,'LICH THI'!X:X) -> 0 | P94: =N94-2*F94 -> -20 | Q94: =SUMIF('LICH THI'!$A:$A,'Theo Ngay'!$A94,'LICH THI'!N:N) -> 268 | S94: 7 | T94: =+S94-F94 -> -3
A95: =_Ngay_Gio_ -> #NAME? | B95: =_N_Gio_ -> 18:00 | C95: =_N_stt -> 90 | D95: =D94 -> #N/A | E95: 5 | F95: =_N_CongSP_ -> 0 | G95: =_N_CongLLCT -> 0 | H95: =_N_CongKHCB -> 0 | I95: =_N_CongCSKT -> 0 | J95: =_N_CongKCT -> 0 | K95: =_N_CongKCK -> 0 | L95: =_N_CongKTVT -> 0 | M95: =_N_CongCNTT -> 0 | N95: =SUMIF('LICH THI'!$A:$A,'Theo Ngay'!$A95,'LICH THI'!X:X) -> 0 | P95: =N95-2*F95 -> 0 | Q95: =SUMIF('LICH THI'!$A:$A,'Theo Ngay'!$A95,'LICH THI'!N:N) -> 0 | S95: 0 | T95: =+S95-F95 -> 0
A96: =_N_NgayGio -> #N/A | B96: =_N_Gio_ -> 7:00 | C96: =_N_stt -> 91 | D96: =+D91+1 -> #N/A | E96: 1 | F96: =_N_CongSP_ -> 10 | G96: =_N_CongLLCT -> 0 | H96: =_N_CongKHCB -> 0 | I96: =_N_CongCSKT -> 0 | J96: =_N_CongKCT -> 0 | K96: =_N_CongKCK -> 0 | L96: =_N_CongKTVT -> 0 | M96: =_N_CongCNTT -> 0 | N96: =SUMIF('LICH THI'!$A:$A,'Theo Ngay'!$A96,'LICH THI'!X:X) -> 0 | O96: =IF(D96="","",CHOOSE(WEEKDAY(D96),"(Cnhật)","(Thứ 2)","(Thứ 3)","(Thứ 4)","(Thứ 5)","(Thứ 6)","(Thứ 7)")) -> #N/A | P96: =N96-2*F96 -> -20 | Q96: =SUMIF('LICH THI'!$A:$A,'Theo Ngay'!$A96,'LICH THI'!N:N) -> 268 | S96: 0 | T96: =+S96-F96 -> -10
A97: =_N_NgayGio -> #N/A | B97: =_N_Gio_ -> 9:00 | C97: =_N_stt -> 92 | D97: =D96 -> #N/A | E97: 2 | F97: =_N_CongSP_ -> 10 | G97: =_N_CongLLCT -> 0 | H97: =_N_CongKHCB -> 0 | I97: =_N_CongCSKT -> 0 | J97: =_N_CongKCT -> 0 | K97: =_N_CongKCK -> 0 | L97: =_N_CongKTVT -> 0 | M97: =_N_CongCNTT -> 0 | N97: =SUMIF('LICH THI'!$A:$A,'Theo Ngay'!$A97,'LICH THI'!X:X) -> 0 | P97: =N97-2*F97 -> -20 | Q97: =SUMIF('LICH THI'!$A:$A,'Theo Ngay'!$A97,'LICH THI'!N:N) -> 268 | S97: 0 | T97: =+S97-F97 -> -10
A98: =_N_NgayGio -> #N/A | B98: =_N_Gio_ -> 13:00 | C98: =_N_stt -> 93 | D98: =D97 -> #N/A | E98: 3 | F98: =_N_CongSP_ -> 10 | G98: =_N_CongLLCT -> 0 | H98: =_N_CongKHCB -> 0 | I98: =_N_CongCSKT -> 0 | J98: =_N_CongKCT -> 0 | K98: =_N_CongKCK -> 0 | L98: =_N_CongKTVT -> 0 | M98: =_N_CongCNTT -> 0 | N98: =SUMIF('LICH THI'!$A:$A,'Theo Ngay'!$A98,'LICH THI'!X:X) -> 0 | P98: =N98-2*F98 -> -20 | Q98: =SUMIF('LICH THI'!$A:$A,'Theo Ngay'!$A98,'LICH THI'!N:N) -> 268 | S98: 2 | T98: =+S98-F98 -> -8
A99: =_N_NgayGio -> #N/A | B99: =_N_Gio_ -> 15:00 | C99: =_N_stt -> 94 | D99: =D98 -> #N/A | E99: 4 | F99: =_N_CongSP_ -> 10 | G99: =_N_CongLLCT -> 0 | H99: =_N_CongKHCB -> 0 | I99: =_N_CongCSKT -> 0 | J99: =_N_CongKCT -> 0 | K99: =_N_CongKCK -> 0 | L99: =_N_CongKTVT -> 0 | M99: =_N_CongCNTT -> 0 | N99: =SUMIF('LICH THI'!$A:$A,'Theo Ngay'!$A99,'LICH THI'!X:X) -> 0 | P99: =N99-2*F99 -> -20 | Q99: =SUMIF('LICH THI'!$A:$A,'Theo Ngay'!$A99,'LICH THI'!N:N) -> 268 | S99: 0 | T99: =+S99-F99 -> -10
A100: =_Ngay_Gio_ -> #NAME? | B100: =_N_Gio_ -> 18:00 | C100: =_N_stt -> 95 | D100: =D99 -> #N/A | E100: 5 | F100: =_N_CongSP_ -> 0 | G100: =_N_CongLLCT -> 0 | H100: =_N_CongKHCB -> 0 | I100: =_N_CongCSKT -> 0 | J100: =_N_CongKCT -> 0 | K100: =_N_CongKCK -> 0 | L100: =_N_CongKTVT -> 0 | M100: =_N_CongCNTT -> 0 | N100: =SUMIF('LICH THI'!$A:$A,'Theo Ngay'!$A100,'LICH THI'!X:X) -> 0 | P100: =N100-2*F100 -> 0 | Q100: =SUMIF('LICH THI'!$A:$A,'Theo Ngay'!$A100,'LICH THI'!N:N) -> 0 | S100: 0 | T100: =+S100-F100 -> 0
A101: =_N_NgayGio -> #N/A | B101: =_N_Gio_ -> 7:00 | C101: =_N_stt -> 96 | D101: =+D96+1 -> #N/A | E101: 1 | F101: =_N_CongSP_ -> 10 | G101: =_N_CongLLCT -> 0 | H101: =_N_CongKHCB -> 0 | I101: =_N_CongCSKT -> 0 | J101: =_N_CongKCT -> 0 | K101: =_N_CongKCK -> 0 | L101: =_N_CongKTVT -> 0 | M101: =_N_CongCNTT -> 0 | N101: =SUMIF('LICH THI'!$A:$A,'Theo Ngay'!$A101,'LICH THI'!X:X) -> 0 | O101: =IF(D101="","",CHOOSE(WEEKDAY(D101),"(Cnhật)","(Thứ 2)","(Thứ 3)","(Thứ 4)","(Thứ 5)","(Thứ 6)","(Thứ 7)")) -> #N/A | P101: =N101-2*F101 -> -20 | Q101: =SUMIF('LICH THI'!$A:$A,'Theo Ngay'!$A101,'LICH THI'!N:N) -> 268 | S101: 0 | T101: =+S101-F101 -> -10
A102: =_N_NgayGio -> #N/A | B102: =_N_Gio_ -> 9:00 | C102: =_N_stt -> 97 | D102: =D101 -> #N/A | E102: 2 | F102: =_N_CongSP_ -> 10 | G102: =_N_CongLLCT -> 0 | H102: =_N_CongKHCB -> 0 | I102: =_N_CongCSKT -> 0 | J102: =_N_CongKCT -> 0 | K102: =_N_CongKCK -> 0 | L102: =_N_CongKTVT -> 0 | M102: =_N_CongCNTT -> 0 | N102: =SUMIF('LICH THI'!$A:$A,'Theo Ngay'!$A102,'LICH THI'!X:X) -> 0 | P102: =N102-2*F102 -> -20 | Q102: =SUMIF('LICH THI'!$A:$A,'Theo Ngay'!$A102,'LICH THI'!N:N) -> 268 | S102: 0 | T102: =+S102-F102 -> -10
...

Sheet De
C1: 9 | D1: 10 | E1: 11 | F1: 4 | G1: 5 | I1: 6 | J1: 7 | K1: 8 | L1: 3 | M1: 26 | N1: 27 | O1: 28 | AA1: 12 | AB1: 13 | AC1: 14 | AE1: 30 | AF1: 31
B2: BỘ GIAO THÔNG VẬN TẢI | AH2: LLCT | AI2: =COUNTIF($AF:$AF,AH2)-COUNTIF($AG:$AG,AH2) -> 0 | AJ2: KCT | AK2: =COUNTIF($AF:$AF,AJ2)-COUNTIF($AG:$AG,AJ2) -> 0
B3: TRƯỜNG ĐẠI HỌC CÔNG NGHỆ GTVT | K3: SỔ THEO DÕI ĐỀ THI | R3: Không có | T3: =COUNTIF(O:O,R3) -> 0 | AH3: CSKT | AI3: =COUNTIF($AF:$AF,AH3)-COUNTIF($AG:$AG,AH3) -> 0 | AJ3: KCK | AK3: =COUNTIF($AF:$AF,AJ3)-COUNTIF($AG:$AG,AJ3) -> 0
K4: HỌC KỲ 1 - NĂM HỌC 2015-2016 | AH4: KHCB | AI4: =COUNTIF($AF:$AF,AH4)-COUNTIF($AG:$AG,AH4) -> 0 | AJ4: CNTT | AK4: =COUNTIF($AF:$AF,AJ4)-COUNTIF($AG:$AG,AJ4) -> 0
AE5: =+COUNTBLANK(Y27:Y297) -> 271 | AJ5: KTVT | AK5: =COUNTIF($AF:$AF,AJ5)-COUNTIF($AG:$AG,AJ5) -> 0
B6: S T T | C6: Ngày thi | E6: Ca thi | F6: Mã HP | G6: Tên học phần | I6: Số TC | J6: Hình thức | K6: Thời gian | L6: Khóa - Hệ | M6: Đề soạn theo bộ | N6: Đề Ngân hàng câu hỏi | O6: Chưa có đề thi | P6: Ghi chú | Q6: Số đề | S6: VY | T6: Phụ | U6: DV | V6: Ghi chú | W6: Số lượng | Y6: Trả điểm V1 | AA6: Số SV | AC6: Số phòng | AH6: =SUM(AI2:AI4)+SUM(AK2:AK5) -> 0
Q7: V1 | R7: V2
A8: CC2TH75-CCK65 | B8: 1 | C8: =_De_Loc2 -> #N/A | D8: =_De_Loc2 -> #N/A | E8: =_De_Loc2 -> #N/A | F8: =_De_Loc2 -> #N/A | G8: =_De_Loc2 -> #N/A | I8: =_De_Loc2 -> #N/A | J8: =_De_Loc2 -> #N/A | K8: =_De_Loc2 -> #N/A | L8: =_De_Loc2 -> #N/A | M8: =_De_Loc2 -> #N/A | N8: =_De_Loc2 -> #N/A | O8: =_De_Loc2 -> #N/A | Q8: Bộ đề | AA8: =_De_Loc2 -> #N/A | AB8: =_De_Loc2 -> #N/A | AC8: =_De_Loc2 -> #N/A | AD8: =COUNTIF(F:F,F8) -> 290 | AE8: =_De_Loc2 -> #N/A | AF8: =_De_Loc2 -> #N/A | AG8: =+IF(W8="","",AF8)
A9: DC2TT35-DCK64 | B9: =_De_stt -> 2 | C9: =_De_Loc2 -> #N/A | D9: =_De_Loc2 -> #N/A | E9: =_De_Loc2 -> #N/A | F9: =_De_Loc2 -> #N/A | G9: =_De_Loc2 -> #N/A | I9: =_De_Loc2 -> #N/A | J9: =_De_Loc2 -> #N/A | K9: =_De_Loc2 -> #N/A | L9: =_De_Loc2 -> #N/A | M9: =_De_Loc2 -> #N/A | N9: =_De_Loc2 -> #N/A | O9: =_De_Loc2 -> #N/A | Q9: Bộ đề | AA9: =_De_Loc2 -> #N/A | AB9: =_De_Loc2 -> #N/A | AC9: =_De_Loc2 -> #N/A | AD9: =COUNTIF(F:F,F9) -> 290 | AE9: =_De_Loc2 -> #N/A | AF9: =_De_Loc2 -> #N/A | AG9: =+IF(W9="","",AF9)
A10: CC3CK21-CCK64 | B10: =_De_stt -> 3 | C10: =_De_Loc2 -> #N/A | D10: =_De_Loc2 -> #N/A | E10: =_De_Loc2 -> #N/A | F10: =_De_Loc2 -> #N/A | G10: =_De_Loc2 -> #N/A | I10: =_De_Loc2 -> #N/A | J10: =_De_Loc2 -> #N/A | K10: =_De_Loc2 -> #N/A | L10: =_De_Loc2 -> #N/A | M10: =_De_Loc2 -> #N/A | N10: =_De_Loc2 -> #N/A | O10: =_De_Loc2 -> #N/A | Q10: 19+20 | AA10: =_De_Loc2 -> #N/A | AB10: =_De_Loc2 -> #N/A | AC10: =_De_Loc2 -> #N/A | AD10: =COUNTIF(F:F,F10) -> 290 | AE10: =_De_Loc2 -> #N/A | AF10: =_De_Loc2 -> #N/A | AG10: =+IF(W10="","",AF10)
A11: CC1CB92-CCK64 | B11: =_De_stt -> 4 | C11: =_De_Loc2 -> #N/A | D11: =_De_Loc2 -> #N/A | E11: =_De_Loc2 -> #N/A | F11: =_De_Loc2 -> #N/A | G11: =_De_Loc2 -> #N/A | I11: =_De_Loc2 -> #N/A | J11: =_De_Loc2 -> #N/A | K11: =_De_Loc2 -> #N/A | L11: =_De_Loc2 -> #N/A | M11: =_De_Loc2 -> #N/A | N11: =_De_Loc2 -> #N/A | O11: =_De_Loc2 -> #N/A | Q11: 9+10 | AA11: =_De_Loc2 -> #N/A | AB11: =_De_Loc2 -> #N/A | AC11: =_De_Loc2 -> #N/A | AD11: =COUNTIF(F:F,F11) -> 290 | AE11: =_De_Loc2 -> #N/A | AF11: =_De_Loc2 -> #N/A | AG11: =+IF(W11="","",AF11)
A12: CC2GT51-CCK65 | B12: =_De_stt -> 5 | C12: =_De_Loc2 -> #N/A | D12: =_De_Loc2 -> #N/A | E12: =_De_Loc2 -> #N/A | F12: =_De_Loc2 -> #N/A | G12: =_De_Loc2 -> #N/A | I12: =_De_Loc2 -> #N/A | J12: =_De_Loc2 -> #N/A | K12: =_De_Loc2 -> #N/A | L12: =_De_Loc2 -> #N/A | M12: =_De_Loc2 -> #N/A | N12: =_De_Loc2 -> #N/A | O12: =_De_Loc2 -> #N/A | Q12: 19+20 | AA12: =_De_Loc2 -> #N/A | AB12: =_De_Loc2 -> #N/A | AC12: =_De_Loc2 -> #N/A | AD12: =COUNTIF(F:F,F12) -> 290 | AE12: =_De_Loc2 -> #N/A | AF12: =_De_Loc2 -> #N/A | AG12: =+IF(W12="","",AF12)
A13: CC2DD51-CCK65 | B13: =_De_stt -> 6 | C13: =_De_Loc2 -> #N/A | D13: =_De_Loc2 -> #N/A | E13: =_De_Loc2 -> #N/A | F13: =_De_Loc2 -> #N/A | G13: =_De_Loc2 -> #N/A | I13: =_De_Loc2 -> #N/A | J13: =_De_Loc2 -> #N/A | K13: =_De_Loc2 -> #N/A | L13: =_De_Loc2 -> #N/A | M13: =_De_Loc2 -> #N/A | N13: =_De_Loc2 -> #N/A | O13: =_De_Loc2 -> #N/A | Q13: 9+10 | AA13: =_De_Loc2 -> #N/A | AB13: =_De_Loc2 -> #N/A | AC13: =_De_Loc2 -> #N/A | AD13: =COUNTIF(F:F,F13) -> 290 | AE13: =_De_Loc2 -> #N/A | AF13: =_De_Loc2 -> #N/A | AG13: =+IF(W13="","",AF13)
A14: CC2DT45-CCK65 | B14: =_De_stt -> 7 | C14: =_De_Loc2 -> #N/A | D14: =_De_Loc2 -> #N/A | E14: =_De_Loc2 -> #N/A | F14: =_De_Loc2 -> #N/A | G14: =_De_Loc2 -> #N/A | I14: =_De_Loc2 -> #N/A | J14: =_De_Loc2 -> #N/A | K14: =_De_Loc2 -> #N/A | L14: =_De_Loc2 -> #N/A | M14: =_De_Loc2 -> #N/A | N14: =_De_Loc2 -> #N/A | O14: =_De_Loc2 -> #N/A | Q14: 9+10 | AA14: =_De_Loc2 -> #N/A | AB14: =_De_Loc2 -> #N/A | AC14: =_De_Loc2 -> #N/A | AD14: =COUNTIF(F:F,F14) -> 290 | AE14: =_De_Loc2 -> #N/A | AF14: =_De_Loc2 -> #N/A | AG14: =+IF(W14="","",AF14)
A15: DC3DD51-DCK63 | B15: =_De_stt -> 8 | C15: =_De_Loc2 -> #N/A | D15: =_De_Loc2 -> #N/A | E15: =_De_Loc2 -> #N/A | F15: =_De_Loc2 -> #N/A | G15: =_De_Loc2 -> #N/A | I15: =_De_Loc2 -> #N/A | J15: =_De_Loc2 -> #N/A | K15: =_De_Loc2 -> #N/A | L15: =_De_Loc2 -> #N/A | M15: =_De_Loc2 -> #N/A | N15: =_De_Loc2 -> #N/A | O15: =_De_Loc2 -> #N/A | Q15: 9+10 | AA15: =_De_Loc2 -> #N/A | AB15: =_De_Loc2 -> #N/A | AC15: =_De_Loc2 -> #N/A | AD15: =COUNTIF(F:F,F15) -> 290 | AE15: =_De_Loc2 -> #N/A | AF15: =_De_Loc2 -> #N/A | AG15: =+IF(W15="","",AF15)
A16: DC2KV93-DCK65 | B16: =_De_stt -> 9 | C16: =_De_Loc2 -> #N/A | D16: =_De_Loc2 -> #N/A | E16: =_De_Loc2 -> #N/A | F16: =_De_Loc2 -> #N/A | G16: =_De_Loc2 -> #N/A | I16: =_De_Loc2 -> #N/A | J16: =_De_Loc2 -> #N/A | K16: =_De_Loc2 -> #N/A | L16: =_De_Loc2 -> #N/A | M16: =_De_Loc2 -> #N/A | N16: =_De_Loc2 -> #N/A | O16: =_De_Loc2 -> #N/A | Q16: 5+6 | AA16: =_De_Loc2 -> #N/A | AB16: =_De_Loc2 -> #N/A | AC16: =_De_Loc2 -> #N/A | AD16: =COUNTIF(F:F,F16) -> 290 | AE16: =_De_Loc2 -> #N/A | AF16: =_De_Loc2 -> #N/A | AG16: =+IF(W16="","",AF16)
A17: DC3CC47-DCK64 | B17: =_De_stt -> 10 | C17: =_De_Loc2 -> #N/A | D17: =_De_Loc2 -> #N/A | E17: =_De_Loc2 -> #N/A | F17: =_De_Loc2 -> #N/A | G17: =_De_Loc2 -> #N/A | I17: =_De_Loc2 -> #N/A | J17: =_De_Loc2 -> #N/A | K17: =_De_Loc2 -> #N/A | L17: =_De_Loc2 -> #N/A | M17: =_De_Loc2 -> #N/A | N17: =_De_Loc2 -> #N/A | O17: =_De_Loc2 -> #N/A | Q17: 9+10 | AA17: =_De_Loc2 -> #N/A | AB17: =_De_Loc2 -> #N/A | AC17: =_De_Loc2 -> #N/A | AD17: =COUNTIF(F:F,F17) -> 290 | AE17: =_De_Loc2 -> #N/A | AF17: =_De_Loc2 -> #N/A | AG17: =+IF(W17="","",AF17)
A18: CC1LL04-CCK64 | B18: =_De_stt -> 11 | C18: =_De_Loc2 -> #N/A | D18: =_De_Loc2 -> #N/A | E18: =_De_Loc2 -> #N/A | F18: =_De_Loc2 -> #N/A | G18: =_De_Loc2 -> #N/A | I18: =_De_Loc2 -> #N/A | J18: =_De_Loc2 -> #N/A | K18: =_De_Loc2 -> #N/A | L18: =_De_Loc2 -> #N/A | M18: =_De_Loc2 -> #N/A | N18: =_De_Loc2 -> #N/A | O18: =_De_Loc2 -> #N/A | Q18: 9+10 | T18: 7+8 | AA18: =_De_Loc2 -> #N/A | AB18: =_De_Loc2 -> #N/A | AC18: =_De_Loc2 -> #N/A | AD18: =COUNTIF(F:F,F18) -> 290 | AE18: =_De_Loc2 -> #N/A | AF18: =_De_Loc2 -> #N/A | AG18: =+IF(W18="","",AF18)
A19: DC1CB13-DCK65 | B19: =_De_stt -> 12 | C19: =_De_Loc2 -> #N/A | D19: =_De_Loc2 -> #N/A | E19: =_De_Loc2 -> #N/A | F19: =_De_Loc2 -> #N/A | G19: =_De_Loc2 -> #N/A | I19: =_De_Loc2 -> #N/A | J19: =_De_Loc2 -> #N/A | K19: =_De_Loc2 -> #N/A | L19: =_De_Loc2 -> #N/A | M19: =_De_Loc2 -> #N/A | N19: =_De_Loc2 -> #N/A | O19: =_De_Loc2 -> #N/A | Q19: 9+10 | AA19: =_De_Loc2 -> #N/A | AB19: =_De_Loc2 -> #N/A | AC19: =_De_Loc2 -> #N/A | AD19: =COUNTIF(F:F,F19) -> 290 | AE19: =_De_Loc2 -> #N/A | AF19: =_De_Loc2 -> #N/A | AG19: =+IF(W19="","",AF19)
A20: DC3CA51-DCK63 | B20: =_De_stt -> 13 | C20: =_De_Loc2 -> #N/A | D20: =_De_Loc2 -> #N/A | E20: =_De_Loc2 -> #N/A | F20: =_De_Loc2 -> #N/A | G20: =_De_Loc2 -> #N/A | I20: =_De_Loc2 -> #N/A | J20: =_De_Loc2 -> #N/A | K20: =_De_Loc2 -> #N/A | L20: =_De_Loc2 -> #N/A | M20: =_De_Loc2 -> #N/A | N20: =_De_Loc2 -> #N/A | O20: =_De_Loc2 -> #N/A | Q20: 17+18 | T20: 15+16 | AA20: =_De_Loc2 -> #N/A | AB20: =_De_Loc2 -> #N/A | AC20: =_De_Loc2 -> #N/A | AD20: =COUNTIF(F:F,F20) -> 290 | AE20: =_De_Loc2 -> #N/A | AF20: =_De_Loc2 -> #N/A | AG20: =+IF(W20="","",AF20)
A21: DC1LL04-DCK64 | B21: =_De_stt -> 14 | C21: =_De_Loc2 -> #N/A | D21: =_De_Loc2 -> #N/A | E21: =_De_Loc2 -> #N/A | F21: =_De_Loc2 -> #N/A | G21: =_De_Loc2 -> #N/A | I21: =_De_Loc2 -> #N/A | J21: =_De_Loc2 -> #N/A | K21: =_De_Loc2 -> #N/A | L21: =_De_Loc2 -> #N/A | M21: =_De_Loc2 -> #N/A | N21: =_De_Loc2 -> #N/A | O21: =_De_Loc2 -> #N/A | Q21: 9+10 | AA21: =_De_Loc2 -> #N/A | AB21: =_De_Loc2 -> #N/A | AC21: =_De_Loc2 -> #N/A | AD21: =COUNTIF(F:F,F21) -> 290 | AE21: =_De_Loc2 -> #N/A | AF21: =_De_Loc2 -> #N/A | AG21: =+IF(W21="","",AF21)
A22: DC2KV67-DCK65 | B22: =_De_stt -> 15 | C22: =_De_Loc2 -> #N/A | D22: =_De_Loc2 -> #N/A | E22: =_De_Loc2 -> #N/A | F22: =_De_Loc2 -> #N/A | G22: =_De_Loc2 -> #N/A | I22: =_De_Loc2 -> #N/A | J22: =_De_Loc2 -> #N/A | K22: =_De_Loc2 -> #N/A | L22: =_De_Loc2 -> #N/A | M22: =_De_Loc2 -> #N/A | N22: =_De_Loc2 -> #N/A | O22: =_De_Loc2 -> #N/A | Q22: 9+10 | AA22: =_De_Loc2 -> #N/A | AB22: =_De_Loc2 -> #N/A | AC22: =_De_Loc2 -> #N/A | AD22: =COUNTIF(F:F,F22) -> 290 | AE22: =_De_Loc2 -> #N/A | AF22: =_De_Loc2 -> #N/A | AG22: =+IF(W22="","",AF22)
A23: DC2CK58-DCK65 | B23: =_De_stt -> 16 | C23: =_De_Loc2 -> #N/A | D23: =_De_Loc2 -> #N/A | E23: =_De_Loc2 -> #N/A | F23: =_De_Loc2 -> #N/A | G23: =_De_Loc2 -> #N/A | I23: =_De_Loc2 -> #N/A | J23: =_De_Loc2 -> #N/A | K23: =_De_Loc2 -> #N/A | L23: =_De_Loc2 -> #N/A | M23: =_De_Loc2 -> #N/A | N23: =_De_Loc2 -> #N/A | O23: =_De_Loc2 -> #N/A | Q23: Bộ đề | AA23: =_De_Loc2 -> #N/A | AB23: =_De_Loc2 -> #N/A | AC23: =_De_Loc2 -> #N/A | AD23: =COUNTIF(F:F,F23) -> 290 | AE23: =_De_Loc2 -> #N/A | AF23: =_De_Loc2 -> #N/A | AG23: =+IF(W23="","",AF23)
A24: DC1CB26-DCK65 | B24: =_De_stt -> 17 | C24: =_De_Loc2 -> #N/A | D24: =_De_Loc2 -> #N/A | E24: =_De_Loc2 -> #N/A | F24: =_De_Loc2 -> #N/A | G24: =_De_Loc2 -> #N/A | I24: =_De_Loc2 -> #N/A | J24: =_De_Loc2 -> #N/A | K24: =_De_Loc2 -> #N/A | L24: =_De_Loc2 -> #N/A | M24: =_De_Loc2 -> #N/A | N24: =_De_Loc2 -> #N/A | O24: =_De_Loc2 -> #N/A | Q24: Bộ đề | AA24: =_De_Loc2 -> #N/A | AB24: =_De_Loc2 -> #N/A | AC24: =_De_Loc2 -> #N/A | AD24: =COUNTIF(F:F,F24) -> 290 | AE24: =_De_Loc2 -> #N/A | AF24: =_De_Loc2 -> #N/A | AG24: =+IF(W24="","",AF24)
A25: CC2CK33-CCK65 | B25: =_De_stt -> 18 | C25: =_De_Loc2 -> #N/A | D25: =_De_Loc2 -> #N/A | E25: =_De_Loc2 -> #N/A | F25: =_De_Loc2 -> #N/A | G25: =_De_Loc2 -> #N/A | I25: =_De_Loc2 -> #N/A | J25: =_De_Loc2 -> #N/A | K25: =_De_Loc2 -> #N/A | L25: =_De_Loc2 -> #N/A | M25: =_De_Loc2 -> #N/A | N25: =_De_Loc2 -> #N/A | O25: =_De_Loc2 -> #N/A | Q25: 9+10 | AA25: =_De_Loc2 -> #N/A | AB25: =_De_Loc2 -> #N/A | AC25: =_De_Loc2 -> #N/A | AD25: =COUNTIF(F:F,F25) -> 290 | AE25: =_De_Loc2 -> #N/A | AF25: =_De_Loc2 -> #N/A | AG25: =+IF(W25="","",AF25)
A26: DC2DT42-DCK65 | B26: =_De_stt -> 19 | C26: =_De_Loc2 -> #N/A | D26: =_De_Loc2 -> #N/A | E26: =_De_Loc2 -> #N/A | F26: =_De_Loc2 -> #N/A | G26: =_De_Loc2 -> #N/A | I26: =_De_Loc2 -> #N/A | J26: =_De_Loc2 -> #N/A | K26: =_De_Loc2 -> #N/A | L26: =_De_Loc2 -> #N/A | M26: =_De_Loc2 -> #N/A | N26: =_De_Loc2 -> #N/A | O26: =_De_Loc2 -> #N/A | Q26: 9+10 | AA26: =_De_Loc2 -> #N/A | AB26: =_De_Loc2 -> #N/A | AC26: =_De_Loc2 -> #N/A | AD26: =COUNTIF(F:F,F26) -> 290 | AE26: =_De_Loc2 -> #N/A | AF26: =_De_Loc2 -> #N/A | AG26: =+IF(W26="","",AF26)
A27: CC3KV30-CCK65 | B27: =_De_stt -> 20 | C27: =_De_Loc2 -> #N/A | D27: =_De_Loc2 -> #N/A | E27: =_De_Loc2 -> #N/A | F27: =_De_Loc2 -> #N/A | G27: =_De_Loc2 -> #N/A | I27: =_De_Loc2 -> #N/A | J27: =_De_Loc2 -> #N/A | K27: =_De_Loc2 -> #N/A | L27: =_De_Loc2 -> #N/A | M27: =_De_Loc2 -> #N/A | N27: =_De_Loc2 -> #N/A | O27: =_De_Loc2 -> #N/A | Q27: 3+4 | AA27: =_De_Loc2 -> #N/A | AB27: =_De_Loc2 -> #N/A | AC27: =_De_Loc2 -> #N/A | AD27: =COUNTIF(F:F,F27) -> 290 | AE27: =_De_Loc2 -> #N/A | AF27: =_De_Loc2 -> #N/A | AG27: =+IF(W27="","",AF27)
A28: CC3DT81-CCK64 | B28: =_De_stt -> 21 | C28: =_De_Loc2 -> #N/A | D28: =_De_Loc2 -> #N/A | E28: =_De_Loc2 -> #N/A | F28: =_De_Loc2 -> #N/A | G28: =_De_Loc2 -> #N/A | I28: =_De_Loc2 -> #N/A | J28: =_De_Loc2 -> #N/A | K28: =_De_Loc2 -> #N/A | L28: =_De_Loc2 -> #N/A | M28: =_De_Loc2 -> #N/A | N28: =_De_Loc2 -> #N/A | O28: =_De_Loc2 -> #N/A | Q28: 3+4 | AA28: =_De_Loc2 -> #N/A | AB28: =_De_Loc2 -> #N/A | AC28: =_De_Loc2 -> #N/A | AD28: =COUNTIF(F:F,F28) -> 290 | AE28: =_De_Loc2 -> #N/A | AF28: =_De_Loc2 -> #N/A | AG28: =+IF(W28="","",AF28)
A29: DC2CT65-DCK63 | B29: =_De_stt -> 22 | C29: =_De_Loc2 -> #N/A | D29: =_De_Loc2 -> #N/A | E29: =_De_Loc2 -> #N/A | F29: =_De_Loc2 -> #N/A | G29: =_De_Loc2 -> #N/A | I29: =_De_Loc2 -> #N/A | J29: =_De_Loc2 -> #N/A | K29: =_De_Loc2 -> #N/A | L29: =_De_Loc2 -> #N/A | M29: =_De_Loc2 -> #N/A | N29: =_De_Loc2 -> #N/A | O29: =_De_Loc2 -> #N/A | Q29: 8+9 | AA29: =_De_Loc2 -> #N/A | AB29: =_De_Loc2 -> #N/A | AC29: =_De_Loc2 -> #N/A | AD29: =COUNTIF(F:F,F29) -> 290 | AE29: =_De_Loc2 -> #N/A | AF29: =_De_Loc2 -> #N/A | AG29: =+IF(W29="","",AF29)
A30: DC3QT51-DCK63 | B30: =_De_stt -> 23 | C30: =_De_Loc2 -> #N/A | D30: =_De_Loc2 -> #N/A | E30: =_De_Loc2 -> #N/A | F30: =_De_Loc2 -> #N/A | G30: =_De_Loc2 -> #N/A | I30: =_De_Loc2 -> #N/A | J30: =_De_Loc2 -> #N/A | K30: =_De_Loc2 -> #N/A | L30: =_De_Loc2 -> #N/A | M30: =_De_Loc2 -> #N/A | N30: =_De_Loc2 -> #N/A | O30: =_De_Loc2 -> #N/A | Q30: 11+12 | AA30: =_De_Loc2 -> #N/A | AB30: =_De_Loc2 -> #N/A | AC30: =_De_Loc2 -> #N/A | AD30: =COUNTIF(F:F,F30) -> 290 | AE30: =_De_Loc2 -> #N/A | AF30: =_De_Loc2 -> #N/A | AG30: =+IF(W30="","",AF30)
A31: DC1LL03-DCK64 | B31: =_De_stt -> 24 | C31: =_De_Loc2 -> #N/A | D31: =_De_Loc2 -> #N/A | E31: =_De_Loc2 -> #N/A | F31: =_De_Loc2 -> #N/A | G31: =_De_Loc2 -> #N/A | I31: =_De_Loc2 -> #N/A | J31: =_De_Loc2 -> #N/A | K31: =_De_Loc2 -> #N/A | L31: =_De_Loc2 -> #N/A | M31: =_De_Loc2 -> #N/A | N31: =_De_Loc2 -> #N/A | O31: =_De_Loc2 -> #N/A | Q31: 2+3 | AA31: =_De_Loc2 -> #N/A | AB31: =_De_Loc2 -> #N/A | AC31: =_De_Loc2 -> #N/A | AD31: =COUNTIF(F:F,F31) -> 290 | AE31: =_De_Loc2 -> #N/A | AF31: =_De_Loc2 -> #N/A | AG31: =+IF(W31="","",AF31)
A32: DC1CB99-DCK65 | B32: =_De_stt -> 25 | C32: =_De_Loc2 -> #N/A | D32: =_De_Loc2 -> #N/A | E32: =_De_Loc2 -> #N/A | F32: =_De_Loc2 -> #N/A | G32: =_De_Loc2 -> #N/A | I32: =_De_Loc2 -> #N/A | J32: =_De_Loc2 -> #N/A | K32: =_De_Loc2 -> #N/A | L32: =_De_Loc2 -> #N/A | M32: =_De_Loc2 -> #N/A | N32: =_De_Loc2 -> #N/A | O32: =_De_Loc2 -> #N/A | Q32: 29+30 | AA32: =_De_Loc2 -> #N/A | AB32: =_De_Loc2 -> #N/A | AC32: =_De_Loc2 -> #N/A | AD32: =COUNTIF(F:F,F32) -> 290 | AE32: =_De_Loc2 -> #N/A | AF32: =_De_Loc2 -> #N/A | AG32: =+IF(W32="","",AF32)
... A49: DC2KV73-DCK65 | B49: =_De_stt -> 42 | C49: =_De_Loc2 -> #N/A | D49: =_De_Loc2 -> #N/A | E49: =_De_Loc2 -> #N/A | F49: =_De_Loc2 -> #N/A | G49: =_De_Loc2 -> #N/A | I49: =_De_Loc2 -> #N/A | J49: =_De_Loc2 -> #N/A | K49: =_De_Loc2 -> #N/A | L49: =_De_Loc2 -> #N/A | M49: =_De_Loc2 -> #N/A | N49: =_De_Loc2 -> #N/A | O49: =_De_Loc2 -> #N/A | Q49: 21+22 | AA49: =_De_Loc2 -> #N/A | AB49: =_De_Loc2 -> #N/A | AC49: =_De_Loc2 -> #N/A | AD49: =COUNTIF(F:F,F49) -> 290 | AE49: =_De_Loc2 -> #N/A | AF49: =_De_Loc2 -> #N/A | AG49: =+IF(W49="","",AF49)
A50: CC3KT26-CCK64 | B50: =_De_stt -> 43 | C50: =_De_Loc2 -> #N/A | D50: =_De_Loc2 -> #N/A | E50: =_De_Loc2 -> #N/A | F50: =_De_Loc2 -> #N/A | G50: =_De_Loc2 -> #N/A | I50: =_De_Loc2 -> #N/A | J50: =_De_Loc2 -> #N/A | K50: =_De_Loc2 -> #N/A | L50: =_De_Loc2 -> #N/A | M50: =_De_Loc2 -> #N/A | N50: =_De_Loc2 -> #N/A | O50: =_De_Loc2 -> #N/A | Q50: 3+4 | S50: 1+2 | AA50: =_De_Loc2 -> #N/A | AB50: =_De_Loc2 -> #N/A | AC50: =_De_Loc2 -> #N/A | AD50: =COUNTIF(F:F,F50) -> 290 | AE50: =_De_Loc2 -> #N/A | AF50: =_De_Loc2 -> #N/A | AG50: =+IF(W50="","",AF50)
A51: DC2GT52-DCK64 | B51: =_De_stt -> 44 | C51: =_De_Loc2 -> #N/A | D51: =_De_Loc2 -> #N/A | E51: =_De_Loc2 -> #N/A | F51: =_De_Loc2 -> #N/A | G51: =_De_Loc2 -> #N/A | I51: =_De_Loc2 -> #N/A | J51: =_De_Loc2 -> #N/A | K51: =_De_Loc2 -> #N/A | L51: =_De_Loc2 -> #N/A | M51: =_De_Loc2 -> #N/A | N51: =_De_Loc2 -> #N/A | O51: =_De_Loc2 -> #N/A | Q51: 19+20 | AA51: =_De_Loc2 -> #N/A | AB51: =_De_Loc2 -> #N/A | AC51: =_De_Loc2 -> #N/A | AD51: =COUNTIF(F:F,F51) -> 290 | AE51: =_De_Loc2 -> #N/A | AF51: =_De_Loc2 -> #N/A | AG51: =+IF(W51="","",AF51)
A52: DC2GT52a-DCK64 | B52: =_De_stt -> 45 | C52: =_De_Loc2 -> #N/A | D52: =_De_Loc2 -> #N/A | E52: =_De_Loc2 -> #N/A | F52: =_De_Loc2 -> #N/A | G52: =_De_Loc2 -> #N/A | I52: =_De_Loc2 -> #N/A | J52: =_De_Loc2 -> #N/A | K52: =_De_Loc2 -> #N/A | L52: =_De_Loc2 -> #N/A | M52: =_De_Loc2 -> #N/A | N52: =_De_Loc2 -> #N/A | O52: =_De_Loc2 -> #N/A | Q52: 19+20 | AA52: =_De_Loc2 -> #N/A | AB52: =_De_Loc2 -> #N/A | AC52: =_De_Loc2 -> #N/A | AD52: =COUNTIF(F:F,F52) -> 290 | AE52: =_De_Loc2 -> #N/A | AF52: =_De_Loc2 -> #N/A | AG52: =+IF(W52="","",AF52)
A53: DC3QT64-DCK64 | B53: =_De_stt -> 46 | C53: =_De_Loc2 -> #N/A | D53: =_De_Loc2 -> #N/A | E53: =_De_Loc2 -> #N/A | F53: =_De_Loc2 -> #N/A | G53: =_De_Loc2 -> #N/A | I53: =_De_Loc2 -> #N/A | J53: =_De_Loc2 -> #N/A | K53: =_De_Loc2 -> #N/A | L53: =_De_Loc2 -> #N/A | M53: =_De_Loc2 -> #N/A | N53: =_De_Loc2 -> #N/A | O53: =_De_Loc2 -> #N/A | Q53: 19+20 | AA53: =_De_Loc2 -> #N/A | AB53: =_De_Loc2 -> #N/A | AC53: =_De_Loc2 -> #N/A | AD53: =COUNTIF(F:F,F53) -> 290 | AE53: =_De_Loc2 -> #N/A | AF53: =_De_Loc2 -> #N/A | AG53: =+IF(W53="","",AF53)
A54: DC2DD42-DCK64 | B54: =_De_stt -> 47 | C54: =_De_Loc2 -> #N/A | D54: =_De_Loc2 -> #N/A | E54: =_De_Loc2 -> #N/A | F54: =_De_Loc2 -> #N/A | G54: =_De_Loc2 -> #N/A | I54: =_De_Loc2 -> #N/A | J54: =_De_Loc2 -> #N/A | K54: =_De_Loc2 -> #N/A | L54: =_De_Loc2 -> #N/A | M54: =_De_Loc2 -> #N/A | N54: =_De_Loc2 -> #N/A | O54: =_De_Loc2 -> #N/A | Q54: 19+20 | AA54: =_De_Loc2 -> #N/A | AB54: =_De_Loc2 -> #N/A | AC54: =_De_Loc2 -> #N/A | AD54: =COUNTIF(F:F,F54) -> 290 | AE54: =_De_Loc2 -> #N/A | AF54: =_De_Loc2 -> #N/A | AG54: =+IF(W54="","",AF54)
A55: DC1CB20-DCK65 | B55: =_De_stt -> 48 | C55: =_De_Loc2 -> #N/A | D55: =_De_Loc2 -> #N/A | E55: =_De_Loc2 -> #N/A | F55: =_De_Loc2 -> #N/A | G55: =_De_Loc2 -> #N/A | I55: =_De_Loc2 -> #N/A | J55: =_De_Loc2 -> #N/A | K55: =_De_Loc2 -> #N/A | L55: =_De_Loc2 -> #N/A | M55: =_De_Loc2 -> #N/A | N55: =_De_Loc2 -> #N/A | O55: =_De_Loc2 -> #N/A | Q55: 11+12 | AA55: =_De_Loc2 -> #N/A | AB55: =_De_Loc2 -> #N/A | AC55: =_De_Loc2 -> #N/A | AD55: =COUNTIF(F:F,F55) -> 290 | AE55: =_De_Loc2 -> #N/A | AF55: =_De_Loc2 -> #N/A | AG55: =+IF(W55="","",AF55)
A56: DC1LL03-DCK65 | B56: =_De_stt -> 49 | C56: =_De_Loc2 -> #N/A | D56: =_De_Loc2 -> #N/A | E56: =_De_Loc2 -> #N/A | F56: =_De_Loc2 -> #N/A | G56: =_De_Loc2 -> #N/A | I56: =_De_Loc2 -> #N/A | J56: =_De_Loc2 -> #N/A | K56: =_De_Loc2 -> #N/A | L56: =_De_Loc2 -> #N/A | M56: =_De_Loc2 -> #N/A | N56: =_De_Loc2 -> #N/A | O56: =_De_Loc2 -> #N/A | Q56: 7+8 | AA56: =_De_Loc2 -> #N/A | AB56: =_De_Loc2 -> #N/A | AC56: =_De_Loc2 -> #N/A | AD56: =COUNTIF(F:F,F56) -> 290 | AE56: =_De_Loc2 -> #N/A | AF56: =_De_Loc2 -> #N/A | AG56: =+IF(W56="","",AF56)
A57: DC3CD60-DCK63 | B57: =_De_stt -> 50 | C57: =_De_Loc2 -> #N/A | D57: =_De_Loc2 -> #N/A | E57: =_De_Loc2 -> #N/A | F57: =_De_Loc2 -> #N/A | G57: =_De_Loc2 -> #N/A | I57: =_De_Loc2 -> #N/A | J57: =_De_Loc2 -> #N/A | K57: =_De_Loc2 -> #N/A | L57: =_De_Loc2 -> #N/A | M57: =_De_Loc2 -> #N/A | N57: =_De_Loc2 -> #N/A | O57: =_De_Loc2 -> #N/A | Q57: Bộ đề | AA57: =_De_Loc2 -> #N/A | AB57: =_De_Loc2 -> #N/A | AC57: =_De_Loc2 -> #N/A | AD57: =COUNTIF(F:F,F57) -> 290 | AE57: =_De_Loc2 -> #N/A | AF57: =_De_Loc2 -> #N/A | AG57: =+IF(W57="","",AF57)
A58: CC3TH42-CCK64 | B58: =_De_stt -> 51 | C58: =_De_Loc2 -> #N/A | D58: =_De_Loc2 -> #N/A | E58: =_De_Loc2 -> #N/A | F58: =_De_Loc2 -> #N/A | G58: =_De_Loc2 -> #N/A | I58: =_De_Loc2 -> #N/A | J58: =_De_Loc2 -> #N/A | K58: =_De_Loc2 -> #N/A | L58: =_De_Loc2 -> #N/A | M58: =_De_Loc2 -> #N/A | N58: =_De_Loc2 -> #N/A | O58: =_De_Loc2 -> #N/A | Q58: Bộ đề | AA58: =_De_Loc2 -> #N/A | AB58: =_De_Loc2 -> #N/A | AC58: =_De_Loc2 -> #N/A | AD58: =COUNTIF(F:F,F58) -> 290 | AE58: =_De_Loc2 -> #N/A | AF58: =_De_Loc2 -> #N/A | AG58: =+IF(W58="","",AF58)
A59: CC3OT52-CCK64 | B59: =_De_stt -> 52 | C59: =_De_Loc2 -> #N/A | D59: =_De_Loc2 -> #N/A | E59: =_De_Loc2 -> #N/A | F59: =_De_Loc2 -> #N/A | G59: =_De_Loc2 -> #N/A | I59: =_De_Loc2 -> #N/A | J59: =_De_Loc2 -> #N/A | K59: =_De_Loc2 -> #N/A | L59: =_De_Loc2 -> #N/A | M59: =_De_Loc2 -> #N/A | N59: =_De_Loc2 -> #N/A | O59: =_De_Loc2 -> #N/A | Q59: 14+15 | AA59: =_De_Loc2 -> #N/A | AB59: =_De_Loc2 -> #N/A | AC59: =_De_Loc2 -> #N/A | AD59: =COUNTIF(F:F,F59) -> 290 | AE59: =_De_Loc2 -> #N/A | AF59: =_De_Loc2 -> #N/A | AG59: =+IF(W59="","",AF59)
A60: CC3MX43-CCK64 | B60: =_De_stt -> 53 | C60: =_De_Loc2 -> #N/A | D60: =_De_Loc2 -> #N/A | E60: =_De_Loc2 -> #N/A | F60: =_De_Loc2 -> #N/A | G60: =_De_Loc2 -> #N/A | I60: =_De_Loc2 -> #N/A | J60: =_De_Loc2 -> #N/A | K60: =_De_Loc2 -> #N/A | L60: =_De_Loc2 -> #N/A | M60: =_De_Loc2 -> #N/A | N60: =_De_Loc2 -> #N/A | O60: =_De_Loc2 -> #N/A | Q60: 17+18 | R60: 21,22 | AA60: =_De_Loc2 -> #N/A | AB60: =_De_Loc2 -> #N/A | AC60: =_De_Loc2 -> #N/A | AD60: =COUNTIF(F:F,F60) -> 290 | AE60: =_De_Loc2 -> #N/A | AF60: =_De_Loc2 -> #N/A | AG60: =+IF(W60="","",AF60)
A61: CC2CK18-CCK65 | B61: =_De_stt -> 54 | C61: =_De_Loc2 -> #N/A | D61: =_De_Loc2 -> #N/A | E61: =_De_Loc2 -> #N/A | F61: =_De_Loc2 -> #N/A | G61: =_De_Loc2 -> #N/A | I61: =_De_Loc2 -> #N/A | J61: =_De_Loc2 -> #N/A | K61: =_De_Loc2 -> #N/A | L61: =_De_Loc2 -> #N/A | M61: =_De_Loc2 -> #N/A | N61: =_De_Loc2 -> #N/A | O61: =_De_Loc2 -> #N/A | Q61: 5+6 | AA61: =_De_Loc2 -> #N/A | AB61: =_De_Loc2 -> #N/A | AC61: =_De_Loc2 -> #N/A | AD61: =COUNTIF(F:F,F61) -> 290 | AE61: =_De_Loc2 -> #N/A | AF61: =_De_Loc2 -> #N/A | AG61: =+IF(#REF!="","",AF61) -> #REF!
A62: CC2DD52-CCK65 | B62: =_De_stt -> 55 | C62: =_De_Loc2 -> #N/A | D62: =_De_Loc2 -> #N/A | E62: =_De_Loc2 -> #N/A | F62: =_De_Loc2 -> #N/A | G62: =_De_Loc2 -> #N/A | I62: =_De_Loc2 -> #N/A | J62: =_De_Loc2 -> #N/A | K62: =_De_Loc2 -> #N/A | L62: =_De_Loc2 -> #N/A | M62: =_De_Loc2 -> #N/A | N62: =_De_Loc2 -> #N/A | O62: =_De_Loc2 -> #N/A | Q62: 9+10 | AA62: =_De_Loc2 -> #N/A | AB62: =_De_Loc2 -> #N/A | AC62: =_De_Loc2 -> #N/A | AD62: =COUNTIF(F:F,F62) -> 290 | AE62: =_De_Loc2 -> #N/A | AF62: =_De_Loc2 -> #N/A | AG62: =+IF(W62="","",AF62)
A63: CC2GT52-CCK65 | B63: =_De_stt -> 56 | C63: =_De_Loc2 -> #N/A | D63: =_De_Loc2 -> #N/A | E63: =_De_Loc2 -> #N/A | F63: =_De_Loc2 -> #N/A | G63: =_De_Loc2 -> #N/A | I63: =_De_Loc2 -> #N/A | J63: =_De_Loc2 -> #N/A | K63: =_De_Loc2 -> #N/A | L63: =_De_Loc2 -> #N/A | M63: =_De_Loc2 -> #N/A | N63: =_De_Loc2 -> #N/A | O63: =_De_Loc2 -> #N/A | Q63: 15+16 | AA63: =_De_Loc2 -> #N/A | AB63: =_De_Loc2 -> #N/A | AC63: =_De_Loc2 -> #N/A | AD63: =COUNTIF(F:F,F63) -> 290 | AE63: =_De_Loc2 -> #N/A | AF63: =_De_Loc2 -> #N/A | AG63: =+IF(W63="","",AF63)
A64: DC2KV82-DCK65 | B64: =_De_stt -> 57 | C64: =_De_Loc2 -> #N/A | D64: =_De_Loc2 -> #N/A | E64: =_De_Loc2 -> #N/A | F64: =_De_Loc2 -> #N/A | G64: =_De_Loc2 -> #N/A | I64: =_De_Loc2 -> #N/A | J64: =_De_Loc2 -> #N/A | K64: =_De_Loc2 -> #N/A | L64: =_De_Loc2 -> #N/A | M64: =_De_Loc2 -> #N/A | N64: =_De_Loc2 -> #N/A | O64: =_De_Loc2 -> #N/A | Q64: 17+18 | AA64: =_De_Loc2 -> #N/A | AB64: =_De_Loc2 -> #N/A | AC64: =_De_Loc2 -> #N/A | AD64: =COUNTIF(F:F,F64) -> 290 | AE64: =_De_Loc2 -> #N/A | AF64: =_De_Loc2 -> #N/A | AG64: =+IF(W64="","",AF64)
A65: DC2CK32-DCK65 | B65: =_De_stt -> 58 | C65: =_De_Loc2 -> #N/A | D65: =_De_Loc2 -> #N/A | E65: =_De_Loc2 -> #N/A | F65: =_De_Loc2 -> #N/A | G65: =_De_Loc2 -> #N/A | I65: =_De_Loc2 -> #N/A | J65: =_De_Loc2 -> #N/A | K65: =_De_Loc2 -> #N/A | L65: =_De_Loc2 -> #N/A | M65: =_De_Loc2 -> #N/A | N65: =_De_Loc2 -> #N/A | O65: =_De_Loc2 -> #N/A | Q65: 9+10 | AA65: =_De_Loc2 -> #N/A | AB65: =_De_Loc2 -> #N/A | AC65: =_De_Loc2 -> #N/A | AD65: =COUNTIF(F:F,F65) -> 290 | AE65: =_De_Loc2 -> #N/A | AF65: =_De_Loc2 -> #N/A | AG65: =+IF(W65="","",AF65)
A66: DC3VL25-DCK65 | B66: =_De_stt -> 59 | C66: =_De_Loc2 -> #N/A | D66: =_De_Loc2 -> #N/A | E66: =_De_Loc2 -> #N/A | F66: =_De_Loc2 -> #N/A | G66: =_De_Loc2 -> #N/A | I66: =_De_Loc2 -> #N/A | J66: =_De_Loc2 -> #N/A | K66: =_De_Loc2 -> #N/A | L66: =_De_Loc2 -> #N/A | M66: =_De_Loc2 -> #N/A | N66: =_De_Loc2 -> #N/A | O66: =_De_Loc2 -> #N/A | Q66: 3+4 | AA66: =_De_Loc2 -> #N/A | AB66: =_De_Loc2 -> #N/A | AC66: =_De_Loc2 -> #N/A | AD66: =COUNTIF(F:F,F66) -> 290 | AE66: =_De_Loc2 -> #N/A | AF66: =_De_Loc2 -> #N/A | AG66: =+IF(W66="","",AF66)
A67: CC3KT22-CCK65 | B67: =_De_stt -> 60 | C67: =_De_Loc2 -> #N/A | D67: =_De_Loc2 -> #N/A | E67: =_De_Loc2 -> #N/A | F67: =_De_Loc2 -> #N/A | G67: =_De_Loc2 -> #N/A | I67: =_De_Loc2 -> #N/A | J67: =_De_Loc2 -> #N/A | K67: =_De_Loc2 -> #N/A | L67: =_De_Loc2 -> #N/A | M67: =_De_Loc2 -> #N/A | N67: =_De_Loc2 -> #N/A | O67: =_De_Loc2 -> #N/A | Q67: 7+8 | AA67: =_De_Loc2 -> #N/A | AB67: =_De_Loc2 -> #N/A | AC67: =_De_Loc2 -> #N/A | AD67: =COUNTIF(F:F,F67) -> 290 | AE67: =_De_Loc2 -> #N/A | AF67: =_De_Loc2 -> #N/A | AG67: =+IF(W67="","",AF67)
A68: DC3CT91-DCK63 | B68: =_De_stt -> 61 | C68: =_De_Loc2 -> #N/A | D68: =_De_Loc2 -> #N/A | E68: =_De_Loc2 -> #N/A | F68: =_De_Loc2 -> #N/A | G68: =_De_Loc2 -> #N/A | I68: =_De_Loc2 -> #N/A | J68: =_De_Loc2 -> #N/A | K68: =_De_Loc2 -> #N/A | L68: =_De_Loc2 -> #N/A | M68: =_De_Loc2 -> #N/A | N68: =_De_Loc2 -> #N/A | O68: =_De_Loc2 -> #N/A | Q68: 30+35 | AA68: =_De_Loc2 -> #N/A | AB68: =_De_Loc2 -> #N/A | AC68: =_De_Loc2 -> #N/A | AD68: =COUNTIF(F:F,F68) -> 290 | AE68: =_De_Loc2 -> #N/A | AF68: =_De_Loc2 -> #N/A | AG68: =+IF(W68="","",AF68)
A69: CC3DT61-CCK64 | B69: =_De_stt -> 62 | C69: =_De_Loc2 -> #N/A | D69: =_De_Loc2 -> #N/A | E69: =_De_Loc2 -> #N/A | F69: =_De_Loc2 -> #N/A | G69: =_De_Loc2 -> #N/A | I69: =_De_Loc2 -> #N/A | J69: =_De_Loc2 -> #N/A | K69: =_De_Loc2 -> #N/A | L69: =_De_Loc2 -> #N/A | M69: =_De_Loc2 -> #N/A | N69: =_De_Loc2 -> #N/A | O69: =_De_Loc2 -> #N/A | Q69: 9+10 | AA69: =_De_Loc2 -> #N/A | AB69: =_De_Loc2 -> #N/A | AC69: =_De_Loc2 -> #N/A | AD69: =COUNTIF(F:F,F69) -> 290 | AE69: =_De_Loc2 -> #N/A | AF69: =_De_Loc2 -> #N/A | AG69: =+IF(W69="","",AF69)
A70: DC3KV32-DCK63 | B70: =_De_stt -> 63 | C70: =_De_Loc2 -> #N/A | D70: =_De_Loc2 -> #N/A | E70: =_De_Loc2 -> #N/A | F70: =_De_Loc2 -> #N/A | G70: =_De_Loc2 -> #N/A | I70: =_De_Loc2 -> #N/A | J70: =_De_Loc2 -> #N/A | K70: =_De_Loc2 -> #N/A | L70: =_De_Loc2 -> #N/A | M70: =_De_Loc2 -> #N/A | N70: =_De_Loc2 -> #N/A | O70: =_De_Loc2 -> #N/A | Q70: 9+10 | AA70: =_De_Loc2 -> #N/A | AB70: =_De_Loc2 -> #N/A | AC70: =_De_Loc2 -> #N/A | AD70: =COUNTIF(F:F,F70) -> 290 | AE70: =_De_Loc2 -> #N/A | AF70: =_De_Loc2 -> #N/A | AG70: =+IF(W70="","",AF70)
A71: CC3KT27-CCK64 | B71: =_De_stt -> 64 | C71: =_De_Loc2 -> #N/A | D71: =_De_Loc2 -> #N/A | E71: =_De_Loc2 -> #N/A | F71: =_De_Loc2 -> #N/A | G71: =_De_Loc2 -> #N/A | I71: =_De_Loc2 -> #N/A | J71: =_De_Loc2 -> #N/A | K71: =_De_Loc2 -> #N/A | L71: =_De_Loc2 -> #N/A | M71: =_De_Loc2 -> #N/A | N71: =_De_Loc2 -> #N/A | O71: =_De_Loc2 -> #N/A | Q71: 17+18 | S71: 19+20 | AA71: =_De_Loc2 -> #N/A | AB71: =_De_Loc2 -> #N/A | AC71: =_De_Loc2 -> #N/A | AD71: =COUNTIF(F:F,F71) -> 290 | AE71: =_De_Loc2 -> #N/A | AF71: =_De_Loc2 -> #N/A | AG71: =+IF(W71="","",AF71)
A72: DC3KV30-DCK64 | B72: =_De_stt -> 65 | C72: =_De_Loc2 -> #N/A | D72: =_De_Loc2 -> #N/A | E72: =_De_Loc2 -> #N/A | F72: =_De_Loc2 -> #N/A | G72: =_De_Loc2 -> #N/A | I72: =_De_Loc2 -> #N/A | J72: =_De_Loc2 -> #N/A | K72: =_De_Loc2 -> #N/A | L72: =_De_Loc2 -> #N/A | M72: =_De_Loc2 -> #N/A | N72: =_De_Loc2 -> #N/A | O72: =_De_Loc2 -> #N/A | Q72: 19+20 | AA72: =_De_Loc2 -> #N/A | AB72: =_De_Loc2 -> #N/A | AC72: =_De_Loc2 -> #N/A | AD72: =COUNTIF(F:F,F72) -> 290 | AE72: =_De_Loc2 -> #N/A | AF72: =_De_Loc2 -> #N/A | AG72: =+IF(W72="","",AF72)
A73: DC2OT70-DCK64 | B73: =_De_stt -> 66 | C73: =_De_Loc2 -> #N/A | D73: =_De_Loc2 -> #N/A | E73: =_De_Loc2 -> #N/A | F73: =_De_Loc2 -> #N/A | G73: =_De_Loc2 -> #N/A | I73: =_De_Loc2 -> #N/A | J73: =_De_Loc2 -> #N/A | K73: =_De_Loc2 -> #N/A | L73: =_De_Loc2 -> #N/A | M73: =_De_Loc2 -> #N/A | N73: =_De_Loc2 -> #N/A | O73: =_De_Loc2 -> #N/A | Q73: Bộ đề | AA73: =_De_Loc2 -> #N/A | AB73: =_De_Loc2 -> #N/A | AC73: =_De_Loc2 -> #N/A | AD73: =COUNTIF(F:F,F73) -> 290 | AE73: =_De_Loc2 -> #N/A | AF73: =_De_Loc2 -> #N/A | AG73: =+IF(W73="","",AF73)
A74: DC2DD51-DCK64 | B74: =_De_stt -> 67 | C74: =_De_Loc2 -> #N/A | D74: =_De_Loc2 -> #N/A | E74: =_De_Loc2 -> #N/A | F74: =_De_Loc2 -> #N/A | G74: =_De_Loc2 -> #N/A | I74: =_De_Loc2 -> #N/A | J74: =_De_Loc2 -> #N/A | K74: =_De_Loc2 -> #N/A | L74: =_De_Loc2 -> #N/A | M74: =_De_Loc2 -> #N/A | N74: =_De_Loc2 -> #N/A | O74: =_De_Loc2 -> #N/A | Q74: 9+10 | AA74: =_De_Loc2 -> #N/A | AB74: =_De_Loc2 -> #N/A | AC74: =_De_Loc2 -> #N/A | AD74: =COUNTIF(F:F,F74) -> 290 | AE74: =_De_Loc2 -> #N/A | AF74: =_De_Loc2 -> #N/A | AG74: =+IF(W74="","",AF74)
A75: DC3QT65-DCK64 | B75: =_De_stt -> 68 | C75: =_De_Loc2 -> #N/A | D75: =_De_Loc2 -> #N/A | E75: =_De_Loc2 -> #N/A | F75: =_De_Loc2 -> #N/A | G75: =_De_Loc2 -> #N/A | I75: =_De_Loc2 -> #N/A | J75: =_De_Loc2 -> #N/A | K75: =_De_Loc2 -> #N/A | L75: =_De_Loc2 -> #N/A | M75: =_De_Loc2 -> #N/A | N75: =_De_Loc2 -> #N/A | O75: =_De_Loc2 -> #N/A | Q75: 11+12 | AA75: =_De_Loc2 -> #N/A | AB75: =_De_Loc2 -> #N/A | AC75: =_De_Loc2 -> #N/A | AD75: =COUNTIF(F:F,F75) -> 290 | AE75: =_De_Loc2 -> #N/A | AF75: =_De_Loc2 -> #N/A | AG75: =+IF(W75="","",AF75)
A76: DC2CT31-DCK65 | B76: =_De_stt -> 69 | C76: =_De_Loc2 -> #N/A | D76: =_De_Loc2 -> #N/A | E76: =_De_Loc2 -> #N/A | F76: =_De_Loc2 -> #N/A | G76: =_De_Loc2 -> #N/A | I76: =_De_Loc2 -> #N/A | J76: =_De_Loc2 -> #N/A | K76: =_De_Loc2 -> #N/A | L76: =_De_Loc2 -> #N/A | M76: =_De_Loc2 -> #N/A | N76: =_De_Loc2 -> #N/A | O76: =_De_Loc2 -> #N/A | Q76: 14+15 | AA76: =_De_Loc2 -> #N/A | AB76: =_De_Loc2 -> #N/A | AC76: =_De_Loc2 -> #N/A | AD76: =COUNTIF(F:F,F76) -> 290 | AE76: =_De_Loc2 -> #N/A | AF76: =_De_Loc2 -> #N/A | AG76: =+IF(W76="","",AF76)
A77: DC3KX71-DCK65 | B77: =_De_stt -> 70 | C77: =_De_Loc2 -> #N/A | D77: =_De_Loc2 -> #N/A | E77: =_De_Loc2 -> #N/A | F77: =_De_Loc2 -> #N/A | G77: =_De_Loc2 -> #N/A | I77: =_De_Loc2 -> #N/A | J77: =_De_Loc2 -> #N/A | K77: =_De_Loc2 -> #N/A | L77: =_De_Loc2 -> #N/A | M77: =_De_Loc2 -> #N/A | N77: =_De_Loc2 -> #N/A | O77: =_De_Loc2 -> #N/A | Q77: 29+30 | AA77: =_De_Loc2 -> #N/A | AB77: =_De_Loc2 -> #N/A | AC77: =_De_Loc2 -> #N/A | AD77: =COUNTIF(F:F,F77) -> 290 | AE77: =_De_Loc2 -> #N/A | AF77: =_De_Loc2 -> #N/A | AG77: =+IF(W77="","",AF77)
A78: DC2VS67-DCK65 | B78: =_De_stt -> 71 | C78: =_De_Loc2 -> #N/A | D78: =_De_Loc2 -> #N/A | E78: =_De_Loc2 -> #N/A | F78: =_De_Loc2 -> #N/A | G78: =_De_Loc2 -> #N/A | I78: =_De_Loc2 -> #N/A | J78: =_De_Loc2 -> #N/A | K78: =_De_Loc2 -> #N/A | L78: =_De_Loc2 -> #N/A | M78: =_De_Loc2 -> #N/A | N78: =_De_Loc2 -> #N/A | O78: =_De_Loc2 -> #N/A | Q78: 3+4 | AA78: =_De_Loc2 -> #N/A | AB78: =_De_Loc2 -> #N/A | AC78: =_De_Loc2 -> #N/A | AD78: =COUNTIF(F:F,F78) -> 290 | AE78: =_De_Loc2 -> #N/A | AF78: =_De_Loc2 -> #N/A | AG78: =+IF(W78="","",AF78)
A79: CC2HT26-CCK65 | B79: =_De_stt -> 72 | C79: =_De_Loc2 -> #N/A | D79: =_De_Loc2 -> #N/A | E79: =_De_Loc2 -> #N/A | F79: =_De_Loc2 -> #N/A | G79: =_De_Loc2 -> #N/A | I79: =_De_Loc2 -> #N/A | J79: =_De_Loc2 -> #N/A | K79: =_De_Loc2 -> #N/A | L79: =_De_Loc2 -> #N/A | M79: =_De_Loc2 -> #N/A | N79: =_De_Loc2 -> #N/A | O79: =_De_Loc2 -> #N/A | Q79: 9+10 | AA79: =_De_Loc2 -> #N/A | AB79: =_De_Loc2 -> #N/A | AC79: =_De_Loc2 -> #N/A | AD79: =COUNTIF(F:F,F79) -> 290 | AE79: =_De_Loc2 -> #N/A | AF79: =_De_Loc2 -> #N/A | AG79: =+IF(W79="","",AF79)
A80: CC2DD94-CCK64 | B80: =_De_stt -> 73 | C80: =_De_Loc2 -> #N/A | D80: =_De_Loc2 -> #N/A | E80: =_De_Loc2 -> #N/A | F80: =_De_Loc2 -> #N/A | G80: =_De_Loc2 -> #N/A | I80: =_De_Loc2 -> #N/A | J80: =_De_Loc2 -> #N/A | K80: =_De_Loc2 -> #N/A | L80: =_De_Loc2 -> #N/A | M80: =_De_Loc2 -> #N/A | N80: =_De_Loc2 -> #N/A | O80: =_De_Loc2 -> #N/A | Q80: 7+8 | AA80: =_De_Loc2 -> #N/A | AB80: =_De_Loc2 -> #N/A | AC80: =_De_Loc2 -> #N/A | AD80: =COUNTIF(F:F,F80) -> 290 | AE80: =_De_Loc2 -> #N/A | AF80: =_De_Loc2 -> #N/A | AG80: =+IF(W80="","",AF80)
A81: CC3CA52-CCK64 | B81: =_De_stt -> 74 | C81: =_De_Loc2 -> #N/A | D81: =_De_Loc2 -> #N/A | E81: =_De_Loc2 -> #N/A | F81: =_De_Loc2 -> #N/A | G81: =_De_Loc2 -> #N/A | I81: =_De_Loc2 -> #N/A | J81: =_De_Loc2 -> #N/A | K81: =_De_Loc2 -> #N/A | L81: =_De_Loc2 -> #N/A | M81: =_De_Loc2 -> #N/A | N81: =_De_Loc2 -> #N/A | O81: =_De_Loc2 -> #N/A | Q81: 19+20 | AA81: =_De_Loc2 -> #N/A | AB81: =_De_Loc2 -> #N/A | AC81: =_De_Loc2 -> #N/A | AD81: =COUNTIF(F:F,F81) -> 290 | AE81: =_De_Loc2 -> #N/A | AF81: =_De_Loc2 -> #N/A | AG81: =+IF(W81="","",AF81)
A82: DC2VB67-DCK65 | B82: =_De_stt -> 75 | C82: =_De_Loc2 -> #N/A | D82: =_De_Loc2 -> #N/A | E82: =_De_Loc2 -> #N/A | F82: =_De_Loc2 -> #N/A | G82: =_De_Loc2 -> #N/A | I82: =_De_Loc2 -> #N/A | J82: =_De_Loc2 -> #N/A | K82: =_De_Loc2 -> #N/A | L82: =_De_Loc2 -> #N/A | M82: =_De_Loc2 -> #N/A | N82: =_De_Loc2 -> #N/A | O82: =_De_Loc2 -> #N/A | Q82: 9+10 | AA82: =_De_Loc2 -> #N/A | AB82: =_De_Loc2 -> #N/A | AC82: =_De_Loc2 -> #N/A | AD82: =COUNTIF(F:F,F82) -> 290 | AE82: =_De_Loc2 -> #N/A | AF82: =_De_Loc2 -> #N/A | AG82: =+IF(W82="","",AF82)
A83: DC3DT82-DCK64 | B83: =_De_stt -> 76 | C83: =_De_Loc2 -> #N/A | D83: =_De_Loc2 -> #N/A | E83: =_De_Loc2 -> #N/A | F83: =_De_Loc2 -> #N/A | G83: =_De_Loc2 -> #N/A | I83: =_De_Loc2 -> #N/A | J83: =_De_Loc2 -> #N/A | K83: =_De_Loc2 -> #N/A | L83: =_De_Loc2 -> #N/A | M83: =_De_Loc2 -> #N/A | N83: =_De_Loc2 -> #N/A | O83: =_De_Loc2 -> #N/A | Q83: 8+9 | AA83: =_De_Loc2 -> #N/A | AB83: =_De_Loc2 -> #N/A | AC83: =_De_Loc2 -> #N/A | AD83: =COUNTIF(F:F,F83) -> 290 | AE83: =_De_Loc2 -> #N/A | AF83: =_De_Loc2 -> #N/A | AG83: =+IF(W83="","",AF83)
... A99: DC3DB52-DCK63 | B99: =_De_stt -> 92 | C99: =_De_Loc2 -> #N/A | D99: =_De_Loc2 -> #N/A | E99: =_De_Loc2 -> #N/A | F99: =_De_Loc2 -> #N/A | G99: =_De_Loc2 -> #N/A | I99: =_De_Loc2 -> #N/A | J99: =_De_Loc2 -> #N/A | K99: =_De_Loc2 -> #N/A | L99: =_De_Loc2 -> #N/A | M99: =_De_Loc2 -> #N/A | N99: =_De_Loc2 -> #N/A | O99: =_De_Loc2 -> #N/A | Q99: Bộ đề | AA99: =_De_Loc2 -> #N/A | AB99: =_De_Loc2 -> #N/A | AC99: =_De_Loc2 -> #N/A | AD99: =COUNTIF(F:F,F99) -> 290 | AE99: =_De_Loc2 -> #N/A | AF99: =_De_Loc2 -> #N/A | AG99: =+IF(W99="","",AF99)
A100: DC2RB43-DCK65 | B100: =_De_stt -> 93 | C100: =_De_Loc2 -> #N/A | D100: =_De_Loc2 -> #N/A | E100: =_De_Loc2 -> #N/A | F100: =_De_Loc2 -> #N/A | G100: =_De_Loc2 -> #N/A | I100: =_De_Loc2 -> #N/A | J100: =_De_Loc2 -> #N/A | K100: =_De_Loc2 -> #N/A | L100: =_De_Loc2 -> #N/A | M100: =_De_Loc2 -> #N/A | N100: =_De_Loc2 -> #N/A | O100: =_De_Loc2 -> #N/A | AA100: =_De_Loc2 -> #N/A | AB100: =_De_Loc2 -> #N/A | AC100: =_De_Loc2 -> #N/A | AD100: =COUNTIF(F:F,F100) -> 290 | AE100: =_De_Loc2 -> #N/A | AF100: =_De_Loc2 -> #N/A | AG100: =+IF(W100="","",AF100)
A101: CC2OT70-CCK65 | B101: =_De_stt -> 94 | C101: =_De_Loc2 -> #N/A | D101: =_De_Loc2 -> #N/A | E101: =_De_Loc2 -> #N/A | F101: =_De_Loc2 -> #N/A | G101: =_De_Loc2 -> #N/A | I101: =_De_Loc2 -> #N/A | J101: =_De_Loc2 -> #N/A | K101: =_De_Loc2 -> #N/A | L101: =_De_Loc2 -> #N/A | M101: =_De_Loc2 -> #N/A | N101: =_De_Loc2 -> #N/A | O101: =_De_Loc2 -> #N/A | Q101: Bộ đề | AA101: =_De_Loc2 -> #N/A | AB101: =_De_Loc2 -> #N/A | AC101: =_De_Loc2 -> #N/A | AD101: =COUNTIF(F:F,F101) -> 290 | AE101: =_De_Loc2 -> #N/A | AF101: =_De_Loc2 -> #N/A | AG101: =+IF(W101="","",AF101)
A102: DC1CB92-DCK65 | B102: =_De_stt -> 95 | C102: =_De_Loc2 -> #N/A | D102: =_De_Loc2 -> #N/A | E102: =_De_Loc2 -> #N/A | F102: =_De_Loc2 -> #N/A | G102: =_De_Loc2 -> #N/A | I102: =_De_Loc2 -> #N/A | J102: =_De_Loc2 -> #N/A | K102: =_De_Loc2 -> #N/A | L102: =_De_Loc2 -> #N/A | M102: =_De_Loc2 -> #N/A | N102: =_De_Loc2 -> #N/A | O102: =_De_Loc2 -> #N/A | Q102: 7+8 | AA102: =_De_Loc2 -> #N/A | AB102: =_De_Loc2 -> #N/A | AC102: =_De_Loc2 -> #N/A | AD102: =COUNTIF(F:F,F102) -> 290 | AE102: =_De_Loc2 -> #N/A | AF102: =_De_Loc2 -> #N/A | AG102: =+IF(W102="","",AF102)
A103: CC2DT51-CCK65 | B103: =_De_stt -> 96 | C103: =_De_Loc2 -> #N/A | D103: =_De_Loc2 -> #N/A | E103: =_De_Loc2 -> #N/A | F103: =_De_Loc2 -> #N/A | G103: =_De_Loc2 -> #N/A | I103: =_De_Loc2 -> #N/A | J103: =_De_Loc2 -> #N/A | K103: =_De_Loc2 -> #N/A | L103: =_De_Loc2 -> #N/A | M103: =_De_Loc2 -> #N/A | N103: =_De_Loc2 -> #N/A | O103: =_De_Loc2 -> #N/A | Q103: 7+8 | AA103: =_De_Loc2 -> #N/A | AB103: =_De_Loc2 -> #N/A | AC103: =_De_Loc2 -> #N/A | AD103: =COUNTIF(F:F,F103) -> 290 | AE103: =_De_Loc2 -> #N/A | AF103: =_De_Loc2 -> #N/A | AG103: =+IF(W103="","",AF103)
A104: CC3DT74-CCK64 | B104: =_De_stt -> 97 | C104: =_De_Loc2 -> #N/A | D104: =_De_Loc2 -> #N/A | E104: =_De_Loc2 -> #N/A | F104: =_De_Loc2 -> #N/A | G104: =_De_Loc2 -> #N/A | I104: =_De_Loc2 -> #N/A | J104: =_De_Loc2 -> #N/A | K104: =_De_Loc2 -> #N/A | L104: =_De_Loc2 -> #N/A | M104: =_De_Loc2 -> #N/A | N104: =_De_Loc2 -> #N/A | O104: =_De_Loc2 -> #N/A | Q104: 1-4 | AA104: =_De_Loc2 -> #N/A | AB104: =_De_Loc2 -> #N/A | AC104: =_De_Loc2 -> #N/A | AD104: =COUNTIF(F:F,F104) -> 290 | AE104: =_De_Loc2 -> #N/A | AF104: =_De_Loc2 -> #N/A | AG104: =+IF(W104="","",AF104)
A105: DC2GT42-DCK65 | B105: =_De_stt -> 98 | C105: =_De_Loc2 -> #N/A | D105: =_De_Loc2 -> #N/A | E105: =_De_Loc2 -> #N/A | F105: =_De_Loc2 -> #N/A | G105: =_De_Loc2 -> #N/A | I105: =_De_Loc2 -> #N/A | J105: =_De_Loc2 -> #N/A | K105: =_De_Loc2 -> #N/A | L105: =_De_Loc2 -> #N/A | M105: =_De_Loc2 -> #N/A | N105: =_De_Loc2 -> #N/A | O105: =_De_Loc2 -> #N/A | Q105: 19+20 | AA105: =_De_Loc2 -> #N/A | AB105: =_De_Loc2 -> #N/A | AC105: =_De_Loc2 -> #N/A | AD105: =COUNTIF(F:F,F105) -> 290 | AE105: =_De_Loc2 -> #N/A | AF105: =_De_Loc2 -> #N/A | AG105: =+IF(W105="","",AF105)
A106: CC3OT53-CCK64 | B106: =_De_stt -> 99 | C106: =_De_Loc2 -> #N/A | D106: =_De_Loc2 -> #N/A | E106: =_De_Loc2 -> #N/A | F106: =_De_Loc2 -> #N/A | G106: =_De_Loc2 -> #N/A | I106: =_De_Loc2 -> #N/A | J106: =_De_Loc2 -> #N/A | K106: =_De_Loc2 -> #N/A | L106: =_De_Loc2 -> #N/A | M106: =_De_Loc2 -> #N/A | N106: =_De_Loc2 -> #N/A | O106: =_De_Loc2 -> #N/A | Q106: 7+8 | AA106: =_De_Loc2 -> #N/A | AB106: =_De_Loc2 -> #N/A | AC106: =_De_Loc2 -> #N/A | AD106: =COUNTIF(F:F,F106) -> 290 | AE106: =_De_Loc2 -> #N/A | AF106: =_De_Loc2 -> #N/A | AG106: =+IF(W106="","",AF106)
A107: DC3KV43-DCK63 | B107: =_De_stt -> 100 | C107: =_De_Loc2 -> #N/A | D107: =_De_Loc2 -> #N/A | E107: =_De_Loc2 -> #N/A | F107: =_De_Loc2 -> #N/A | G107: =_De_Loc2 -> #N/A | I107: =_De_Loc2 -> #N/A | J107: =_De_Loc2 -> #N/A | K107: =_De_Loc2 -> #N/A | L107: =_De_Loc2 -> #N/A | M107: =_De_Loc2 -> #N/A | N107: =_De_Loc2 -> #N/A | O107: =_De_Loc2 -> #N/A | Q107: 19+20 | AA107: =_De_Loc2 -> #N/A | AB107: =_De_Loc2 -> #N/A | AC107: =_De_Loc2 -> #N/A | AD107: =COUNTIF(F:F,F107) -> 290 | AE107: =_De_Loc2 -> #N/A | AF107: =_De_Loc2 -> #N/A | AG107: =+IF(W107="","",AF107)
A108: DC2VB39-DCK65 | B108: =_De_stt -> 101 | C108: =_De_Loc2 -> #N/A | D108: =_De_Loc2 -> #N/A | E108: =_De_Loc2 -> #N/A | F108: =_De_Loc2 -> #N/A | G108: =_De_Loc2 -> #N/A | I108: =_De_Loc2 -> #N/A | J108: =_De_Loc2 -> #N/A | K108: =_De_Loc2 -> #N/A | L108: =_De_Loc2 -> #N/A | M108: =_De_Loc2 -> #N/A | N108: =_De_Loc2 -> #N/A | O108: =_De_Loc2 -> #N/A | Q108: 7+8 | AA108: =_De_Loc2 -> #N/A | AB108: =_De_Loc2 -> #N/A | AC108: =_De_Loc2 -> #N/A | AD108: =COUNTIF(F:F,F108) -> 290 | AE108: =_De_Loc2 -> #N/A | AF108: =_De_Loc2 -> #N/A | AG108: =+IF(W108="","",AF108)
A109: CC2KV81-CCK64 | B109: =_De_stt -> 102 | C109: =_De_Loc2 -> #N/A | D109: =_De_Loc2 -> #N/A | E109: =_De_Loc2 -> #N/A | F109: =_De_Loc2 -> #N/A | G109: =_De_Loc2 -> #N/A | I109: =_De_Loc2 -> #N/A | J109: =_De_Loc2 -> #N/A | K109: =_De_Loc2 -> #N/A | L109: =_De_Loc2 -> #N/A | M109: =_De_Loc2 -> #N/A | N109: =_De_Loc2 -> #N/A | O109: =_De_Loc2 -> #N/A | Q109: 19+20 | S109: 11+12 | AA109: =_De_Loc2 -> #N/A | AB109: =_De_Loc2 -> #N/A | AC109: =_De_Loc2 -> #N/A | AD109: =COUNTIF(F:F,F109) -> 290 | AE109: =_De_Loc2 -> #N/A | AF109: =_De_Loc2 -> #N/A | AG109: =+IF(W109="","",AF109)
A110: DC2DD52-DCK64 | B110: =_De_stt -> 103 | C110: =_De_Loc2 -> #N/A | D110: =_De_Loc2 -> #N/A | E110: =_De_Loc2 -> #N/A | F110: =_De_Loc2 -> #N/A | G110: =_De_Loc2 -> #N/A | I110: =_De_Loc2 -> #N/A | J110: =_De_Loc2 -> #N/A | K110: =_De_Loc2 -> #N/A | L110: =_De_Loc2 -> #N/A | M110: =_De_Loc2 -> #N/A | N110: =_De_Loc2 -> #N/A | O110: =_De_Loc2 -> #N/A | Q110: 7+8 | AA110: =_De_Loc2 -> #N/A | AB110: =_De_Loc2 -> #N/A | AC110: =_De_Loc2 -> #N/A | AD110: =COUNTIF(F:F,F110) -> 290 | AE110: =_De_Loc2 -> #N/A | AF110: =_De_Loc2 -> #N/A | AG110: =+IF(W110="","",AF110)
A111: DC2DD35-DCK65 | B111: =_De_stt -> 104 | C111: =_De_Loc2 -> #N/A | D111: =_De_Loc2 -> #N/A | E111: =_De_Loc2 -> #N/A | F111: =_De_Loc2 -> #N/A | G111: =_De_Loc2 -> #N/A | I111: =_De_Loc2 -> #N/A | J111: =_De_Loc2 -> #N/A | K111: =_De_Loc2 -> #N/A | L111: =_De_Loc2 -> #N/A | M111: =_De_Loc2 -> #N/A | N111: =_De_Loc2 -> #N/A | O111: =_De_Loc2 -> #N/A | Q111: 15+16 | AA111: =_De_Loc2 -> #N/A | AB111: =_De_Loc2 -> #N/A | AC111: =_De_Loc2 -> #N/A | AD111: =COUNTIF(F:F,F111) -> 290 | AE111: =_De_Loc2 -> #N/A | AF111: =_De_Loc2 -> #N/A | AG111: =+IF(W111="","",AF111)
