Workbook
Name _CongCNTT: SUMIF('LICH THI'!$A:$A,'Theo Ngay'!$A1,'LICH THI'!$W:$W)
Name _CongCSKT: SUMIF('LICH THI'!$A:$A,'Theo Ngay'!$A1,'LICH THI'!$S:$S)
Name _CongKCK: SUMIF('LICH THI'!$A:$A,'Theo Ngay'!$A1,'LICH THI'!$U:$U)
Name _CongKCT: SUMIF('LICH THI'!$A:$A,'Theo Ngay'!$A1,'LICH THI'!$T:$T)
Name _CongKHCB: SUMIF('LICH THI'!$A:$A,'Theo Ngay'!$A1,'LICH THI'!$R:$R)
Name _CongKTVT: SUMIF('LICH THI'!$A:$A,'Theo Ngay'!$A1,'LICH THI'!$V:$V)
Name _CongLLCT: SUMIF('LICH THI'!$A:$A,'Theo Ngay'!$A1,'LICH THI'!$Q:$Q)
Name _CongSP_: SUMIF('LICH THI'!$A:$A,'Theo Ngay'!$A1,'LICH THI'!$P:$P)
Name _Gio: IF(SV!J1=1,"7:00",IF(SV!J1=2,"9:00",IF(SV!J1=3,"13:00",IF(SV!J1=4,"15:00",IF(SV!J1=5,"18:00","7:00")))))
Name _Gio: IF('LICH THI'!$M1=1,"7:00",IF('LICH THI'!$M1=2,"9:00",IF('LICH THI'!$M1=3,"13:00",IF('LICH THI'!$M1=4,"15:00",IF('LICH THI'!$M1=5,"18:00","6:30")))))
Name _Gio_: IF('Theo Ngay'!$E1=1,"7:00",IF('Theo Ngay'!$E1=2,"9:00",IF('Theo Ngay'!$E1=3,"13:00",IF('Theo Ngay'!$E1=4,"15:00",IF('Theo Ngay'!$E1=5,"18:00","6:30")))))
Name _Loc2: VLOOKUP(De!$A1,'LICH THI'!$C:$AH,De!A$1,0)
Name _LocMaHP: IF(MID(DATA!$C1,8,1)="-",LEFT(DATA!$C1,7),IF(MID(DATA!$C1,9,1)="-",LEFT(DATA!$C1,8),LEFT(DATA!$C1,9)))
Name _LocMaHP: IF(MID('LICH THI'!$C1,8,1)="-",LEFT('LICH THI'!$C1,7),IF(MID('LICH THI'!$C1,9,1)="-",LEFT('LICH THI'!$C1,8),LEFT('LICH THI'!$C1,9)))
Name _LocMaHP: IF(MID('Tkê LOP'!$C1,8,1)="-",LEFT('Tkê LOP'!$C1,7),IF(MID('Tkê LOP'!$C1,9,1)="-",LEFT('Tkê LOP'!$C1,8),LEFT('Tkê LOP'!$C1,9)))
Name _Ngay: IF('LICH THI'!XFD1="","",CHOOSE(WEEKDAY('LICH THI'!XFD1),"(Cnhật)","(Thứ 2)","(Thứ 3)","(Thứ 4)","(Thứ 5)","(Thứ 6)","(Thứ 7)"))
Name _Ngay: IF(SV!XFD1="","",CHOOSE(WEEKDAY(SV!XFD1),"(CN)","(Thứ 2)","(Thứ 3)","(Thứ 4)","(Thứ 5)","(Thứ 6)","(Thứ 7)"))
Name _Ngay: IF('Tkê LOP'!XFD1="","",CHOOSE(WEEKDAY('Tkê LOP'!XFD1),"(Cnhật)","(Thứ 2)","(Thứ 3)","(Thứ 4)","(Thứ 5)","(Thứ 6)","(Thứ 7)"))
Name _Ngay_gio: SV!I1+SV!B1
Name _Ngay_gio: 'LICH THI'!K1+'LICH THI'!B1
Name _Ngay_Gio_: 'Theo Ngay'!$D1+'Theo Ngay'!$B1
Name _Ngay_TL: IF('LICH THI'!XFD1="","",CHOOSE(WEEKDAY('LICH THI'!XFD1),"(Cnhật)","(Thứ 2)","(Thứ 3)","(Thứ 4)","(Thứ 5)","(Thứ 6)","(Thứ 7)"))
Name _Ngaycham: IF(OR('LICH THI'!XEO1="TH",'LICH THI'!XEO1="VĐ"),'LICH THI'!XEQ1,IF('LICH THI'!XER1="(Thứ 6)",'LICH THI'!XEQ1+3,'LICH THI'!XEQ1+1))
Name _Ngaythi: 'LICH THI'!$K1048576+'LICH THI'!$H1+'LICH THI'!#REF!
Name _Nopdiem: IF(OR('LICH THI'!XEN1="TH",'LICH THI'!XEN1="VĐ"),'LICH THI'!XEP1+2,'LICH THI'!XEP1+7)
Name _sophong: IF('LICH THI'!$O1=0,"",IF(LEFT('LICH THI'!L1,4)="Ghép",ROUNDUP('LICH THI'!$N1/'LICH THI'!$O1,0)-0.5,ROUNDUP('LICH THI'!$N1/'LICH THI'!$O1,0)))
Name _SoSV: SUMIF('Tkê LOP'!$A:$A,'LICH THI'!$C1,'Tkê LOP'!$K:$K)
Name _stt: SoTD!A1048576+1
Name _stt: SV!A1048576+1
Name _stt: 'Theo Ngay'!A1048576+1
Name _stt: 'LICH THI'!A1048576+1
Name _stt_data: #REF!+1
Name _stt_de: De!A1048576+1
Name _SV_Pcuoi: IF('LICH THI'!$O1=0,"",'LICH THI'!$N1-'LICH THI'!$O1*(ROUNDUP('LICH THI'!$P1,0)-1))
Name _trangay: VLOOKUP('Tkê LOP'!$A1,'LICH THI'!$C:$AF,'Tkê LOP'!A$1,0)
Name Loclop: LEFT(lop,8)
Name Ma: Sheet4!$B1&IF(RIGHT(Sheet4!$L1,4)="DHCQ","-DC",IF(RIGHT(Sheet4!$L1,4)="CDCQ","-CC",IF(RIGHT(Sheet4!$L1,4)="DHLT","-DL",IF(RIGHT(Sheet4!$L1,4)="DHTC","-DV","??"))))&LEFT(Sheet4!$L1,3)&Sheet4!$O1
Name MaBM: IF(DATA!$O1="","",VLOOKUP(DATA!$O1,Mã!$A:$C,3,0))
Name MaCC: LEFT('Tkê LOP'!$D1,7)&"-CC"&LEFT('Tkê LOP'!$L1,3)
Name MaHP: IFERROR(LEFT(DATA!C1,FIND("-",DATA!C1,1)-1),LEFT(DATA!C1,FIND("(",DATA!C1,1)-1))
Name MaHP: IF(OR(MID(Sheet2!$D1,8,1)="-",MID(Sheet2!$D1,8,1)="("),LEFT(Sheet2!$D1,7),IF(OR(MID(Sheet2!$D1,9,1)="-",MID(Sheet2!$D1,9,1)="("),LEFT(Sheet2!$D1,8),LEFT(Sheet2!$D1,8)))
Name MaHP: IFERROR(LEFT(Sheet4!C1,FIND("-",Sheet4!C1,1)-1),LEFT(Sheet4!C1,FIND("(",Sheet4!C1,1)-1))
Name MaHP: IFERROR(LEFT('Tkê LOP'!C1,FIND("-",'Tkê LOP'!C1,1)-1),LEFT('Tkê LOP'!C1,FIND("(",'Tkê LOP'!C1,1)-1))
Name MaKhoa: IF(DATA!$P1="","",VLOOKUP(DATA!$P1,Mã!$E:$F,2,0))

Sheet SV
F1: 7 | G1: 8 | H1: 13
D2: TRƯỜNG ĐẠI HỌC CÔNG NGHỆ GTVT | G2: LỊCH THI HỌC KỲ 1 - NĂM HỌC 2015-2016
D3: PHÒNG ĐẢM BẢO CHẤT LƯỢNG ĐÀO TẠO
B4: dc64 | G4: =VLOOKUP(B4,$U$4:$V$14,2,0) -> ĐẠI HỌC CHÍNH QUY - K64 | U4: CC | V4: CAO ĐẲNG CHÍNH QUY
D5: Ghi chú: | U5: CC64 | V5: CAO ĐẲNG CHÍNH QUY - K64
D6: + Thời gian thi: Ca 1: 7h00' - 9h00'; Ca 2: 9h00' - 11h00'; Ca 3: 13h00' - 15h00'; Ca 4: 15h00' - 17h00'; Ca5: 18h00' - 20h00' | U6: CC65 | V6: CAO ĐẲNG CHÍNH QUY - K65
D7: + Các Khoa, Bộ môn, Giảng viên, Sinh viên kiểm tra Lịch thi, nếu còn Học phần chưa có lịch thi phản ánh ngay cho Phòng Đảm bảo chất lượng đào tạo (ĐBCLĐT) để kịp thời điều chỉnh | U7: DC | V7: ĐẠI HỌC CHÍNH QUY
D8: + Các khoa gửi danh sách phân công Giảng viên coi thi, chấm thi Lần 1 về Phòng ĐBCLĐT trước ngày 24/11/2015 | U8: DC62 | V8: ĐẠI HỌC CHÍNH QUY - K62
D9: + Sinh viên còn nợ học phí sẽ không được dự thi | U9: DC63 | V9: ĐẠI HỌC CHÍNH QUY - K63
D10: + Sinh viên không có thẻ sinh viên không được dự thi | U10: DC64 | V10: ĐẠI HỌC CHÍNH QUY - K64
D11: + Mọi vấn đề vướng mắc khác, xin liên hệ trực tiếp với Phòng ĐBCLĐT - P409-H1 (Điện thoại: 043 552 8978) | U11: DC65 | V11: ĐẠI HỌC CHÍNH QUY - K65
U12: DL65 | V12: ĐẠI HỌC LIÊN THÔNG - K65
C13: S T T | D13: Hệ đào tạo - Khóa | E13: Mã học phần | F13: Tên học phần | G13: Số TC | H13: Hình thức thi | I13: THI LẦN 1 | O13: THI BỔ SUNG (LẦN 2) | U13: DV | V13: ĐẠI HỌC VỪA LÀM VỪA HỌC
I14: Ngày thi | K14: Ca thi | L14: Tổng số SV | M14: Số SV/ phòng | N14: Số phòng thi | O14: Ngày thi Dự kiến từ 18/1-29/1/2016 | Q14: Ca thi | R14: Số SV | S14: Số phòng thi
A16: =_Ngay_gio -> #REF! | B16: =_Gio -> #REF! | C16: ='LICH THI'!#REF! -> #REF! | D16: ='LICH THI'!#REF! -> #REF! | E16: ='LICH THI'!#REF! -> #REF! | F16: ='LICH THI'!#REF! -> #REF! | G16: ='LICH THI'!#REF! -> #REF! | H16: ='LICH THI'!#REF! -> #REF! | I16: ='LICH THI'!#REF! -> #REF! | J16: =_Ngay -> #REF! | K16: ='LICH THI'!#REF! -> #REF! | L16: ='LICH THI'!#REF! -> #REF! | M16: ='LICH THI'!#REF! -> #REF! | N16: ='LICH THI'!#REF! -> #REF!
A17: =_Ngay_gio -> #REF! | B17: =_Gio -> #REF! | C17: ='LICH THI'!#REF! -> #REF! | D17: ='LICH THI'!#REF! -> #REF! | E17: ='LICH THI'!#REF! -> #REF! | F17: ='LICH THI'!#REF! -> #REF! | G17: ='LICH THI'!#REF! -> #REF! | H17: ='LICH THI'!#REF! -> #REF! | I17: ='LICH THI'!#REF! -> #REF! | J17: =_Ngay -> #REF! | K17: ='LICH THI'!#REF! -> #REF! | L17: ='LICH THI'!#REF! -> #REF! | M17: ='LICH THI'!#REF! -> #REF! | N17: ='LICH THI'!#REF! -> #REF!
A18: =_Ngay_gio -> #REF! | B18: =_Gio -> #REF! | C18: ='LICH THI'!#REF! -> #REF! | D18: ='LICH THI'!#REF! -> #REF! | E18: ='LICH THI'!#REF! -> #REF! | F18: ='LICH THI'!#REF! -> #REF! | G18: ='LICH THI'!#REF! -> #REF! | H18: ='LICH THI'!#REF! -> #REF! | I18: ='LICH THI'!#REF! -> #REF! | J18: =_Ngay -> #REF! | K18: ='LICH THI'!#REF! -> #REF! | L18: ='LICH THI'!#REF! -> #REF! | M18: ='LICH THI'!#REF! -> #REF! | N18: ='LICH THI'!#REF! -> #REF!
A19: =_Ngay_gio -> #REF! | B19: =_Gio -> #REF! | C19: ='LICH THI'!#REF! -> #REF! | D19: ='LICH THI'!#REF! -> #REF! | E19: ='LICH THI'!#REF! -> #REF! | F19: ='LICH THI'!#REF! -> #REF! | G19: ='LICH THI'!#REF! -> #REF! | H19: ='LICH THI'!#REF! -> #REF! | I19: ='LICH THI'!#REF! -> #REF! | J19: =_Ngay -> #REF! | K19: ='LICH THI'!#REF! -> #REF! | L19: ='LICH THI'!#REF! -> #REF! | M19: ='LICH THI'!#REF! -> #REF! | N19: ='LICH THI'!#REF! -> #REF!
A20: =_Ngay_gio -> #REF! | B20: =_Gio -> #REF! | C20: ='LICH THI'!#REF! -> #REF! | D20: ='LICH THI'!#REF! -> #REF! | E20: ='LICH THI'!#REF! -> #REF! | F20: ='LICH THI'!#REF! -> #REF! | G20: ='LICH THI'!#REF! -> #REF! | H20: ='LICH THI'!#REF! -> #REF! | I20: ='LICH THI'!#REF! -> #REF! | J20: =_Ngay -> #REF! | K20: ='LICH THI'!#REF! -> #REF! | L20: ='LICH THI'!#REF! -> #REF! | M20: ='LICH THI'!#REF! -> #REF! | N20: ='LICH THI'!#REF! -> #REF!
A21: =_Ngay_gio -> #REF! | B21: =_Gio -> #REF! | C21: ='LICH THI'!#REF! -> #REF! | D21: ='LICH THI'!#REF! -> #REF! | E21: ='LICH THI'!#REF! -> #REF! | F21: ='LICH THI'!#REF! -> #REF! | G21: ='LICH THI'!#REF! -> #REF! | H21: ='LICH THI'!#REF! -> #REF! | I21: ='LICH THI'!#REF! -> #REF! | J21: =_Ngay -> #REF! | K21: ='LICH THI'!#REF! -> #REF! | L21: ='LICH THI'!#REF! -> #REF! | M21: ='LICH THI'!#REF! -> #REF! | N21: ='LICH THI'!#REF! -> #REF!
A22: =_Ngay_gio -> #REF! | B22: =_Gio -> #REF! | C22: ='LICH THI'!#REF! -> #REF! | D22: ='LICH THI'!#REF! -> #REF! | E22: ='LICH THI'!#REF! -> #REF! | F22: ='LICH THI'!#REF! -> #REF! | G22: ='LICH THI'!#REF! -> #REF! | H22: ='LICH THI'!#REF! -> #REF! | I22: ='LICH THI'!#REF! -> #REF! | J22: =_Ngay -> #REF! | K22: ='LICH THI'!#REF! -> #REF! | L22: ='LICH THI'!#REF! -> #REF! | M22: ='LICH THI'!#REF! -> #REF! | N22: ='LICH THI'!#REF! -> #REF!
A23: =_Ngay_gio -> #REF! | B23: =_Gio -> #REF! | C23: ='LICH THI'!#REF! -> #REF! | D23: ='LICH THI'!#REF! -> #REF! | E23: ='LICH THI'!#REF! -> #REF! | F23: ='LICH THI'!#REF! -> #REF! | G23: ='LICH THI'!#REF! -> #REF! | H23: ='LICH THI'!#REF! -> #REF! | I23: ='LICH THI'!#REF! -> #REF! | J23: =_Ngay -> #REF! | K23: ='LICH THI'!#REF! -> #REF! | L23: ='LICH THI'!#REF! -> #REF! | M23: ='LICH THI'!#REF! -> #REF! | N23: ='LICH THI'!#REF! -> #REF!
A24: =_Ngay_gio -> #REF! | B24: =_Gio -> #REF! | C24: ='LICH THI'!#REF! -> #REF! | D24: ='LICH THI'!#REF! -> #REF! | E24: ='LICH THI'!#REF! -> #REF! | F24: ='LICH THI'!#REF! -> #REF! | G24: ='LICH THI'!#REF! -> #REF! | H24: ='LICH THI'!#REF! -> #REF! | I24: ='LICH THI'!#REF! -> #REF! | J24: =_Ngay -> #REF! | K24: ='LICH THI'!#REF! -> #REF! | L24: ='LICH THI'!#REF! -> #REF! | M24: ='LICH THI'!#REF! -> #REF! | N24: ='LICH THI'!#REF! -> #REF!
A25: =_Ngay_gio -> #REF! | B25: =_Gio -> #REF! | C25: ='LICH THI'!#REF! -> #REF! | D25: ='LICH THI'!#REF! -> #REF! | E25: ='LICH THI'!#REF! -> #REF! | F25: ='LICH THI'!#REF! -> #REF! | G25: ='LICH THI'!#REF! -> #REF! | H25: ='LICH THI'!#REF! -> #REF! | I25: ='LICH THI'!#REF! -> #REF! | J25: =_Ngay -> #REF! | K25: ='LICH THI'!#REF! -> #REF! | L25: ='LICH THI'!#REF! -> #REF! | M25: ='LICH THI'!#REF! -> #REF! | N25: ='LICH THI'!#REF! -> #REF!
A26: =_Ngay_gio -> #REF! | B26: =_Gio -> #REF! | C26: ='LICH THI'!#REF! -> #REF! | D26: ='LICH THI'!#REF! -> #REF! | E26: ='LICH THI'!#REF! -> #REF! | F26: ='LICH THI'!#REF! -> #REF! | G26: ='LICH THI'!#REF! -> #REF! | H26: ='LICH THI'!#REF! -> #REF! | I26: ='LICH THI'!#REF! -> #REF! | J26: =_Ngay -> #REF! | K26: ='LICH THI'!#REF! -> #REF! | L26: ='LICH THI'!#REF! -> #REF! | M26: ='LICH THI'!#REF! -> #REF! | N26: ='LICH THI'!#REF! -> #REF!
A27: =_Ngay_gio -> #REF! | B27: =_Gio -> #REF! | C27: ='LICH THI'!#REF! -> #REF! | D27: ='LICH THI'!#REF! -> #REF! | E27: ='LICH THI'!#REF! -> #REF! | F27: ='LICH THI'!#REF! -> #REF! | G27: ='LICH THI'!#REF! -> #REF! | H27: ='LICH THI'!#REF! -> #REF! | I27: ='LICH THI'!#REF! -> #REF! | J27: =_Ngay -> #REF! | K27: ='LICH THI'!#REF! -> #REF! | L27: ='LICH THI'!#REF! -> #REF! | M27: ='LICH THI'!#REF! -> #REF! | N27: ='LICH THI'!#REF! -> #REF!
... A58: =_Ngay_gio -> #REF! | B58: =_Gio -> #REF! | C58: ='LICH THI'!#REF! -> #REF! | D58: ='LICH THI'!#REF! -> #REF! | E58: ='LICH THI'!#REF! -> #REF! | F58: ='LICH THI'!#REF! -> #REF! | G58: ='LICH THI'!#REF! -> #REF! | H58: ='LICH THI'!#REF! -> #REF! | I58: ='LICH THI'!#REF! -> #REF! | J58: =_Ngay -> #REF! | K58: ='LICH THI'!#REF! -> #REF! | L58: ='LICH THI'!#REF! -> #REF! | M58: ='LICH THI'!#REF! -> #REF! | N58: ='LICH THI'!#REF! -> #REF!
A59: =_Ngay_gio -> 42812.292 | B59: =_Gio -> 7:00 | C59: ='LICH THI'!D11 -> 2 | D59: ='LICH THI'!E11 -> DL67D | E59: ='LICH THI'!F11 -> DC2CB94 | F59: ='LICH THI'!G11 -> Văn hóa kinh doanh | G59: ='LICH THI'!H11 -> 2 | H59: ='LICH THI'!I11 -> Viết | I59: ='LICH THI'!K11 -> 42812 | J59: =_Ngay -> (Thứ 7) | K59: ='LICH THI'!M11 -> 1 | L59: ='LICH THI'!N11 -> 3 | M59: ='LICH THI'!O11 -> 3 | N59: ='LICH THI'!P11 -> 1
A60: =_Ngay_gio -> 42812.75 | B60: =_Gio -> 18:00 | C60: ='LICH THI'!D12 -> 3 | D60: ='LICH THI'!E12 -> DL67D | E60: ='LICH THI'!F12 -> DL3VB61 | F60: ='LICH THI'!G12 -> Tổ chức vận tải hàng hóa | G60: ='LICH THI'!H12 -> 2 | H60: ='LICH THI'!I12 -> Viết | I60: ='LICH THI'!K12 -> 42812 | J60: =_Ngay -> (Thứ 7) | K60: ='LICH THI'!M12 -> 5 | L60: ='LICH THI'!N12 -> 0 | M60: ='LICH THI'!O12 -> 0 | N60: ='LICH THI'!P12
A61: =_Ngay_gio -> 42812.375 | B61: =_Gio -> 9:00 | C61: ='LICH THI'!D13 -> 4 | D61: ='LICH THI'!E13 -> DL67D | E61: ='LICH THI'!F13 -> DL2CO21 | F61: ='LICH THI'!G13 -> Cơ học cơ sở | G61: ='LICH THI'!H13 -> 2 | H61: ='LICH THI'!I13 -> Viết | I61: ='LICH THI'!K13 -> 42812 | J61: =_Ngay -> (Thứ 7) | K61: ='LICH THI'!M13 -> 2 | L61: ='LICH THI'!N13 -> 121 | M61: ='LICH THI'!O13 -> 41 | N61: ='LICH THI'!P13 -> 3
A62: =_Ngay_gio -> 42812.375 | B62: =_Gio -> 9:00 | C62: ='LICH THI'!D14 -> 5 | D62: ='LICH THI'!E14 -> DL67D | E62: ='LICH THI'!F14 -> DL3VB63 | F62: ='LICH THI'!G14 -> Tổ chức vận tải hành khách | G62: ='LICH THI'!H14 -> 2 | H62: ='LICH THI'!I14 -> Viết | I62: ='LICH THI'!K14 -> 42812 | J62: =_Ngay -> (Thứ 7) | K62: ='LICH THI'!M14 -> 2 | L62: ='LICH THI'!N14 -> 1 | M62: ='LICH THI'!O14 -> 1 | N62: ='LICH THI'!P14 -> 1
A63: =_Ngay_gio -> #REF! | B63: =_Gio -> #REF! | C63: ='LICH THI'!#REF! -> #REF! | D63: ='LICH THI'!#REF! -> #REF! | E63: ='LICH THI'!#REF! -> #REF! | F63: ='LICH THI'!#REF! -> #REF! | G63: ='LICH THI'!#REF! -> #REF! | H63: ='LICH THI'!#REF! -> #REF! | I63: ='LICH THI'!#REF! -> #REF! | J63: =_Ngay -> #REF! | K63: ='LICH THI'!#REF! -> #REF! | L63: ='LICH THI'!#REF! -> #REF! | M63: ='LICH THI'!#REF! -> #REF! | N63: ='LICH THI'!#REF! -> #REF!
A64: =_Ngay_gio -> #REF! | B64: =_Gio -> #REF! | C64: ='LICH THI'!#REF! -> #REF! | D64: ='LICH THI'!#REF! -> #REF! | E64: ='LICH THI'!#REF! -> #REF! | F64: ='LICH THI'!#REF! -> #REF! | G64: ='LICH THI'!#REF! -> #REF! | H64: ='LICH THI'!#REF! -> #REF! | I64: ='LICH THI'!#REF! -> #REF! | J64: =_Ngay -> #REF! | K64: ='LICH THI'!#REF! -> #REF! | L64: ='LICH THI'!#REF! -> #REF! | M64: ='LICH THI'!#REF! -> #REF! | N64: ='LICH THI'!#REF! -> #REF!
A65: =_Ngay_gio -> 42812.75 | B65: =_Gio -> 18:00 | C65: ='LICH THI'!D15 -> 6 | D65: ='LICH THI'!E15 -> DL67D | E65: ='LICH THI'!F15 -> DC2KV63 | F65: ='LICH THI'!G15 -> Kinh tế lượng | G65: ='LICH THI'!H15 -> 3 | H65: ='LICH THI'!I15 -> Viết | I65: ='LICH THI'!K15 -> 42812 | J65: =_Ngay -> (Thứ 7) | K65: ='LICH THI'!M15 -> 5 | L65: ='LICH THI'!N15 -> 3 | M65: ='LICH THI'!O15 -> 3 | N65: ='LICH THI'!P15 -> 1
A66: =_Ngay_gio -> #REF! | B66: =_Gio -> #REF! | C66: ='LICH THI'!#REF! -> #REF! | D66: ='LICH THI'!#REF! -> #REF! | E66: ='LICH THI'!#REF! -> #REF! | F66: ='LICH THI'!#REF! -> #REF! | G66: ='LICH THI'!#REF! -> #REF! | H66: ='LICH THI'!#REF! -> #REF! | I66: ='LICH THI'!#REF! -> #REF! | J66: =_Ngay -> #REF! | K66: ='LICH THI'!#REF! -> #REF! | L66: ='LICH THI'!#REF! -> #REF! | M66: ='LICH THI'!#REF! -> #REF! | N66: ='LICH THI'!#REF! -> #REF!
A67: =_Ngay_gio -> #REF! | B67: =_Gio -> #REF! | C67: ='LICH THI'!#REF! -> #REF! | D67: ='LICH THI'!#REF! -> #REF! | E67: ='LICH THI'!#REF! -> #REF! | F67: ='LICH THI'!#REF! -> #REF! | G67: ='LICH THI'!#REF! -> #REF! | H67: ='LICH THI'!#REF! -> #REF! | I67: ='LICH THI'!#REF! -> #REF! | J67: =_Ngay -> #REF! | K67: ='LICH THI'!#REF! -> #REF! | L67: ='LICH THI'!#REF! -> #REF! | M67: ='LICH THI'!#REF! -> #REF! | N67: ='LICH THI'!#REF! -> #REF!
A68: =_Ngay_gio -> #REF! | B68: =_Gio -> #REF! | C68: ='LICH THI'!#REF! -> #REF! | D68: ='LICH THI'!#REF! -> #REF! | E68: ='LICH THI'!#REF! -> #REF! | F68: ='LICH THI'!#REF! -> #REF! | G68: ='LICH THI'!#REF! -> #REF! | H68: ='LICH THI'!#REF! -> #REF! | I68: ='LICH THI'!#REF! -> #REF! | J68: =_Ngay -> #REF! | K68: ='LICH THI'!#REF! -> #REF! | L68: ='LICH THI'!#REF! -> #REF! | M68: ='LICH THI'!#REF! -> #REF! | N68: ='LICH THI'!#REF! -> #REF!
A69: =_Ngay_gio -> #REF! | B69: =_Gio -> #REF! | C69: ='LICH THI'!#REF! -> #REF! | D69: ='LICH THI'!#REF! -> #REF! | E69: ='LICH THI'!#REF! -> #REF! | F69: ='LICH THI'!#REF! -> #REF! | G69: ='LICH THI'!#REF! -> #REF! | H69: ='LICH THI'!#REF! -> #REF! | I69: ='LICH THI'!#REF! -> #REF! | J69: =_Ngay -> #REF! | K69: ='LICH THI'!#REF! -> #REF! | L69: ='LICH THI'!#REF! -> #REF! | M69: ='LICH THI'!#REF! -> #REF! | N69: ='LICH THI'!#REF! -> #REF!
A70: =_Ngay_gio -> 42813.75 | B70: =_Gio -> 18:00 | C70: ='LICH THI'!D16 -> 7 | D70: ='LICH THI'!E16 -> DL67D | E70: ='LICH THI'!F16 -> DC2CO24 | F70: ='LICH THI'!G16 -> Cơ kỹ thuật | G70: ='LICH THI'!H16 -> 3 | H70: ='LICH THI'!I16 -> Viết | I70: ='LICH THI'!K16 -> 42813 | J70: =_Ngay -> (CN) | K70: ='LICH THI'!M16 -> 5 | L70: ='LICH THI'!N16 -> 0 | M70: ='LICH THI'!O16 -> 0 | N70: ='LICH THI'!P16
A71: =_Ngay_gio -> #REF! | B71: =_Gio -> #REF! | C71: ='LICH THI'!#REF! -> #REF! | D71: ='LICH THI'!#REF! -> #REF! | E71: ='LICH THI'!#REF! -> #REF! | F71: ='LICH THI'!#REF! -> #REF! | G71: ='LICH THI'!#REF! -> #REF! | H71: ='LICH THI'!#REF! -> #REF! | I71: ='LICH THI'!#REF! -> #REF! | J71: =_Ngay -> #REF! | K71: ='LICH THI'!#REF! -> #REF! | L71: ='LICH THI'!#REF! -> #REF! | M71: ='LICH THI'!#REF! -> #REF! | N71: ='LICH THI'!#REF! -> #REF!
...

Sheet Sheet1
I1: DC1CB13-DLK65 | J1: =+LEFT(I1,7) -> DC1CB13 | M1: DC1CB94-DCK65 | N1: DC1CB94
I2: DL2CT27-DLK65 | J2: =+LEFT(I2,7) -> DL2CT27 | M2: DC2CB89-DCK65 | N2: DC2CB89 | Q2: DC2CT65-DCK64
B3: 65DLCD21 | C3: 57 | E3: =SUM(C3:C5) -> 163 | I3: DL2GT52-DLK65 | J3: =+LEFT(I3,7) -> DL2GT52 | M3: DC2HT26-DCK65 | N3: DC2HT26 | Q3: DC2CT65-DCK63
B4: 65DLCD22 | C4: 49 | I4: DL3DB41-DLK65 | J4: =+LEFT(I4,7) -> DL3DB41 | M4: DC3VL25-DCK65 | N4: DC3VL25 | Q4: DC3HT51-DCK64
B5: 65DLCD23 | C5: 57 | I5: DL3CA41-DLK65 | J5: =+LEFT(I5,7) -> DL3CA41 | M5: DC2DT45-DCK65 | N5: DC2DT45 | Q5: DC2DT55-DCK64
B6: 65DLCD24 | C6: 56 | E6: =+C6+C7+C8+C9+C10+C13+C15+C19+C20+C21 -> 504 | I6: DC2GT54-DLK65 | J6: =+LEFT(I6,7) -> DC2GT54 | M6: DC2DT44-DCK65 | N6: DC2DT44 | Q6: DC1CB94-DCK64
B7: 65DLCD25 | C7: 84 | I7: DC3CA44-DLK65 | J7: =+LEFT(I7,7) -> DC3CA44 | M7: DC2CT31-DCK65 | N7: DC2CT31 | Q7: DC1CB94-DCK65
B8: 65DLCD26 | C8: 58 | I8: DC3DB44-DLK65 | J8: =+LEFT(I8,7) -> DC3DB44 | M8: DC2VS67-DCK65 | N8: DC2VS67 | Q8: DC2TH33-DCK64
B9: 65DLCD27 | C9: 50 | I9: DC1CB32-DLK65 | J9: =+LEFT(I9,7) -> DC1CB32 | M9: DC2VB67-DCK65 | N9: DC2VB67 | Q9: DC2CB89-DCK65
B10: 65DLCD28 | C10: 44 | I10: DC1CB12-DLK65 | J10: =+LEFT(I10,7) -> DC1CB12 | M10: DC2KV22-DCK65 | N10: DC2KV22 | Q10: DC3DD46-DCK63
B11: 65DLDD21 | C11: 54 | E11: =+C11 -> 54 | I11: DL1CB22-DLK65 | J11: =+LEFT(I11,7) -> DL1CB22 | M11: DC2CK54-DCK65 | N11: DC2CK54 | Q11: DC2HT26-DCK65
B12: 65DLDD22 | C12: 59 | E12: =+C12 -> 59 | I12: DL2GT61-DLK65 | J12: =+LEFT(I12,7) -> DL2GT61 | M12: DC1QP01-DCK65 | N12: DC1QP01 | Q12: DC2CK57-DCK64
B13: 65DLDD23 | C13: 37 | I13: DC1CB20-DLK65 | J13: =+LEFT(I13,7) -> DC1CB20 | M13: DC1QP02-DCK65 | N13: DC1QP02 | Q13: DC2CK33-DCK64
B14: 65DLOT21 | C14: 42 | E14: =+C14 -> 42 | I14: DC3DB71-DLK65 | J14: =+LEFT(I14,7) -> DC3DB71 | M14: DC1QP03-DCK65 | N14: DC1QP03 | Q14: DC3VL25-DCK65
B15: 65DLOT22 | C15: 22 | I15: DL2DD52-DLK65 | J15: =+LEFT(I15,7) -> DL2DD52 | M15: DC1TD01-DCK65 | N15: DC1TD01 | Q15: DC3DT82-DCK64
B16: 65DLMX21 | C16: 20 | E16: =+C16 -> 20 | I16: DL2DD33-DLK65 | J16: =+LEFT(I16,7) -> DL2DD33 | M16: DC1TD02-DCK65 | N16: DC1TD02 | Q16: DC3CC47-DCK64
B17: 65DLKT21 | C17: 63 | I17: DC2DD94-DLK65 | J17: =+LEFT(I17,7) -> DC2DD94 | M17: DC1TD03-DCK65 | N17: DC1TD03 | Q17: DC2CT32-DCK64
B18: 65DLKT22 | C18: 53 | I18: DL3DD41-DLK65 | J18: =+LEFT(I18,7) -> DL3DD41 | M18: DC1TD04-DCK65 | N18: DC1TD04 | Q18: CC2CO24-CCK66
B19: 65DLKT23 | C19: =55+13 -> 68 | I19: DC2DD54-DLK65 | J19: =+LEFT(I19,7) -> DC2DD54 | M19: DC1TD05-DCK65 | N19: DC1TD05 | Q19: DC2CO24-DCK66
B20: 65DLKT24 | C20: 63 | I20: DC2DD34-DLK65 | J20: =+LEFT(I20,7) -> DC2DD34 | M20: DC2VB39-DCK65 | N20: DC2VB39 | Q20: DC2DT44-DCK65
B21: 65DLKT25 | C21: 22 | I21: DC3DD42-DLK65 | J21: =+LEFT(I21,7) -> DC3DD42 | M21: DC2CO11-DCK65 | N21: DC2CO11 | Q21: DC3DT60-DCK64
B22: 65DLQT21 | C22: 27 | I22: DC3CT55-DLK65 | J22: =+LEFT(I22,7) -> DC3CT55 | M22: DC1CB26-DCK65 | N22: DC1CB26 | Q22: DC2CT31-DCK65
B23: 65DLKX21 | C23: 57 | I23: DL3DD60-DLK65 | J23: =+LEFT(I23,7) -> DL3DD60 | M23: DC3KT22-DCK65 | N23: DC3KT22 | Q23: DC2VB32-DCK66
I24: DL2CO26-DLK65 | J24: =+LEFT(I24,7) -> DL2CO26 | M24: DC2KV64-DCK65 | N24: DC2KV64 | Q24: DC3MT37-DCK64
B25: 65DVCD21 | C25: 34 | I25: DL2CK48-DLK65 | J25: =+LEFT(I25,7) -> DL2CK48 | M25: DC2KV63-DCK65 | N25: DC2KV63 | Q25: DC2DT51-DCK64
B26: 64DVCD01 | C26: 23 | I26: DC2CK57-DLK65 | J26: =+LEFT(I26,7) -> DC2CK57 | M26: DC2KV82-DCK65 | N26: DC2KV82 | Q26: DC2VS67-DCK65
I27: DL3CK71-DLK65 | J27: =+LEFT(I27,7) -> DL3CK71 | M27: DC3KX71-DCK65 | N27: DC3KX71 | Q27: DC2VB67-DCK65
I28: DC3CK72-DLK65 | J28: =+LEFT(I28,7) -> DC3CK72 | M28: DC1TH46-DCK65 | N28: DC1TH46 | Q28: DC2KV22-DCK65
I29: DL2CK41-DLK65 | J29: =+LEFT(I29,7) -> DL2CK41 | M29: DC1TH47-DCK65 | N29: DC1TH47 | Q29: DC2CK52-DCK64
I30: DC3MX40-DLK65 | J30: =+LEFT(I30,7) -> DC3MX40 | M30: DC2DT41-DCK65 | N30: DC2DT41 | Q30: DC2DT52-DCK64
I31: DL2OT70-DLK65 | J31: =+LEFT(I31,7) -> DL2OT70 | M31: DC2DT42-DCK65 | N31: DC2DT42 | Q31: DC3KT25-DCK63
I32: DL2CO21-DLK65 | J32: =+LEFT(I32,7) -> DL2CO21 | M32: DC2DT43-DCK65 | N32: DC2DT43 | Q32: DC2GT54-DCK64
I33: DL2CO25-DLK65 | J33: =+LEFT(I33,7) -> DL2CO25 | M33: DC1CB20-DCK65 | N33: DC1CB20 | Q33: DC2DD54-DCK64
I34: DL2CO13-DLK65 | J34: =+LEFT(I34,7) -> DL2CO13 | M34: DC1TH48-DCK65 | N34: DC1TH48 | Q34: DC2OT71-DCK64
I35: DL2CK55-DLK65 | J35: =+LEFT(I35,7) -> DL2CK55 | M35: DC2GT42-DCK65 | N35: DC2GT42 | Q35: DC3MX47-DCK63
I36: DC2CK54-DLK65 | J36: =+LEFT(I36,7) -> DC2CK54 | M36: DC1CB92-DCK65 | N36: DC1CB92 | Q36: DC3MX42-DCK63
I37: DC3KV43-DLK65 | J37: =+LEFT(I37,7) -> DC3KV43 | M37: DC2TT23-DCK65 | N37: DC2TT23 | Q37: DC2GT34-DCK64
I38: DC3KT24-DLK65 | J38: =+LEFT(I38,7) -> DC3KT24 | M38: DC2KV68-DCK65 | N38: DC2KV68 | Q38: DC2CK54-DCK65
... I67: DC1CB21-DVK65 | J67: =+LEFT(I67,7) -> DC1CB21 | M67: DC2KV90-DCK65 | N67: DC2KV90 | Q67: DC2DD51-DCK64
M68: DC1CB31-DCK65 | N68: DC1CB31 | Q68: DC3KV43-DCK63
...

Sheet Mã
A1: Phụ trách
A2: BM phụ trách | B2: Khoa phụ trách
A4: NLCN Mác - Lênin | B4: LÝ LUẬN CHÍNH TRỊ | C4: LLNL | E4: LÝ LUẬN CHÍNH TRỊ | F4: LLCT
A5: Tư tưởng Hồ Chí Minh | B5: LÝ LUẬN CHÍNH TRỊ | C5: LLTT | E5: KHOA HỌC CƠ BẢN | F5: KHCB
A6: ĐLCM của ĐCSVN | B6: LÝ LUẬN CHÍNH TRỊ | C6: LLDL | E6: CÔNG NGHỆ THÔNG TIN | F6: CNTT
A7: Giáo dục pháp luật | B7: LÝ LUẬN CHÍNH TRỊ | C7: LLPL | E7: GIÁO DỤC THỂ CHẤT | F7: GDTC
A8: Ngoại ngữ | B8: KHOA HỌC CƠ BẢN | C8: CBNN | E8: GIÁO DỤC QPAN | F8: QPAN
A9: Toán | B9: KHOA HỌC CƠ BẢN | C9: CBTO | E9: CƠ SỞ KỸ THUẬT | F9: CSKT
A10: Vật lý | B10: KHOA HỌC CƠ BẢN | C10: CBLY | E10: CÔNG TRÌNH | F10: KCT
A11: Hóa học | B11: KHOA HỌC CƠ BẢN | C11: CBHO | E11: KINH TẾ - VẬN TẢI | F11: KTVT
A12: Hệ thống thông tin | B12: CÔNG NGHỆ THÔNG TIN | C12: TTHT | E12: CƠ KHÍ | F12: KCK
A13: CÔNG NGHỆ THÔNG TIN | B13: CÔNG NGHỆ THÔNG TIN | C13: CNTT
A14: Giáo dục thể chất | B14: GIÁO DỤC THỂ CHẤT | C14: CDTC
A15: Quốc phòng - An ninh | B15: GIÁO DỤC QPAN | C15: QPAN
A16: Hình họa - Vẽ kĩ thuật | B16: CƠ SỞ KỸ THUẬT | C16: CSVE
A17: CNKT Môi trường | B17: CÔNG TRÌNH | C17: CTMO
A18: Cơ sở ngành kinh tế | B18: KINH TẾ - VẬN TẢI | C18: KVCS
A19: Khoa Cơ khí | B19: CƠ KHÍ | C19: KCK
A20: Quản trị doanh nghiệp | B20: KINH TẾ - VẬN TẢI | C20: KVQT
A21: Vận tải sắt - bộ | B21: KINH TẾ - VẬN TẢI | C21: KVSB
A22: Kinh tế xây dựng | B22: KINH TẾ - VẬN TẢI | C22: KVKX
A23: Điện - Điện tử | B23: CÔNG NGHỆ THÔNG TIN | C23: TTDT
A24: Khoa CNTT | B24: CÔNG NGHỆ THÔNG TIN | C24: CNTT
... A45: Tin học công trình | B45: CÔNG TRÌNH | C45: CTUD

Sheet DATA
A1: Mã học phần | F1: Số TT | G1: Học phần | H1: Số TC | I1: Khối lượng (tiết, giờ) | M1: THI | AB1: NGÀNH | AU1: NGÀNH
A2: ĐHCQ | B2: ĐHLT | C2: ĐTLT | D2: CĐCQ | E2: CĐLT | G2: Tên đầy đủ | I2: LT, BT | J2: TL, TH, TN | K2: TT, ĐA, BTL (h) | L2: Tự học (h) | M2: Hình thức | N2: Thời gian | O2: BM phụ trách | P2: Khoa phụ trách | T2: DCCA | U2: DCCC | V2: DCCD | W2: DCCS | X2: DCDB | Y2: DCDD | Z2: DCCDA | AA2: DCOT | AB2: DCMX | AC2: DCMT | AD2: DCDM | AE2: DCDT | AF2: DCHT | AG2: DCKT | AH2: DCQT | AI2: DCKX | AJ2: DCVB | AK2: DCVS | AL2: DCVL | AM2: CCCA | AN2: CCCC | AO2: CCCD | AP2: CCCS | AQ2: CCDB | AR2: CCDD | AS2: CCCDA | AT2: CCOT | AU2: CCMX | AV2: CCMT | AW2: CCDM | AX2: CCDT | AY2: CCTH | AZ2: CCKT | BA2: CCQT | BB2: CCKX | BC2: CCVB | BD2: CCVS | BE2: CCVL
A3: DC | B3: DL | C3: DT | D3: CC | E3: CL
A4: DC1TT90 | D4: CC1TT90 | F4: 52 | G4: Bảo vệ môi trường | H4: 2 | I4: 30 | L4: 0 | O4: Khoa CNTT | P4: CÔNG NGHỆ THÔNG TIN | Q4: =MaBM -> CNTT | R4: =MaKhoa -> CNTT | S4: =+R4&"-"&Q4 -> CNTT-CNTT | AF4: o | AY4: o
A5: DC4TH80 | F5: 738 | G5: Đồ án tốt nghiệp | H5: 8 | K5: 480 | L5: 0 | M5: VĐ | O5: Khoa CNTT | P5: CÔNG NGHỆ THÔNG TIN | Q5: =MaBM -> CNTT | R5: =MaKhoa -> CNTT | S5: =+R5&"-"&Q5 -> CNTT-CNTT | AF5: x
D6: CC4TH80 | F6: 739 | G6: Đồ án tốt nghiệp | H6: 4 | K6: 240 | L6: 0 | M6: VĐ | O6: Khoa CNTT | P6: CÔNG NGHỆ THÔNG TIN | Q6: =MaBM -> CNTT | R6: =MaKhoa -> CNTT | S6: =+R6&"-"&Q6 -> CNTT-CNTT | AY6: x
A7: DC4DT80 | B7: DC4DT80 | F7: 740 | G7: Đồ án tốt nghiệp | H7: 8 | K7: 480 | L7: 0 | M7: VĐ | O7: Khoa CNTT | P7: CÔNG NGHỆ THÔNG TIN | Q7: =MaBM -> CNTT | R7: =MaKhoa -> CNTT | S7: =+R7&"-"&Q7 -> CNTT-CNTT | AE7: x
D8: CC4DT80 | F8: 741 | G8: Đồ án tốt nghiệp | H8: 4 | K8: 240 | L8: 0 | M8: VĐ | O8: Khoa CNTT | P8: CÔNG NGHỆ THÔNG TIN | Q8: =MaBM -> CNTT | R8: =MaKhoa -> CNTT | S8: =+R8&"-"&Q8 -> CNTT-CNTT | AX8: x
A9: DC4ME80 | F9: 840 | G9: Đồ án tốt nghiệp | H9: 8 | K9: 480 | L9: 0 | M9: VĐ | O9: Khoa CNTT | P9: CÔNG NGHỆ THÔNG TIN | Q9: =MaBM -> CNTT | R9: =MaKhoa -> CNTT | S9: =+R9&"-"&Q9 -> CNTT-CNTT
A10: DC4TH70 | B10: DC4TH70 | D10: CC4TH70 | F10: 706 | G10: Thực tập tốt nghiệp | H10: 4 | K10: 180 | L10: 0 | M10: VĐ | O10: Khoa CNTT | P10: CÔNG NGHỆ THÔNG TIN | Q10: =MaBM -> CNTT | R10: =MaKhoa -> CNTT | S10: =+R10&"-"&Q10 -> CNTT-CNTT | AF10: x | AY10: x
A11: DC4DT70 | B11: DC4DT70 | D11: CC4DT70 | F11: 707 | G11: Thực tập tốt nghiệp | H11: 4 | K11: 180 | L11: 0 | M11: VĐ | O11: Khoa CNTT | P11: CÔNG NGHỆ THÔNG TIN | Q11: =MaBM -> CNTT | R11: =MaKhoa -> CNTT | S11: =+R11&"-"&Q11 -> CNTT-CNTT | AE11: x | AX11: x
A12: DC4ME70 | F12: 839 | G12: Thực tập tốt nghiệp | H12: 4 | K12: 240 | L12: 0 | M12: VĐ | O12: Khoa CNTT | P12: CÔNG NGHỆ THÔNG TIN | Q12: =MaBM -> CNTT | R12: =MaKhoa -> CNTT | S12: =+R12&"-"&Q12 -> CNTT-CNTT
A13: DC3DT64 | B13: DC3DT64 | F13: 551 | G13: An ninh mạng thông tin | H13: 3 | I13: 45 | L13: 0 | M13: Viết | N13: 60 | O13: Điện - Điện tử | P13: CÔNG NGHỆ THÔNG TIN | Q13: =MaBM -> TTDT | R13: =MaKhoa -> CNTT | S13: =+R13&"-"&Q13 -> CNTT-TTDT | AE13: x
A14: DC2DT55 | B14: DC2DT55 | F14: 206 | G14: Anten và truyền sóng | H14: 3 | I14: 45 | L14: 0 | O14: Điện - Điện tử | P14: CÔNG NGHỆ THÔNG TIN | Q14: =MaBM -> TTDT | R14: =MaKhoa -> CNTT | S14: =+R14&"-"&Q14 -> CNTT-TTDT | AE14: x
A15: DC3DT81 | B15: DC3DT81 | D15: CC3DT81 | F15: 627 | G15: Công nghệ Multimedia | H15: 2 | I15: 30 | L15: 0 | M15: Viết | N15: 60 | O15: Điện - Điện tử | P15: CÔNG NGHỆ THÔNG TIN | Q15: =MaBM -> TTDT | R15: =MaKhoa -> CNTT | S15: =+R15&"-"&Q15 -> CNTT-TTDT | AE15: o | AX15: o
A16: DC3DT82 | B16: DC3DT82 | D16: CC3DT82 | F16: 628 | G16: Công nghệ vi điện tử | H16: 2 | I16: 30 | L16: 0 | M16: Viết | N16: 60 | O16: Điện - Điện tử | P16: CÔNG NGHỆ THÔNG TIN | Q16: =MaBM -> TTDT | R16: =MaKhoa -> CNTT | S16: =+R16&"-"&Q16 -> CNTT-TTDT | AE16: o | AX16: o
A17: DC2DT45 | D17: CC2DT45 | F17: 205 | G17: Cơ sở điều khiển tự động | H17: 3 | I17: 45 | L17: 0 | M17: Viết | N17: 90 | O17: Điện - Điện tử | P17: CÔNG NGHỆ THÔNG TIN | Q17: =MaBM -> TTDT | R17: =MaKhoa -> CNTT | S17: =+R17&"-"&Q17 -> CNTT-TTDT | AE17: x | AX17: x
A18: DC2DT44 | D18: CC2DT44 | F18: 195 | G18: Cơ sở kỹ thuật đo lường | H18: 2 | I18: 15 | J18: 30 | L18: 0 | M18: Viết | N18: 60 | O18: Điện - Điện tử | P18: CÔNG NGHỆ THÔNG TIN | Q18: =MaBM -> TTDT | R18: =MaKhoa -> CNTT | S18: =+R18&"-"&Q18 -> CNTT-TTDT | AE18: x | AX18: x
A19: DC3DT60 | D19: CC3DT60 | F19: 553 | G19: Cơ sở truyền số liệu | H19: 3 | I19: 45 | L19: 0 | M19: Viết | N19: 60 | O19: Điện - Điện tử | P19: CÔNG NGHỆ THÔNG TIN | Q19: =MaBM -> TTDT | R19: =MaKhoa -> CNTT | S19: =+R19&"-"&Q19 -> CNTT-TTDT | AE19: x | AX19: x
A20: DC3ME61 | F20: 828 | G20: Điện tử công suất | H20: 3 | I20: 45 | L20: 0 | O20: Điện - Điện tử | P20: CÔNG NGHỆ THÔNG TIN | Q20: =MaBM -> TTDT | R20: =MaKhoa -> CNTT | S20: =+R20&"-"&Q20 -> CNTT-TTDT
A21: DC2DT51 | F21: 197 | G21: Điện tử số | H21: 3 | I21: 30 | J21: 30 | L21: 0 | M21: Viết | N21: 60 | O21: Điện - Điện tử | P21: CÔNG NGHỆ THÔNG TIN | Q21: =MaBM -> TTDT | R21: =MaKhoa -> CNTT | S21: =+R21&"-"&Q21 -> CNTT-TTDT | AE21: x
B22: DL2DT51 | F22: 198 | G22: Điện tử số | H22: 2 | I22: 30 | L22: 0 | M22: Viết | N22: 60 | O22: Điện - Điện tử | P22: CÔNG NGHỆ THÔNG TIN | Q22: =MaBM -> TTDT | R22: =MaKhoa -> CNTT | S22: =+R22&"-"&Q22 -> CNTT-TTDT
D23: CC2DT51 | F23: 199 | G23: Điện tử số | H23: 2 | I23: 30 | L23: 0 | M23: Viết | N23: 60 | O23: Điện - Điện tử | P23: CÔNG NGHỆ THÔNG TIN | Q23: =MaBM -> TTDT | R23: =MaKhoa -> CNTT | S23: =+R23&"-"&Q23 -> CNTT-TTDT | AX23: x
A24: DC2DT53 | F24: 201 | G24: Điện tử tương tự | H24: 4 | I24: 45 | J24: 30 | L24: 0 | M24: Viết | N24: 90 | O24: Điện - Điện tử | P24: CÔNG NGHỆ THÔNG TIN | Q24: =MaBM -> TTDT | R24: =MaKhoa -> CNTT | S24: =+R24&"-"&Q24 -> CNTT-TTDT | AE24: x
B25: DL2DT53 | F25: 202 | G25: Điện tử tương tự | H25: 2 | I25: 30 | L25: 0 | O25: Điện - Điện tử | P25: CÔNG NGHỆ THÔNG TIN | Q25: =MaBM -> TTDT | R25: =MaKhoa -> CNTT | S25: =+R25&"-"&Q25 -> CNTT-TTDT
D26: CC2DT53 | F26: 203 | G26: Điện tử tương tự | H26: 3 | I26: 30 | J26: 30 | L26: 0 | M26: Viết | N26: 60 | O26: Điện - Điện tử | P26: CÔNG NGHỆ THÔNG TIN | Q26: =MaBM -> TTDT | R26: =MaKhoa -> CNTT | S26: =+R26&"-"&Q26 -> CNTT-TTDT | AX26: x
A27: DC2DT52 | B27: DC2DT52 | F27: 200 | G27: Đồ án Điện tử số | H27: 2 | K27: 90 | L27: 0 | M27: VĐ | O27: Điện - Điện tử | P27: CÔNG NGHỆ THÔNG TIN | Q27: =MaBM -> TTDT | R27: =MaKhoa -> CNTT | S27: =+R27&"-"&Q27 -> CNTT-TTDT | AE27: x
A28: DC2DT54 | B28: DC2DT54 | F28: 204 | G28: Đồ án Điện tử tương tự | H28: 2 | K28: 90 | L28: 0 | M28: VĐ | O28: Điện - Điện tử | P28: CÔNG NGHỆ THÔNG TIN | Q28: =MaBM -> TTDT | R28: =MaKhoa -> CNTT | S28: =+R28&"-"&Q28 -> CNTT-TTDT | AE28: x
A29: DC3ME53 | F29: 832 | G29: Đồ án Hệ thống cơ điện tử | H29: 2 | K29: 90 | L29: 0 | M29: VĐ | O29: Điện - Điện tử | P29: CÔNG NGHỆ THÔNG TIN | Q29: =MaBM -> TTDT | R29: =MaKhoa -> CNTT | S29: =+R29&"-"&Q29 -> CNTT-TTDT
A30: DC3ME64 | F30: 830 | G30: Đồ án Kỹ thuật vi điều khiển | H30: 2 | K30: 90 | L30: 0 | M30: VĐ | O30: Điện - Điện tử | P30: CÔNG NGHỆ THÔNG TIN | Q30: =MaBM -> TTDT | R30: =MaKhoa -> CNTT | S30: =+R30&"-"&Q30 -> CNTT-TTDT
A31: DC3DT62 | B31: DC3DT62 | F31: 556 | G31: Đồ án Mạng viễn thông | H31: 2 | K31: 90 | L31: 0 | M31: VĐ | O31: Điện - Điện tử | P31: CÔNG NGHỆ THÔNG TIN | Q31: =MaBM -> TTDT | R31: =MaKhoa -> CNTT | S31: =+R31&"-"&Q31 -> CNTT-TTDT | AE31: x
A32: DC2CK42 | F32: 841 | G32: Động cơ điện | H32: 2 | L32: 0 | O32: Điện - Điện tử | P32: CÔNG NGHỆ THÔNG TIN | Q32: =MaBM -> TTDT | R32: =MaKhoa -> CNTT | S32: =+R32&"-"&Q32 -> CNTT-TTDT
A33: DC3DT84 | B33: DC3DT84 | D33: CC3DT84 | F33: 630 | G33: Giao tiếp máy tính và thu nhận dữ liệu | H33: 2 | I33: 30 | L33: 0 | M33: Viết | N33: 60 | O33: Điện - Điện tử | P33: CÔNG NGHỆ THÔNG TIN | Q33: =MaBM -> TTDT | R33: =MaKhoa -> CNTT | S33: =+R33&"-"&Q33 -> CNTT-TTDT | AE33: o | AX33: x
A34: DC3ME51 | F34: 831 | G34: Hệ thống cơ điện tử | H34: 3 | I34: 45 | L34: 0 | O34: Điện - Điện tử | P34: CÔNG NGHỆ THÔNG TIN | Q34: =MaBM -> TTDT | R34: =MaKhoa -> CNTT | S34: =+R34&"-"&Q34 -> CNTT-TTDT
A35: DC3ME73 | F35: 834 | G35: Hệ thống giao thông thông minh ITS | H35: 2 | I35: 30 | L35: 0 | O35: Điện - Điện tử | P35: CÔNG NGHỆ THÔNG TIN | Q35: =MaBM -> TTDT | R35: =MaKhoa -> CNTT | S35: =+R35&"-"&Q35 -> CNTT-TTDT
A36: DC3DT83 | B36: DC3DT83 | D36: CC3DT83 | F36: 629 | G36: Hệ thống nhúng | H36: 2 | I36: 30 | L36: 0 | M36: Viết | N36: 60 | O36: Điện - Điện tử | P36: CÔNG NGHỆ THÔNG TIN | Q36: =MaBM -> TTDT | R36: =MaKhoa -> CNTT | S36: =+R36&"-"&Q36 -> CNTT-TTDT | AE36: o | AX36: x
A37: DC3DT63 | B37: DC3DT63 | F37: 552 | G37: Hệ thống viễn thông | H37: 3 | I37: 45 | L37: 0 | M37: Viết | O37: Điện - Điện tử | P37: CÔNG NGHỆ THÔNG TIN | Q37: =MaBM -> TTDT | R37: =MaKhoa -> CNTT | S37: =+R37&"-"&Q37 -> CNTT-TTDT | AE37: x
A38: DC1TH47 | B38: DC1TH47 | D38: CC1TH47 | F38: 51 | G38: Kỹ thuật điện | H38: 2 | I38: 30 | L38: 0 | M38: Viết | N38: 60 | O38: Điện - Điện tử | P38: CÔNG NGHỆ THÔNG TIN | Q38: =MaBM -> TTDT | R38: =MaKhoa -> CNTT | S38: =+R38&"-"&Q38 -> CNTT-TTDT | AE38: o | AX38: o
A39: DC1TH46 | F39: 50 | G39: Kỹ thuật điện - Điện tử | H39: 2 | I39: 15 | J39: 30 | L39: 0 | M39: Viết | N39: 60 | O39: Điện - Điện tử | P39: CÔNG NGHỆ THÔNG TIN | Q39: =MaBM -> TTDT | R39: =MaKhoa -> CNTT | S39: =+R39&"-"&Q39 -> CNTT-TTDT | AF39: o
A40: DC2CK41 | F40: 102 | G40: Kỹ thuật điện - Điện tử | H40: 4 | I40: 45 | J40: 30 | L40: 0 | M40: Viết | N40: 90 | O40: Điện - Điện tử | P40: CÔNG NGHỆ THÔNG TIN | Q40: =MaBM -> TTDT | R40: =MaKhoa -> CNTT | S40: =+R40&"-"&Q40 -> CNTT-TTDT | AA40: x | AB40: x | AC40: x | AD40: x
...

Sheet SoTD
A2: SỔ THEO DÕI NỘP BẢNG ĐIỂM CHUYÊN CẦN + QUÁ TRÌNH
A3: HỌC KỲ 2 - NĂM HỌC 2014-2015
A4: STT | B4: Tên lớp học phần | C4: Bộ môn | D4: Số SV | E4: Khoá | F4: Giảng viên | G4: Bảng điểm QT | H4: Ghi chú
A6: =_stt -> 1
A7: =_stt -> 2
A8: =_stt -> 3
A9: =_stt -> 4
A10: =_stt -> 5
A11: =_stt -> 6
A12: =_stt -> 7
A13: =_stt -> 8
A14: =_stt -> 9
A15: =_stt -> 10
A16: =_stt -> 11
A17: =_stt -> 12
... A25: =_stt -> 20
A26: 1
A27: =_stt -> 2
A28: =_stt -> 3
A29: =_stt -> 4
A30: =_stt -> 5
A31: =_stt -> 6
A32: =_stt -> 7
A33: =_stt -> 8
A34: =_stt -> 9
A35: =_stt -> 10
A36: =_stt -> 11
A37: =_stt -> 12
A38: =_stt -> 13
... A633: =_stt -> 608

Sheet Tkê LOP
C1: STT | D1: =_LocMaHP -> STT | E1: Học phần | F1: Bộ môn | G1: Số SV dự kiến | H1: Số SV đăng ký | I1: Số SV dự kiến đăng ký thi | J1: Số SV đăng ký thi | O1: Đợt | P1: 9 | Q1: 10 | R1: 8
A2: =Ma -> CC1CB94-CCK67 | B2: =MaHP -> CC1CB94 | C2: 1 | D2: CC1CB94-1-16 (01) | E2: ATLĐ và môi trường CN-1-16 (01)/67CCOT21 | F2: ATLĐ và môi trường CN | G2: 2 | H2: Bộ môn ô tô | I2: Khoa cơ khí | J2: 57 | K2: 60 | L2: K67CDCQ | M2: Trương Tất Anh | N2: =Loclop -> 67CCOT21 | P2: =_trangay -> #N/A | Q2: =_trangay -> #N/A | R2: =_trangay -> #N/A | S2: =+P2+G3 -> #N/A | T2: =IF(P2<#REF!,"??","") -> #N/A | U2: =IF(P2>#REF!+1,"??","") -> #N/A
A3: =Ma -> DC1CB94-DCK67 | B3: =MaHP -> DC1CB94 | C3: 2 | D3: DC1CB94(116)_01 | E3: ATLĐ và môi trường CN(116)_01/67DCOT21 | F3: ATLĐ và môi trường CN | G3: 2 | H3: Bộ môn ô tô | I3: Khoa cơ khí | J3: 0 | K3: 0 | L3: K67DHCQ | M3: Thiều Sỹ Nam | N3: =Loclop -> 67DCOT21 | P3: =_trangay -> #N/A | Q3: =_trangay -> #N/A | R3: =_trangay -> #N/A | S3: =+P3+G4 -> #N/A | T3: =IF(P3<#REF!,"??","") -> #N/A | U3: =IF(P3>#REF!+1,"??","") -> #N/A
A4: =Ma -> DC1CB94-DCK67 | B4: =MaHP -> DC1CB94 | C4: 3 | D4: DC1CB94(116)_02 | E4: ATLĐ và môi trường CN(116)_02/67DCOT22 | F4: ATLĐ và môi trường CN | G4: 2 | H4: Bộ môn ô tô | I4: Khoa cơ khí | J4: 0 | K4: 0 | L4: K67DHCQ | N4: =Loclop -> 67DCOT22 | P4: =_trangay -> #N/A | Q4: =_trangay -> #N/A | R4: =_trangay -> #N/A | S4: =+P4+G5 -> #N/A | T4: =IF(P4<#REF!,"??","") -> #N/A | U4: =IF(P4>#REF!+1,"??","") -> #N/A
A5: =Ma -> DC1CB94-DCK67 | B5: =MaHP -> DC1CB94 | C5: 4 | D5: DC1CB94(116)_03 | E5: ATLĐ và môi trường CN(116)_03/67DCOT23 | F5: ATLĐ và môi trường CN | G5: 2 | H5: Bộ môn ô tô | I5: Khoa cơ khí | J5: 0 | K5: 0 | L5: K67DHCQ | M5: Thiều Sỹ Nam | N5: =Loclop -> 67DCOT23 | P5: =_trangay -> #N/A | Q5: =_trangay -> #N/A | R5: =_trangay -> #N/A | S5: =+P5+G7 -> #N/A | T5: =IF(P5<#REF!,"??","") -> #N/A | U5: =IF(P5>#REF!+1,"??","") -> #N/A
A6: =Ma -> DC1CB94-DCK67 | B6: =MaHP -> DC1CB94 | C6: 5 | D6: DC1CB94(116)_04 | E6: ATLĐ và môi trường CN(116)_04/67DCOT24 | F6: ATLĐ và môi trường CN | G6: 2 | H6: Bộ môn ô tô | I6: Khoa cơ khí | J6: 0 | K6: 0 | L6: K67DHCQ | N6: =Loclop -> 67DCOT24 | P6: =_trangay -> #N/A | Q6: =_trangay -> #N/A | R6: =_trangay -> #N/A | S6: =+P6+G7 -> #N/A | T6: =IF(P6<S5,"??","") -> #N/A | U6: =IF(P6>S5+1,"??","") -> #N/A
A7: =Ma -> DC1CB94-DCK67 | B7: =MaHP -> DC1CB94 | C7: 6 | D7: DC1CB94(116)_05 | E7: ATLĐ và môi trường CN(116)_05/67DCOT25 | F7: ATLĐ và môi trường CN | G7: 2 | H7: Bộ môn ô tô | I7: Khoa cơ khí | J7: 0 | K7: 0 | L7: K67DHCQ | M7: Thiều Sỹ Nam | N7: =Loclop -> 67DCOT25 | P7: =_trangay -> #N/A | Q7: =_trangay -> #N/A | R7: =_trangay -> #N/A | S7: =+P7+G8 -> #N/A | T7: =IF(P7<S5,"??","") -> #N/A | U7: =IF(P7>S5+1,"??","") -> #N/A
A8: =Ma -> DC1CB94-DCK67 | B8: =MaHP -> DC1CB94 | C8: 7 | D8: DC1CB94(116)_06 | E8: ATLĐ và môi trường CN(116)_06/67DCCO21 | F8: ATLĐ và môi trường CN | G8: 2 | H8: Bộ môn ô tô | I8: Khoa cơ khí | J8: 0 | K8: 0 | L8: K67DHCQ | N8: =Loclop -> 67DCCO21 | P8: =_trangay -> #N/A | Q8: =_trangay -> #N/A | R8: =_trangay -> #N/A | S8: =+P8+G9 -> #N/A | T8: =IF(P8<S7,"??","") -> #N/A | U8: =IF(P8>S7+1,"??","") -> #N/A
A9: =Ma -> DC1CB94-DCK67 | B9: =MaHP -> DC1CB94 | C9: 8 | D9: DC1CB94(116)_07 | E9: ATLĐ và môi trường CN(116)_07/67DCCO22 | F9: ATLĐ và môi trường CN | G9: 2 | H9: Bộ môn ô tô | I9: Khoa cơ khí | J9: 0 | K9: 0 | L9: K67DHCQ | M9: Thiều Sỹ Nam | N9: =Loclop -> 67DCCO22 | P9: =_trangay -> #N/A | Q9: =_trangay -> #N/A | R9: =_trangay -> #N/A | T9: =IF(P9<S8,"??","") -> #N/A | U9: =IF(P9>S8+1,"??","") -> #N/A
A10: =Ma -> DC1CB94-DCK67 | B10: =MaHP -> DC1CB94 | C10: 9 | D10: DC1CB94(116)_08 | E10: ATLĐ và môi trường CN(116)_08/67DCCO23 | F10: ATLĐ và môi trường CN | G10: 2 | H10: Bộ môn ô tô | I10: Khoa cơ khí | J10: 0 | K10: 0 | L10: K67DHCQ | N10: =Loclop -> 67DCCO23 | P10: =_trangay -> #N/A | Q10: =_trangay -> #N/A
A11: =Ma -> DC1CB94-DCK67 | B11: =MaHP -> DC1CB94 | C11: 10 | D11: DC1CB94-1-16 (01) | E11: ATLĐ và môi trường CN-1-16 (01)/67DCMX21 | F11: ATLĐ và môi trường CN | G11: 2 | H11: Bộ môn ô tô | I11: Khoa cơ khí | J11: 60 | K11: 60 | L11: K67DHCQ | M11: Trương Tất Anh | N11: =Loclop -> 67DCMX21 | P11: =_trangay -> #N/A | Q11: =_trangay -> #N/A | R11: =_trangay -> #N/A | S11: =+P11+G12 -> #N/A | T11: =IF(P11<S9,"??","") -> #N/A | U11: =IF(P11>S9+1,"??","") -> #N/A
A12: =Ma -> DC1CB94-DCK67 | B12: =MaHP -> DC1CB94 | C12: 11 | D12: DC1CB94-1-16 (02) | E12: ATLĐ và môi trường CN-1-16 (02)/67DCMX22 | F12: ATLĐ và môi trường CN | G12: 2 | H12: Bộ môn ô tô | I12: Khoa cơ khí | J12: 59 | K12: 59 | L12: K67DHCQ | M12: Trương Tất Anh | N12: =Loclop -> 67DCMX22 | P12: =_trangay -> #N/A | Q12: =_trangay -> #N/A | R12: =_trangay -> #N/A | S12: =+P12+G14 -> #N/A | T12: =IF(P12<S11,"??","") -> #N/A | U12: =IF(P12>S11+1,"??","") -> #N/A
A13: =Ma -> DC1CB94-DCK67 | B13: =MaHP -> DC1CB94 | C13: 12 | D13: DC1CB94-1-16 (03) | E13: ATLĐ và môi trường CN-1-16 (03)/67DCDM21 | F13: ATLĐ và môi trường CN | G13: 2 | H13: Bộ môn ô tô | I13: Khoa cơ khí | J13: 55 | K13: 55 | L13: K67DHCQ | M13: Trương Tất Anh | N13: =Loclop -> 67DCDM21 | P13: =_trangay -> #N/A | Q13: =_trangay -> #N/A | R13: =_trangay -> #N/A | S13: =+P13+G14 -> #N/A | T13: =IF(P13<S11,"??","") -> #N/A | U13: =IF(P13>S11+1,"??","") -> #N/A
A14: =Ma -> DC1CB94-DCK67 | B14: =MaHP -> DC1CB94 | C14: 13 | D14: DC1CB94-1-16 (03) | E14: ATLĐ và môi trường CN-1-16 (03)/67DCMT21 | F14: ATLĐ và môi trường CN | G14: 2 | H14: Bộ môn ô tô | I14: Khoa cơ khí | J14: 55 | K14: 75 | L14: K67DHCQ | M14: Trương Tất Anh | N14: =Loclop -> 67DCMT21 | P14: =_trangay -> #N/A | Q14: =_trangay -> #N/A | R14: =_trangay -> #N/A | S14: =+P14+G15 -> #N/A | T14: =IF(P14<S12,"??","") -> #N/A | U14: =IF(P14>S12+1,"??","") -> #N/A
A15: =Ma -> CC2CO22-CCK67 | B15: =MaHP -> CC2CO22 | C15: 14 | D15: CC2CO22-1-16 (01) | E15: Cơ học cơ sở (CK)-1-16 (01)/67CCOT21 | F15: Cơ học cơ sở (CK) | G15: 4 | H15: CSKT1 | I15: Tổ Cơ sở kỹ thuật | J15: 57 | K15: 60 | L15: K67CDCQ | M15: Đồng Thanh Hương | N15: =Loclop -> 67CCOT21 | P15: =_trangay -> #N/A | Q15: =_trangay -> #N/A | R15: =_trangay -> #N/A | S15: =+P15+G16 -> #N/A | T15: =IF(P15<S12,"??","") -> #N/A | U15: =IF(P15>S12+1,"??","") -> #N/A
A16: =Ma -> CC2CO21-CCK67 | B16: =MaHP -> CC2CO21 | C16: 15 | D16: CC2CO21-1-16 (01) | E16: Cơ học cơ sở (CT)-1-16 (01)/67CCCD21 | F16: Cơ học cơ sở (CT) | G16: 3 | H16: CSKT1 | I16: Tổ Cơ sở kỹ thuật | J16: 63 | K16: 64 | L16: K67CDCQ | M16: Đồng Thanh Hương | N16: =Loclop -> 67CCCD21 | P16: =_trangay -> #N/A | Q16: =_trangay -> #N/A | R16: =_trangay -> #N/A | S16: =+P16+G17 -> #N/A | T16: =IF(P16<S14,"??","") -> #N/A | U16: =IF(P16>S14+1,"??","") -> #N/A
A17: =Ma -> CC2CO21-CCK67 | B17: =MaHP -> CC2CO21 | C17: 16 | D17: CC2CO21-1-16 (01) | E17: Cơ học cơ sở (CT)-1-16 (01)/67CCDD21 | F17: Cơ học cơ sở (CT) | G17: 3 | H17: CSKT1 | I17: Tổ Cơ sở kỹ thuật | J17: 0 | K17: 0 | L17: K67CDCQ | M17: Đồng Thanh Hương | N17: =Loclop -> 67CCDD21 | P17: =_trangay -> #N/A | Q17: =_trangay -> #N/A | R17: =_trangay -> #N/A
A18: =Ma -> DC2CO24-DCK67 | B18: =MaHP -> DC2CO24 | C18: 17 | D18: DC2CO24-1-16 (01) | E18: Cơ kỹ thuật-1-16 (01)/67DCVB21 | F18: Cơ kỹ thuật | G18: 3 | H18: CSKT1 | I18: Tổ Cơ sở kỹ thuật | J18: 70 | K18: 74 | L18: K67DHCQ | M18: Đồng Thanh Hương | N18: =Loclop -> 67DCVB21 | P18: =_trangay -> #N/A | Q18: =_trangay -> #N/A | R18: =_trangay -> #N/A | S18: =+P18+G20 -> #N/A | T18: =IF(P18<S17,"??","") -> #N/A | U18: =IF(P18>S17+1,"??","") -> #N/A
A19: =Ma -> DC2VB32-DCK67 | B19: =MaHP -> DC2VB32 | C19: 18 | D19: DC2VB32-1-16 (01) | E19: Địa lý vận tải-1-16 (01)/67DCVL21 | F19: Địa lý vận tải | G19: 2 | H19: Vận tải SẮT BỘ | I19: Khoa kinh tế vận tải | J19: 60 | K19: 63 | L19: K67DHCQ | M19: Hà Nguyên Khánh | N19: =Loclop -> 67DCVL21 | P19: =_trangay -> #N/A | Q19: =_trangay -> #N/A | R19: =_trangay -> #N/A | S19: =+P19+G21 -> #N/A | T19: =IF(P19<S18,"??","") -> #N/A | U19: =IF(P19>S18+1,"??","") -> #N/A
A20: =Ma -> DC2VB32-DCK67 | B20: =MaHP -> DC2VB32 | C20: 19 | D20: DC2VB32-1-16 (02) | E20: Địa lý vận tải-1-16 (02)/67DCVL22 | F20: Địa lý vận tải | G20: 2 | H20: Vận tải SẮT BỘ | I20: Khoa kinh tế vận tải | J20: 56 | K20: 60 | L20: K67DHCQ | M20: Hà Nguyên Khánh | N20: =Loclop -> 67DCVL22 | P20: =_trangay -> #N/A | Q20: =_trangay -> #N/A | R20: =_trangay -> #N/A
A21: =Ma -> DC2VB32-DCK67 | B21: =MaHP -> DC2VB32 | C21: 20 | D21: DC2VB32-1-16 (03) | E21: Địa lý vận tải-1-16 (03)/67DCVB21 | F21: Địa lý vận tải | G21: 2 | H21: Vận tải SẮT BỘ | I21: Khoa kinh tế vận tải | J21: 70 | K21: 74 | L21: K67DHCQ | M21: Hà Nguyên Khánh | N21: =Loclop -> 67DCVB21 | P21: =_trangay -> #N/A | Q21: =_trangay -> #N/A | R21: =_trangay -> #N/A
A22: =Ma -> DC2KV31-DCK67 | B22: =MaHP -> DC2KV31 | C22: 21 | D22: DC2KV31-1-16 (01) | E22: Hàng hóa vận tải-1-16 (01)/67DCVL21 | F22: Hàng hóa vận tải | G22: 2 | H22: Vận tải SẮT BỘ | I22: Khoa kinh tế vận tải | J22: 60 | K22: 63 | L22: K67DHCQ | M22: Nguyễn Thị Trang | N22: =Loclop -> 67DCVL21 | P22: =_trangay -> #N/A | Q22: =_trangay -> #N/A | R22: =_trangay -> #N/A | S22: =+P22+G23 -> #N/A | T22: =IF(P22<S21,"??","") -> #N/A | U22: =IF(P22>S21+1,"??","") -> #N/A
A23: =Ma -> DC2KV31-DCK67 | B23: =MaHP -> DC2KV31 | C23: 22 | D23: DC2KV31-1-16 (02) | E23: Hàng hóa vận tải-1-16 (02)/67DCVL22 | F23: Hàng hóa vận tải | G23: 2 | H23: Vận tải SẮT BỘ | I23: Khoa kinh tế vận tải | J23: 56 | K23: 60 | L23: K67DHCQ | M23: Nguyễn Thị Trang | N23: =Loclop -> 67DCVL22 | P23: =_trangay -> #N/A | Q23: =_trangay -> #N/A | R23: =_trangay -> #N/A | T23: =IF(P23<S22,"??","") -> #N/A | U23: =IF(P23>S22+1,"??","") -> #N/A
A24: =Ma -> DC2KV31-DCK67 | B24: =MaHP -> DC2KV31 | C24: 23 | D24: DC2KV31-1-16 (03) | E24: Hàng hóa vận tải-1-16 (03)/67DCVB21 | F24: Hàng hóa vận tải | G24: 2 | H24: Vận tải SẮT BỘ | I24: Khoa kinh tế vận tải | J24: 70 | K24: 74 | L24: K67DHCQ | M24: Nguyễn Thị Trang | N24: =Loclop -> 67DCVB21 | P24: =_trangay -> #N/A | Q24: =_trangay -> #N/A
A25: =Ma -> CC2CO11-CCK67 | B25: =MaHP -> CC2CO11 | C25: 24 | D25: CC2CO11-1-16 (01) | E25: Hình hoạ - Vẽ kỹ thuật (CT)-1-16 (01)/67CCCD21 | F25: Hình hoạ - Vẽ kỹ thuật (CT) | G25: 4 | H25: CSKT1 | I25: Tổ Cơ sở kỹ thuật | J25: 47 | K25: 47 | L25: K67CDCQ | M25: Nguyễn Hồng Thái | N25: =Loclop -> 67CCCD21 | P25: =_trangay -> #N/A | Q25: =_trangay -> #N/A | R25: =_trangay -> #N/A | S25: =+P25+G26 -> #N/A | T25: =IF(P25<S24,"??","") -> #N/A | U25: =IF(P25>S24+1,"??","") -> #N/A
A26: =Ma -> CC2DD11-CCK67 | B26: =MaHP -> CC2DD11 | C26: 25 | D26: CC2DD11-1-16 (01) | E26: Hình họa - Vẽ kỹ thuật-1-16 (01)/67CCDD21 | F26: Hình họa - Vẽ kỹ thuật | G26: 4 | H26: Dân dụng | I26: Khoa công trình | J26: 16 | K26: 17 | L26: K67CDCQ | M26: Nguyễn Hồng Thái | N26: =Loclop -> 67CCDD21 | P26: =_trangay -> #N/A | Q26: =_trangay -> #N/A | R26: =_trangay -> #N/A | S26: =+P26+G27 -> #N/A | T26: =IF(P26<S25,"??","") -> #N/A | U26: =IF(P26>S25+1,"??","") -> #N/A
A27: =Ma -> DC2CO11-DCK67 | B27: =MaHP -> DC2CO11 | C27: 26 | D27: DC2CO11-1-16 (05) | E27: Hình hoạ - Vẽ kỹ thuật-1-16 (05)/67DCCD21 | F27: Hình hoạ - Vẽ kỹ thuật | G27: 4 | H27: CSKT1 | I27: Tổ Cơ sở kỹ thuật | J27: 67 | K27: 66 | L27: K67DHCQ | M27: Nguyễn Hồng Thái | N27: =Loclop -> 67DCCD21 | P27: =_trangay -> #N/A | Q27: =_trangay -> #N/A | R27: =_trangay -> #N/A | S27: =+P27+G28 -> #N/A | T27: =IF(P27<S26,"??","") -> #N/A | U27: =IF(P27>S26+1,"??","") -> #N/A
A28: =Ma -> DC2CO11-DCK67 | B28: =MaHP -> DC2CO11 | C28: 27 | D28: DC2CO11-1-16 (06) | E28: Hình hoạ - Vẽ kỹ thuật-1-16 (06)/67DCCD22 | F28: Hình hoạ - Vẽ kỹ thuật | G28: 4 | H28: CSKT1 | I28: Tổ Cơ sở kỹ thuật | J28: 49 | K28: 63 | L28: K67DHCQ | M28: Bùi Thị Phương Hoa | N28: =Loclop -> 67DCCD22 | P28: =_trangay -> #N/A | Q28: =_trangay -> #N/A | R28: =_trangay -> #N/A | S28: =+P28+G29 -> #N/A | T28: =IF(P28<S27,"??","") -> #N/A | U28: =IF(P28>S27+1,"??","") -> #N/A
A29: =Ma -> DC2CO11-DCK67 | B29: =MaHP -> DC2CO11 | C29: 28 | D29: DC2CO11-1-16 (07) | E29: Hình hoạ - Vẽ kỹ thuật-1-16 (07)/67DCCDA1 | F29: Hình hoạ - Vẽ kỹ thuật | G29: 4 | H29: CSKT1 | I29: Tổ Cơ sở kỹ thuật | J29: 60 | K29: 0 | L29: K67DHCQ | M29: Vũ Anh Tuấn | N29: =Loclop -> 67DCCDA1 | P29: =_trangay -> #N/A | Q29: =_trangay -> #N/A | R29: =_trangay -> #N/A | S29: =+P29+G30 -> #N/A | T29: =IF(P29<S28,"??","") -> #N/A | U29: =IF(P29>S28+1,"??","") -> #N/A
A30: =Ma -> CC1CB26-CCK67 | B30: =MaHP -> CC1CB26 | C30: 29 | D30: CC1CB26-1-16 (01) | E30: Hoá học đại cương-1-16 (01)/67CCOT21 | F30: Hoá học đại cương | G30: 3 | H30: Lý Hóa | I30: Khoa Khoa học cơ bản | J30: 57 | K30: 61 | L30: K67CDCQ | M30: Lê Minh Đức | N30: =Loclop -> 67CCOT21 | P30: =_trangay -> #N/A | Q30: =_trangay -> #N/A | R30: =_trangay -> #N/A | T30: =IF(P30<S29,"??","") -> #N/A | U30: =IF(P30>S29+1,"??","") -> #N/A
A31: =Ma -> CC1CB26-CCK67 | B31: =MaHP -> CC1CB26 | C31: 30 | D31: CC1CB26-1-16 (02) | E31: Hoá học đại cương-1-16 (02)/67CCCD21 | F31: Hoá học đại cương | G31: 3 | H31: Lý Hóa | I31: Khoa Khoa học cơ bản | J31: 63 | K31: 64 | L31: K67CDCQ | M31: Phạm Hồng Chuyên | N31: =Loclop -> 67CCCD21 | P31: =_trangay -> #N/A | Q31: =_trangay -> #N/A
A32: =Ma -> CC1CB26-CCK67 | B32: =MaHP -> CC1CB26 | C32: 31 | D32: CC1CB26-1-16 (02) | E32: Hoá học đại cương-1-16 (02)/67CCDD21 | F32: Hoá học đại cương | G32: 3 | H32: Lý Hóa | I32: Khoa Khoa học cơ bản | J32: 0 | K32: 0 | L32: K67CDCQ | M32: Phạm Hồng Chuyên | N32: =Loclop -> 67CCDD21 | P32: =_trangay -> #N/A | Q32: =_trangay -> #N/A | R32: =_trangay -> #N/A | T32: =IF(P32<S31,"??","") -> #N/A | U32: =IF(P32>S31+1,"??","") -> #N/A
A33: =Ma -> DC1CB26-DCK67 | B33: =MaHP -> DC1CB26 | C33: 32 | D33: DC1CB26-1-16 (02) | E33: Hoá học đại cương-1-16 (02)/67DCCA21 | F33: Hoá học đại cương | G33: 3 | H33: Lý Hóa | I33: Khoa Khoa học cơ bản | J33: 83 | K33: 91 | L33: K67DHCQ | M33: Phạm Hồng Chuyên | N33: =Loclop -> 67DCCA21 | Q33: =_trangay -> #N/A | R33: =_trangay -> #N/A | S33: =+P33+G35 -> 3 | T33: =IF(P33<S31,"??","") | U33: =IF(P33>S31+1,"??","")
A34: =Ma -> DC1CB26-DCK67 | B34: =MaHP -> DC1CB26 | C34: 33 | D34: DC1CB26-1-16 (04) | E34: Hoá học đại cương-1-16 (04)/67DCDB21 | F34: Hoá học đại cương | G34: 3 | H34: Lý Hóa | I34: Khoa Khoa học cơ bản | J34: 48 | K34: 55 | L34: K67DHCQ | M34: Phạm Hồng Chuyên | N34: =Loclop -> 67DCDB21 | P34: 42747 | Q34: (Thứ 5) | R34: =_trangay -> #N/A | S34: =+P34+G36 -> 42750 | T34: =IF(P34<S32,"??","") | U34: =IF(P34>S32+1,"??","") -> ??
A35: =Ma -> DC1CB26-DCK67 | B35: =MaHP -> DC1CB26 | C35: 34 | D35: DC1CB26-1-16 (05) | E35: Hoá học đại cương-1-16 (05)/67DCDB22 | F35: Hoá học đại cương | G35: 3 | H35: Lý Hóa | I35: Khoa Khoa học cơ bản | J35: 52 | K35: 54 | L35: K67DHCQ | M35: Lưu Thị Thu Hà | N35: =Loclop -> 67DCDB22 | P35: 42747 | Q35: (Thứ 5) | R35: =_trangay -> #N/A | S35: =+P35+G37 -> 42750 | T35: =IF(P35<S34,"??","") -> ?? | U35: =IF(P35>S34+1,"??","")
A36: =Ma -> DC1CB26-DCK67 | B36: =MaHP -> DC1CB26 | C36: 35 | D36: DC1CB26-1-16 (06) | E36: Hoá học đại cương-1-16 (06)/67DCDB23 | F36: Hoá học đại cương | G36: 3 | H36: Lý Hóa | I36: Khoa Khoa học cơ bản | J36: 49 | K36: 60 | L36: K67DHCQ | M36: Lê Minh Đức | N36: =Loclop -> 67DCDB23 | P36: 42747 | Q36: (Thứ 5) | R36: =_trangay -> #N/A | S36: =+P36+G37 -> 42750 | T36: =IF(P36<S35,"??","") -> ?? | U36: =IF(P36>S35+1,"??","")
A37: =Ma -> DC1CB26-DCK67 | B37: =MaHP -> DC1CB26 | C37: 36 | D37: DC1CB26-1-16 (07) | E37: Hoá học đại cương-1-16 (07)/67DCCC21 | F37: Hoá học đại cương | G37: 3 | H37: Lý Hóa | I37: Khoa Khoa học cơ bản | J37: 0 | K37: 0 | L37: K67DHCQ | M37: Lê Minh Đức | N37: =Loclop -> 67DCCC21 | Q37: =_trangay -> #N/A | R37: =_trangay -> #N/A | T37: =IF(P37<S36,"??","") -> ?? | U37: =IF(P37>S36+1,"??","")
A38: =Ma -> DC1CB26-DCK67 | B38: =MaHP -> DC1CB26 | C38: 37 | D38: DC1CB26-1-16 (07) | E38: Hoá học đại cương-1-16 (07)/67DCCS21 | F38: Hoá học đại cương | G38: 3 | H38: Lý Hóa | I38: Khoa Khoa học cơ bản | J38: 50 | K38: 56 | L38: K67DHCQ | M38: Lê Minh Đức | N38: =Loclop -> 67DCCS21 | P38: 0
A39: =Ma -> DC1CB26-DCK67 | B39: =MaHP -> DC1CB26 | C39: 38 | D39: DC1CB26-1-16 (08) | E39: Hoá học đại cương-1-16 (08)/67DCDD21 | F39: Hoá học đại cương | G39: 3 | H39: Lý Hóa | I39: Khoa Khoa học cơ bản | J39: 52 | K39: 64 | L39: K67DHCQ | M39: Lê Minh Đức | N39: =Loclop -> 67DCDD21 | P39: 42747 | Q39: Thứ 5 | R39: =_trangay -> #N/A | S39: =+P39+G40 -> 42750 | T39: =IF(P39<S38,"??","") | U39: =IF(P39>S38+1,"??","") -> ??
A40: =Ma -> DC1CB26-DCK67 | B40: =MaHP -> DC1CB26 | C40: 39 | D40: DC1CB26-1-16 (09) | E40: Hoá học đại cương-1-16 (09)/67DCDD22 | F40: Hoá học đại cương | G40: 3 | H40: Lý Hóa | I40: Khoa Khoa học cơ bản | J40: 47 | K40: 62 | L40: K67DHCQ | M40: Lưu Thị Thu Hà | N40: =Loclop -> 67DCDD22 | P40: 42747 | Q40: Thứ 5 | R40: =_trangay -> #N/A | S40: =+P40+#REF! -> #REF! | T40: =IF(P40<S39,"??","") -> ?? | U40: =IF(P40>S39+1,"??","")
...

Sheet LICH THI
G1: 7 | H1: 8 | I1: 13 | J1: 14 | M1: Số lượt GV huy động | Q1: =Q3-Q2 -> 0 | R1: =R3-R2 -> 18 | S1: =S3-S2 -> 10 | T1: =T3-T2 -> 4 | U1: =U3-U2 -> 0 | V1: =V3-V2 -> 10 | W1: =W3-W2 -> 0 | X1: =SUM(Q1:W1) -> 42 | AG1: 17 | AH1: 18 | AL1: 20 | AM1: =+AL1+1 -> 21 | AN1: =+AM1+1 -> 22 | AO1: =+AN1+1 -> 23 | AP1: =+AO1+1 -> 24 | AQ1: =+AP1+1 -> 25 | AR1: =+AQ1+1 -> 26 | AS1: =+AR1+1 -> 27 | AT1: =+AS1+1 -> 28 | ... BD1: =+BC1+1 -> 38 | BE1: 39 | BF1: =+BE1+1 -> 40 | BG1: =+BF1+1 -> 41 | BH1: =+BG1+1 -> 42 | BI1: =+BH1+1 -> 43 | BJ1: =+BI1+1 -> 44 | BK1: =+BJ1+1 -> 45 | BL1: =+BK1+1 -> 46 | BM1: =+BL1+1 -> 47 | ... BW1: =+BV1+1 -> 57
A2: _Ngay_gio | B2: _Gio | D2: _stt | G2: _Loc | H2: _Loc | L2: Số SV/Phòng tiêu chuẩn | O2: 40 | P2: _sophong | Q2: =SUM(Q10:Q35) -> 0 | R2: =SUM(R10:R35) -> 0 | S2: =SUM(S10:S35) -> 0 | T2: =SUM(T10:T35) -> 0 | U2: =SUM(U10:U35) -> 0 | V2: =SUM(V10:V35) -> 0 | W2: =SUM(W10:W35) -> 0 | X2: =SUM(Q2:W2) -> 0 | Y2: _Ngaycham | Z2: _Nopdiem | AB2: _Ngay
L3: Số SV/Phòng tối thiểu | O3: 10 | P3: =SUM(P10:P35) -> 25 | Q3: =SUMIF($AH$10:$AH$35,Q9,$P$10:$P$35)*2 -> 0 | R3: =SUMIF($AH$10:$AH$35,R9,$P$10:$P$35)*2 -> 18 | S3: =SUMIF($AH$10:$AH$35,S9,$P$10:$P$35)*2 -> 10 | T3: =SUMIF($AH$10:$AH$35,T9,$P$10:$P$35)*2 -> 4 | U3: =SUMIF($AH$10:$AH$35,U9,$P$10:$P$35)*2 -> 0 | V3: =SUMIF($AH$10:$AH$35,V9,$P$10:$P$35)*2 -> 10 | W3: =SUMIF($AH$10:$AH$35,W9,$P$10:$P$35)*2 -> 0 | X3: =SUM(Q3:W3) -> 42
E4: TRƯỜNG ĐẠI HỌC CÔNG NGHỆ GTVT | I4: LỊCH THI HỌC KỲ 1 - NĂM HỌC 2016-2017
E5: PHÒNG ĐẢM BẢO CHẤT LƯỢNG ĐÀO TẠO
A6: 42156
A7: 42174 | C7: NHẬP DỮ LIỆU CỘT NÀY | D7: S T T | E7: Hệ đào tạo - Khóa | F7: Mã học phần | G7: Tên học phần | H7: Số TC | I7: Hình thức thi | J7: Thời gian thi | K7: THI LẦN 1 | Q7: KẾ HOẠCH COI, CHẤM THI LẦN 1 | AA7: GHI CHÚ
A8: 42181 | K8: Ngày thi | M8: Ca thi | N8: Tổng số SV | O8: Số SV/phg | P8: Số phòng | Q8: Phân công GV coi thi | Y8: Thời gian
Q9: LLCT | R9: KHCB | S9: CSKT | T9: KCT | U9: KCK | V9: KTVT | W9: CNTT | X9: Tổng | Y9: Bắt đầu chấm thi | Z9: Nộp bảng điểm | AA9: (Ghép phòng) | AB9: Đề thi | AE9: Số SV | AF9: Số phòng thi | AK9: TN | AL9: DCCA | AM9: DCCC | AN9: DCCD | AO9: DCCS | AP9: DCDB | AQ9: DCDD | AR9: DCCDA | AS9: DCOT | AT9: DCMX | AU9: DCMT | AV9: DCDM | AW9: DTDT | AX9: DCHT | AY9: DCKT | AZ9: DCQT | BA9: DCKX | BB9: DCVB | BC9: DCVS | BD9: DCVL | BE9: CCCA | BF9: CCCC | BG9: CCCD | BH9: CCCS | BI9: CCDB | BJ9: CCDD | BK9: CCCDA | BL9: CCOT | BM9: CCMX | BN9: CCMT | BO9: CCDM | BP9: CCDT | BQ9: CCTH | BR9: CCKT | BS9: CCQT | BT9: CCKX | BU9: CCVB | BV9: CCVS | BW9: CCVL
A10: =_Ngay_gio -> 42812.292 | B10: =_Gio -> 7:00 | C10: DC1CB20-DL67D | D10: =_stt -> 1 | E10: =_LocHe -> DL67D | F10: =_LocMaHP -> DC1CB20 | G10: =_Loc -> Lý thuyết xác suất - thống kê | H10: =_Loc -> 2 | I10: =_Loc -> Viết | J10: =_Loc -> 60 | K10: 42812 | L10: =_Ngay -> (Thứ 7) | M10: 1 | N10: 72 | O10: =_SV_P -> 40 | P10: =_sophong -> 2 | X10: =SUM(Q10:W10) -> 0 | Y10: =_Ngaycham -> 42813 | Z10: =_Nopdiem -> 42819 | AE10: =X10-2*P10 -> -4 | AF10: =_SV_Pcuoi -> 32 | AG10: =_Loc -> CBTO | AH10: =_Loc -> KHCB | AI10: =X10-2*P10 -> -4 | AJ10: =+N10/O10 -> 1.8 | AL10: =_Loc -> o | AM10: =_Loc -> o | AN10: =_Loc -> o | AO10: =_Loc -> o | AP10: =_Loc -> o | AQ10: =_Loc -> o | AR10: =_Loc -> o | AS10: =_Loc -> o | ... BD10: =_Loc -> o
A11: =_Ngay_gio -> 42812.292 | B11: =_Gio -> 7:00 | C11: DC2CB94-DL67D | D11: =_stt -> 2 | E11: =_LocHe -> DL67D | F11: =_LocMaHP -> DC2CB94 | G11: =_Loc -> Văn hóa kinh doanh | H11: =_Loc -> 2 | I11: =_Loc -> Viết | J11: =_Loc -> 75 | K11: 42812 | L11: =_Ngay -> (Thứ 7) | M11: 1 | N11: 3 | O11: =_SV_P -> 3 | P11: =_sophong -> 1 | X11: =SUM(Q11:W11) -> 0 | Y11: =_Ngaycham -> 42813 | Z11: =_Nopdiem -> 42819 | AE11: =X11-2*P11 -> -2 | AF11: =_SV_Pcuoi -> 3 | AG11: =_Loc -> KVQT | AH11: =_Loc -> KTVT | AI11: =X11-2*P11 -> -2 | AJ11: =+N11/O11 -> 1 | AL11: =_Loc -> 0 | AM11: =_Loc -> 0 | AN11: =_Loc -> 0 | AO11: =_Loc -> 0 | AP11: =_Loc -> 0 | AQ11: =_Loc -> 0 | AR11: =_Loc -> 0 | AS11: =_Loc -> 0 | ... BW11: =_Loc -> 0
A12: =_Ngay_gio -> 42812.75 | B12: =_Gio -> 18:00 | C12: DL3VB61-DL67D | D12: =_stt -> 3 | E12: =_LocHe -> DL67D | F12: =_LocMaHP -> DL3VB61 | G12: =_Loc -> Tổ chức vận tải hàng hóa | H12: =_Loc -> 2 | I12: =_Loc -> Viết | J12: =_Loc -> 75 | K12: 42812 | L12: =_Ngay -> (Thứ 7) | M12: 5 | O12: =_SV_P -> 0 | P12: =_sophong | X12: =SUM(Q12:W12) -> 0 | Y12: =_Ngaycham -> 42813 | Z12: =_Nopdiem -> 42819 | AA12: đã qua | AE12: =X12-2*P12 -> #VALUE! | AF12: =_SV_Pcuoi | AG12: =_Loc -> KVSB | AH12: =_Loc -> KTVT | AI12: =X12-2*P12 -> #VALUE! | AJ12: =+N12/O12 -> #DIV/0! | AL12: =_Loc -> 0 | AM12: =_Loc -> 0 | AN12: =_Loc -> 0 | AO12: =_Loc -> 0 | AP12: =_Loc -> 0 | AQ12: =_Loc -> 0 | AR12: =_Loc -> 0 | AS12: =_Loc -> 0 | ... BW12: =_Loc -> 0
A13: =_Ngay_gio -> 42812.375 | B13: =_Gio -> 9:00 | C13: DL2CO21-DL67D | D13: =_stt -> 4 | E13: =_LocHe -> DL67D | F13: =_LocMaHP -> DL2CO21 | G13: =_Loc -> Cơ học cơ sở | H13: =_Loc -> 2 | I13: =_Loc -> Viết | J13: =_Loc -> 60 | K13: 42812 | L13: =_Ngay -> (Thứ 7) | M13: 2 | N13: 121 | O13: =_SV_P -> 41 | P13: =_sophong -> 3 | X13: =SUM(Q13:W13) -> 0 | Y13: =_Ngaycham -> 42813 | Z13: =_Nopdiem -> 42819 | AE13: =X13-2*P13 -> -6 | AF13: =_SV_Pcuoi -> 39 | AG13: =_Loc -> CSCO | AH13: =_Loc -> CSKT | AI13: =X13-2*P13 -> -6 | AJ13: =+N13/O13 -> 2.9512195 | AL13: =_Loc -> 0 | AM13: =_Loc -> 0 | AN13: =_Loc -> 0 | AO13: =_Loc -> 0 | AP13: =_Loc -> 0 | AQ13: =_Loc -> 0 | AR13: =_Loc -> 0 | AS13: =_Loc -> 0 | ... BW13: =_Loc -> 0
A14: =_Ngay_gio -> 42812.375 | B14: =_Gio -> 9:00 | C14: DL3VB63-DL67D | D14: =_stt -> 5 | E14: =_LocHe -> DL67D | F14: =_LocMaHP -> DL3VB63 | G14: =_Loc -> Tổ chức vận tải hành khách | H14: =_Loc -> 2 | I14: =_Loc -> Viết | J14: =_Loc -> 75 | K14: 42812 | L14: =_Ngay -> (Thứ 7) | M14: 2 | N14: 1 | O14: =_SV_P -> 1 | P14: =_sophong -> 1 | X14: =SUM(Q14:W14) -> 0 | Y14: =_Ngaycham -> 42813 | Z14: =_Nopdiem -> 42819 | AE14: =X14-2*P14 -> -2 | AF14: =_SV_Pcuoi -> 1 | AG14: =_Loc -> KVSB | AH14: =_Loc -> KTVT | AI14: =X14-2*P14 -> -2 | AJ14: =+N14/O14 -> 1 | AL14: =_Loc -> 0 | AM14: =_Loc -> 0 | AN14: =_Loc -> 0 | AO14: =_Loc -> 0 | AP14: =_Loc -> 0 | AQ14: =_Loc -> 0 | AR14: =_Loc -> 0 | AS14: =_Loc -> 0 | ... BW14: =_Loc -> 0
A15: =_Ngay_gio -> 42812.75 | B15: =_Gio -> 18:00 | C15: DC2KV63-DL67D | D15: =_stt -> 6 | E15: =_LocHe -> DL67D | F15: =_LocMaHP -> DC2KV63 | G15: =_Loc -> Kinh tế lượng | H15: =_Loc -> 3 | I15: =_Loc -> Viết | J15: =_Loc -> 90 | K15: 42812 | L15: =_Ngay -> (Thứ 7) | M15: 5 | N15: 3 | O15: =_SV_P -> 3 | P15: =_sophong -> 1 | X15: =SUM(Q15:W15) -> 0 | Y15: =_Ngaycham -> 42813 | Z15: =_Nopdiem -> 42819 | AE15: =X15-2*P15 -> -2 | AF15: =_SV_Pcuoi -> 3 | AG15: =_Loc -> KVQT | AH15: =_Loc -> KTVT | AI15: =X15-2*P15 -> -2 | AJ15: =+N15/O15 -> 1 | AL15: =_Loc -> 0 | AM15: =_Loc -> 0 | AN15: =_Loc -> 0 | AO15: =_Loc -> 0 | AP15: =_Loc -> 0 | AQ15: =_Loc -> 0 | AR15: =_Loc -> 0 | AS15: =_Loc -> 0 | ... BW15: =_Loc -> 0
A16: =_Ngay_gio -> 42813.75 | B16: =_Gio -> 18:00 | C16: DC2CO24-DL67D | D16: =_stt -> 7 | E16: =_LocHe -> DL67D | F16: =_LocMaHP -> DC2CO24 | G16: =_Loc -> Cơ kỹ thuật | H16: =_Loc -> 3 | I16: =_Loc -> Viết | J16: =_Loc -> 90 | K16: 42813 | L16: =_Ngay -> (Cnhật) | M16: 5 | O16: =_SV_P -> 0 | P16: =_sophong | X16: =SUM(Q16:W16) -> 0 | Y16: =_Ngaycham -> 42814 | Z16: =_Nopdiem -> 42820 | AA16: đã qua | AE16: =X16-2*P16 -> #VALUE! | AF16: =_SV_Pcuoi | AG16: =_Loc -> CSCO | AH16: =_Loc -> CSKT | AI16: =X16-2*P16 -> #VALUE! | AJ16: =+N16/O16 -> #DIV/0! | AL16: =_Loc -> 0 | AM16: =_Loc -> 0 | AN16: =_Loc -> 0 | AO16: =_Loc -> 0 | AP16: =_Loc -> 0 | AQ16: =_Loc -> 0 | AR16: =_Loc -> 0 | AS16: =_Loc -> 0 | ... BD16: =_Loc -> 0
A17: =_Ngay_gio -> 42812.75 | B17: =_Gio -> 18:00 | C17: DL1CB22-DL67D | D17: =_stt -> 8 | E17: =_LocHe -> DL67D | F17: =_LocMaHP -> DL1CB22 | G17: =_Loc -> Vật lý đại cương 2 | H17: =_Loc -> 3 | I17: =_Loc -> Viết | J17: =_Loc -> 60 | K17: 42812 | L17: =_Ngay -> (Thứ 7) | M17: 5 | N17: 52 | O17: =_SV_P -> 40 | P17: =_sophong -> 2 | X17: =SUM(Q17:W17) -> 0 | Y17: =_Ngaycham -> 42813 | Z17: =_Nopdiem -> 42819 | AE17: =X17-2*P17 -> -4 | AF17: =_SV_Pcuoi -> 12 | AG17: =_Loc -> CBLY | AH17: =_Loc -> KHCB | AI17: =X17-2*P17 -> -4 | AJ17: =+N17/O17 -> 1.3 | AL17: =_Loc -> 0 | AM17: =_Loc -> 0 | AN17: =_Loc -> 0 | AO17: =_Loc -> 0 | AP17: =_Loc -> 0 | AQ17: =_Loc -> 0 | AR17: =_Loc -> 0 | AS17: =_Loc -> 0 | ... BW17: =_Loc -> 0
A18: =_Ngay_gio -> 42813.271 | B18: =_Gio -> 6:30 | C18: DC1CB99-DL67D | D18: =_stt -> 9 | E18: =_LocHe -> DL67D | F18: =_LocMaHP -> DC1CB99 | G18: =_Loc -> Phương pháp nghiên cứu khoa học | H18: =_Loc -> 2 | I18: =_Loc -> Viết | J18: =_Loc -> 75 | K18: 42813 | L18: =_Ngay -> (Cnhật) | M18: 6 | O18: =_SV_P -> 0 | P18: =_sophong | X18: =SUM(Q18:W18) -> 0 | Y18: =_Ngaycham -> 42814 | Z18: =_Nopdiem -> 42820 | AA18: đã qua | AE18: =X18-2*P18 -> #VALUE! | AF18: =_SV_Pcuoi | AG18: =_Loc | AH18: =_Loc -> KTVT | AI18: =X18-2*P18 -> #VALUE! | AJ18: =+N18/O18 -> #DIV/0! | AL18: =_Loc -> 0 | AM18: =_Loc -> 0 | AN18: =_Loc -> 0 | AO18: =_Loc -> 0 | AP18: =_Loc -> 0 | AQ18: =_Loc -> 0 | AR18: =_Loc -> 0 | AS18: =_Loc -> 0 | ... BD18: =_Loc -> o
