Workbook
Name _CongCNTT: SUMIF('LICH THI'!$A:$A,'Theo Ngay'!$A1,'LICH THI'!$W:$W)
Name _CongCSKT: SUMIF('LICH THI'!$A:$A,'Theo Ngay'!$A1,'LICH THI'!$S:$S)
Name _CongKCK: SUMIF('LICH THI'!$A:$A,'Theo Ngay'!$A1,'LICH THI'!$U:$U)
Name _CongKCT: SUMIF('LICH THI'!$A:$A,'Theo Ngay'!$A1,'LICH THI'!$T:$T)
Name _CongKHCB: SUMIF('LICH THI'!$A:$A,'Theo Ngay'!$A1,'LICH THI'!$R:$R)
Name _CongKTVT: SUMIF('LICH THI'!$A:$A,'Theo Ngay'!$A1,'LICH THI'!$V:$V)
Name _CongLLCT: SUMIF('LICH THI'!$A:$A,'Theo Ngay'!$A1,'LICH THI'!$Q:$Q)
Name _CongSP_: SUMIF('LICH THI'!$A:$A,'Theo Ngay'!$A1,'LICH THI'!$P:$P)
Name _Gio: IF(SV!J1=1,"7:00",IF(SV!J1=2,"9:00",IF(SV!J1=3,"13:00",IF(SV!J1=4,"15:00",IF(SV!J1=5,"18:00","7:00")))))
Name _Gio: IF('LICH THI'!$M1=1,"7:00",IF('LICH THI'!$M1=2,"9:00",IF('LICH THI'!$M1=3,"13:00",IF('LICH THI'!$M1=4,"15:00",IF('LICH THI'!$M1=5,"18:00","6:30")))))
Name _Gio_: IF('Theo Ngay'!$E1=1,"7:00",IF('Theo Ngay'!$E1=2,"9:00",IF('Theo Ngay'!$E1=3,"13:00",IF('Theo Ngay'!$E1=4,"15:00",IF('Theo Ngay'!$E1=5,"18:00","6:30")))))
Name _Loc2: VLOOKUP(De!$A1,'LICH THI'!$C:$AH,De!A$1,0)
Name _LocMaHP: IF(MID(DATA!$C1,8,1)="-",LEFT(DATA!$C1,7),IF(MID(DATA!$C1,9,1)="-",LEFT(DATA!$C1,8),LEFT(DATA!$C1,9)))
Name _LocMaHP: IF(MID('LICH THI'!$C1,8,1)="-",LEFT('LICH THI'!$C1,7),IF(MID('LICH THI'!$C1,9,1)="-",LEFT('LICH THI'!$C1,8),LEFT('LICH THI'!$C1,9)))
Name _LocMaHP: IF(MID('Tkê LOP'!$C1,8,1)="-",LEFT('Tkê LOP'!$C1,7),IF(MID('Tkê LOP'!$C1,9,1)="-",LEFT('Tkê LOP'!$C1,8),LEFT('Tkê LOP'!$C1,9)))
Name _Ngay: IF('LICH THI'!XFD1="","",CHOOSE(WEEKDAY('LICH THI'!XFD1),"(Cnhật)","(Thứ 2)","(Thứ 3)","(Thứ 4)","(Thứ 5)","(Thứ 6)","(Thứ 7)"))
Name _Ngay: IF(SV!XFD1="","",CHOOSE(WEEKDAY(SV!XFD1),"(CN)","(Thứ 2)","(Thứ 3)","(Thứ 4)","(Thứ 5)","(Thứ 6)","(Thứ 7)"))
Name _Ngay: IF('Tkê LOP'!XFD1="","",CHOOSE(WEEKDAY('Tkê LOP'!XFD1),"(Cnhật)","(Thứ 2)","(Thứ 3)","(Thứ 4)","(Thứ 5)","(Thứ 6)","(Thứ 7)"))
Name _Ngay_gio: SV!I1+SV!B1
Name _Ngay_gio: 'LICH THI'!K1+'LICH THI'!B1
Name _Ngay_Gio_: 'Theo Ngay'!$D1+'Theo Ngay'!$B1
Name _Ngay_TL: IF('LICH THI'!XFD1="","",CHOOSE(WEEKDAY('LICH THI'!XFD1),"(Cnhật)","(Thứ 2)","(Thứ 3)","(Thứ 4)","(Thứ 5)","(Thứ 6)","(Thứ 7)"))
Name _Ngaycham: IF(OR('LICH THI'!XEO1="TH",'LICH THI'!XEO1="VĐ"),'LICH THI'!XEQ1,IF('LICH THI'!XER1="(Thứ 6)",'LICH THI'!XEQ1+3,'LICH THI'!XEQ1+1))
Name _Ngaythi: 'LICH THI'!$K1048576+'LICH THI'!$H1+'LICH THI'!#REF!
Name _Nopdiem: IF(OR('LICH THI'!XEN1="TH",'LICH THI'!XEN1="VĐ"),'LICH THI'!XEP1+2,'LICH THI'!XEP1+7)
Name _sophong: IF('LICH THI'!$O1=0,"",IF(LEFT('LICH THI'!L1,4)="Ghép",ROUNDUP('LICH THI'!$N1/'LICH THI'!$O1,0)-0.5,ROUNDUP('LICH THI'!$N1/'LICH THI'!$O1,0)))
Name _SoSV: SUMIF('Tkê LOP'!$A:$A,'LICH THI'!$C1,'Tkê LOP'!$K:$K)
Name _stt: SoTD!A1048576+1
Name _stt: SV!A1048576+1
Name _stt: 'Theo Ngay'!A1048576+1
Name _stt: 'LICH THI'!A1048576+1
Name _stt_data: #REF!+1
Name _stt_de: De!A1048576+1
Name _SV_Pcuoi: IF('LICH THI'!$O1=0,"",'LICH THI'!$N1-'LICH THI'!$O1*(ROUNDUP('LICH THI'!$P1,0)-1))
Name _trangay: VLOOKUP('Tkê LOP'!$A1,'LICH THI'!$C:$AF,'Tkê LOP'!A$1,0)
Name Loclop: LEFT(lop,8)
Name Ma: Sheet4!$B1&IF(RIGHT(Sheet4!$L1,4)="DHCQ","-DC",IF(RIGHT(Sheet4!$L1,4)="CDCQ","-CC",IF(RIGHT(Sheet4!$L1,4)="DHLT","-DL",IF(RIGHT(Sheet4!$L1,4)="DHTC","-DV","??"))))&LEFT(Sheet4!$L1,3)&Sheet4!$O1
Name MaBM: IF(DATA!$O1="","",VLOOKUP(DATA!$O1,Mã!$A:$C,3,0))
Name MaCC: LEFT('Tkê LOP'!$D1,7)&"-CC"&LEFT('Tkê LOP'!$L1,3)
Name MaHP: IFERROR(LEFT(DATA!C1,FIND("-",DATA!C1,1)-1),LEFT(DATA!C1,FIND("(",DATA!C1,1)-1))
Name MaHP: IF(OR(MID(Sheet2!$D1,8,1)="-",MID(Sheet2!$D1,8,1)="("),LEFT(Sheet2!$D1,7),IF(OR(MID(Sheet2!$D1,9,1)="-",MID(Sheet2!$D1,9,1)="("),LEFT(Sheet2!$D1,8),LEFT(Sheet2!$D1,8)))
Name MaHP: IFERROR(LEFT(Sheet4!C1,FIND("-",Sheet4!C1,1)-1),LEFT(Sheet4!C1,FIND("(",Sheet4!C1,1)-1))
Name MaHP: IFERROR(LEFT('Tkê LOP'!C1,FIND("-",'Tkê LOP'!C1,1)-1),LEFT('Tkê LOP'!C1,FIND("(",'Tkê LOP'!C1,1)-1))
Name MaKhoa: IF(DATA!$P1="","",VLOOKUP(DATA!$P1,Mã!$E:$F,2,0))

Sheet SV
F1: 7 | G1: 8 | H1: 13
D2: TRƯỜNG ĐẠI HỌC CÔNG NGHỆ GTVT | G2: LỊCH THI HỌC KỲ 1 - NĂM HỌC 2015-2016
D3: PHÒNG ĐẢM BẢO CHẤT LƯỢNG ĐÀO TẠO
B4: dc64 | G4: =VLOOKUP(B4,$U$4:$V$14,2,0) -> ĐẠI HỌC CHÍNH QUY - K64 | U4: CC | V4: CAO ĐẲNG CHÍNH QUY
D5: Ghi chú: | U5: CC64 | V5: CAO ĐẲNG CHÍNH QUY - K64
D6: + Thời gian thi: Ca 1: 7h00' - 9h00'; Ca 2: 9h00' - 11h00'; Ca 3: 13h00' - 15h00'; Ca 4: 15h00' - 17h00'; Ca5: 18h00' - 20h00' | U6: CC65 | V6: CAO ĐẲNG CHÍNH QUY - K65
D7: + Các Khoa, Bộ môn, Giảng viên, Sinh viên kiểm tra Lịch thi, nếu còn Học phần chưa có lịch thi phản ánh ngay cho Phòng Đảm bảo chất lượng đào tạo (ĐBCLĐT) để kịp thời điều chỉnh | U7: DC | V7: ĐẠI HỌC CHÍNH QUY
D8: + Các khoa gửi danh sách phân công Giảng viên coi thi, chấm thi Lần 1 về Phòng ĐBCLĐT trước ngày 24/11/2015 | U8: DC62 | V8: ĐẠI HỌC CHÍNH QUY - K62
D9: + Sinh viên còn nợ học phí sẽ không được dự thi | U9: DC63 | V9: ĐẠI HỌC CHÍNH QUY - K63
D10: + Sinh viên không có thẻ sinh viên không được dự thi | U10: DC64 | V10: ĐẠI HỌC CHÍNH QUY - K64
D11: + Mọi vấn đề vướng mắc khác, xin liên hệ trực tiếp với Phòng ĐBCLĐT - P409-H1 (Điện thoại: 043 552 8978) | U11: DC65 | V11: ĐẠI HỌC CHÍNH QUY - K65
U12: DL65 | V12: ĐẠI HỌC LIÊN THÔNG - K65
C13: S T T | D13: Hệ đào tạo - Khóa | E13: Mã học phần | F13: Tên học phần | G13: Số TC | H13: Hình thức thi | I13: THI LẦN 1 | O13: THI BỔ SUNG (LẦN 2) | U13: DV | V13: ĐẠI HỌC VỪA LÀM VỪA HỌC
I14: Ngày thi | K14: Ca thi | L14: Tổng số SV | M14: Số SV/ phòng | N14: Số phòng thi | O14: Ngày thi Dự kiến từ 18/1-29/1/2016 | Q14: Ca thi | R14: Số SV | S14: Số phòng thi
A16: =_Ngay_gio -> #REF! | B16: =_Gio -> #REF! | C16: ='LICH THI'!#REF! -> #REF! | D16: ='LICH THI'!#REF! -> #REF! | E16: ='LICH THI'!#REF! -> #REF! | F16: ='LICH THI'!#REF! -> #REF! | G16: ='LICH THI'!#REF! -> #REF! | H16: ='LICH THI'!#REF! -> #REF! | I16: ='LICH THI'!#REF! -> #REF! | J16: =_Ngay -> #REF! | K16: ='LICH THI'!#REF! -> #REF! | L16: ='LICH THI'!#REF! -> #REF! | M16: ='LICH THI'!#REF! -> #REF! | N16: ='LICH THI'!#REF! -> #REF!
A17: =_Ngay_gio -> #REF! | B17: =_Gio -> #REF! | C17: ='LICH THI'!#REF! -> #REF! | D17: ='LICH THI'!#REF! -> #REF! | E17: ='LICH THI'!#REF! -> #REF! | F17: ='LICH THI'!#REF! -> #REF! | G17: ='LICH THI'!#REF! -> #REF! | H17: ='LICH THI'!#REF! -> #REF! | I17: ='LICH THI'!#REF! -> #REF! | J17: =_Ngay -> #REF! | K17: ='LICH THI'!#REF! -> #REF! | L17: ='LICH THI'!#REF! -> #REF! | M17: ='LICH THI'!#REF! -> #REF! | N17: ='LICH THI'!#REF! -> #REF!
A18: =_Ngay_gio -> #REF! | B18: =_Gio -> #REF! | C18: ='LICH THI'!#REF! -> #REF! | D18: ='LICH THI'!#REF! -> #REF! | E18: ='LICH THI'!#REF! -> #REF! | F18: ='LICH THI'!#REF! -> #REF! | G18: ='LICH THI'!#REF! -> #REF! | H18: ='LICH THI'!#REF! -> #REF! | I18: ='LICH THI'!#REF! -> #REF! | J18: =_Ngay -> #REF! | K18: ='LICH THI'!#REF! -> #REF! | L18: ='LICH THI'!#REF! -> #REF! | M18: ='LICH THI'!#REF! -> #REF! | N18: ='LICH THI'!#REF! -> #REF!
A19: =_Ngay_gio -> #REF! | B19: =_Gio -> #REF! | C19: ='LICH THI'!#REF! -> #REF! | D19: ='LICH THI'!#REF! -> #REF! | E19: ='LICH THI'!#REF! -> #REF! | F19: ='LICH THI'!#REF! -> #REF! | G19: ='LICH THI'!#REF! -> #REF! | H19: ='LICH THI'!#REF! -> #REF! | I19: ='LICH THI'!#REF! -> #REF! | J19: =_Ngay -> #REF! | K19: ='LICH THI'!#REF! -> #REF! | L19: ='LICH THI'!#REF! -> #REF! | M19: ='LICH THI'!#REF! -> #REF! | N19: ='LICH THI'!#REF! -> #REF!
A20: =_Ngay_gio -> #REF! | B20: =_Gio -> #REF! | C20: ='LICH THI'!#REF! -> #REF! | D20: ='LICH THI'!#REF! -> #REF! | E20: ='LICH THI'!#REF! -> #REF! | F20: ='LICH THI'!#REF! -> #REF! | G20: ='LICH THI'!#REF! -> #REF! | H20: ='LICH THI'!#REF! -> #REF! | I20: ='LICH THI'!#REF! -> #REF! | J20: =_Ngay -> #REF! | K20: ='LICH THI'!#REF! -> #REF! | L20: ='LICH THI'!#REF! -> #REF! | M20: ='LICH THI'!#REF! -> #REF! | N20: ='LICH THI'!#REF! -> #REF!
A21: =_Ngay_gio -> #REF! | B21: =_Gio -> #REF! | C21: ='LICH THI'!#REF! -> #REF! | D21: ='LICH THI'!#REF! -> #REF! | E21: ='LICH THI'!#REF! -> #REF! | F21: ='LICH THI'!#REF! -> #REF! | G21: ='LICH THI'!#REF! -> #REF! | H21: ='LICH THI'!#REF! -> #REF! | I21: ='LICH THI'!#REF! -> #REF! | J21: =_Ngay -> #REF! | K21: ='LICH THI'!#REF! -> #REF! | L21: ='LICH THI'!#REF! -> #REF! | M21: ='LICH THI'!#REF! -> #REF! | N21: ='LICH THI'!#REF! -> #REF!
A22: =_Ngay_gio -> #REF! | B22: =_Gio -> #REF! | C22: ='LICH THI'!#REF! -> #REF! | D22: ='LICH THI'!#REF! -> #REF! | E22: ='LICH THI'!#REF! -> #REF! | F22: ='LICH THI'!#REF! -> #REF! | G22: ='LICH THI'!#REF! -> #REF! | H22: ='LICH THI'!#REF! -> #REF! | I22: ='LICH THI'!#REF! -> #REF! | J22: =_Ngay -> #REF! | K22: ='LICH THI'!#REF! -> #REF! | L22: ='LICH THI'!#REF! -> #REF! | M22: ='LICH THI'!#REF! -> #REF! | N22: ='LICH THI'!#REF! -> #REF!
A23: =_Ngay_gio -> #REF! | B23: =_Gio -> #REF! | C23: ='LICH THI'!#REF! -> #REF! | D23: ='LICH THI'!#REF! -> #REF! | E23: ='LICH THI'!#REF! -> #REF! | F23: ='LICH THI'!#REF! -> #REF! | G23: ='LICH THI'!#REF! -> #REF! | H23: ='LICH THI'!#REF! -> #REF! | I23: ='LICH THI'!#REF! -> #REF! | J23: =_Ngay -> #REF! | K23: ='LICH THI'!#REF! -> #REF! | L23: ='LICH THI'!#REF! -> #REF! | M23: ='LICH THI'!#REF! -> #REF! | N23: ='LICH THI'!#REF! -> #REF!
A24: =_Ngay_gio -> #REF! | B24: =_Gio -> #REF! | C24: ='LICH THI'!#REF! -> #REF! | D24: ='LICH THI'!#REF! -> #REF! | E24: ='LICH THI'!#REF! -> #REF! | F24: ='LICH THI'!#REF! -> #REF! | G24: ='LICH THI'!#REF! -> #REF! | H24: ='LICH THI'!#REF! -> #REF! | I24: ='LICH THI'!#REF! -> #REF! | J24: =_Ngay -> #REF! | K24: ='LICH THI'!#REF! -> #REF! | L24: ='LICH THI'!#REF! -> #REF! | M24: ='LICH THI'!#REF! -> #REF! | N24: ='LICH THI'!#REF! -> #REF!
A25: =_Ngay_gio -> #REF! | B25: =_Gio -> #REF! | C25: ='LICH THI'!#REF! -> #REF! | D25: ='LICH THI'!#REF! -> #REF! | E25: ='LICH THI'!#REF! -> #REF! | F25: ='LICH THI'!#REF! -> #REF! | G25: ='LICH THI'!#REF! -> #REF! | H25: ='LICH THI'!#REF! -> #REF! | I25: ='LICH THI'!#REF! -> #REF! | J25: =_Ngay -> #REF! | K25: ='LICH THI'!#REF! -> #REF! | L25: ='LICH THI'!#REF! -> #REF! | M25: ='LICH THI'!#REF! -> #REF! | N25: ='LICH THI'!#REF! -> #REF!
A26: =_Ngay_gio -> #REF! | B26: =_Gio -> #REF! | C26: ='LICH THI'!#REF! -> #REF! | D26: ='LICH THI'!#REF! -> #REF! | E26: ='LICH THI'!#REF! -> #REF! | F26: ='LICH THI'!#REF! -> #REF! | G26: ='LICH THI'!#REF! -> #REF! | H26: ='LICH THI'!#REF! -> #REF! | I26: ='LICH THI'!#REF! -> #REF! | J26: =_Ngay -> #REF! | K26: ='LICH THI'!#REF! -> #REF! | L26: ='LICH THI'!#REF! -> #REF! | M26: ='LICH THI'!#REF! -> #REF! | N26: ='LICH THI'!#REF! -> #REF!
A27: =_Ngay_gio -> #REF! | B27: =_Gio -> #REF! | C27: ='LICH THI'!#REF! -> #REF! | D27: ='LICH THI'!#REF! -> #REF! | E27: ='LICH THI'!#REF! -> #REF! | F27: ='LICH THI'!#REF! -> #REF! | G27: ='LICH THI'!#REF! -> #REF! | H27: ='LICH THI'!#REF! -> #REF! | I27: ='LICH THI'!#REF! -> #REF! | J27: =_Ngay -> #REF! | K27: ='LICH THI'!#REF! -> #REF! | L27: ='LICH THI'!#REF! -> #REF! | M27: ='LICH THI'!#REF! -> #REF! | N27: ='LICH THI'!#REF! -> #REF!
... A58: =_Ngay_gio -> #REF! | B58: =_Gio -> #REF! | C58: ='LICH THI'!#REF! -> #REF! | D58: ='LICH THI'!#REF! -> #REF! | E58: ='LICH THI'!#REF! -> #REF! | F58: ='LICH THI'!#REF! -> #REF! | G58: ='LICH THI'!#REF! -> #REF! | H58: ='LICH THI'!#REF! -> #REF! | I58: ='LICH THI'!#REF! -> #REF! | J58: =_Ngay -> #REF! | K58: ='LICH THI'!#REF! -> #REF! | L58: ='LICH THI'!#REF! -> #REF! | M58: ='LICH THI'!#REF! -> #REF! | N58: ='LICH THI'!#REF! -> #REF!
A59: =_Ngay_gio -> 42812.292 | B59: =_Gio -> 7:00 | C59: ='LICH THI'!D11 -> 2 | D59: ='LICH THI'!E11 -> DL67D | E59: ='LICH THI'!F11 -> DC2CB94 | F59: ='LICH THI'!G11 -> Văn hóa kinh doanh | G59: ='LICH THI'!H11 -> 2 | H59: ='LICH THI'!I11 -> Viết | I59: ='LICH THI'!K11 -> 42812 | J59: =_Ngay -> (Thứ 7) | K59: ='LICH THI'!M11 -> 1 | L59: ='LICH THI'!N11 -> 3 | M59: ='LICH THI'!O11 -> 3 | N59: ='LICH THI'!P11 -> 1
A60: =_Ngay_gio -> 42812.75 | B60: =_Gio -> 18:00 | C60: ='LICH THI'!D12 -> 3 | D60: ='LICH THI'!E12 -> DL67D | E60: ='LICH THI'!F12 -> DL3VB61 | F60: ='LICH THI'!G12 -> Tổ chức vận tải hàng hóa | G60: ='LICH THI'!H12 -> 2 | H60: ='LICH THI'!I12 -> Viết | I60: ='LICH THI'!K12 -> 42812 | J60: =_Ngay -> (Thứ 7) | K60: ='LICH THI'!M12 -> 5 | L60: ='LICH THI'!N12 -> 0 | M60: ='LICH THI'!O12 -> 0 | N60: ='LICH THI'!P12
A61: =_Ngay_gio -> 42812.375 | B61: =_Gio -> 9:00 | C61: ='LICH THI'!D13 -> 4 | D61: ='LICH THI'!E13 -> DL67D | E61: ='LICH THI'!F13 -> DL2CO21 | F61: ='LICH THI'!G13 -> Cơ học cơ sở | G61: ='LICH THI'!H13 -> 2 | H61: ='LICH THI'!I13 -> Viết | I61: ='LICH THI'!K13 -> 42812 | J61: =_Ngay -> (Thứ 7) | K61: ='LICH THI'!M13 -> 2 | L61: ='LICH THI'!N13 -> 121 | M61: ='LICH THI'!O13 -> 41 | N61: ='LICH THI'!P13 -> 3
A62: =_Ngay_gio -> 42812.375 | B62: =_Gio -> 9:00 | C62: ='LICH THI'!D14 -> 5 | D62: ='LICH THI'!E14 -> DL67D | E62: ='LICH THI'!F14 -> DL3VB63 | F62: ='LICH THI'!G14 -> Tổ chức vận tải hành khách | G62: ='LICH THI'!H14 -> 2 | H62: ='LICH THI'!I14 -> Viết | I62: ='LICH THI'!K14 -> 42812 | J62: =_Ngay -> (Thứ 7) | K62: ='LICH THI'!M14 -> 2 | L62: ='LICH THI'!N14 -> 1 | M62: ='LICH THI'!O14 -> 1 | N62: ='LICH THI'!P14 -> 1
A63: =_Ngay_gio -> #REF! | B63: =_Gio -> #REF! | C63: ='LICH THI'!#REF! -> #REF! | D63: ='LICH THI'!#REF! -> #REF! | E63: ='LICH THI'!#REF! -> #REF! | F63: ='LICH THI'!#REF! -> #REF! | G63: ='LICH THI'!#REF! -> #REF! | H63: ='LICH THI'!#REF! -> #REF! | I63: ='LICH THI'!#REF! -> #REF! | J63: =_Ngay -> #REF! | K63: ='LICH THI'!#REF! -> #REF! | L63: ='LICH THI'!#REF! -> #REF! | M63: ='LICH THI'!#REF! -> #REF! | N63: ='LICH THI'!#REF! -> #REF!
A64: =_Ngay_gio -> #REF! | B64: =_Gio -> #REF! | C64: ='LICH THI'!#REF! -> #REF! | D64: ='LICH THI'!#REF! -> #REF! | E64: ='LICH THI'!#REF! -> #REF! | F64: ='LICH THI'!#REF! -> #REF! | G64: ='LICH THI'!#REF! -> #REF! | H64: ='LICH THI'!#REF! -> #REF! | I64: ='LICH THI'!#REF! -> #REF! | J64: =_Ngay -> #REF! | K64: ='LICH THI'!#REF! -> #REF! | L64: ='LICH THI'!#REF! -> #REF! | M64: ='LICH THI'!#REF! -> #REF! | N64: ='LICH THI'!#REF! -> #REF!
A65: =_Ngay_gio -> 42812.75 | B65: =_Gio -> 18:00 | C65: ='LICH THI'!D15 -> 6 | D65: ='LICH THI'!E15 -> DL67D | E65: ='LICH THI'!F15 -> DC2KV63 | F65: ='LICH THI'!G15 -> Kinh tế lượng | G65: ='LICH THI'!H15 -> 3 | H65: ='LICH THI'!I15 -> Viết | I65: ='LICH THI'!K15 -> 42812 | J65: =_Ngay -> (Thứ 7) | K65: ='LICH THI'!M15 -> 5 | L65: ='LICH THI'!N15 -> 3 | M65: ='LICH THI'!O15 -> 3 | N65: ='LICH THI'!P15 -> 1
A66: =_Ngay_gio -> #REF! | B66: =_Gio -> #REF! | C66: ='LICH THI'!#REF! -> #REF! | D66: ='LICH THI'!#REF! -> #REF! | E66: ='LICH THI'!#REF! -> #REF! | F66: ='LICH THI'!#REF! -> #REF! | G66: ='LICH THI'!#REF! -> #REF! | H66: ='LICH THI'!#REF! -> #REF! | I66: ='LICH THI'!#REF! -> #REF! | J66: =_Ngay -> #REF! | K66: ='LICH THI'!#REF! -> #REF! | L66: ='LICH THI'!#REF! -> #REF! | M66: ='LICH THI'!#REF! -> #REF! | N66: ='LICH THI'!#REF! -> #REF!
A67: =_Ngay_gio -> #REF! | B67: =_Gio -> #REF! | C67: ='LICH THI'!#REF! -> #REF! | D67: ='LICH THI'!#REF! -> #REF! | E67: ='LICH THI'!#REF! -> #REF! | F67: ='LICH THI'!#REF! -> #REF! | G67: ='LICH THI'!#REF! -> #REF! | H67: ='LICH THI'!#REF! -> #REF! | I67: ='LICH THI'!#REF! -> #REF! | J67: =_Ngay -> #REF! | K67: ='LICH THI'!#REF! -> #REF! | L67: ='LICH THI'!#REF! -> #REF! | M67: ='LICH THI'!#REF! -> #REF! | N67: ='LICH THI'!#REF! -> #REF!
A68: =_Ngay_gio -> #REF! | B68: =_Gio -> #REF! | C68: ='LICH THI'!#REF! -> #REF! | D68: ='LICH THI'!#REF! -> #REF! | E68: ='LICH THI'!#REF! -> #REF! | F68: ='LICH THI'!#REF! -> #REF! | G68: ='LICH THI'!#REF! -> #REF! | H68: ='LICH THI'!#REF! -> #REF! | I68: ='LICH THI'!#REF! -> #REF! | J68: =_Ngay -> #REF! | K68: ='LICH THI'!#REF! -> #REF! | L68: ='LICH THI'!#REF! -> #REF! | M68: ='LICH THI'!#REF! -> #REF! | N68: ='LICH THI'!#REF! -> #REF!
A69: =_Ngay_gio -> #REF! | B69: =_Gio -> #REF! | C69: ='LICH THI'!#REF! -> #REF! | D69: ='LICH THI'!#REF! -> #REF! | E69: ='LICH THI'!#REF! -> #REF! | F69: ='LICH THI'!#REF! -> #REF! | G69: ='LICH THI'!#REF! -> #REF! | H69: ='LICH THI'!#REF! -> #REF! | I69: ='LICH THI'!#REF! -> #REF! | J69: =_Ngay -> #REF! | K69: ='LICH THI'!#REF! -> #REF! | L69: ='LICH THI'!#REF! -> #REF! | M69: ='LICH THI'!#REF! -> #REF! | N69: ='LICH THI'!#REF! -> #REF!
A70: =_Ngay_gio -> 42813.75 | B70: =_Gio -> 18:00 | C70: ='LICH THI'!D16 -> 7 | D70: ='LICH THI'!E16 -> DL67D | E70: ='LICH THI'!F16 -> DC2CO24 | F70: ='LICH THI'!G16 -> Cơ kỹ thuật | G70: ='LICH THI'!H16 -> 3 | H70: ='LICH THI'!I16 -> Viết | I70: ='LICH THI'!K16 -> 42813 | J70: =_Ngay -> (CN) | K70: ='LICH THI'!M16 -> 5 | L70: ='LICH THI'!N16 -> 0 | M70: ='LICH THI'!O16 -> 0 | N70: ='LICH THI'!P16
A71: =_Ngay_gio -> #REF! | B71: =_Gio -> #REF! | C71: ='LICH THI'!#REF! -> #REF! | D71: ='LICH THI'!#REF! -> #REF! | E71: ='LICH THI'!#REF! -> #REF! | F71: ='LICH THI'!#REF! -> #REF! | G71: ='LICH THI'!#REF! -> #REF! | H71: ='LICH THI'!#REF! -> #REF! | I71: ='LICH THI'!#REF! -> #REF! | J71: =_Ngay -> #REF! | K71: ='LICH THI'!#REF! -> #REF! | L71: ='LICH THI'!#REF! -> #REF! | M71: ='LICH THI'!#REF! -> #REF! | N71: ='LICH THI'!#REF! -> #REF!
A72: =_Ngay_gio -> 42812.75 | B72: =_Gio -> 18:00 | C72: ='LICH THI'!D17 -> 8 | D72: ='LICH THI'!E17 -> DL67D | E72: ='LICH THI'!F17 -> DL1CB22 | F72: ='LICH THI'!G17 -> Vật lý đại cương 2 | G72: ='LICH THI'!H17 -> 3 | H72: ='LICH THI'!I17 -> Viết | I72: ='LICH THI'!K17 -> 42812 | J72: =_Ngay -> (Thứ 7) | K72: ='LICH THI'!M17 -> 5 | L72: ='LICH THI'!N17 -> 52 | M72: ='LICH THI'!O17 -> 40 | N72: ='LICH THI'!P17 -> 2
A73: =_Ngay_gio -> #REF! | B73: =_Gio -> #REF! | C73: ='LICH THI'!#REF! -> #REF! | D73: ='LICH THI'!#REF! -> #REF! | E73: ='LICH THI'!#REF! -> #REF! | F73: ='LICH THI'!#REF! -> #REF! | G73: ='LICH THI'!#REF! -> #REF! | H73: ='LICH THI'!#REF! -> #REF! | I73: ='LICH THI'!#REF! -> #REF! | J73: =_Ngay -> #REF! | K73: ='LICH THI'!#REF! -> #REF! | L73: ='LICH THI'!#REF! -> #REF! | M73: ='LICH THI'!#REF! -> #REF! | N73: ='LICH THI'!#REF! -> #REF!
A74: =_Ngay_gio -> #REF! | B74: =_Gio -> #REF! | C74: ='LICH THI'!#REF! -> #REF! | D74: ='LICH THI'!#REF! -> #REF! | E74: ='LICH THI'!#REF! -> #REF! | F74: ='LICH THI'!#REF! -> #REF! | G74: ='LICH THI'!#REF! -> #REF! | H74: ='LICH THI'!#REF! -> #REF! | I74: ='LICH THI'!#REF! -> #REF! | J74: =_Ngay -> #REF! | K74: ='LICH THI'!#REF! -> #REF! | L74: ='LICH THI'!#REF! -> #REF! | M74: ='LICH THI'!#REF! -> #REF! | N74: ='LICH THI'!#REF! -> #REF!
A75: =_Ngay_gio -> #REF! | B75: =_Gio -> #REF! | C75: ='LICH THI'!#REF! -> #REF! | D75: ='LICH THI'!#REF! -> #REF! | E75: ='LICH THI'!#REF! -> #REF! | F75: ='LICH THI'!#REF! -> #REF! | G75: ='LICH THI'!#REF! -> #REF! | H75: ='LICH THI'!#REF! -> #REF! | I75: ='LICH THI'!#REF! -> #REF! | J75: =_Ngay -> #REF! | K75: ='LICH THI'!#REF! -> #REF! | L75: ='LICH THI'!#REF! -> #REF! | M75: ='LICH THI'!#REF! -> #REF! | N75: ='LICH THI'!#REF! -> #REF!
A76: =_Ngay_gio -> #REF! | B76: =_Gio -> #REF! | C76: ='LICH THI'!#REF! -> #REF! | D76: ='LICH THI'!#REF! -> #REF! | E76: ='LICH THI'!#REF! -> #REF! | F76: ='LICH THI'!#REF! -> #REF! | G76: ='LICH THI'!#REF! -> #REF! | H76: ='LICH THI'!#REF! -> #REF! | I76: ='LICH THI'!#REF! -> #REF! | J76: =_Ngay -> #REF! | K76: ='LICH THI'!#REF! -> #REF! | L76: ='LICH THI'!#REF! -> #REF! | M76: ='LICH THI'!#REF! -> #REF! | N76: ='LICH THI'!#REF! -> #REF!
A77: =_Ngay_gio -> #REF! | B77: =_Gio -> #REF! | C77: ='LICH THI'!#REF! -> #REF! | D77: ='LICH THI'!#REF! -> #REF! | E77: ='LICH THI'!#REF! -> #REF! | F77: ='LICH THI'!#REF! -> #REF! | G77: ='LICH THI'!#REF! -> #REF! | H77: ='LICH THI'!#REF! -> #REF! | I77: ='LICH THI'!#REF! -> #REF! | J77: =_Ngay -> #REF! | K77: ='LICH THI'!#REF! -> #REF! | L77: ='LICH THI'!#REF! -> #REF! | M77: ='LICH THI'!#REF! -> #REF! | N77: ='LICH THI'!#REF! -> #REF!
A78: =_Ngay_gio -> #REF! | B78: =_Gio -> #REF! | C78: ='LICH THI'!#REF! -> #REF! | D78: ='LICH THI'!#REF! -> #REF! | E78: ='LICH THI'!#REF! -> #REF! | F78: ='LICH THI'!#REF! -> #REF! | G78: ='LICH THI'!#REF! -> #REF! | H78: ='LICH THI'!#REF! -> #REF! | I78: ='LICH THI'!#REF! -> #REF! | J78: =_Ngay -> #REF! | K78: ='LICH THI'!#REF! -> #REF! | L78: ='LICH THI'!#REF! -> #REF! | M78: ='LICH THI'!#REF! -> #REF! | N78: ='LICH THI'!#REF! -> #REF!
A79: =_Ngay_gio -> #REF! | B79: =_Gio -> #REF! | C79: ='LICH THI'!#REF! -> #REF! | D79: ='LICH THI'!#REF! -> #REF! | E79: ='LICH THI'!#REF! -> #REF! | F79: ='LICH THI'!#REF! -> #REF! | G79: ='LICH THI'!#REF! -> #REF! | H79: ='LICH THI'!#REF! -> #REF! | I79: ='LICH THI'!#REF! -> #REF! | J79: =_Ngay -> #REF! | K79: ='LICH THI'!#REF! -> #REF! | L79: ='LICH THI'!#REF! -> #REF! | M79: ='LICH THI'!#REF! -> #REF! | N79: ='LICH THI'!#REF! -> #REF!
A80: =_Ngay_gio -> #REF! | B80: =_Gio -> #REF! | C80: ='LICH THI'!#REF! -> #REF! | D80: ='LICH THI'!#REF! -> #REF! | E80: ='LICH THI'!#REF! -> #REF! | F80: ='LICH THI'!#REF! -> #REF! | G80: ='LICH THI'!#REF! -> #REF! | H80: ='LICH THI'!#REF! -> #REF! | I80: ='LICH THI'!#REF! -> #REF! | J80: =_Ngay -> #REF! | K80: ='LICH THI'!#REF! -> #REF! | L80: ='LICH THI'!#REF! -> #REF! | M80: ='LICH THI'!#REF! -> #REF! | N80: ='LICH THI'!#REF! -> #REF!
A81: =_Ngay_gio -> #REF! | B81: =_Gio -> #REF! | C81: ='LICH THI'!#REF! -> #REF! | D81: ='LICH THI'!#REF! -> #REF! | E81: ='LICH THI'!#REF! -> #REF! | F81: ='LICH THI'!#REF! -> #REF! | G81: ='LICH THI'!#REF! -> #REF! | H81: ='LICH THI'!#REF! -> #REF! | I81: ='LICH THI'!#REF! -> #REF! | J81: =_Ngay -> #REF! | K81: ='LICH THI'!#REF! -> #REF! | L81: ='LICH THI'!#REF! -> #REF! | M81: ='LICH THI'!#REF! -> #REF! | N81: ='LICH THI'!#REF! -> #REF!
A82: =_Ngay_gio -> #REF! | B82: =_Gio -> #REF! | C82: ='LICH THI'!#REF! -> #REF! | D82: ='LICH THI'!#REF! -> #REF! | E82: ='LICH THI'!#REF! -> #REF! | F82: ='LICH THI'!#REF! -> #REF! | G82: ='LICH THI'!#REF! -> #REF! | H82: ='LICH THI'!#REF! -> #REF! | I82: ='LICH THI'!#REF! -> #REF! | J82: =_Ngay -> #REF! | K82: ='LICH THI'!#REF! -> #REF! | L82: ='LICH THI'!#REF! -> #REF! | M82: ='LICH THI'!#REF! -> #REF! | N82: ='LICH THI'!#REF! -> #REF!
A83: =_Ngay_gio -> #REF! | B83: =_Gio -> #REF! | C83: ='LICH THI'!#REF! -> #REF! | D83: ='LICH THI'!#REF! -> #REF! | E83: ='LICH THI'!#REF! -> #REF! | F83: ='LICH THI'!#REF! -> #REF! | G83: ='LICH THI'!#REF! -> #REF! | H83: ='LICH THI'!#REF! -> #REF! | I83: ='LICH THI'!#REF! -> #REF! | J83: =_Ngay -> #REF! | K83: ='LICH THI'!#REF! -> #REF! | L83: ='LICH THI'!#REF! -> #REF! | M83: ='LICH THI'!#REF! -> #REF! | N83: ='LICH THI'!#REF! -> #REF!
A84: =_Ngay_gio -> #REF! | B84: =_Gio -> #REF! | C84: ='LICH THI'!#REF! -> #REF! | D84: ='LICH THI'!#REF! -> #REF! | E84: ='LICH THI'!#REF! -> #REF! | F84: ='LICH THI'!#REF! -> #REF! | G84: ='LICH THI'!#REF! -> #REF! | H84: ='LICH THI'!#REF! -> #REF! | I84: ='LICH THI'!#REF! -> #REF! | J84: =_Ngay -> #REF! | K84: ='LICH THI'!#REF! -> #REF! | L84: ='LICH THI'!#REF! -> #REF! | M84: ='LICH THI'!#REF! -> #REF! | N84: ='LICH THI'!#REF! -> #REF!
... A91: =_Ngay_gio -> #REF! | B91: =_Gio -> #REF! | C91: ='LICH THI'!#REF! -> #REF! | D91: ='LICH THI'!#REF! -> #REF! | E91: ='LICH THI'!#REF! -> #REF! | F91: ='LICH THI'!#REF! -> #REF! | G91: ='LICH THI'!#REF! -> #REF! | H91: ='LICH THI'!#REF! -> #REF! | I91: ='LICH THI'!#REF! -> #REF! | J91: =_Ngay -> #REF! | K91: ='LICH THI'!#REF! -> #REF! | L91: ='LICH THI'!#REF! -> #REF! | M91: ='LICH THI'!#REF! -> #REF! | N91: ='LICH THI'!#REF! -> #REF!
A92: =_Ngay_gio -> 42813.292 | B92: =_Gio -> 7:00 | C92: ='LICH THI'!D18 -> 9 | D92: ='LICH THI'!E18 -> DL67D | E92: ='LICH THI'!F18 -> DC1CB99 | F92: ='LICH THI'!G18 -> Phương pháp nghiên cứu khoa học | G92: ='LICH THI'!H18 -> 2 | H92: ='LICH THI'!I18 -> Viết | I92: ='LICH THI'!K18 -> 42813 | J92: =_Ngay -> (CN) | K92: ='LICH THI'!M18 -> 6 | L92: ='LICH THI'!N18 -> 0 | M92: ='LICH THI'!O18 -> 0 | N92: ='LICH THI'!P18
A93: =_Ngay_gio -> #REF! | B93: =_Gio -> #REF! | C93: ='LICH THI'!#REF! -> #REF! | D93: ='LICH THI'!#REF! -> #REF! | E93: ='LICH THI'!#REF! -> #REF! | F93: ='LICH THI'!#REF! -> #REF! | G93: ='LICH THI'!#REF! -> #REF! | H93: ='LICH THI'!#REF! -> #REF! | I93: ='LICH THI'!#REF! -> #REF! | J93: =_Ngay -> #REF! | K93: ='LICH THI'!#REF! -> #REF! | L93: ='LICH THI'!#REF! -> #REF! | M93: ='LICH THI'!#REF! -> #REF! | N93: ='LICH THI'!#REF! -> #REF!
A94: =_Ngay_gio -> #REF! | B94: =_Gio -> #REF! | C94: ='LICH THI'!#REF! -> #REF! | D94: ='LICH THI'!#REF! -> #REF! | E94: ='LICH THI'!#REF! -> #REF! | F94: ='LICH THI'!#REF! -> #REF! | G94: ='LICH THI'!#REF! -> #REF! | H94: ='LICH THI'!#REF! -> #REF! | I94: ='LICH THI'!#REF! -> #REF! | J94: =_Ngay -> #REF! | K94: ='LICH THI'!#REF! -> #REF! | L94: ='LICH THI'!#REF! -> #REF! | M94: ='LICH THI'!#REF! -> #REF! | N94: ='LICH THI'!#REF! -> #REF!
A95: =_Ngay_gio -> #REF! | B95: =_Gio -> #REF! | C95: ='LICH THI'!#REF! -> #REF! | D95: ='LICH THI'!#REF! -> #REF! | E95: ='LICH THI'!#REF! -> #REF! | F95: ='LICH THI'!#REF! -> #REF! | G95: ='LICH THI'!#REF! -> #REF! | H95: ='LICH THI'!#REF! -> #REF! | I95: ='LICH THI'!#REF! -> #REF! | J95: =_Ngay -> #REF! | K95: ='LICH THI'!#REF! -> #REF! | L95: ='LICH THI'!#REF! -> #REF! | M95: ='LICH THI'!#REF! -> #REF! | N95: ='LICH THI'!#REF! -> #REF!
A96: =_Ngay_gio -> #REF! | B96: =_Gio -> #REF! | C96: ='LICH THI'!#REF! -> #REF! | D96: ='LICH THI'!#REF! -> #REF! | E96: ='LICH THI'!#REF! -> #REF! | F96: ='LICH THI'!#REF! -> #REF! | G96: ='LICH THI'!#REF! -> #REF! | H96: ='LICH THI'!#REF! -> #REF! | I96: ='LICH THI'!#REF! -> #REF! | J96: =_Ngay -> #REF! | K96: ='LICH THI'!#REF! -> #REF! | L96: ='LICH THI'!#REF! -> #REF! | M96: ='LICH THI'!#REF! -> #REF! | N96: ='LICH THI'!#REF! -> #REF!
A97: =_Ngay_gio -> 42813.75 | B97: =_Gio -> 18:00 | C97: ='LICH THI'!D19 -> 10 | D97: ='LICH THI'!E19 -> DL67D | E97: ='LICH THI'!F19 -> DC1CB12 | F97: ='LICH THI'!G19 -> Toán 2 | G97: ='LICH THI'!H19 -> 3 | H97: ='LICH THI'!I19 -> Viết | I97: ='LICH THI'!K19 -> 42813 | J97: =_Ngay -> (CN) | K97: ='LICH THI'!M19 -> 5 | L97: ='LICH THI'!N19 -> 149 | M97: ='LICH THI'!O19 -> 40 | N97: ='LICH THI'!P19 -> 4
A98: =_Ngay_gio -> #REF! | B98: =_Gio -> #REF! | C98: ='LICH THI'!#REF! -> #REF! | D98: ='LICH THI'!#REF! -> #REF! | E98: ='LICH THI'!#REF! -> #REF! | F98: ='LICH THI'!#REF! -> #REF! | G98: ='LICH THI'!#REF! -> #REF! | H98: ='LICH THI'!#REF! -> #REF! | I98: ='LICH THI'!#REF! -> #REF! | J98: =_Ngay -> #REF! | K98: ='LICH THI'!#REF! -> #REF! | L98: ='LICH THI'!#REF! -> #REF! | M98: ='LICH THI'!#REF! -> #REF! | N98: ='LICH THI'!#REF! -> #REF!
A99: =_Ngay_gio -> 42813.75 | B99: =_Gio -> 18:00 | C99: ='LICH THI'!D20 -> 11 | D99: ='LICH THI'!E20 -> DL67D | E99: ='LICH THI'!F20 -> DC2KV82 | F99: ='LICH THI'!G20 -> Kinh tế quốc tế | G99: ='LICH THI'!H20 -> 2 | H99: ='LICH THI'!I20 -> Viết | I99: ='LICH THI'!K20 -> 42813 | J99: =_Ngay -> (CN) | K99: ='LICH THI'!M20 -> 5 | L99: ='LICH THI'!N20 -> 1 | M99: ='LICH THI'!O20 -> 1 | N99: ='LICH THI'!P20 -> 1
A100: =_Ngay_gio -> #REF! | B100: =_Gio -> #REF! | C100: ='LICH THI'!#REF! -> #REF! | D100: ='LICH THI'!#REF! -> #REF! | E100: ='LICH THI'!#REF! -> #REF! | F100: ='LICH THI'!#REF! -> #REF! | G100: ='LICH THI'!#REF! -> #REF! | H100: ='LICH THI'!#REF! -> #REF! | I100: ='LICH THI'!#REF! -> #REF! | J100: =_Ngay -> #REF! | K100: ='LICH THI'!#REF! -> #REF! | L100: ='LICH THI'!#REF! -> #REF! | M100: ='LICH THI'!#REF! -> #REF! | N100: ='LICH THI'!#REF! -> #REF!
A101: =_Ngay_gio -> 42813.292 | B101: =_Gio -> 7:00 | C101: ='LICH THI'!D21 -> 12 | D101: ='LICH THI'!E21 -> DL67D | E101: ='LICH THI'!F21 -> DC2GT34 | F101: ='LICH THI'!G21 -> Đồ án Nền và móng | G101: ='LICH THI'!H21 -> 1 | H101: ='LICH THI'!I21 -> VĐ | I101: ='LICH THI'!K21 -> 42813 | J101: =_Ngay -> (CN) | K101: ='LICH THI'!M21 -> SA | L101: ='LICH THI'!N21 -> 84 | M101: ='LICH THI'!O21 -> 0 | N101: ='LICH THI'!P21
A102: =_Ngay_gio -> #REF! | B102: =_Gio -> #REF! | C102: ='LICH THI'!#REF! -> #REF! | D102: ='LICH THI'!#REF! -> #REF! | E102: ='LICH THI'!#REF! -> #REF! | F102: ='LICH THI'!#REF! -> #REF! | G102: ='LICH THI'!#REF! -> #REF! | H102: ='LICH THI'!#REF! -> #REF! | I102: ='LICH THI'!#REF! -> #REF! | J102: =_Ngay -> #REF! | K102: ='LICH THI'!#REF! -> #REF! | L102: ='LICH THI'!#REF! -> #REF! | M102: ='LICH THI'!#REF! -> #REF! | N102: ='LICH THI'!#REF! -> #REF!
A103: =_Ngay_gio -> #REF! | B103: =_Gio -> #REF! | C103: ='LICH THI'!#REF! -> #REF! | D103: ='LICH THI'!#REF! -> #REF! | E103: ='LICH THI'!#REF! -> #REF! | F103: ='LICH THI'!#REF! -> #REF! | G103: ='LICH THI'!#REF! -> #REF! | H103: ='LICH THI'!#REF! -> #REF! | I103: ='LICH THI'!#REF! -> #REF! | J103: =_Ngay -> #REF! | K103: ='LICH THI'!#REF! -> #REF! | L103: ='LICH THI'!#REF! -> #REF! | M103: ='LICH THI'!#REF! -> #REF! | N103: ='LICH THI'!#REF! -> #REF!
A104: =_Ngay_gio -> #REF! | B104: =_Gio -> #REF! | C104: ='LICH THI'!#REF! -> #REF! | D104: ='LICH THI'!#REF! -> #REF! | E104: ='LICH THI'!#REF! -> #REF! | F104: ='LICH THI'!#REF! -> #REF! | G104: ='LICH THI'!#REF! -> #REF! | H104: ='LICH THI'!#REF! -> #REF! | I104: ='LICH THI'!#REF! -> #REF! | J104: =_Ngay -> #REF! | K104: ='LICH THI'!#REF! -> #REF! | L104: ='LICH THI'!#REF! -> #REF! | M104: ='LICH THI'!#REF! -> #REF! | N104: ='LICH THI'!#REF! -> #REF!
A105: =_Ngay_gio -> #REF! | B105: =_Gio -> #REF! | C105: ='LICH THI'!#REF! -> #REF! | D105: ='LICH THI'!#REF! -> #REF! | E105: ='LICH THI'!#REF! -> #REF! | F105: ='LICH THI'!#REF! -> #REF! | G105: ='LICH THI'!#REF! -> #REF! | H105: ='LICH THI'!#REF! -> #REF! | I105: ='LICH THI'!#REF! -> #REF! | J105: =_Ngay -> #REF! | K105: ='LICH THI'!#REF! -> #REF! | L105: ='LICH THI'!#REF! -> #REF! | M105: ='LICH THI'!#REF! -> #REF! | N105: ='LICH THI'!#REF! -> #REF!
A106: =_Ngay_gio -> 42819.542 | B106: =_Gio -> 13:00 | C106: ='LICH THI'!D22 -> 13 | D106: ='LICH THI'!E22 -> DL67D | E106: ='LICH THI'!F22 -> DL2CO25 | F106: ='LICH THI'!G22 -> Sức bền vật liệu | G106: ='LICH THI'!H22 -> 2 | H106: ='LICH THI'!I22 -> Viết | I106: ='LICH THI'!K22 -> 42819 | J106: =_Ngay -> (Thứ 7) | K106: ='LICH THI'!M22 -> 3 | L106: ='LICH THI'!N22 -> 80 | M106: ='LICH THI'!O22 -> 40 | N106: ='LICH THI'!P22 -> 2
A107: =_Ngay_gio -> #REF! | B107: =_Gio -> #REF! | C107: ='LICH THI'!#REF! -> #REF! | D107: ='LICH THI'!#REF! -> #REF! | E107: ='LICH THI'!#REF! -> #REF! | F107: ='LICH THI'!#REF! -> #REF! | G107: ='LICH THI'!#REF! -> #REF! | H107: ='LICH THI'!#REF! -> #REF! | I107: ='LICH THI'!#REF! -> #REF! | J107: =_Ngay -> #REF! | K107: ='LICH THI'!#REF! -> #REF! | L107: ='LICH THI'!#REF! -> #REF! | M107: ='LICH THI'!#REF! -> #REF! | N107: ='LICH THI'!#REF! -> #REF!
A108: =_Ngay_gio -> #REF! | B108: =_Gio -> #REF! | C108: ='LICH THI'!#REF! -> #REF! | D108: ='LICH THI'!#REF! -> #REF! | E108: ='LICH THI'!#REF! -> #REF! | F108: ='LICH THI'!#REF! -> #REF! | G108: ='LICH THI'!#REF! -> #REF! | H108: ='LICH THI'!#REF! -> #REF! | I108: ='LICH THI'!#REF! -> #REF! | J108: =_Ngay -> #REF! | K108: ='LICH THI'!#REF! -> #REF! | L108: ='LICH THI'!#REF! -> #REF! | M108: ='LICH THI'!#REF! -> #REF! | N108: ='LICH THI'!#REF! -> #REF!
A109: =_Ngay_gio -> #REF! | B109: =_Gio -> #REF! | C109: ='LICH THI'!#REF! -> #REF! | D109: ='LICH THI'!#REF! -> #REF! | E109: ='LICH THI'!#REF! -> #REF! | F109: ='LICH THI'!#REF! -> #REF! | G109: ='LICH THI'!#REF! -> #REF! | H109: ='LICH THI'!#REF! -> #REF! | I109: ='LICH THI'!#REF! -> #REF! | J109: =_Ngay -> #REF! | K109: ='LICH THI'!#REF! -> #REF! | L109: ='LICH THI'!#REF! -> #REF! | M109: ='LICH THI'!#REF! -> #REF! | N109: ='LICH THI'!#REF! -> #REF!
A110: =_Ngay_gio -> #REF! | B110: =_Gio -> #REF! | C110: ='LICH THI'!#REF! -> #REF! | D110: ='LICH THI'!#REF! -> #REF! | E110: ='LICH THI'!#REF! -> #REF! | F110: ='LICH THI'!#REF! -> #REF! | G110: ='LICH THI'!#REF! -> #REF! | H110: ='LICH THI'!#REF! -> #REF! | I110: ='LICH THI'!#REF! -> #REF! | J110: =_Ngay -> #REF! | K110: ='LICH THI'!#REF! -> #REF! | L110: ='LICH THI'!#REF! -> #REF! | M110: ='LICH THI'!#REF! -> #REF! | N110: ='LICH THI'!#REF! -> #REF!
A111: =_Ngay_gio -> #REF! | B111: =_Gio -> #REF! | C111: ='LICH THI'!#REF! -> #REF! | D111: ='LICH THI'!#REF! -> #REF! | E111: ='LICH THI'!#REF! -> #REF! | F111: ='LICH THI'!#REF! -> #REF! | G111: ='LICH THI'!#REF! -> #REF! | H111: ='LICH THI'!#REF! -> #REF! | I111: ='LICH THI'!#REF! -> #REF! | J111: =_Ngay -> #REF! | K111: ='LICH THI'!#REF! -> #REF! | L111: ='LICH THI'!#REF! -> #REF! | M111: ='LICH THI'!#REF! -> #REF! | N111: ='LICH THI'!#REF! -> #REF!
A112: =_Ngay_gio -> #REF! | B112: =_Gio -> #REF! | C112: ='LICH THI'!#REF! -> #REF! | D112: ='LICH THI'!#REF! -> #REF! | E112: ='LICH THI'!#REF! -> #REF! | F112: ='LICH THI'!#REF! -> #REF! | G112: ='LICH THI'!#REF! -> #REF! | H112: ='LICH THI'!#REF! -> #REF! | I112: ='LICH THI'!#REF! -> #REF! | J112: =_Ngay -> #REF! | K112: ='LICH THI'!#REF! -> #REF! | L112: ='LICH THI'!#REF! -> #REF! | M112: ='LICH THI'!#REF! -> #REF! | N112: ='LICH THI'!#REF! -> #REF!
A113: =_Ngay_gio -> #REF! | B113: =_Gio -> #REF! | C113: ='LICH THI'!#REF! -> #REF! | D113: ='LICH THI'!#REF! -> #REF! | E113: ='LICH THI'!#REF! -> #REF! | F113: ='LICH THI'!#REF! -> #REF! | G113: ='LICH THI'!#REF! -> #REF! | H113: ='LICH THI'!#REF! -> #REF! | I113: ='LICH THI'!#REF! -> #REF! | J113: =_Ngay -> #REF! | K113: ='LICH THI'!#REF! -> #REF! | L113: ='LICH THI'!#REF! -> #REF! | M113: ='LICH THI'!#REF! -> #REF! | N113: ='LICH THI'!#REF! -> #REF!
A114: =_Ngay_gio -> #REF! | B114: =_Gio -> #REF! | C114: ='LICH THI'!#REF! -> #REF! | D114: ='LICH THI'!#REF! -> #REF! | E114: ='LICH THI'!#REF! -> #REF! | F114: ='LICH THI'!#REF! -> #REF! | G114: ='LICH THI'!#REF! -> #REF! | H114: ='LICH THI'!#REF! -> #REF! | I114: ='LICH THI'!#REF! -> #REF! | J114: =_Ngay -> #REF! | K114: ='LICH THI'!#REF! -> #REF! | L114: ='LICH THI'!#REF! -> #REF! | M114: ='LICH THI'!#REF! -> #REF! | N114: ='LICH THI'!#REF! -> #REF!
A115: =_Ngay_gio -> #REF! | B115: =_Gio -> #REF! | C115: ='LICH THI'!#REF! -> #REF! | D115: ='LICH THI'!#REF! -> #REF! | E115: ='LICH THI'!#REF! -> #REF! | F115: ='LICH THI'!#REF! -> #REF! | G115: ='LICH THI'!#REF! -> #REF! | H115: ='LICH THI'!#REF! -> #REF! | I115: ='LICH THI'!#REF! -> #REF! | J115: =_Ngay -> #REF! | K115: ='LICH THI'!#REF! -> #REF! | L115: ='LICH THI'!#REF! -> #REF! | M115: ='LICH THI'!#REF! -> #REF! | N115: ='LICH THI'!#REF! -> #REF!
A116: =_Ngay_gio -> 42819.75 | B116: =_Gio -> 18:00 | C116: ='LICH THI'!D23 -> 14 | D116: ='LICH THI'!E23 -> DL67D | E116: ='LICH THI'!F23 -> DC1CB18 | F116: ='LICH THI'!G23 -> Toán 2 | G116: ='LICH THI'!H23 -> 2 | H116: ='LICH THI'!I23 -> Viết | I116: ='LICH THI'!K23 -> 42819 | J116: =_Ngay -> (Thứ 7) | K116: ='LICH THI'!M23 -> 5 | L116: ='LICH THI'!N23 -> 4 | M116: ='LICH THI'!O23 -> 4 | N116: ='LICH THI'!P23 -> 1
A117: =_Ngay_gio -> #REF! | B117: =_Gio -> #REF! | C117: ='LICH THI'!#REF! -> #REF! | D117: ='LICH THI'!#REF! -> #REF! | E117: ='LICH THI'!#REF! -> #REF! | F117: ='LICH THI'!#REF! -> #REF! | G117: ='LICH THI'!#REF! -> #REF! | H117: ='LICH THI'!#REF! -> #REF! | I117: ='LICH THI'!#REF! -> #REF! | J117: =_Ngay -> #REF! | K117: ='LICH THI'!#REF! -> #REF! | L117: ='LICH THI'!#REF! -> #REF! | M117: ='LICH THI'!#REF! -> #REF! | N117: ='LICH THI'!#REF! -> #REF!
A118: =_Ngay_gio -> #REF! | B118: =_Gio -> #REF! | C118: ='LICH THI'!#REF! -> #REF! | D118: ='LICH THI'!#REF! -> #REF! | E118: ='LICH THI'!#REF! -> #REF! | F118: ='LICH THI'!#REF! -> #REF! | G118: ='LICH THI'!#REF! -> #REF! | H118: ='LICH THI'!#REF! -> #REF! | I118: ='LICH THI'!#REF! -> #REF! | J118: =_Ngay -> #REF! | K118: ='LICH THI'!#REF! -> #REF! | L118: ='LICH THI'!#REF! -> #REF! | M118: ='LICH THI'!#REF! -> #REF! | N118: ='LICH THI'!#REF! -> #REF!
A119: =_Ngay_gio -> #REF! | B119: =_Gio -> #REF! | C119: ='LICH THI'!#REF! -> #REF! | D119: ='LICH THI'!#REF! -> #REF! | E119: ='LICH THI'!#REF! -> #REF! | F119: ='LICH THI'!#REF! -> #REF! | G119: ='LICH THI'!#REF! -> #REF! | H119: ='LICH THI'!#REF! -> #REF! | I119: ='LICH THI'!#REF! -> #REF! | J119: =_Ngay -> #REF! | K119: ='LICH THI'!#REF! -> #REF! | L119: ='LICH THI'!#REF! -> #REF! | M119: ='LICH THI'!#REF! -> #REF! | N119: ='LICH THI'!#REF! -> #REF!
A120: =_Ngay_gio -> #REF! | B120: =_Gio -> #REF! | C120: ='LICH THI'!#REF! -> #REF! | D120: ='LICH THI'!#REF! -> #REF! | E120: ='LICH THI'!#REF! -> #REF! | F120: ='LICH THI'!#REF! -> #REF! | G120: ='LICH THI'!#REF! -> #REF! | H120: ='LICH THI'!#REF! -> #REF! | I120: ='LICH THI'!#REF! -> #REF! | J120: =_Ngay -> #REF! | K120: ='LICH THI'!#REF! -> #REF! | L120: ='LICH THI'!#REF! -> #REF! | M120: ='LICH THI'!#REF! -> #REF! | N120: ='LICH THI'!#REF! -> #REF!
A121: =_Ngay_gio -> #REF! | B121: =_Gio -> #REF! | C121: ='LICH THI'!#REF! -> #REF! | D121: ='LICH THI'!#REF! -> #REF! | E121: ='LICH THI'!#REF! -> #REF! | F121: ='LICH THI'!#REF! -> #REF! | G121: ='LICH THI'!#REF! -> #REF! | H121: ='LICH THI'!#REF! -> #REF! | I121: ='LICH THI'!#REF! -> #REF! | J121: =_Ngay -> #REF! | K121: ='LICH THI'!#REF! -> #REF! | L121: ='LICH THI'!#REF! -> #REF! | M121: ='LICH THI'!#REF! -> #REF! | N121: ='LICH THI'!#REF! -> #REF!
A122: =_Ngay_gio -> #REF! | B122: =_Gio -> #REF! | C122: ='LICH THI'!#REF! -> #REF! | D122: ='LICH THI'!#REF! -> #REF! | E122: ='LICH THI'!#REF! -> #REF! | F122: ='LICH THI'!#REF! -> #REF! | G122: ='LICH THI'!#REF! -> #REF! | H122: ='LICH THI'!#REF! -> #REF! | I122: ='LICH THI'!#REF! -> #REF! | J122: =_Ngay -> #REF! | K122: ='LICH THI'!#REF! -> #REF! | L122: ='LICH THI'!#REF! -> #REF! | M122: ='LICH THI'!#REF! -> #REF! | N122: ='LICH THI'!#REF! -> #REF!
A123: =_Ngay_gio -> #REF! | B123: =_Gio -> #REF! | C123: ='LICH THI'!#REF! -> #REF! | D123: ='LICH THI'!#REF! -> #REF! | E123: ='LICH THI'!#REF! -> #REF! | F123: ='LICH THI'!#REF! -> #REF! | G123: ='LICH THI'!#REF! -> #REF! | H123: ='LICH THI'!#REF! -> #REF! | I123: ='LICH THI'!#REF! -> #REF! | J123: =_Ngay -> #REF! | K123: ='LICH THI'!#REF! -> #REF! | L123: ='LICH THI'!#REF! -> #REF! | M123: ='LICH THI'!#REF! -> #REF! | N123: ='LICH THI'!#REF! -> #REF!
A124: =_Ngay_gio -> #REF! | B124: =_Gio -> #REF! | C124: ='LICH THI'!#REF! -> #REF! | D124: ='LICH THI'!#REF! -> #REF! | E124: ='LICH THI'!#REF! -> #REF! | F124: ='LICH THI'!#REF! -> #REF! | G124: ='LICH THI'!#REF! -> #REF! | H124: ='LICH THI'!#REF! -> #REF! | I124: ='LICH THI'!#REF! -> #REF! | J124: =_Ngay -> #REF! | K124: ='LICH THI'!#REF! -> #REF! | L124: ='LICH THI'!#REF! -> #REF! | M124: ='LICH THI'!#REF! -> #REF! | N124: ='LICH THI'!#REF! -> #REF!
A125: =_Ngay_gio -> #REF! | B125: =_Gio -> #REF! | C125: ='LICH THI'!#REF! -> #REF! | D125: ='LICH THI'!#REF! -> #REF! | E125: ='LICH THI'!#REF! -> #REF! | F125: ='LICH THI'!#REF! -> #REF! | G125: ='LICH THI'!#REF! -> #REF! | H125: ='LICH THI'!#REF! -> #REF! | I125: ='LICH THI'!#REF! -> #REF! | J125: =_Ngay -> #REF! | K125: ='LICH THI'!#REF! -> #REF! | L125: ='LICH THI'!#REF! -> #REF! | M125: ='LICH THI'!#REF! -> #REF! | N125: ='LICH THI'!#REF! -> #REF!
A126: =_Ngay_gio -> #REF! | B126: =_Gio -> #REF! | C126: ='LICH THI'!#REF! -> #REF! | D126: ='LICH THI'!#REF! -> #REF! | E126: ='LICH THI'!#REF! -> #REF! | F126: ='LICH THI'!#REF! -> #REF! | G126: ='LICH THI'!#REF! -> #REF! | H126: ='LICH THI'!#REF! -> #REF! | I126: ='LICH THI'!#REF! -> #REF! | J126: =_Ngay -> #REF! | K126: ='LICH THI'!#REF! -> #REF! | L126: ='LICH THI'!#REF! -> #REF! | M126: ='LICH THI'!#REF! -> #REF! | N126: ='LICH THI'!#REF! -> #REF!
A127: =_Ngay_gio -> #REF! | B127: =_Gio -> #REF! | C127: ='LICH THI'!#REF! -> #REF! | D127: ='LICH THI'!#REF! -> #REF! | E127: ='LICH THI'!#REF! -> #REF! | F127: ='LICH THI'!#REF! -> #REF! | G127: ='LICH THI'!#REF! -> #REF! | H127: ='LICH THI'!#REF! -> #REF! | I127: ='LICH THI'!#REF! -> #REF! | J127: =_Ngay -> #REF! | K127: ='LICH THI'!#REF! -> #REF! | L127: ='LICH THI'!#REF! -> #REF! | M127: ='LICH THI'!#REF! -> #REF! | N127: ='LICH THI'!#REF! -> #REF!
A128: =_Ngay_gio -> #REF! | B128: =_Gio -> #REF! | C128: ='LICH THI'!#REF! -> #REF! | D128: ='LICH THI'!#REF! -> #REF! | E128: ='LICH THI'!#REF! -> #REF! | F128: ='LICH THI'!#REF! -> #REF! | G128: ='LICH THI'!#REF! -> #REF! | H128: ='LICH THI'!#REF! -> #REF! | I128: ='LICH THI'!#REF! -> #REF! | J128: =_Ngay -> #REF! | K128: ='LICH THI'!#REF! -> #REF! | L128: ='LICH THI'!#REF! -> #REF! | M128: ='LICH THI'!#REF! -> #REF! | N128: ='LICH THI'!#REF! -> #REF!
A129: =_Ngay_gio -> 42819.75 | B129: =_Gio -> 18:00 | C129: ='LICH THI'!D24 -> 15 | D129: ='LICH THI'!E24 -> DL67D | E129: ='LICH THI'!F24 -> DC2KV72 | F129: ='LICH THI'!G24 -> Quản trị học | G129: ='LICH THI'!H24 -> 2 | H129: ='LICH THI'!I24 -> Viết | I129: ='LICH THI'!K24 -> 42819 | J129: =_Ngay -> (Thứ 7) | K129: ='LICH THI'!M24 -> 5 | L129: ='LICH THI'!N24 -> 2 | M129: ='LICH THI'!O24 -> 2 | N129: ='LICH THI'!P24 -> 1
A130: =_Ngay_gio -> #REF! | B130: =_Gio -> #REF! | C130: ='LICH THI'!#REF! -> #REF! | D130: ='LICH THI'!#REF! -> #REF! | E130: ='LICH THI'!#REF! -> #REF! | F130: ='LICH THI'!#REF! -> #REF! | G130: ='LICH THI'!#REF! -> #REF! | H130: ='LICH THI'!#REF! -> #REF! | I130: ='LICH THI'!#REF! -> #REF! | J130: =_Ngay -> #REF! | K130: ='LICH THI'!#REF! -> #REF! | L130: ='LICH THI'!#REF! -> #REF! | M130: ='LICH THI'!#REF! -> #REF! | N130: ='LICH THI'!#REF! -> #REF!
A131: =_Ngay_gio -> #REF! | B131: =_Gio -> #REF! | C131: ='LICH THI'!#REF! -> #REF! | D131: ='LICH THI'!#REF! -> #REF! | E131: ='LICH THI'!#REF! -> #REF! | F131: ='LICH THI'!#REF! -> #REF! | G131: ='LICH THI'!#REF! -> #REF! | H131: ='LICH THI'!#REF! -> #REF! | I131: ='LICH THI'!#REF! -> #REF! | J131: =_Ngay -> #REF! | K131: ='LICH THI'!#REF! -> #REF! | L131: ='LICH THI'!#REF! -> #REF! | M131: ='LICH THI'!#REF! -> #REF! | N131: ='LICH THI'!#REF! -> #REF!
A132: =_Ngay_gio -> #REF! | B132: =_Gio -> #REF! | C132: ='LICH THI'!#REF! -> #REF! | D132: ='LICH THI'!#REF! -> #REF! | E132: ='LICH THI'!#REF! -> #REF! | F132: ='LICH THI'!#REF! -> #REF! | G132: ='LICH THI'!#REF! -> #REF! | H132: ='LICH THI'!#REF! -> #REF! | I132: ='LICH THI'!#REF! -> #REF! | J132: =_Ngay -> #REF! | K132: ='LICH THI'!#REF! -> #REF! | L132: ='LICH THI'!#REF! -> #REF! | M132: ='LICH THI'!#REF! -> #REF! | N132: ='LICH THI'!#REF! -> #REF!
A133: =_Ngay_gio -> #REF! | B133: =_Gio -> #REF! | C133: ='LICH THI'!#REF! -> #REF! | D133: ='LICH THI'!#REF! -> #REF! | E133: ='LICH THI'!#REF! -> #REF! | F133: ='LICH THI'!#REF! -> #REF! | G133: ='LICH THI'!#REF! -> #REF! | H133: ='LICH THI'!#REF! -> #REF! | I133: ='LICH THI'!#REF! -> #REF! | J133: =_Ngay -> #REF! | K133: ='LICH THI'!#REF! -> #REF! | L133: ='LICH THI'!#REF! -> #REF! | M133: ='LICH THI'!#REF! -> #REF! | N133: ='LICH THI'!#REF! -> #REF!
A134: =_Ngay_gio -> #REF! | B134: =_Gio -> #REF! | C134: ='LICH THI'!#REF! -> #REF! | D134: ='LICH THI'!#REF! -> #REF! | E134: ='LICH THI'!#REF! -> #REF! | F134: ='LICH THI'!#REF! -> #REF! | G134: ='LICH THI'!#REF! -> #REF! | H134: ='LICH THI'!#REF! -> #REF! | I134: ='LICH THI'!#REF! -> #REF! | J134: =_Ngay -> #REF! | K134: ='LICH THI'!#REF! -> #REF! | L134: ='LICH THI'!#REF! -> #REF! | M134: ='LICH THI'!#REF! -> #REF! | N134: ='LICH THI'!#REF! -> #REF!
A135: =_Ngay_gio -> #REF! | B135: =_Gio -> #REF! | C135: ='LICH THI'!#REF! -> #REF! | D135: ='LICH THI'!#REF! -> #REF! | E135: ='LICH THI'!#REF! -> #REF! | F135: ='LICH THI'!#REF! -> #REF! | G135: ='LICH THI'!#REF! -> #REF! | H135: ='LICH THI'!#REF! -> #REF! | I135: ='LICH THI'!#REF! -> #REF! | J135: =_Ngay -> #REF! | K135: ='LICH THI'!#REF! -> #REF! | L135: ='LICH THI'!#REF! -> #REF! | M135: ='LICH THI'!#REF! -> #REF! | N135: ='LICH THI'!#REF! -> #REF!
A136: =_Ngay_gio -> #REF! | B136: =_Gio -> #REF! | C136: ='LICH THI'!#REF! -> #REF! | D136: ='LICH THI'!#REF! -> #REF! | E136: ='LICH THI'!#REF! -> #REF! | F136: ='LICH THI'!#REF! -> #REF! | G136: ='LICH THI'!#REF! -> #REF! | H136: ='LICH THI'!#REF! -> #REF! | I136: ='LICH THI'!#REF! -> #REF! | J136: =_Ngay -> #REF! | K136: ='LICH THI'!#REF! -> #REF! | L136: ='LICH THI'!#REF! -> #REF! | M136: ='LICH THI'!#REF! -> #REF! | N136: ='LICH THI'!#REF! -> #REF!
A137: =_Ngay_gio -> #REF! | B137: =_Gio -> #REF! | C137: ='LICH THI'!#REF! -> #REF! | D137: ='LICH THI'!#REF! -> #REF! | E137: ='LICH THI'!#REF! -> #REF! | F137: ='LICH THI'!#REF! -> #REF! | G137: ='LICH THI'!#REF! -> #REF! | H137: ='LICH THI'!#REF! -> #REF! | I137: ='LICH THI'!#REF! -> #REF! | J137: =_Ngay -> #REF! | K137: ='LICH THI'!#REF! -> #REF! | L137: ='LICH THI'!#REF! -> #REF! | M137: ='LICH THI'!#REF! -> #REF! | N137: ='LICH THI'!#REF! -> #REF!
...

Sheet Sheet1
I1: DC1CB13-DLK65 | J1: =+LEFT(I1,7) -> DC1CB13 | M1: DC1CB94-DCK65 | N1: DC1CB94
I2: DL2CT27-DLK65 | J2: =+LEFT(I2,7) -> DL2CT27 | M2: DC2CB89-DCK65 | N2: DC2CB89 | Q2: DC2CT65-DCK64
B3: 65DLCD21 | C3: 57 | E3: =SUM(C3:C5) -> 163 | I3: DL2GT52-DLK65 | J3: =+LEFT(I3,7) -> DL2GT52 | M3: DC2HT26-DCK65 | N3: DC2HT26 | Q3: DC2CT65-DCK63
B4: 65DLCD22 | C4: 49 | I4: DL3DB41-DLK65 | J4: =+LEFT(I4,7) -> DL3DB41 | M4: DC3VL25-DCK65 | N4: DC3VL25 | Q4: DC3HT51-DCK64
B5: 65DLCD23 | C5: 57 | I5: DL3CA41-DLK65 | J5: =+LEFT(I5,7) -> DL3CA41 | M5: DC2DT45-DCK65 | N5: DC2DT45 | Q5: DC2DT55-DCK64
B6: 65DLCD24 | C6: 56 | E6: =+C6+C7+C8+C9+C10+C13+C15+C19+C20+C21 -> 504 | I6: DC2GT54-DLK65 | J6: =+LEFT(I6,7) -> DC2GT54 | M6: DC2DT44-DCK65 | N6: DC2DT44 | Q6: DC1CB94-DCK64
B7: 65DLCD25 | C7: 84 | I7: DC3CA44-DLK65 | J7: =+LEFT(I7,7) -> DC3CA44 | M7: DC2CT31-DCK65 | N7: DC2CT31 | Q7: DC1CB94-DCK65
B8: 65DLCD26 | C8: 58 | I8: DC3DB44-DLK65 | J8: =+LEFT(I8,7) -> DC3DB44 | M8: DC2VS67-DCK65 | N8: DC2VS67 | Q8: DC2TH33-DCK64
B9: 65DLCD27 | C9: 50 | I9: DC1CB32-DLK65 | J9: =+LEFT(I9,7) -> DC1CB32 | M9: DC2VB67-DCK65 | N9: DC2VB67 | Q9: DC2CB89-DCK65
B10: 65DLCD28 | C10: 44 | I10: DC1CB12-DLK65 | J10: =+LEFT(I10,7) -> DC1CB12 | M10: DC2KV22-DCK65 | N10: DC2KV22 | Q10: DC3DD46-DCK63
B11: 65DLDD21 | C11: 54 | E11: =+C11 -> 54 | I11: DL1CB22-DLK65 | J11: =+LEFT(I11,7) -> DL1CB22 | M11: DC2CK54-DCK65 | N11: DC2CK54 | Q11: DC2HT26-DCK65
B12: 65DLDD22 | C12: 59 | E12: =+C12 -> 59 | I12: DL2GT61-DLK65 | J12: =+LEFT(I12,7) -> DL2GT61 | M12: DC1QP01-DCK65 | N12: DC1QP01 | Q12: DC2CK57-DCK64
B13: 65DLDD23 | C13: 37 | I13: DC1CB20-DLK65 | J13: =+LEFT(I13,7) -> DC1CB20 | M13: DC1QP02-DCK65 | N13: DC1QP02 | Q13: DC2CK33-DCK64
B14: 65DLOT21 | C14: 42 | E14: =+C14 -> 42 | I14: DC3DB71-DLK65 | J14: =+LEFT(I14,7) -> DC3DB71 | M14: DC1QP03-DCK65 | N14: DC1QP03 | Q14: DC3VL25-DCK65
B15: 65DLOT22 | C15: 22 | I15: DL2DD52-DLK65 | J15: =+LEFT(I15,7) -> DL2DD52 | M15: DC1TD01-DCK65 | N15: DC1TD01 | Q15: DC3DT82-DCK64
B16: 65DLMX21 | C16: 20 | E16: =+C16 -> 20 | I16: DL2DD33-DLK65 | J16: =+LEFT(I16,7) -> DL2DD33 | M16: DC1TD02-DCK65 | N16: DC1TD02 | Q16: DC3CC47-DCK64
B17: 65DLKT21 | C17: 63 | I17: DC2DD94-DLK65 | J17: =+LEFT(I17,7) -> DC2DD94 | M17: DC1TD03-DCK65 | N17: DC1TD03 | Q17: DC2CT32-DCK64
B18: 65DLKT22 | C18: 53 | I18: DL3DD41-DLK65 | J18: =+LEFT(I18,7) -> DL3DD41 | M18: DC1TD04-DCK65 | N18: DC1TD04 | Q18: CC2CO24-CCK66
B19: 65DLKT23 | C19: =55+13 -> 68 | I19: DC2DD54-DLK65 | J19: =+LEFT(I19,7) -> DC2DD54 | M19: DC1TD05-DCK65 | N19: DC1TD05 | Q19: DC2CO24-DCK66
B20: 65DLKT24 | C20: 63 | I20: DC2DD34-DLK65 | J20: =+LEFT(I20,7) -> DC2DD34 | M20: DC2VB39-DCK65 | N20: DC2VB39 | Q20: DC2DT44-DCK65
B21: 65DLKT25 | C21: 22 | I21: DC3DD42-DLK65 | J21: =+LEFT(I21,7) -> DC3DD42 | M21: DC2CO11-DCK65 | N21: DC2CO11 | Q21: DC3DT60-DCK64
B22: 65DLQT21 | C22: 27 | I22: DC3CT55-DLK65 | J22: =+LEFT(I22,7) -> DC3CT55 | M22: DC1CB26-DCK65 | N22: DC1CB26 | Q22: DC2CT31-DCK65
B23: 65DLKX21 | C23: 57 | I23: DL3DD60-DLK65 | J23: =+LEFT(I23,7) -> DL3DD60 | M23: DC3KT22-DCK65 | N23: DC3KT22 | Q23: DC2VB32-DCK66
I24: DL2CO26-DLK65 | J24: =+LEFT(I24,7) -> DL2CO26 | M24: DC2KV64-DCK65 | N24: DC2KV64 | Q24: DC3MT37-DCK64
B25: 65DVCD21 | C25: 34 | I25: DL2CK48-DLK65 | J25: =+LEFT(I25,7) -> DL2CK48 | M25: DC2KV63-DCK65 | N25: DC2KV63 | Q25: DC2DT51-DCK64
B26: 64DVCD01 | C26: 23 | I26: DC2CK57-DLK65 | J26: =+LEFT(I26,7) -> DC2CK57 | M26: DC2KV82-DCK65 | N26: DC2KV82 | Q26: DC2VS67-DCK65
I27: DL3CK71-DLK65 | J27: =+LEFT(I27,7) -> DL3CK71 | M27: DC3KX71-DCK65 | N27: DC3KX71 | Q27: DC2VB67-DCK65
I28: DC3CK72-DLK65 | J28: =+LEFT(I28,7) -> DC3CK72 | M28: DC1TH46-DCK65 | N28: DC1TH46 | Q28: DC2KV22-DCK65
I29: DL2CK41-DLK65 | J29: =+LEFT(I29,7) -> DL2CK41 | M29: DC1TH47-DCK65 | N29: DC1TH47 | Q29: DC2CK52-DCK64
I30: DC3MX40-DLK65 | J30: =+LEFT(I30,7) -> DC3MX40 | M30: DC2DT41-DCK65 | N30: DC2DT41 | Q30: DC2DT52-DCK64
I31: DL2OT70-DLK65 | J31: =+LEFT(I31,7) -> DL2OT70 | M31: DC2DT42-DCK65 | N31: DC2DT42 | Q31: DC3KT25-DCK63
I32: DL2CO21-DLK65 | J32: =+LEFT(I32,7) -> DL2CO21 | M32: DC2DT43-DCK65 | N32: DC2DT43 | Q32: DC2GT54-DCK64
I33: DL2CO25-DLK65 | J33: =+LEFT(I33,7) -> DL2CO25 | M33: DC1CB20-DCK65 | N33: DC1CB20 | Q33: DC2DD54-DCK64
I34: DL2CO13-DLK65 | J34: =+LEFT(I34,7) -> DL2CO13 | M34: DC1TH48-DCK65 | N34: DC1TH48 | Q34: DC2OT71-DCK64
I35: DL2CK55-DLK65 | J35: =+LEFT(I35,7) -> DL2CK55 | M35: DC2GT42-DCK65 | N35: DC2GT42 | Q35: DC3MX47-DCK63
I36: DC2CK54-DLK65 | J36: =+LEFT(I36,7) -> DC2CK54 | M36: DC1CB92-DCK65 | N36: DC1CB92 | Q36: DC3MX42-DCK63
I37: DC3KV43-DLK65 | J37: =+LEFT(I37,7) -> DC3KV43 | M37: DC2TT23-DCK65 | N37: DC2TT23 | Q37: DC2GT34-DCK64
I38: DC3KT24-DLK65 | J38: =+LEFT(I38,7) -> DC3KT24 | M38: DC2KV68-DCK65 | N38: DC2KV68 | Q38: DC2CK54-DCK65
... I67: DC1CB21-DVK65 | J67: =+LEFT(I67,7) -> DC1CB21 | M67: DC2KV90-DCK65 | N67: DC2KV90 | Q67: DC2DD51-DCK64
M68: DC1CB31-DCK65 | N68: DC1CB31 | Q68: DC3KV43-DCK63
M69: DC2RB43-DCK65 | N69: DC2RB43 | Q69: DC2DT57-DCK64
M70: DC1CB32-DCK65 | N70: DC1CB32 | Q70: DC2KV64-DCK65
M71: DC1TT43-DCK65 | N71: DC1TT43 | Q71: DC2KV63-DCK65
M72: DC1CB12-DCK65 | N72: DC1CB12 | Q72: DC2KV82-DCK65
M73: DC1CB13-DCK65 | N73: DC1CB13 | Q73: CC2KV61-CCK66
M74: DC2CT16-DCK65 | N74: DC2CT16 | Q74: DC2KV61-DCK66
M75: DC2CK58-DCK65 | N75: DC2CK58 | Q75: DC3CT91-DCK64
M76: DC2DT46-DCK65 | N76: DC2DT46 | Q76: DC3CT91-DCK63
M77: DC1LL03-DCK65 | N77: DC1LL03 | Q77: DC3KX71-DCK65
M78: DC2CB94-DCK65 | N78: DC2CB94 | Q78: DC1TH47-DCK65
M79: DC2CK32-DCK65 | N79: DC2CK32 | Q79: DC2HT39-DCK64
... M81: DC2CO13-DCK65 | N81: DC2CO13 | Q81: DC3CA52-DCK63
Q82: DC3DS52-DCK63
Q83: DC3DB52-DCK63
Q84: DC3DD51-DCK63
Q85: DC3DD52-DCK63
Q86: DC2TT35-DCK64
Q87: DC2DT41-DCK65
Q88: DC2DT41-DCK66
Q89: DC2DT42-DCK65
Q90: DC2OT70-DCK64
Q91: DC1CB20-DCK65
Q92: DC1TH48-DCK65
Q93: DC3MX45-DCK63
... Q212: DC1CB11-DCK66
I213: DC2DT44-DCK65 | Q213: DC1CB12-DCK65
I214: DC1QP03-DCK65 | Q214: DC1CB13-DCK65
I215: DC2DT41-DCK65 | Q215: DC3OT31-DCK64
I216: DC2DT42-DCK65 | Q216: DC3OT31-DCK63
I217: DC4DT21-DCK65 | Q217: DC2CT16-DCK64
I218: DC4DT22-DCK65 | Q218: DC2CT16-DCK65
I219: DC1CB12-DCK65 | Q219: DC2CK58-DCK65
I220: DC1LL03-DCK65 | Q220: DC2DT46-DCK65
Q221: DC1LL03-DCK64
Q222: DC1LL03-DCK65
Q223: DC2CB94-DCK65
Q224: DC2CB94-DCK66
Q225: DC2CK32-DCK65
Q226: DC2DD35-DCK65
Q227: DC2KX36-DCK66
Q228: CC1CB21-CCK66
Q229: DC1CB21-DCK66
Q230: DC2CO13-DCK65
Q231: CC2CO15-CCK66
Q232: CC2CO14-CCK66
... Q234: DC2CO16-DCK66

Sheet Mã
A1: Phụ trách
A2: BM phụ trách | B2: Khoa phụ trách
A4: NLCN Mác - Lênin | B4: LÝ LUẬN CHÍNH TRỊ | C4: LLNL | E4: LÝ LUẬN CHÍNH TRỊ | F4: LLCT
A5: Tư tưởng Hồ Chí Minh | B5: LÝ LUẬN CHÍNH TRỊ | C5: LLTT | E5: KHOA HỌC CƠ BẢN | F5: KHCB
A6: ĐLCM của ĐCSVN | B6: LÝ LUẬN CHÍNH TRỊ | C6: LLDL | E6: CÔNG NGHỆ THÔNG TIN | F6: CNTT
A7: Giáo dục pháp luật | B7: LÝ LUẬN CHÍNH TRỊ | C7: LLPL | E7: GIÁO DỤC THỂ CHẤT | F7: GDTC
A8: Ngoại ngữ | B8: KHOA HỌC CƠ BẢN | C8: CBNN | E8: GIÁO DỤC QPAN | F8: QPAN
A9: Toán | B9: KHOA HỌC CƠ BẢN | C9: CBTO | E9: CƠ SỞ KỸ THUẬT | F9: CSKT
A10: Vật lý | B10: KHOA HỌC CƠ BẢN | C10: CBLY | E10: CÔNG TRÌNH | F10: KCT
A11: Hóa học | B11: KHOA HỌC CƠ BẢN | C11: CBHO | E11: KINH TẾ - VẬN TẢI | F11: KTVT
A12: Hệ thống thông tin | B12: CÔNG NGHỆ THÔNG TIN | C12: TTHT | E12: CƠ KHÍ | F12: KCK
A13: CÔNG NGHỆ THÔNG TIN | B13: CÔNG NGHỆ THÔNG TIN | C13: CNTT
A14: Giáo dục thể chất | B14: GIÁO DỤC THỂ CHẤT | C14: CDTC
A15: Quốc phòng - An ninh | B15: GIÁO DỤC QPAN | C15: QPAN
A16: Hình họa - Vẽ kĩ thuật | B16: CƠ SỞ KỸ THUẬT | C16: CSVE
A17: CNKT Môi trường | B17: CÔNG TRÌNH | C17: CTMO
A18: Cơ sở ngành kinh tế | B18: KINH TẾ - VẬN TẢI | C18: KVCS
A19: Khoa Cơ khí | B19: CƠ KHÍ | C19: KCK
A20: Quản trị doanh nghiệp | B20: KINH TẾ - VẬN TẢI | C20: KVQT
A21: Vận tải sắt - bộ | B21: KINH TẾ - VẬN TẢI | C21: KVSB
A22: Kinh tế xây dựng | B22: KINH TẾ - VẬN TẢI | C22: KVKX
A23: Điện - Điện tử | B23: CÔNG NGHỆ THÔNG TIN | C23: TTDT
A24: Khoa CNTT | B24: CÔNG NGHỆ THÔNG TIN | C24: CNTT
... A45: Tin học công trình | B45: CÔNG TRÌNH | C45: CTUD

Sheet DATA
A1: Mã học phần | F1: Số TT | G1: Học phần | H1: Số TC | I1: Khối lượng (tiết, giờ) | M1: THI | AB1: NGÀNH | AU1: NGÀNH
A2: ĐHCQ | B2: ĐHLT | C2: ĐTLT | D2: CĐCQ | E2: CĐLT | G2: Tên đầy đủ | I2: LT, BT | J2: TL, TH, TN | K2: TT, ĐA, BTL (h) | L2: Tự học (h) | M2: Hình thức | N2: Thời gian | O2: BM phụ trách | P2: Khoa phụ trách | T2: DCCA | U2: DCCC | V2: DCCD | W2: DCCS | X2: DCDB | Y2: DCDD | Z2: DCCDA | AA2: DCOT | AB2: DCMX | AC2: DCMT | AD2: DCDM | AE2: DCDT | AF2: DCHT | AG2: DCKT | AH2: DCQT | AI2: DCKX | AJ2: DCVB | AK2: DCVS | AL2: DCVL | AM2: CCCA | AN2: CCCC | AO2: CCCD | AP2: CCCS | AQ2: CCDB | AR2: CCDD | AS2: CCCDA | AT2: CCOT | AU2: CCMX | AV2: CCMT | AW2: CCDM | AX2: CCDT | AY2: CCTH | AZ2: CCKT | BA2: CCQT | BB2: CCKX | BC2: CCVB | BD2: CCVS | BE2: CCVL
A3: DC | B3: DL | C3: DT | D3: CC | E3: CL
A4: DC1TT90 | D4: CC1TT90 | F4: 52 | G4: Bảo vệ môi trường | H4: 2 | I4: 30 | L4: 0 | O4: Khoa CNTT | P4: CÔNG NGHỆ THÔNG TIN | Q4: =MaBM -> CNTT | R4: =MaKhoa -> CNTT | S4: =+R4&"-"&Q4 -> CNTT-CNTT | AF4: o | AY4: o
A5: DC4TH80 | F5: 738 | G5: Đồ án tốt nghiệp | H5: 8 | K5: 480 | L5: 0 | M5: VĐ | O5: Khoa CNTT | P5: CÔNG NGHỆ THÔNG TIN | Q5: =MaBM -> CNTT | R5: =MaKhoa -> CNTT | S5: =+R5&"-"&Q5 -> CNTT-CNTT | AF5: x
D6: CC4TH80 | F6: 739 | G6: Đồ án tốt nghiệp | H6: 4 | K6: 240 | L6: 0 | M6: VĐ | O6: Khoa CNTT | P6: CÔNG NGHỆ THÔNG TIN | Q6: =MaBM -> CNTT | R6: =MaKhoa -> CNTT | S6: =+R6&"-"&Q6 -> CNTT-CNTT | AY6: x
A7: DC4DT80 | B7: DC4DT80 | F7: 740 | G7: Đồ án tốt nghiệp | H7: 8 | K7: 480 | L7: 0 | M7: VĐ | O7: Khoa CNTT | P7: CÔNG NGHỆ THÔNG TIN | Q7: =MaBM -> CNTT | R7: =MaKhoa -> CNTT | S7: =+R7&"-"&Q7 -> CNTT-CNTT | AE7: x
D8: CC4DT80 | F8: 741 | G8: Đồ án tốt nghiệp | H8: 4 | K8: 240 | L8: 0 | M8: VĐ | O8: Khoa CNTT | P8: CÔNG NGHỆ THÔNG TIN | Q8: =MaBM -> CNTT | R8: =MaKhoa -> CNTT | S8: =+R8&"-"&Q8 -> CNTT-CNTT | AX8: x
A9: DC4ME80 | F9: 840 | G9: Đồ án tốt nghiệp | H9: 8 | K9: 480 | L9: 0 | M9: VĐ | O9: Khoa CNTT | P9: CÔNG NGHỆ THÔNG TIN | Q9: =MaBM -> CNTT | R9: =MaKhoa -> CNTT | S9: =+R9&"-"&Q9 -> CNTT-CNTT
A10: DC4TH70 | B10: DC4TH70 | D10: CC4TH70 | F10: 706 | G10: Thực tập tốt nghiệp | H10: 4 | K10: 180 | L10: 0 | M10: VĐ | O10: Khoa CNTT | P10: CÔNG NGHỆ THÔNG TIN | Q10: =MaBM -> CNTT | R10: =MaKhoa -> CNTT | S10: =+R10&"-"&Q10 -> CNTT-CNTT | AF10: x | AY10: x
A11: DC4DT70 | B11: DC4DT70 | D11: CC4DT70 | F11: 707 | G11: Thực tập tốt nghiệp | H11: 4 | K11: 180 | L11: 0 | M11: VĐ | O11: Khoa CNTT | P11: CÔNG NGHỆ THÔNG TIN | Q11: =MaBM -> CNTT | R11: =MaKhoa -> CNTT | S11: =+R11&"-"&Q11 -> CNTT-CNTT | AE11: x | AX11: x
A12: DC4ME70 | F12: 839 | G12: Thực tập tốt nghiệp | H12: 4 | K12: 240 | L12: 0 | M12: VĐ | O12: Khoa CNTT | P12: CÔNG NGHỆ THÔNG TIN | Q12: =MaBM -> CNTT | R12: =MaKhoa -> CNTT | S12: =+R12&"-"&Q12 -> CNTT-CNTT
A13: DC3DT64 | B13: DC3DT64 | F13: 551 | G13: An ninh mạng thông tin | H13: 3 | I13: 45 | L13: 0 | M13: Viết | N13: 60 | O13: Điện - Điện tử | P13: CÔNG NGHỆ THÔNG TIN | Q13: =MaBM -> TTDT | R13: =MaKhoa -> CNTT | S13: =+R13&"-"&Q13 -> CNTT-TTDT | AE13: x
A14: DC2DT55 | B14: DC2DT55 | F14: 206 | G14: Anten và truyền sóng | H14: 3 | I14: 45 | L14: 0 | O14: Điện - Điện tử | P14: CÔNG NGHỆ THÔNG TIN | Q14: =MaBM -> TTDT | R14: =MaKhoa -> CNTT | S14: =+R14&"-"&Q14 -> CNTT-TTDT | AE14: x
A15: DC3DT81 | B15: DC3DT81 | D15: CC3DT81 | F15: 627 | G15: Công nghệ Multimedia | H15: 2 | I15: 30 | L15: 0 | M15: Viết | N15: 60 | O15: Điện - Điện tử | P15: CÔNG NGHỆ THÔNG TIN | Q15: =MaBM -> TTDT | R15: =MaKhoa -> CNTT | S15: =+R15&"-"&Q15 -> CNTT-TTDT | AE15: o | AX15: o
A16: DC3DT82 | B16: DC3DT82 | D16: CC3DT82 | F16: 628 | G16: Công nghệ vi điện tử | H16: 2 | I16: 30 | L16: 0 | M16: Viết | N16: 60 | O16: Điện - Điện tử | P16: CÔNG NGHỆ THÔNG TIN | Q16: =MaBM -> TTDT | R16: =MaKhoa -> CNTT | S16: =+R16&"-"&Q16 -> CNTT-TTDT | AE16: o | AX16: o
A17: DC2DT45 | D17: CC2DT45 | F17: 205 | G17: Cơ sở điều khiển tự động | H17: 3 | I17: 45 | L17: 0 | M17: Viết | N17: 90 | O17: Điện - Điện tử | P17: CÔNG NGHỆ THÔNG TIN | Q17: =MaBM -> TTDT | R17: =MaKhoa -> CNTT | S17: =+R17&"-"&Q17 -> CNTT-TTDT | AE17: x | AX17: x
A18: DC2DT44 | D18: CC2DT44 | F18: 195 | G18: Cơ sở kỹ thuật đo lường | H18: 2 | I18: 15 | J18: 30 | L18: 0 | M18: Viết | N18: 60 | O18: Điện - Điện tử | P18: CÔNG NGHỆ THÔNG TIN | Q18: =MaBM -> TTDT | R18: =MaKhoa -> CNTT | S18: =+R18&"-"&Q18 -> CNTT-TTDT | AE18: x | AX18: x
A19: DC3DT60 | D19: CC3DT60 | F19: 553 | G19: Cơ sở truyền số liệu | H19: 3 | I19: 45 | L19: 0 | M19: Viết | N19: 60 | O19: Điện - Điện tử | P19: CÔNG NGHỆ THÔNG TIN | Q19: =MaBM -> TTDT | R19: =MaKhoa -> CNTT | S19: =+R19&"-"&Q19 -> CNTT-TTDT | AE19: x | AX19: x
A20: DC3ME61 | F20: 828 | G20: Điện tử công suất | H20: 3 | I20: 45 | L20: 0 | O20: Điện - Điện tử | P20: CÔNG NGHỆ THÔNG TIN | Q20: =MaBM -> TTDT | R20: =MaKhoa -> CNTT | S20: =+R20&"-"&Q20 -> CNTT-TTDT
A21: DC2DT51 | F21: 197 | G21: Điện tử số | H21: 3 | I21: 30 | J21: 30 | L21: 0 | M21: Viết | N21: 60 | O21: Điện - Điện tử | P21: CÔNG NGHỆ THÔNG TIN | Q21: =MaBM -> TTDT | R21: =MaKhoa -> CNTT | S21: =+R21&"-"&Q21 -> CNTT-TTDT | AE21: x
B22: DL2DT51 | F22: 198 | G22: Điện tử số | H22: 2 | I22: 30 | L22: 0 | M22: Viết | N22: 60 | O22: Điện - Điện tử | P22: CÔNG NGHỆ THÔNG TIN | Q22: =MaBM -> TTDT | R22: =MaKhoa -> CNTT | S22: =+R22&"-"&Q22 -> CNTT-TTDT
D23: CC2DT51 | F23: 199 | G23: Điện tử số | H23: 2 | I23: 30 | L23: 0 | M23: Viết | N23: 60 | O23: Điện - Điện tử | P23: CÔNG NGHỆ THÔNG TIN | Q23: =MaBM -> TTDT | R23: =MaKhoa -> CNTT | S23: =+R23&"-"&Q23 -> CNTT-TTDT | AX23: x
A24: DC2DT53 | F24: 201 | G24: Điện tử tương tự | H24: 4 | I24: 45 | J24: 30 | L24: 0 | M24: Viết | N24: 90 | O24: Điện - Điện tử | P24: CÔNG NGHỆ THÔNG TIN | Q24: =MaBM -> TTDT | R24: =MaKhoa -> CNTT | S24: =+R24&"-"&Q24 -> CNTT-TTDT | AE24: x
B25: DL2DT53 | F25: 202 | G25: Điện tử tương tự | H25: 2 | I25: 30 | L25: 0 | O25: Điện - Điện tử | P25: CÔNG NGHỆ THÔNG TIN | Q25: =MaBM -> TTDT | R25: =MaKhoa -> CNTT | S25: =+R25&"-"&Q25 -> CNTT-TTDT
D26: CC2DT53 | F26: 203 | G26: Điện tử tương tự | H26: 3 | I26: 30 | J26: 30 | L26: 0 | M26: Viết | N26: 60 | O26: Điện - Điện tử | P26: CÔNG NGHỆ THÔNG TIN | Q26: =MaBM -> TTDT | R26: =MaKhoa -> CNTT | S26: =+R26&"-"&Q26 -> CNTT-TTDT | AX26: x
A27: DC2DT52 | B27: DC2DT52 | F27: 200 | G27: Đồ án Điện tử số | H27: 2 | K27: 90 | L27: 0 | M27: VĐ | O27: Điện - Điện tử | P27: CÔNG NGHỆ THÔNG TIN | Q27: =MaBM -> TTDT | R27: =MaKhoa -> CNTT | S27: =+R27&"-"&Q27 -> CNTT-TTDT | AE27: x
A28: DC2DT54 | B28: DC2DT54 | F28: 204 | G28: Đồ án Điện tử tương tự | H28: 2 | K28: 90 | L28: 0 | M28: VĐ | O28: Điện - Điện tử | P28: CÔNG NGHỆ THÔNG TIN | Q28: =MaBM -> TTDT | R28: =MaKhoa -> CNTT | S28: =+R28&"-"&Q28 -> CNTT-TTDT | AE28: x
A29: DC3ME53 | F29: 832 | G29: Đồ án Hệ thống cơ điện tử | H29: 2 | K29: 90 | L29: 0 | M29: VĐ | O29: Điện - Điện tử | P29: CÔNG NGHỆ THÔNG TIN | Q29: =MaBM -> TTDT | R29: =MaKhoa -> CNTT | S29: =+R29&"-"&Q29 -> CNTT-TTDT
A30: DC3ME64 | F30: 830 | G30: Đồ án Kỹ thuật vi điều khiển | H30: 2 | K30: 90 | L30: 0 | M30: VĐ | O30: Điện - Điện tử | P30: CÔNG NGHỆ THÔNG TIN | Q30: =MaBM -> TTDT | R30: =MaKhoa -> CNTT | S30: =+R30&"-"&Q30 -> CNTT-TTDT
A31: DC3DT62 | B31: DC3DT62 | F31: 556 | G31: Đồ án Mạng viễn thông | H31: 2 | K31: 90 | L31: 0 | M31: VĐ | O31: Điện - Điện tử | P31: CÔNG NGHỆ THÔNG TIN | Q31: =MaBM -> TTDT | R31: =MaKhoa -> CNTT | S31: =+R31&"-"&Q31 -> CNTT-TTDT | AE31: x
A32: DC2CK42 | F32: 841 | G32: Động cơ điện | H32: 2 | L32: 0 | O32: Điện - Điện tử | P32: CÔNG NGHỆ THÔNG TIN | Q32: =MaBM -> TTDT | R32: =MaKhoa -> CNTT | S32: =+R32&"-"&Q32 -> CNTT-TTDT
A33: DC3DT84 | B33: DC3DT84 | D33: CC3DT84 | F33: 630 | G33: Giao tiếp máy tính và thu nhận dữ liệu | H33: 2 | I33: 30 | L33: 0 | M33: Viết | N33: 60 | O33: Điện - Điện tử | P33: CÔNG NGHỆ THÔNG TIN | Q33: =MaBM -> TTDT | R33: =MaKhoa -> CNTT | S33: =+R33&"-"&Q33 -> CNTT-TTDT | AE33: o | AX33: x
A34: DC3ME51 | F34: 831 | G34: Hệ thống cơ điện tử | H34: 3 | I34: 45 | L34: 0 | O34: Điện - Điện tử | P34: CÔNG NGHỆ THÔNG TIN | Q34: =MaBM -> TTDT | R34: =MaKhoa -> CNTT | S34: =+R34&"-"&Q34 -> CNTT-TTDT
A35: DC3ME73 | F35: 834 | G35: Hệ thống giao thông thông minh ITS | H35: 2 | I35: 30 | L35: 0 | O35: Điện - Điện tử | P35: CÔNG NGHỆ THÔNG TIN | Q35: =MaBM -> TTDT | R35: =MaKhoa -> CNTT | S35: =+R35&"-"&Q35 -> CNTT-TTDT
A36: DC3DT83 | B36: DC3DT83 | D36: CC3DT83 | F36: 629 | G36: Hệ thống nhúng | H36: 2 | I36: 30 | L36: 0 | M36: Viết | N36: 60 | O36: Điện - Điện tử | P36: CÔNG NGHỆ THÔNG TIN | Q36: =MaBM -> TTDT | R36: =MaKhoa -> CNTT | S36: =+R36&"-"&Q36 -> CNTT-TTDT | AE36: o | AX36: x
A37: DC3DT63 | B37: DC3DT63 | F37: 552 | G37: Hệ thống viễn thông | H37: 3 | I37: 45 | L37: 0 | M37: Viết | O37: Điện - Điện tử | P37: CÔNG NGHỆ THÔNG TIN | Q37: =MaBM -> TTDT | R37: =MaKhoa -> CNTT | S37: =+R37&"-"&Q37 -> CNTT-TTDT | AE37: x
A38: DC1TH47 | B38: DC1TH47 | D38: CC1TH47 | F38: 51 | G38: Kỹ thuật điện | H38: 2 | I38: 30 | L38: 0 | M38: Viết | N38: 60 | O38: Điện - Điện tử | P38: CÔNG NGHỆ THÔNG TIN | Q38: =MaBM -> TTDT | R38: =MaKhoa -> CNTT | S38: =+R38&"-"&Q38 -> CNTT-TTDT | AE38: o | AX38: o
A39: DC1TH46 | F39: 50 | G39: Kỹ thuật điện - Điện tử | H39: 2 | I39: 15 | J39: 30 | L39: 0 | M39: Viết | N39: 60 | O39: Điện - Điện tử | P39: CÔNG NGHỆ THÔNG TIN | Q39: =MaBM -> TTDT | R39: =MaKhoa -> CNTT | S39: =+R39&"-"&Q39 -> CNTT-TTDT | AF39: o
A40: DC2CK41 | F40: 102 | G40: Kỹ thuật điện - Điện tử | H40: 4 | I40: 45 | J40: 30 | L40: 0 | M40: Viết | N40: 90 | O40: Điện - Điện tử | P40: CÔNG NGHỆ THÔNG TIN | Q40: =MaBM -> TTDT | R40: =MaKhoa -> CNTT | S40: =+R40&"-"&Q40 -> CNTT-TTDT | AA40: x | AB40: x | AC40: x | AD40: x
B41: DL2CK41 | F41: 103 | G41: Kỹ thuật điện - Điện tử | H41: 2 | I41: 30 | L41: 0 | M41: Viết | N41: 60 | O41: Điện - Điện tử | P41: CÔNG NGHỆ THÔNG TIN | Q41: =MaBM -> TTDT | R41: =MaKhoa -> CNTT | S41: =+R41&"-"&Q41 -> CNTT-TTDT
C42: DT2CK41 | D42: CC2CK41 | F42: 104 | G42: Kỹ thuật điện - Điện tử | H42: 3 | I42: 30 | J42: 30 | L42: 0 | M42: Viết | N42: 60 | O42: Điện - Điện tử | P42: CÔNG NGHỆ THÔNG TIN | Q42: =MaBM -> TTDT | R42: =MaKhoa -> CNTT | S42: =+R42&"-"&Q42 -> CNTT-TTDT | AT42: x | AU42: x | AV42: x | AW42: x
A43: DC2CT41 | B43: DC2CT41 | C43: DC2CT41 | D43: CC2CT41 | E43: CC2CT41 | F43: 216 | G43: Kỹ thuật điện công trình | H43: 2 | I43: 30 | L43: 0 | M43: Viết | N43: 60 | O43: Điện - Điện tử | P43: CÔNG NGHỆ THÔNG TIN | Q43: =MaBM -> TTDT | R43: =MaKhoa -> CNTT | S43: =+R43&"-"&Q43 -> CNTT-TTDT | T43: o | U43: o | V43: o | W43: o | X43: o | Y43: o | Z43: o | AN43: o | AO43: o | AP43: o | AR43: o
A44: DC3ME71 | F44: 836 | G44: Kỹ thuật laser | H44: 2 | I44: 30 | L44: 0 | O44: Điện - Điện tử | P44: CÔNG NGHỆ THÔNG TIN | Q44: =MaBM -> TTDT | R44: =MaKhoa -> CNTT | S44: =+R44&"-"&Q44 -> CNTT-TTDT
A45: DC2TH38 | D45: CC2TH38 | F45: 245 | G45: Kỹ thuật phần mềm ứng dụng | H45: 2 | I45: 30 | L45: 0 | M45: Viết | N45: 60 | O45: Điện - Điện tử | P45: CÔNG NGHỆ THÔNG TIN | Q45: =MaBM -> TTDT | R45: =MaKhoa -> CNTT | S45: =+R45&"-"&Q45 -> CNTT-TTDT | AE45: o | AX45: o
A46: DC2DT61 | F46: 240 | G46: Kỹ thuật số | H46: 2 | I46: 30 | J46: 30 | L46: 0 | M46: Viết | N46: 60 | O46: Điện - Điện tử | P46: CÔNG NGHỆ THÔNG TIN | Q46: =MaBM -> TTDT | R46: =MaKhoa -> CNTT | S46: =+R46&"-"&Q46 -> CNTT-TTDT | AF46: o
A47: DC3ME63 | F47: 829 | G47: Kỹ thuật vi điều khiển | H47: 3 | I47: 45 | L47: 0 | O47: Điện - Điện tử | P47: CÔNG NGHỆ THÔNG TIN | Q47: =MaBM -> TTDT | R47: =MaKhoa -> CNTT | S47: =+R47&"-"&Q47 -> CNTT-TTDT
A48: DC2DT63 | F48: 241 | G48: Kỹ thuật vi xử lý | H48: 2 | I48: 30 | J48: 30 | L48: 0 | M48: Viết | N48: 60 | O48: Điện - Điện tử | P48: CÔNG NGHỆ THÔNG TIN | Q48: =MaBM -> TTDT | R48: =MaKhoa -> CNTT | S48: =+R48&"-"&Q48 -> CNTT-TTDT | AF48: o
A49: DC2DT62 | F49: 208 | G49: Kỹ thuật vi xử lý và ứng dụng | H49: 4 | I49: 45 | J49: 30 | L49: 0 | M49: Viết | N49: 60 | O49: Điện - Điện tử | P49: CÔNG NGHỆ THÔNG TIN | Q49: =MaBM -> TTDT | R49: =MaKhoa -> CNTT | S49: =+R49&"-"&Q49 -> CNTT-TTDT | AE49: x
B50: DL2DT62 | F50: 209 | G50: Kỹ thuật vi xử lý và ứng dụng | H50: 2 | I50: 30 | L50: 0 | M50: Viết | N50: 60 | O50: Điện - Điện tử | P50: CÔNG NGHỆ THÔNG TIN | Q50: =MaBM -> TTDT | R50: =MaKhoa -> CNTT | S50: =+R50&"-"&Q50 -> CNTT-TTDT
D51: CC2DT62 | F51: 210 | G51: Kỹ thuật vi xử lý và ứng dụng | H51: 3 | I51: 30 | J51: 30 | L51: 0 | M51: Viết | N51: 60 | O51: Điện - Điện tử | P51: CÔNG NGHỆ THÔNG TIN | Q51: =MaBM -> TTDT | R51: =MaKhoa -> CNTT | S51: =+R51&"-"&Q51 -> CNTT-TTDT | AX51: x
A52: DC3OT71 | F52: 842 | G52: Lập trình PLC | H52: 3 | L52: 0 | O52: Điện - Điện tử | P52: CÔNG NGHỆ THÔNG TIN | Q52: =MaBM -> TTDT | R52: =MaKhoa -> CNTT | S52: =+R52&"-"&Q52 -> CNTT-TTDT
A53: DC2DT41 | D53: CC2DT41 | F53: 192 | G53: Linh kiện điện tử | H53: 3 | I53: 30 | J53: 30 | L53: 0 | M53: Viết | N53: 60 | O53: Điện - Điện tử | P53: CÔNG NGHỆ THÔNG TIN | Q53: =MaBM -> TTDT | R53: =MaKhoa -> CNTT | S53: =+R53&"-"&Q53 -> CNTT-TTDT | AE53: x | AX53: x
A54: DC2DT42 | D54: CC2DT42 | F54: 193 | G54: Lý thuyết mạch | H54: 3 | I54: 30 | J54: 30 | L54: 0 | M54: Viết | N54: 90 | O54: Điện - Điện tử | P54: CÔNG NGHỆ THÔNG TIN | Q54: =MaBM -> TTDT | R54: =MaKhoa -> CNTT | S54: =+R54&"-"&Q54 -> CNTT-TTDT | AE54: x | AX54: x
A55: DC2DT43 | D55: CC2DT43 | F55: 194 | G55: Lý thuyết truyền tin | H55: 3 | I55: 45 | L55: 0 | M55: Viết | N55: 60 | O55: Điện - Điện tử | P55: CÔNG NGHỆ THÔNG TIN | Q55: =MaBM -> TTDT | R55: =MaKhoa -> CNTT | S55: =+R55&"-"&Q55 -> CNTT-TTDT | AE55: x | AX55: x
A56: DC3DT61 | F56: 554 | G56: Mạng viễn thông | H56: 4 | I56: 60 | L56: 0 | O56: Điện - Điện tử | P56: CÔNG NGHỆ THÔNG TIN | Q56: =MaBM -> TTDT | R56: =MaKhoa -> CNTT | S56: =+R56&"-"&Q56 -> CNTT-TTDT | AE56: x
B57: DL3DT61 | F57: 555 | G57: Mạng viễn thông | H57: 2 | I57: 30 | L57: 0 | O57: Điện - Điện tử | P57: CÔNG NGHỆ THÔNG TIN | Q57: =MaBM -> TTDT | R57: =MaKhoa -> CNTT | S57: =+R57&"-"&Q57 -> CNTT-TTDT
D58: CC3DT61 | F58: 557 | G58: Mạng viễn thông | H58: 3 | I58: 45 | L58: 0 | O58: Điện - Điện tử | P58: CÔNG NGHỆ THÔNG TIN | Q58: =MaBM -> TTDT | R58: =MaKhoa -> CNTT | S58: =+R58&"-"&Q58 -> CNTT-TTDT | AX58: x
A59: DC1TH48 | B59: DC1TH48 | D59: CC1TH48 | F59: 53 | G59: Matlab và ứng dụng | H59: 2 | I59: 15 | J59: 30 | L59: 0 | M59: TH | O59: Điện - Điện tử | P59: CÔNG NGHỆ THÔNG TIN | Q59: =MaBM -> TTDT | R59: =MaKhoa -> CNTT | S59: =+R59&"-"&Q59 -> CNTT-TTDT | AE59: o | AX59: o
A60: DC3ME84 | F60: 833 | G60: Robot công nghiệp | H60: 2 | I60: 30 | L60: 0 | O60: Điện - Điện tử | P60: CÔNG NGHỆ THÔNG TIN | Q60: =MaBM -> TTDT | R60: =MaKhoa -> CNTT | S60: =+R60&"-"&Q60 -> CNTT-TTDT
A61: DC2DT56 | D61: CC2DT56 | F61: 207 | G61: Tín hiệu và hệ thống | H61: 2 | I61: 30 | L61: 0 | M61: Viết | N61: 60 | O61: Điện - Điện tử | P61: CÔNG NGHỆ THÔNG TIN | Q61: =MaBM -> TTDT | R61: =MaKhoa -> CNTT | S61: =+R61&"-"&Q61 -> CNTT-TTDT | AE61: x | AX61: x
A62: DC3ME74 | F62: 835 | G62: Tự động hóa quá trình sản xuất | H62: 2 | I62: 30 | L62: 0 | O62: Điện - Điện tử | P62: CÔNG NGHỆ THÔNG TIN | Q62: =MaBM -> TTDT | R62: =MaKhoa -> CNTT | S62: =+R62&"-"&Q62 -> CNTT-TTDT
A63: DC3DT73 | B63: DC3DT73 | F63: 558 | G63: Thông tin di động | H63: 3 | I63: 45 | L63: 0 | M63: Viết | O63: Điện - Điện tử | P63: CÔNG NGHỆ THÔNG TIN | Q63: =MaBM -> TTDT | R63: =MaKhoa -> CNTT | S63: =+R63&"-"&Q63 -> CNTT-TTDT | AE63: x
A64: DC3DT74 | D64: CC3DT74 | F64: 559 | G64: Thông tin quang | H64: 3 | I64: 45 | L64: 0 | O64: Điện - Điện tử | P64: CÔNG NGHỆ THÔNG TIN | Q64: =MaBM -> TTDT | R64: =MaKhoa -> CNTT | S64: =+R64&"-"&Q64 -> CNTT-TTDT | AE64: x | AX64: x
A65: DC3DT71 | D65: CC3DT71 | F65: 549 | G65: Thông tin số | H65: 3 | I65: 45 | L65: 0 | M65: Viết | N65: 60 | O65: Điện - Điện tử | P65: CÔNG NGHỆ THÔNG TIN | Q65: =MaBM -> TTDT | R65: =MaKhoa -> CNTT | S65: =+R65&"-"&Q65 -> CNTT-TTDT | AE65: x | AX65: x
A66: DC3DT72 | D66: CC3DT72 | F66: 550 | G66: Thông tin vô tuyến | H66: 3 | I66: 45 | L66: 0 | M66: Viết | O66: Điện - Điện tử | P66: CÔNG NGHỆ THÔNG TIN | Q66: =MaBM -> TTDT | R66: =MaKhoa -> CNTT | S66: =+R66&"-"&Q66 -> CNTT-TTDT | AE66: x | AX66: x
A67: DC4DT21 | D67: CC4DT21 | F67: 678 | G67: Thực tập Điện tử cơ bản | H67: 3 | K67: 135 | L67: 0 | M67: TH | O67: Điện - Điện tử | P67: CÔNG NGHỆ THÔNG TIN | Q67: =MaBM -> TTDT | R67: =MaKhoa -> CNTT | S67: =+R67&"-"&Q67 -> CNTT-TTDT | AE67: x | AX67: x
A68: DC4DT23 | D68: CC4DT23 | F68: 680 | G68: Thực tập Điện tử viễn thông | H68: 3 | K68: 135 | L68: 0 | M68: TH | O68: Điện - Điện tử | P68: CÔNG NGHỆ THÔNG TIN | Q68: =MaBM -> TTDT | R68: =MaKhoa -> CNTT | S68: =+R68&"-"&Q68 -> CNTT-TTDT | AE68: x | AX68: x
A69: DC4ME51 | F69: 838 | G69: Thực tập Hệ thống cơ điện tử | H69: 5 | J69: 150 | L69: 0 | M69: TH | O69: Điện - Điện tử | P69: CÔNG NGHỆ THÔNG TIN | Q69: =MaBM -> TTDT | R69: =MaKhoa -> CNTT | S69: =+R69&"-"&Q69 -> CNTT-TTDT
A70: DC4DT22 | D70: CC4DT22 | F70: 679 | G70: Thực tập Lắp ráp điện tử | H70: 2 | K70: 90 | L70: 0 | M70: TH | O70: Điện - Điện tử | P70: CÔNG NGHỆ THÔNG TIN | Q70: =MaBM -> TTDT | R70: =MaKhoa -> CNTT | S70: =+R70&"-"&Q70 -> CNTT-TTDT | AE70: x | AX70: x
A71: DC2DT46 | B71: DC2DT46 | F71: 196 | G71: Trường điện từ | H71: 3 | I71: 45 | L71: 0 | M71: Viết | N71: 90 | O71: Điện - Điện tử | P71: CÔNG NGHỆ THÔNG TIN | Q71: =MaBM -> TTDT | R71: =MaKhoa -> CNTT | S71: =+R71&"-"&Q71 -> CNTT-TTDT | AE71: x
A72: DC2DT64 | D72: CC2DT64 | F72: 211 | G72: Xử lý tín hiệu số | H72: 3 | I72: 45 | L72: 0 | M72: VĐ | N72: 60 | O72: Điện - Điện tử | P72: CÔNG NGHỆ THÔNG TIN | Q72: =MaBM -> TTDT | R72: =MaKhoa -> CNTT | S72: =+R72&"-"&Q72 -> CNTT-TTDT | AE72: x | AX72: x
A73: DC3HT51 | F73: 533 | G73: An toàn và bảo mật hệ thống thông tin | H73: 2 | I73: 30 | L73: 0 | O73: Công nghệ mạng | P73: CÔNG NGHỆ THÔNG TIN | Q73: =MaBM -> TTMA | R73: =MaKhoa -> CNTT | S73: =+R73&"-"&Q73 -> CNTT-TTMA | AF73: x
D74: CC2TH80 | F74: 249 | G74: Các hệ phân tán | H74: 2 | I74: 30 | L74: 0 | O74: Công nghệ mạng | P74: CÔNG NGHỆ THÔNG TIN | Q74: =MaBM -> TTMA | R74: =MaKhoa -> CNTT | S74: =+R74&"-"&Q74 -> CNTT-TTMA | AY74: o
D75: CC3TH85 | F75: 626 | G75: Công nghệ Web và dịch vụ trực tuyến | H75: 2 | I75: 30 | L75: 0 | O75: Công nghệ mạng | P75: CÔNG NGHỆ THÔNG TIN | Q75: =MaBM -> TTMA | R75: =MaKhoa -> CNTT | S75: =+R75&"-"&Q75 -> CNTT-TTMA | AY75: o
D76: CC3TH42 | F76: 542 | G76: Công nghệ, thiết bị và thiết kế mạng | H76: 3 | I76: 30 | J76: 30 | L76: 0 | M76: VĐ | O76: Công nghệ mạng | P76: CÔNG NGHỆ THÔNG TIN | Q76: =MaBM -> TTMA | R76: =MaKhoa -> CNTT | S76: =+R76&"-"&Q76 -> CNTT-TTMA | AY76: x
A77: DC3TH24 | F77: 620 | G77: Cơ sở dữ liệu phân tán | H77: 2 | I77: 30 | L77: 0 | O77: Công nghệ mạng | P77: CÔNG NGHỆ THÔNG TIN | Q77: =MaBM -> TTMA | R77: =MaKhoa -> CNTT | S77: =+R77&"-"&Q77 -> CNTT-TTMA | AF77: o
A78: DC3HT48 | F78: 537 | G78: Đồ án Mạng máy tính | H78: 3 | K78: 135 | L78: 0 | M78: VĐ | O78: Công nghệ mạng | P78: CÔNG NGHỆ THÔNG TIN | Q78: =MaBM -> TTMA | R78: =MaKhoa -> CNTT | S78: =+R78&"-"&Q78 -> CNTT-TTMA | AF78: x
A79: DC3TH25 | F79: 622 | G79: Đồ họa ứng dụng | H79: 2 | I79: 30 | L79: 0 | O79: Công nghệ mạng | P79: CÔNG NGHỆ THÔNG TIN | Q79: =MaBM -> TTMA | R79: =MaKhoa -> CNTT | S79: =+R79&"-"&Q79 -> CNTT-TTMA | AF79: o
A80: DC3TH63 | F80: 619 | G80: Hệ điều hành Unix | H80: 2 | I80: 15 | J80: 30 | L80: 0 | O80: Công nghệ mạng | P80: CÔNG NGHỆ THÔNG TIN | Q80: =MaBM -> TTMA | R80: =MaKhoa -> CNTT | S80: =+R80&"-"&Q80 -> CNTT-TTMA | AF80: o
A81: DC2HT11 | F81: 170 | G81: Kiến trúc máy tính | H81: 3 | I81: 30 | J81: 30 | L81: 0 | M81: Viết | N81: 90 | O81: Công nghệ mạng | P81: CÔNG NGHỆ THÔNG TIN | Q81: =MaBM -> TTMA | R81: =MaKhoa -> CNTT | S81: =+R81&"-"&Q81 -> CNTT-TTMA | AF81: x
A82: DC2DT57 | D82: CC2DT57 | F82: 244 | G82: Kiến trúc máy tính | H82: 2 | I82: 30 | L82: 0 | M82: Viết | N82: 60 | O82: Công nghệ mạng | P82: CÔNG NGHỆ THÔNG TIN | Q82: =MaBM -> TTMA | R82: =MaKhoa -> CNTT | S82: =+R82&"-"&Q82 -> CNTT-TTMA | AE82: o | AX82: o
D83: CC3TH11 | F83: 540 | G83: Kỹ thuật đồ hoạ ứng dụng | H83: 3 | I83: 30 | J83: 30 | L83: 0 | O83: Công nghệ mạng | P83: CÔNG NGHỆ THÔNG TIN | Q83: =MaBM -> TTMA | R83: =MaKhoa -> CNTT | S83: =+R83&"-"&Q83 -> CNTT-TTMA | AY83: x
D84: CC3TH43 | F84: 543 | G84: Lập trình quản lý | H84: 2 | I84: 15 | J84: 30 | L84: 0 | O84: Công nghệ mạng | P84: CÔNG NGHỆ THÔNG TIN | Q84: =MaBM -> TTMA | R84: =MaKhoa -> CNTT | S84: =+R84&"-"&Q84 -> CNTT-TTMA | AY84: x
A85: DC2HT36 | F85: 179 | G85: Lập trình trên môi trường Web | H85: 3 | I85: 30 | J85: 30 | L85: 0 | M85: VĐ | O85: Công nghệ mạng | P85: CÔNG NGHỆ THÔNG TIN | Q85: =MaBM -> TTMA | R85: =MaKhoa -> CNTT | S85: =+R85&"-"&Q85 -> CNTT-TTMA | AF85: x
D86: CC3TH62 | F86: 624 | G86: Linux và phần mềm mã nguồn mở | H86: 2 | I86: 15 | J86: 30 | L86: 0 | O86: Công nghệ mạng | P86: CÔNG NGHỆ THÔNG TIN | Q86: =MaBM -> TTMA | R86: =MaKhoa -> CNTT | S86: =+R86&"-"&Q86 -> CNTT-TTMA | AY86: o
D87: CC2TH14 | F87: 189 | G87: Mạng cơ bản - Internet | H87: 3 | I87: 30 | J87: 30 | L87: 0 | O87: Công nghệ mạng | P87: CÔNG NGHỆ THÔNG TIN | Q87: =MaBM -> TTMA | R87: =MaKhoa -> CNTT | S87: =+R87&"-"&Q87 -> CNTT-TTMA | AY87: x
A88: DC2HT13 | F88: 175 | G88: Nhập môn mạng máy tính | H88: 3 | I88: 30 | J88: 30 | L88: 0 | M88: VĐ | O88: Công nghệ mạng | P88: CÔNG NGHỆ THÔNG TIN | Q88: =MaBM -> TTMA | R88: =MaKhoa -> CNTT | S88: =+R88&"-"&Q88 -> CNTT-TTMA | AF88: x
A89: DC3TT47 | D89: CC3TT47 | F89: 539 | G89: Quản trị mạng | H89: 3 | I89: 30 | J89: 30 | L89: 0 | M89: Viết | N89: 90 | O89: Công nghệ mạng | P89: CÔNG NGHỆ THÔNG TIN | Q89: =MaBM -> TTMA | R89: =MaKhoa -> CNTT | S89: =+R89&"-"&Q89 -> CNTT-TTMA | AF89: x | AY89: x
D90: CC3TH14 | F90: 547 | G90: SQL | H90: 3 | I90: 30 | J90: 30 | L90: 0 | O90: Công nghệ mạng | P90: CÔNG NGHỆ THÔNG TIN | Q90: =MaBM -> TTMA | R90: =MaKhoa -> CNTT | S90: =+R90&"-"&Q90 -> CNTT-TTMA | AY90: x
A91: DC3HT46 | F91: 538 | G91: Thiết kế mạng máy tính | H91: 3 | I91: 15 | J91: 60 | L91: 0 | M91: Viết | N91: 90 | O91: Công nghệ mạng | P91: CÔNG NGHỆ THÔNG TIN | Q91: =MaBM -> TTMA | R91: =MaKhoa -> CNTT | S91: =+R91&"-"&Q91 -> CNTT-TTMA | AF91: x
D92: CC3TH45 | F92: 623 | G92: Thiết kế mô hình trên AutoCAD | H92: 2 | I92: 15 | J92: 30 | L92: 0 | O92: Công nghệ mạng | P92: CÔNG NGHỆ THÔNG TIN | Q92: =MaBM -> TTMA | R92: =MaKhoa -> CNTT | S92: =+R92&"-"&Q92 -> CNTT-TTMA | AY92: o
D93: CC3TH41 | F93: 541 | G93: Thiết kế và lập trình Web | H93: 4 | I93: 45 | J93: 30 | L93: 0 | M93: VĐ | O93: Công nghệ mạng | P93: CÔNG NGHỆ THÔNG TIN | Q93: =MaBM -> TTMA | R93: =MaKhoa -> CNTT | S93: =+R93&"-"&Q93 -> CNTT-TTMA | AY93: x
A94: DC3HT12 | F94: 529 | G94: Trí tuệ nhân tạo | H94: 3 | I94: 45 | L94: 0 | M94: Viết | O94: Công nghệ mạng | P94: CÔNG NGHỆ THÔNG TIN | Q94: =MaBM -> TTMA | R94: =MaKhoa -> CNTT | S94: =+R94&"-"&Q94 -> CNTT-TTMA | AF94: x
D95: CC3TH12 | F95: 545 | G95: Trí tuệ nhân tạo | H95: 2 | I95: 30 | L95: 0 | O95: Công nghệ mạng | P95: CÔNG NGHỆ THÔNG TIN | Q95: =MaBM -> TTMA | R95: =MaKhoa -> CNTT | S95: =+R95&"-"&Q95 -> CNTT-TTMA | AY95: x
D96: CC2TH75 | F96: 246 | G96: Access | H96: 2 | I96: 30 | L96: 0 | M96: TH | O96: Hệ thống thông tin | P96: CÔNG NGHỆ THÔNG TIN | Q96: =MaBM -> TTHT | R96: =MaKhoa -> CNTT | S96: =+R96&"-"&Q96 -> CNTT-TTHT | AY96: o
A97: DC2TH33 | F97: 242 | G97: Automat và ngôn ngữ hình thức | H97: 2 | I97: 30 | L97: 0 | O97: Hệ thống thông tin | P97: CÔNG NGHỆ THÔNG TIN | Q97: =MaBM -> TTHT | R97: =MaKhoa -> CNTT | S97: =+R97&"-"&Q97 -> CNTT-TTHT | AF97: o
A98: DC2HT26 | D98: CC2HT26 | F98: 174 | G98: Cấu trúc dữ liệu và giải thuật | H98: 4 | I98: 60 | L98: 0 | M98: Viết | N98: 60 | O98: Hệ thống thông tin | P98: CÔNG NGHỆ THÔNG TIN | Q98: =MaBM -> TTHT | R98: =MaKhoa -> CNTT | S98: =+R98&"-"&Q98 -> CNTT-TTHT | AF98: x | AY98: x
D99: CC2TH11 | F99: 188 | G99: Cấu trúc máy tính + hợp ngữ | H99: 2 | I99: 30 | L99: 0 | O99: Hệ thống thông tin | P99: CÔNG NGHỆ THÔNG TIN | Q99: =MaBM -> TTHT | R99: =MaKhoa -> CNTT | S99: =+R99&"-"&Q99 -> CNTT-TTHT | AY99: x
A100: DC2HT38 | F100: 181 | G100: Công nghệ phần mềm | H100: 3 | I100: 45 | L100: 0 | M100: Viết | O100: Hệ thống thông tin | P100: CÔNG NGHỆ THÔNG TIN | Q100: =MaBM -> TTHT | R100: =MaKhoa -> CNTT | S100: =+R100&"-"&Q100 -> CNTT-TTHT | AF100: x
...

Sheet SoTD
A2: SỔ THEO DÕI NỘP BẢNG ĐIỂM CHUYÊN CẦN + QUÁ TRÌNH
A3: HỌC KỲ 2 - NĂM HỌC 2014-2015
A4: STT | B4: Tên lớp học phần | C4: Bộ môn | D4: Số SV | E4: Khoá | F4: Giảng viên | G4: Bảng điểm QT | H4: Ghi chú
A6: =_stt -> 1
A7: =_stt -> 2
A8: =_stt -> 3
A9: =_stt -> 4
A10: =_stt -> 5
A11: =_stt -> 6
A12: =_stt -> 7
A13: =_stt -> 8
A14: =_stt -> 9
A15: =_stt -> 10
A16: =_stt -> 11
A17: =_stt -> 12
... A25: =_stt -> 20
A26: 1
A27: =_stt -> 2
A28: =_stt -> 3
A29: =_stt -> 4
A30: =_stt -> 5
A31: =_stt -> 6
A32: =_stt -> 7
A33: =_stt -> 8
A34: =_stt -> 9
A35: =_stt -> 10
A36: =_stt -> 11
A37: =_stt -> 12
A38: =_stt -> 13
... A633: =_stt -> 608

Sheet Tkê LOP
C1: STT | D1: =_LocMaHP -> STT | E1: Học phần | F1: Bộ môn | G1: Số SV dự kiến | H1: Số SV đăng ký | I1: Số SV dự kiến đăng ký thi | J1: Số SV đăng ký thi | O1: Đợt | P1: 9 | Q1: 10 | R1: 8
A2: =Ma -> CC1CB94-CCK67 | B2: =MaHP -> CC1CB94 | C2: 1 | D2: CC1CB94-1-16 (01) | E2: ATLĐ và môi trường CN-1-16 (01)/67CCOT21 | F2: ATLĐ và môi trường CN | G2: 2 | H2: Bộ môn ô tô | I2: Khoa cơ khí | J2: 57 | K2: 60 | L2: K67CDCQ | M2: Trương Tất Anh | N2: =Loclop -> 67CCOT21 | P2: =_trangay -> #N/A | Q2: =_trangay -> #N/A | R2: =_trangay -> #N/A | S2: =+P2+G3 -> #N/A | T2: =IF(P2<#REF!,"??","") -> #N/A | U2: =IF(P2>#REF!+1,"??","") -> #N/A
A3: =Ma -> DC1CB94-DCK67 | B3: =MaHP -> DC1CB94 | C3: 2 | D3: DC1CB94(116)_01 | E3: ATLĐ và môi trường CN(116)_01/67DCOT21 | F3: ATLĐ và môi trường CN | G3: 2 | H3: Bộ môn ô tô | I3: Khoa cơ khí | J3: 0 | K3: 0 | L3: K67DHCQ | M3: Thiều Sỹ Nam | N3: =Loclop -> 67DCOT21 | P3: =_trangay -> #N/A | Q3: =_trangay -> #N/A | R3: =_trangay -> #N/A | S3: =+P3+G4 -> #N/A | T3: =IF(P3<#REF!,"??","") -> #N/A | U3: =IF(P3>#REF!+1,"??","") -> #N/A
A4: =Ma -> DC1CB94-DCK67 | B4: =MaHP -> DC1CB94 | C4: 3 | D4: DC1CB94(116)_02 | E4: ATLĐ và môi trường CN(116)_02/67DCOT22 | F4: ATLĐ và môi trường CN | G4: 2 | H4: Bộ môn ô tô | I4: Khoa cơ khí | J4: 0 | K4: 0 | L4: K67DHCQ | N4: =Loclop -> 67DCOT22 | P4: =_trangay -> #N/A | Q4: =_trangay -> #N/A | R4: =_trangay -> #N/A | S4: =+P4+G5 -> #N/A | T4: =IF(P4<#REF!,"??","") -> #N/A | U4: =IF(P4>#REF!+1,"??","") -> #N/A
A5: =Ma -> DC1CB94-DCK67 | B5: =MaHP -> DC1CB94 | C5: 4 | D5: DC1CB94(116)_03 | E5: ATLĐ và môi trường CN(116)_03/67DCOT23 | F5: ATLĐ và môi trường CN | G5: 2 | H5: Bộ môn ô tô | I5: Khoa cơ khí | J5: 0 | K5: 0 | L5: K67DHCQ | M5: Thiều Sỹ Nam | N5: =Loclop -> 67DCOT23 | P5: =_trangay -> #N/A | Q5: =_trangay -> #N/A | R5: =_trangay -> #N/A | S5: =+P5+G7 -> #N/A | T5: =IF(P5<#REF!,"??","") -> #N/A | U5: =IF(P5>#REF!+1,"??","") -> #N/A
A6: =Ma -> DC1CB94-DCK67 | B6: =MaHP -> DC1CB94 | C6: 5 | D6: DC1CB94(116)_04 | E6: ATLĐ và môi trường CN(116)_04/67DCOT24 | F6: ATLĐ và môi trường CN | G6: 2 | H6: Bộ môn ô tô | I6: Khoa cơ khí | J6: 0 | K6: 0 | L6: K67DHCQ | N6: =Loclop -> 67DCOT24 | P6: =_trangay -> #N/A | Q6: =_trangay -> #N/A | R6: =_trangay -> #N/A | S6: =+P6+G7 -> #N/A | T6: =IF(P6<S5,"??","") -> #N/A | U6: =IF(P6>S5+1,"??","") -> #N/A
A7: =Ma -> DC1CB94-DCK67 | B7: =MaHP -> DC1CB94 | C7: 6 | D7: DC1CB94(116)_05 | E7: ATLĐ và môi trường CN(116)_05/67DCOT25 | F7: ATLĐ và môi trường CN | G7: 2 | H7: Bộ môn ô tô | I7: Khoa cơ khí | J7: 0 | K7: 0 | L7: K67DHCQ | M7: Thiều Sỹ Nam | N7: =Loclop -> 67DCOT25 | P7: =_trangay -> #N/A | Q7: =_trangay -> #N/A | R7: =_trangay -> #N/A | S7: =+P7+G8 -> #N/A | T7: =IF(P7<S5,"??","") -> #N/A | U7: =IF(P7>S5+1,"??","") -> #N/A
A8: =Ma -> DC1CB94-DCK67 | B8: =MaHP -> DC1CB94 | C8: 7 | D8: DC1CB94(116)_06 | E8: ATLĐ và môi trường CN(116)_06/67DCCO21 | F8: ATLĐ và môi trường CN | G8: 2 | H8: Bộ môn ô tô | I8: Khoa cơ khí | J8: 0 | K8: 0 | L8: K67DHCQ | N8: =Loclop -> 67DCCO21 | P8: =_trangay -> #N/A | Q8: =_trangay -> #N/A | R8: =_trangay -> #N/A | S8: =+P8+G9 -> #N/A | T8: =IF(P8<S7,"??","") -> #N/A | U8: =IF(P8>S7+1,"??","") -> #N/A
A9: =Ma -> DC1CB94-DCK67 | B9: =MaHP -> DC1CB94 | C9: 8 | D9: DC1CB94(116)_07 | E9: ATLĐ và môi trường CN(116)_07/67DCCO22 | F9: ATLĐ và môi trường CN | G9: 2 | H9: Bộ môn ô tô | I9: Khoa cơ khí | J9: 0 | K9: 0 | L9: K67DHCQ | M9: Thiều Sỹ Nam | N9: =Loclop -> 67DCCO22 | P9: =_trangay -> #N/A | Q9: =_trangay -> #N/A | R9: =_trangay -> #N/A | T9: =IF(P9<S8,"??","") -> #N/A | U9: =IF(P9>S8+1,"??","") -> #N/A
A10: =Ma -> DC1CB94-DCK67 | B10: =MaHP -> DC1CB94 | C10: 9 | D10: DC1CB94(116)_08 | E10: ATLĐ và môi trường CN(116)_08/67DCCO23 | F10: ATLĐ và môi trường CN | G10: 2 | H10: Bộ môn ô tô | I10: Khoa cơ khí | J10: 0 | K10: 0 | L10: K67DHCQ | N10: =Loclop -> 67DCCO23 | P10: =_trangay -> #N/A | Q10: =_trangay -> #N/A
A11: =Ma -> DC1CB94-DCK67 | B11: =MaHP -> DC1CB94 | C11: 10 | D11: DC1CB94-1-16 (01) | E11: ATLĐ và môi trường CN-1-16 (01)/67DCMX21 | F11: ATLĐ và môi trường CN | G11: 2 | H11: Bộ môn ô tô | I11: Khoa cơ khí | J11: 60 | K11: 60 | L11: K67DHCQ | M11: Trương Tất Anh | N11: =Loclop -> 67DCMX21 | P11: =_trangay -> #N/A | Q11: =_trangay -> #N/A | R11: =_trangay -> #N/A | S11: =+P11+G12 -> #N/A | T11: =IF(P11<S9,"??","") -> #N/A | U11: =IF(P11>S9+1,"??","") -> #N/A
A12: =Ma -> DC1CB94-DCK67 | B12: =MaHP -> DC1CB94 | C12: 11 | D12: DC1CB94-1-16 (02) | E12: ATLĐ và môi trường CN-1-16 (02)/67DCMX22 | F12: ATLĐ và môi trường CN | G12: 2 | H12: Bộ môn ô tô | I12: Khoa cơ khí | J12: 59 | K12: 59 | L12: K67DHCQ | M12: Trương Tất Anh | N12: =Loclop -> 67DCMX22 | P12: =_trangay -> #N/A | Q12: =_trangay -> #N/A | R12: =_trangay -> #N/A | S12: =+P12+G14 -> #N/A | T12: =IF(P12<S11,"??","") -> #N/A | U12: =IF(P12>S11+1,"??","") -> #N/A
A13: =Ma -> DC1CB94-DCK67 | B13: =MaHP -> DC1CB94 | C13: 12 | D13: DC1CB94-1-16 (03) | E13: ATLĐ và môi trường CN-1-16 (03)/67DCDM21 | F13: ATLĐ và môi trường CN | G13: 2 | H13: Bộ môn ô tô | I13: Khoa cơ khí | J13: 55 | K13: 55 | L13: K67DHCQ | M13: Trương Tất Anh | N13: =Loclop -> 67DCDM21 | P13: =_trangay -> #N/A | Q13: =_trangay -> #N/A | R13: =_trangay -> #N/A | S13: =+P13+G14 -> #N/A | T13: =IF(P13<S11,"??","") -> #N/A | U13: =IF(P13>S11+1,"??","") -> #N/A
A14: =Ma -> DC1CB94-DCK67 | B14: =MaHP -> DC1CB94 | C14: 13 | D14: DC1CB94-1-16 (03) | E14: ATLĐ và môi trường CN-1-16 (03)/67DCMT21 | F14: ATLĐ và môi trường CN | G14: 2 | H14: Bộ môn ô tô | I14: Khoa cơ khí | J14: 55 | K14: 75 | L14: K67DHCQ | M14: Trương Tất Anh | N14: =Loclop -> 67DCMT21 | P14: =_trangay -> #N/A | Q14: =_trangay -> #N/A | R14: =_trangay -> #N/A | S14: =+P14+G15 -> #N/A | T14: =IF(P14<S12,"??","") -> #N/A | U14: =IF(P14>S12+1,"??","") -> #N/A
A15: =Ma -> CC2CO22-CCK67 | B15: =MaHP -> CC2CO22 | C15: 14 | D15: CC2CO22-1-16 (01) | E15: Cơ học cơ sở (CK)-1-16 (01)/67CCOT21 | F15: Cơ học cơ sở (CK) | G15: 4 | H15: CSKT1 | I15: Tổ Cơ sở kỹ thuật | J15: 57 | K15: 60 | L15: K67CDCQ | M15: Đồng Thanh Hương | N15: =Loclop -> 67CCOT21 | P15: =_trangay -> #N/A | Q15: =_trangay -> #N/A | R15: =_trangay -> #N/A | S15: =+P15+G16 -> #N/A | T15: =IF(P15<S12,"??","") -> #N/A | U15: =IF(P15>S12+1,"??","") -> #N/A
A16: =Ma -> CC2CO21-CCK67 | B16: =MaHP -> CC2CO21 | C16: 15 | D16: CC2CO21-1-16 (01) | E16: Cơ học cơ sở (CT)-1-16 (01)/67CCCD21 | F16: Cơ học cơ sở (CT) | G16: 3 | H16: CSKT1 | I16: Tổ Cơ sở kỹ thuật | J16: 63 | K16: 64 | L16: K67CDCQ | M16: Đồng Thanh Hương | N16: =Loclop -> 67CCCD21 | P16: =_trangay -> #N/A | Q16: =_trangay -> #N/A | R16: =_trangay -> #N/A | S16: =+P16+G17 -> #N/A | T16: =IF(P16<S14,"??","") -> #N/A | U16: =IF(P16>S14+1,"??","") -> #N/A
A17: =Ma -> CC2CO21-CCK67 | B17: =MaHP -> CC2CO21 | C17: 16 | D17: CC2CO21-1-16 (01) | E17: Cơ học cơ sở (CT)-1-16 (01)/67CCDD21 | F17: Cơ học cơ sở (CT) | G17: 3 | H17: CSKT1 | I17: Tổ Cơ sở kỹ thuật | J17: 0 | K17: 0 | L17: K67CDCQ | M17: Đồng Thanh Hương | N17: =Loclop -> 67CCDD21 | P17: =_trangay -> #N/A | Q17: =_trangay -> #N/A | R17: =_trangay -> #N/A
A18: =Ma -> DC2CO24-DCK67 | B18: =MaHP -> DC2CO24 | C18: 17 | D18: DC2CO24-1-16 (01) | E18: Cơ kỹ thuật-1-16 (01)/67DCVB21 | F18: Cơ kỹ thuật | G18: 3 | H18: CSKT1 | I18: Tổ Cơ sở kỹ thuật | J18: 70 | K18: 74 | L18: K67DHCQ | M18: Đồng Thanh Hương | N18: =Loclop -> 67DCVB21 | P18: =_trangay -> #N/A | Q18: =_trangay -> #N/A | R18: =_trangay -> #N/A | S18: =+P18+G20 -> #N/A | T18: =IF(P18<S17,"??","") -> #N/A | U18: =IF(P18>S17+1,"??","") -> #N/A
A19: =Ma -> DC2VB32-DCK67 | B19: =MaHP -> DC2VB32 | C19: 18 | D19: DC2VB32-1-16 (01) | E19: Địa lý vận tải-1-16 (01)/67DCVL21 | F19: Địa lý vận tải | G19: 2 | H19: Vận tải SẮT BỘ | I19: Khoa kinh tế vận tải | J19: 60 | K19: 63 | L19: K67DHCQ | M19: Hà Nguyên Khánh | N19: =Loclop -> 67DCVL21 | P19: =_trangay -> #N/A | Q19: =_trangay -> #N/A | R19: =_trangay -> #N/A | S19: =+P19+G21 -> #N/A | T19: =IF(P19<S18,"??","") -> #N/A | U19: =IF(P19>S18+1,"??","") -> #N/A
A20: =Ma -> DC2VB32-DCK67 | B20: =MaHP -> DC2VB32 | C20: 19 | D20: DC2VB32-1-16 (02) | E20: Địa lý vận tải-1-16 (02)/67DCVL22 | F20: Địa lý vận tải | G20: 2 | H20: Vận tải SẮT BỘ | I20: Khoa kinh tế vận tải | J20: 56 | K20: 60 | L20: K67DHCQ | M20: Hà Nguyên Khánh | N20: =Loclop -> 67DCVL22 | P20: =_trangay -> #N/A | Q20: =_trangay -> #N/A | R20: =_trangay -> #N/A
A21: =Ma -> DC2VB32-DCK67 | B21: =MaHP -> DC2VB32 | C21: 20 | D21: DC2VB32-1-16 (03) | E21: Địa lý vận tải-1-16 (03)/67DCVB21 | F21: Địa lý vận tải | G21: 2 | H21: Vận tải SẮT BỘ | I21: Khoa kinh tế vận tải | J21: 70 | K21: 74 | L21: K67DHCQ | M21: Hà Nguyên Khánh | N21: =Loclop -> 67DCVB21 | P21: =_trangay -> #N/A | Q21: =_trangay -> #N/A | R21: =_trangay -> #N/A
A22: =Ma -> DC2KV31-DCK67 | B22: =MaHP -> DC2KV31 | C22: 21 | D22: DC2KV31-1-16 (01) | E22: Hàng hóa vận tải-1-16 (01)/67DCVL21 | F22: Hàng hóa vận tải | G22: 2 | H22: Vận tải SẮT BỘ | I22: Khoa kinh tế vận tải | J22: 60 | K22: 63 | L22: K67DHCQ | M22: Nguyễn Thị Trang | N22: =Loclop -> 67DCVL21 | P22: =_trangay -> #N/A | Q22: =_trangay -> #N/A | R22: =_trangay -> #N/A | S22: =+P22+G23 -> #N/A | T22: =IF(P22<S21,"??","") -> #N/A | U22: =IF(P22>S21+1,"??","") -> #N/A
A23: =Ma -> DC2KV31-DCK67 | B23: =MaHP -> DC2KV31 | C23: 22 | D23: DC2KV31-1-16 (02) | E23: Hàng hóa vận tải-1-16 (02)/67DCVL22 | F23: Hàng hóa vận tải | G23: 2 | H23: Vận tải SẮT BỘ | I23: Khoa kinh tế vận tải | J23: 56 | K23: 60 | L23: K67DHCQ | M23: Nguyễn Thị Trang | N23: =Loclop -> 67DCVL22 | P23: =_trangay -> #N/A | Q23: =_trangay -> #N/A | R23: =_trangay -> #N/A | T23: =IF(P23<S22,"??","") -> #N/A | U23: =IF(P23>S22+1,"??","") -> #N/A
A24: =Ma -> DC2KV31-DCK67 | B24: =MaHP -> DC2KV31 | C24: 23 | D24: DC2KV31-1-16 (03) | E24: Hàng hóa vận tải-1-16 (03)/67DCVB21 | F24: Hàng hóa vận tải | G24: 2 | H24: Vận tải SẮT BỘ | I24: Khoa kinh tế vận tải | J24: 70 | K24: 74 | L24: K67DHCQ | M24: Nguyễn Thị Trang | N24: =Loclop -> 67DCVB21 | P24: =_trangay -> #N/A | Q24: =_trangay -> #N/A
A25: =Ma -> CC2CO11-CCK67 | B25: =MaHP -> CC2CO11 | C25: 24 | D25: CC2CO11-1-16 (01) | E25: Hình hoạ - Vẽ kỹ thuật (CT)-1-16 (01)/67CCCD21 | F25: Hình hoạ - Vẽ kỹ thuật (CT) | G25: 4 | H25: CSKT1 | I25: Tổ Cơ sở kỹ thuật | J25: 47 | K25: 47 | L25: K67CDCQ | M25: Nguyễn Hồng Thái | N25: =Loclop -> 67CCCD21 | P25: =_trangay -> #N/A | Q25: =_trangay -> #N/A | R25: =_trangay -> #N/A | S25: =+P25+G26 -> #N/A | T25: =IF(P25<S24,"??","") -> #N/A | U25: =IF(P25>S24+1,"??","") -> #N/A
A26: =Ma -> CC2DD11-CCK67 | B26: =MaHP -> CC2DD11 | C26: 25 | D26: CC2DD11-1-16 (01) | E26: Hình họa - Vẽ kỹ thuật-1-16 (01)/67CCDD21 | F26: Hình họa - Vẽ kỹ thuật | G26: 4 | H26: Dân dụng | I26: Khoa công trình | J26: 16 | K26: 17 | L26: K67CDCQ | M26: Nguyễn Hồng Thái | N26: =Loclop -> 67CCDD21 | P26: =_trangay -> #N/A | Q26: =_trangay -> #N/A | R26: =_trangay -> #N/A | S26: =+P26+G27 -> #N/A | T26: =IF(P26<S25,"??","") -> #N/A | U26: =IF(P26>S25+1,"??","") -> #N/A
A27: =Ma -> DC2CO11-DCK67 | B27: =MaHP -> DC2CO11 | C27: 26 | D27: DC2CO11-1-16 (05) | E27: Hình hoạ - Vẽ kỹ thuật-1-16 (05)/67DCCD21 | F27: Hình hoạ - Vẽ kỹ thuật | G27: 4 | H27: CSKT1 | I27: Tổ Cơ sở kỹ thuật | J27: 67 | K27: 66 | L27: K67DHCQ | M27: Nguyễn Hồng Thái | N27: =Loclop -> 67DCCD21 | P27: =_trangay -> #N/A | Q27: =_trangay -> #N/A | R27: =_trangay -> #N/A | S27: =+P27+G28 -> #N/A | T27: =IF(P27<S26,"??","") -> #N/A | U27: =IF(P27>S26+1,"??","") -> #N/A
A28: =Ma -> DC2CO11-DCK67 | B28: =MaHP -> DC2CO11 | C28: 27 | D28: DC2CO11-1-16 (06) | E28: Hình hoạ - Vẽ kỹ thuật-1-16 (06)/67DCCD22 | F28: Hình hoạ - Vẽ kỹ thuật | G28: 4 | H28: CSKT1 | I28: Tổ Cơ sở kỹ thuật | J28: 49 | K28: 63 | L28: K67DHCQ | M28: Bùi Thị Phương Hoa | N28: =Loclop -> 67DCCD22 | P28: =_trangay -> #N/A | Q28: =_trangay -> #N/A | R28: =_trangay -> #N/A | S28: =+P28+G29 -> #N/A | T28: =IF(P28<S27,"??","") -> #N/A | U28: =IF(P28>S27+1,"??","") -> #N/A
A29: =Ma -> DC2CO11-DCK67 | B29: =MaHP -> DC2CO11 | C29: 28 | D29: DC2CO11-1-16 (07) | E29: Hình hoạ - Vẽ kỹ thuật-1-16 (07)/67DCCDA1 | F29: Hình hoạ - Vẽ kỹ thuật | G29: 4 | H29: CSKT1 | I29: Tổ Cơ sở kỹ thuật | J29: 60 | K29: 0 | L29: K67DHCQ | M29: Vũ Anh Tuấn | N29: =Loclop -> 67DCCDA1 | P29: =_trangay -> #N/A | Q29: =_trangay -> #N/A | R29: =_trangay -> #N/A | S29: =+P29+G30 -> #N/A | T29: =IF(P29<S28,"??","") -> #N/A | U29: =IF(P29>S28+1,"??","") -> #N/A
A30: =Ma -> CC1CB26-CCK67 | B30: =MaHP -> CC1CB26 | C30: 29 | D30: CC1CB26-1-16 (01) | E30: Hoá học đại cương-1-16 (01)/67CCOT21 | F30: Hoá học đại cương | G30: 3 | H30: Lý Hóa | I30: Khoa Khoa học cơ bản | J30: 57 | K30: 61 | L30: K67CDCQ | M30: Lê Minh Đức | N30: =Loclop -> 67CCOT21 | P30: =_trangay -> #N/A | Q30: =_trangay -> #N/A | R30: =_trangay -> #N/A | T30: =IF(P30<S29,"??","") -> #N/A | U30: =IF(P30>S29+1,"??","") -> #N/A
A31: =Ma -> CC1CB26-CCK67 | B31: =MaHP -> CC1CB26 | C31: 30 | D31: CC1CB26-1-16 (02) | E31: Hoá học đại cương-1-16 (02)/67CCCD21 | F31: Hoá học đại cương | G31: 3 | H31: Lý Hóa | I31: Khoa Khoa học cơ bản | J31: 63 | K31: 64 | L31: K67CDCQ | M31: Phạm Hồng Chuyên | N31: =Loclop -> 67CCCD21 | P31: =_trangay -> #N/A | Q31: =_trangay -> #N/A
A32: =Ma -> CC1CB26-CCK67 | B32: =MaHP -> CC1CB26 | C32: 31 | D32: CC1CB26-1-16 (02) | E32: Hoá học đại cương-1-16 (02)/67CCDD21 | F32: Hoá học đại cương | G32: 3 | H32: Lý Hóa | I32: Khoa Khoa học cơ bản | J32: 0 | K32: 0 | L32: K67CDCQ | M32: Phạm Hồng Chuyên | N32: =Loclop -> 67CCDD21 | P32: =_trangay -> #N/A | Q32: =_trangay -> #N/A | R32: =_trangay -> #N/A | T32: =IF(P32<S31,"??","") -> #N/A | U32: =IF(P32>S31+1,"??","") -> #N/A
A33: =Ma -> DC1CB26-DCK67 | B33: =MaHP -> DC1CB26 | C33: 32 | D33: DC1CB26-1-16 (02) | E33: Hoá học đại cương-1-16 (02)/67DCCA21 | F33: Hoá học đại cương | G33: 3 | H33: Lý Hóa | I33: Khoa Khoa học cơ bản | J33: 83 | K33: 91 | L33: K67DHCQ | M33: Phạm Hồng Chuyên | N33: =Loclop -> 67DCCA21 | Q33: =_trangay -> #N/A | R33: =_trangay -> #N/A | S33: =+P33+G35 -> 3 | T33: =IF(P33<S31,"??","") | U33: =IF(P33>S31+1,"??","")
A34: =Ma -> DC1CB26-DCK67 | B34: =MaHP -> DC1CB26 | C34: 33 | D34: DC1CB26-1-16 (04) | E34: Hoá học đại cương-1-16 (04)/67DCDB21 | F34: Hoá học đại cương | G34: 3 | H34: Lý Hóa | I34: Khoa Khoa học cơ bản | J34: 48 | K34: 55 | L34: K67DHCQ | M34: Phạm Hồng Chuyên | N34: =Loclop -> 67DCDB21 | P34: 42747 | Q34: (Thứ 5) | R34: =_trangay -> #N/A | S34: =+P34+G36 -> 42750 | T34: =IF(P34<S32,"??","") | U34: =IF(P34>S32+1,"??","") -> ??
A35: =Ma -> DC1CB26-DCK67 | B35: =MaHP -> DC1CB26 | C35: 34 | D35: DC1CB26-1-16 (05) | E35: Hoá học đại cương-1-16 (05)/67DCDB22 | F35: Hoá học đại cương | G35: 3 | H35: Lý Hóa | I35: Khoa Khoa học cơ bản | J35: 52 | K35: 54 | L35: K67DHCQ | M35: Lưu Thị Thu Hà | N35: =Loclop -> 67DCDB22 | P35: 42747 | Q35: (Thứ 5) | R35: =_trangay -> #N/A | S35: =+P35+G37 -> 42750 | T35: =IF(P35<S34,"??","") -> ?? | U35: =IF(P35>S34+1,"??","")
A36: =Ma -> DC1CB26-DCK67 | B36: =MaHP -> DC1CB26 | C36: 35 | D36: DC1CB26-1-16 (06) | E36: Hoá học đại cương-1-16 (06)/67DCDB23 | F36: Hoá học đại cương | G36: 3 | H36: Lý Hóa | I36: Khoa Khoa học cơ bản | J36: 49 | K36: 60 | L36: K67DHCQ | M36: Lê Minh Đức | N36: =Loclop -> 67DCDB23 | P36: 42747 | Q36: (Thứ 5) | R36: =_trangay -> #N/A | S36: =+P36+G37 -> 42750 | T36: =IF(P36<S35,"??","") -> ?? | U36: =IF(P36>S35+1,"??","")
A37: =Ma -> DC1CB26-DCK67 | B37: =MaHP -> DC1CB26 | C37: 36 | D37: DC1CB26-1-16 (07) | E37: Hoá học đại cương-1-16 (07)/67DCCC21 | F37: Hoá học đại cương | G37: 3 | H37: Lý Hóa | I37: Khoa Khoa học cơ bản | J37: 0 | K37: 0 | L37: K67DHCQ | M37: Lê Minh Đức | N37: =Loclop -> 67DCCC21 | Q37: =_trangay -> #N/A | R37: =_trangay -> #N/A | T37: =IF(P37<S36,"??","") -> ?? | U37: =IF(P37>S36+1,"??","")
A38: =Ma -> DC1CB26-DCK67 | B38: =MaHP -> DC1CB26 | C38: 37 | D38: DC1CB26-1-16 (07) | E38: Hoá học đại cương-1-16 (07)/67DCCS21 | F38: Hoá học đại cương | G38: 3 | H38: Lý Hóa | I38: Khoa Khoa học cơ bản | J38: 50 | K38: 56 | L38: K67DHCQ | M38: Lê Minh Đức | N38: =Loclop -> 67DCCS21 | P38: 0
A39: =Ma -> DC1CB26-DCK67 | B39: =MaHP -> DC1CB26 | C39: 38 | D39: DC1CB26-1-16 (08) | E39: Hoá học đại cương-1-16 (08)/67DCDD21 | F39: Hoá học đại cương | G39: 3 | H39: Lý Hóa | I39: Khoa Khoa học cơ bản | J39: 52 | K39: 64 | L39: K67DHCQ | M39: Lê Minh Đức | N39: =Loclop -> 67DCDD21 | P39: 42747 | Q39: Thứ 5 | R39: =_trangay -> #N/A | S39: =+P39+G40 -> 42750 | T39: =IF(P39<S38,"??","") | U39: =IF(P39>S38+1,"??","") -> ??
A40: =Ma -> DC1CB26-DCK67 | B40: =MaHP -> DC1CB26 | C40: 39 | D40: DC1CB26-1-16 (09) | E40: Hoá học đại cương-1-16 (09)/67DCDD22 | F40: Hoá học đại cương | G40: 3 | H40: Lý Hóa | I40: Khoa Khoa học cơ bản | J40: 47 | K40: 62 | L40: K67DHCQ | M40: Lưu Thị Thu Hà | N40: =Loclop -> 67DCDD22 | P40: 42747 | Q40: Thứ 5 | R40: =_trangay -> #N/A | S40: =+P40+#REF! -> #REF! | T40: =IF(P40<S39,"??","") -> ?? | U40: =IF(P40>S39+1,"??","")
A41: =Ma -> DC1CB26-DCK67 | B41: =MaHP -> DC1CB26 | C41: 40 | D41: DC1CB26-1-16 (10) | E41: Hoá học đại cương-1-16 (10)/67DCMO21 | F41: Hoá học đại cương | G41: 3 | H41: Lý Hóa | I41: Khoa Khoa học cơ bản | J41: 36 | K41: 44 | L41: K67DHCQ | M41: Phạm Hồng Chuyên | N41: =Loclop -> 67DCMO21 | Q41: =_trangay -> #N/A | R41: =_trangay -> #N/A | S41: =+P41+#REF! -> #REF! | T41: =IF(P41<#REF!,"??","") -> #REF! | U41: =IF(P41>#REF!+1,"??","") -> #REF!
A42: =Ma -> DC1CB26-DCK67 | B42: =MaHP -> DC1CB26 | C42: 41 | D42: DC1CB26-1-16 (11) | E42: Hoá học đại cương-1-16 (11)/67DCMX21 | F42: Hoá học đại cương | G42: 3 | H42: Lý Hóa | I42: Khoa Khoa học cơ bản | J42: 60 | K42: 60 | L42: K67DHCQ | M42: Phạm Hồng Chuyên | N42: =Loclop -> 67DCMX21 | P42: =_trangay -> #N/A | Q42: =_trangay -> #N/A | R42: =_trangay -> #N/A | S42: =+P42+G44 -> #N/A | T42: =IF(P42<S41,"??","") -> #N/A | U42: =IF(P42>S41+1,"??","") -> #N/A
A43: =Ma -> DC1CB26-DCK67 | B43: =MaHP -> DC1CB26 | C43: 42 | D43: DC1CB26-1-16 (12) | E43: Hoá học đại cương-1-16 (12)/67DCMX22 | F43: Hoá học đại cương | G43: 3 | H43: Lý Hóa | I43: Khoa Khoa học cơ bản | J43: 59 | K43: 59 | L43: K67DHCQ | M43: Lưu Thị Thu Hà | N43: =Loclop -> 67DCMX22 | P43: =_trangay -> #N/A | Q43: =_trangay -> #N/A | R43: =_trangay -> #N/A | S43: =+P43+G45 -> #N/A | T43: =IF(P43<S42,"??","") -> #N/A | U43: =IF(P43>S42+1,"??","") -> #N/A
A44: =Ma -> DC1CB26-DCK67 | B44: =MaHP -> DC1CB26 | C44: 43 | D44: DC1CB26-1-16 (13) | E44: Hoá học đại cương-1-16 (13)/67DCDM21 | F44: Hoá học đại cương | G44: 3 | H44: Lý Hóa | I44: Khoa Khoa học cơ bản | J44: 55 | K44: 55 | L44: K67DHCQ | M44: Lê Minh Đức | N44: =Loclop -> 67DCDM21 | P44: =_trangay -> #N/A | Q44: =_trangay -> #N/A | R44: =_trangay -> #N/A | T44: =IF(P44<S42,"??","") -> #N/A | U44: =IF(P44>S42+1,"??","") -> #N/A
A45: =Ma -> DC1CB26-DCK67 | B45: =MaHP -> DC1CB26 | C45: 44 | D45: DC1CB26-1-16 (13) | E45: Hoá học đại cương-1-16 (13)/67DCMT21 | F45: Hoá học đại cương | G45: 3 | H45: Lý Hóa | I45: Khoa Khoa học cơ bản | J45: 55 | K45: 75 | L45: K67DHCQ | M45: Lê Minh Đức | N45: =Loclop -> 67DCMT21 | P45: =_trangay -> #N/A | Q45: =_trangay -> #N/A
A46: =Ma -> CC2KV61-CCK67 | B46: =MaHP -> CC2KV61 | C46: 45 | D46: CC2KV61-1-16 (01) | E46: Kinh tế vi mô-1-16 (01)/67CCKT21 | F46: Kinh tế vi mô | G46: 3 | H46: Cơ sở (KV) | I46: Khoa kinh tế vận tải | J46: 34 | K46: 34 | L46: K67CDCQ | M46: Đỗ Thị Hồng Vân | N46: =Loclop -> 67CCKT21 | P46: =_trangay -> #N/A | Q46: =_trangay -> #N/A | R46: =_trangay -> #N/A | S46: =+P46+G47 -> #N/A | T46: =IF(P46<S45,"??","") -> #N/A | U46: =IF(P46>S45+1,"??","") -> #N/A
A47: =Ma -> DC2KV61-DCK67 | B47: =MaHP -> DC2KV61 | C47: 46 | D47: DC2KV61-1-16 (01) | E47: Kinh tế vi mô-1-16 (01)/67DCQT21 | F47: Kinh tế vi mô | G47: 3 | H47: Cơ sở (KV) | I47: Khoa kinh tế vận tải | J47: 64 | K47: 67 | L47: K67DHCQ | M47: Kiều Mạnh | N47: =Loclop -> 67DCQT21 | P47: =_trangay -> #N/A | Q47: =_trangay -> #N/A | R47: =_trangay -> #N/A | S47: =+P47+G48 -> #N/A | T47: =IF(P47<S46,"??","") -> #N/A | U47: =IF(P47>S46+1,"??","") -> #N/A
A48: =Ma -> DC2KV61-DCK67 | B48: =MaHP -> DC2KV61 | C48: 47 | D48: DC2KV61-1-16 (02) | E48: Kinh tế vi mô-1-16 (02)/67DCQT22 | F48: Kinh tế vi mô | G48: 3 | H48: Cơ sở (KV) | I48: Khoa kinh tế vận tải | J48: 65 | K48: 67 | L48: K67DHCQ | M48: Kiều Mạnh | N48: =Loclop -> 67DCQT22 | P48: =_trangay -> #N/A | Q48: =_trangay -> #N/A | R48: =_trangay -> #N/A | S48: =+P48+G49 -> #N/A | T48: =IF(P48<S47,"??","") -> #N/A | U48: =IF(P48>S47+1,"??","") -> #N/A
A49: =Ma -> DC2KV61-DCK67 | B49: =MaHP -> DC2KV61 | C49: 48 | D49: DC2KV61-1-16 (03) | E49: Kinh tế vi mô-1-16 (03)/67DCTN21 | F49: Kinh tế vi mô | G49: 3 | H49: Cơ sở (KV) | I49: Khoa kinh tế vận tải | J49: 68 | K49: 72 | L49: K67DHCQ | M49: Đỗ Thị Hồng Vân | N49: =Loclop -> 67DCTN21 | P49: =_trangay -> #N/A | Q49: =_trangay -> #N/A | R49: =_trangay -> #N/A | S49: =+P49+G50 -> #N/A | T49: =IF(P49<S48,"??","") -> #N/A | U49: =IF(P49>S48+1,"??","") -> #N/A
A50: =Ma -> DC1TT31-DCK67 | B50: =MaHP -> DC1TT31 | C50: 49 | D50: DC1TT31(116)_01 | E50: Kỹ thuật xây dựng và trình bày báo cáo(116)_01/67DCHT21 | F50: Kỹ thuật xây dựng và trình bày báo cáo | G50: 2 | H50: Cơ sở (TT) | I50: Khoa công nghệ thông tin | J50: 0 | K50: 0 | L50: K67DHCQ | M50: Bùi Thị Nhung | N50: =Loclop -> 67DCHT21 | P50: =_trangay -> #N/A | Q50: =_trangay -> #N/A | R50: =_trangay -> #N/A | S50: =+P50+G51 -> #N/A | T50: =IF(P50<S49,"??","") -> #N/A | U50: =IF(P50>S49+1,"??","") -> #N/A
A51: =Ma -> DC1TT31-DCK67 | B51: =MaHP -> DC1TT31 | C51: 50 | D51: DC1TT31(116)_02 | E51: Kỹ thuật xây dựng và trình bày báo cáo(116)_02/67DCHT22 | F51: Kỹ thuật xây dựng và trình bày báo cáo | G51: 2 | H51: Cơ sở (TT) | I51: Khoa công nghệ thông tin | J51: 0 | K51: 0 | L51: K67DHCQ | M51: Lê Thị Hà | N51: =Loclop -> 67DCHT22 | P51: =_trangay -> #N/A | Q51: =_trangay -> #N/A | R51: =_trangay -> #N/A | S51: =+P51+G52 -> #N/A | T51: =IF(P51<S50,"??","") -> #N/A | U51: =IF(P51>S50+1,"??","") -> #N/A
A52: =Ma -> DC1TT31-DCK67 | B52: =MaHP -> DC1TT31 | C52: 51 | D52: DC1TT31(116)_03 | E52: Kỹ thuật xây dựng và trình bày báo cáo(116)_03/67DCHT23 | F52: Kỹ thuật xây dựng và trình bày báo cáo | G52: 2 | H52: Cơ sở (TT) | I52: Khoa công nghệ thông tin | J52: 0 | K52: 0 | L52: K67DHCQ | M52: Bùi Thị Nhung | N52: =Loclop -> 67DCHT23 | P52: =_trangay -> #N/A | Q52: =_trangay -> #N/A | R52: =_trangay -> #N/A | S52: =+P52+#REF! -> #N/A | T52: =IF(P52<S51,"??","") -> #N/A | U52: =IF(P52>S51+1,"??","") -> #N/A
A53: =Ma -> DC1TT31-DCK67 | B53: =MaHP -> DC1TT31 | C53: 52 | D53: DC1TT31(116)_05 | E53: Kỹ thuật xây dựng và trình bày báo cáo(116)_05/67DCHTA1 | F53: Kỹ thuật xây dựng và trình bày báo cáo | G53: 2 | H53: Cơ sở (TT) | I53: Khoa công nghệ thông tin | J53: 0 | K53: 0 | L53: K67DHCQ | M53: Bùi Thị Nhung | N53: =Loclop -> 67DCHTA1 | P53: =_trangay -> #N/A | Q53: =_trangay -> #N/A | R53: =_trangay -> #N/A | S53: =+P53+#REF! -> #N/A | T53: =IF(P53<S52,"??","") -> #N/A | U53: =IF(P53>S52+1,"??","") -> #N/A
A54: =Ma -> DC1CB98-DCK67 | B54: =MaHP -> DC1CB98 | C54: 53 | D54: DC1CB98(116)_01 | E54: Làm việc nhóm và kỹ năng giao tiếp(116)_01/67DCTM21 | F54: Làm việc nhóm và kỹ năng giao tiếp | G54: 2 | H54: Cơ sở (TT) | I54: Khoa công nghệ thông tin | J54: 0 | K54: 0 | L54: K67DHCQ | M54: Nguyễn Hữu Tuân | N54: =Loclop -> 67DCTM21 | P54: =_trangay -> #N/A | Q54: =_trangay -> #N/A | R54: =_trangay -> #N/A | S54: =+P54+#REF! -> #N/A | T54: =IF(P54<S53,"??","") -> #N/A | U54: =IF(P54>S53+1,"??","") -> #N/A
A55: =Ma -> DC1CB98-DCK67 | B55: =MaHP -> DC1CB98 | C55: 54 | D55: DC1CB98(116)_02 | E55: Làm việc nhóm và kỹ năng giao tiếp(116)_02/67DCTM22 | F55: Làm việc nhóm và kỹ năng giao tiếp | G55: 2 | H55: Cơ sở (TT) | I55: Khoa công nghệ thông tin | J55: 0 | K55: 0 | L55: K67DHCQ | M55: Nguyễn Hữu Tuân | N55: =Loclop -> 67DCTM22 | P55: =_trangay -> #N/A | Q55: =_trangay -> #N/A | R55: =_trangay -> #N/A | T55: =IF(P55<S53,"??","") -> #N/A | U55: =IF(P55>S53+1,"??","") -> #N/A
A56: =Ma -> DC1MO21-DCK67 | B56: =MaHP -> DC1MO21 | C56: 55 | D56: DC1MO21-1-16 (01) | E56: Luật và chính sách môi trường-1-16 (01)/67DCMO21 | F56: Luật và chính sách môi trường | G56: 2 | H56: Môi trường | I56: Khoa công trình | J56: 36 | K56: 44 | L56: K67DHCQ | M56: Lê Xuân Thái | N56: =Loclop -> 67DCMO21 | P56: =_trangay -> #N/A | Q56: =_trangay -> #N/A
A57: =Ma -> DC1CB90-DCK67 | B57: =MaHP -> DC1CB90 | C57: 56 | D57: DC1CB90(116)_02 | E57: Môi trường trong GTVT(116)_02/67DCKX21 | F57: Môi trường trong GTVT | G57: 2 | H57: Vận tải SẮT BỘ | I57: Khoa kinh tế vận tải | J57: 0 | K57: 0 | L57: K67DHCQ | M57: Trịnh Xuân Trường | N57: =Loclop -> 67DCKX21 | P57: =_trangay -> #N/A | Q57: =_trangay -> #N/A | R57: =_trangay -> #N/A | S57: =+P57+G59 -> #N/A | T57: =IF(P57<S56,"??","") -> #N/A | U57: =IF(P57>S56+1,"??","") -> #N/A
A58: =Ma -> DC1CB90-DCK67 | B58: =MaHP -> DC1CB90 | C58: 57 | D58: DC1CB90(116)_03 | E58: Môi trường trong GTVT(116)_03/67DCKX22 | F58: Môi trường trong GTVT | G58: 2 | H58: Vận tải SẮT BỘ | I58: Khoa kinh tế vận tải | J58: 0 | K58: 0 | L58: K67DHCQ | M58: Trịnh Xuân Trường | N58: =Loclop -> 67DCKX22 | P58: =_trangay -> #N/A | Q58: =_trangay -> #N/A | R58: =_trangay -> #N/A | S58: =+P58+G59 -> #N/A | T58: =IF(P58<S57,"??","") -> #N/A | U58: =IF(P58>S57+1,"??","") -> #N/A
A59: =Ma -> DC1CB90-DCK67 | B59: =MaHP -> DC1CB90 | C59: 58 | D59: DC1CB90-1-16 (01) | E59: Môi trường trong GTVT-1-16 (01)/67DCVL21 | F59: Môi trường trong GTVT | G59: 2 | H59: Vận tải SẮT BỘ | I59: Khoa kinh tế vận tải | J59: 60 | K59: 63 | L59: K67DHCQ | M59: Nguyễn Thị Bích Thủy | N59: =Loclop -> 67DCVL21 | P59: =_trangay -> #N/A | Q59: =_trangay -> #N/A | R59: =_trangay -> #N/A | S59: =+P59+G60 -> #N/A | T59: =IF(P59<S57,"??","") -> #N/A | U59: =IF(P59>S57+1,"??","") -> #N/A
A60: =Ma -> DC1CB90-DCK67 | B60: =MaHP -> DC1CB90 | C60: 59 | D60: DC1CB90-1-16 (02) | E60: Môi trường trong GTVT-1-16 (02)/67DCVL22 | F60: Môi trường trong GTVT | G60: 2 | H60: Vận tải SẮT BỘ | I60: Khoa kinh tế vận tải | J60: 56 | K60: 60 | L60: K67DHCQ | M60: Nguyễn Thị Dung | N60: =Loclop -> 67DCVL22 | P60: =_trangay -> #N/A | Q60: =_trangay -> #N/A | R60: =_trangay -> #N/A | S60: =+P60+G61 -> #N/A | T60: =IF(P60<#REF!,"??","") -> #N/A | U60: =IF(P60>#REF!+1,"??","") -> #N/A
A61: =Ma -> DC1CB90-DCK67 | B61: =MaHP -> DC1CB90 | C61: 60 | D61: DC1CB90-1-16 (03) | E61: Môi trường trong GTVT-1-16 (03)/67DCVB21 | F61: Môi trường trong GTVT | G61: 2 | H61: Vận tải SẮT BỘ | I61: Khoa kinh tế vận tải | J61: 70 | K61: 74 | L61: K67DHCQ | M61: Nguyễn Thị Dung | N61: =Loclop -> 67DCVB21 | P61: =_trangay -> #N/A | Q61: =_trangay -> #N/A | R61: =_trangay -> #N/A | T61: =IF(P61<S60,"??","") -> #N/A | U61: =IF(P61>S60+1,"??","") -> #N/A
A62: =Ma -> CC2KV68-CCK67 | B62: =MaHP -> CC2KV68 | C62: 61 | D62: CC2KV68-1-16 (01) | E62: Nguyên lý kế toán-1-16 (01)/67CCKT21 | F62: Nguyên lý kế toán | G62: 3 | H62: Kế toán - kiểm toán | I62: Khoa kinh tế vận tải | J62: 34 | K62: 34 | L62: K67CDCQ | M62: Đặng Thu Hằng | N62: =Loclop -> 67CCKT21 | P62: =_trangay -> #N/A | Q62: =_trangay -> #N/A
A63: =Ma -> DC2KV68-DCK67 | B63: =MaHP -> DC2KV68 | C63: 62 | D63: DC2KV68(116)_01 | E63: Nguyên lý kế toán(116)_01/67DCKT21 | F63: Nguyên lý kế toán | G63: 3 | H63: Kế toán - kiểm toán | I63: Khoa kinh tế vận tải | J63: 0 | K63: 0 | L63: K67DHCQ | M63: Nguyễn Thị Thu Thủy | N63: =Loclop -> 67DCKT21 | P63: =_trangay -> #N/A | Q63: =_trangay -> #N/A | R63: =_trangay -> #N/A | S63: =+P63+G64 -> #N/A | T63: =IF(P63<S62,"??","") -> #N/A | U63: =IF(P63>S62+1,"??","") -> #N/A
A64: =Ma -> DC2KV68-DCK67 | B64: =MaHP -> DC2KV68 | C64: 63 | D64: DC2KV68(116)_02 | E64: Nguyên lý kế toán(116)_02/67DCKT22 | F64: Nguyên lý kế toán | G64: 3 | H64: Kế toán - kiểm toán | I64: Khoa kinh tế vận tải | J64: 0 | K64: 0 | L64: K67DHCQ | M64: Nguyễn Thu Hằng | N64: =Loclop -> 67DCKT22 | P64: =_trangay -> #N/A | Q64: =_trangay -> #N/A | R64: =_trangay -> #N/A | S64: =+P64+G66 -> #N/A | T64: =IF(P64<S62,"??","") -> #N/A | U64: =IF(P64>S62+1,"??","") -> #N/A
A65: =Ma -> DC2KV68-DCK67 | B65: =MaHP -> DC2KV68 | C65: 64 | D65: DC2KV68(116)_03 | E65: Nguyên lý kế toán(116)_03/67DCKT23 | F65: Nguyên lý kế toán | G65: 3 | H65: Kế toán - kiểm toán | I65: Khoa kinh tế vận tải | J65: 0 | K65: 0 | L65: K67DHCQ | M65: Đinh Thị Minh Phượng | N65: =Loclop -> 67DCKT23 | P65: =_trangay -> #N/A | Q65: =_trangay -> #N/A
A66: =Ma -> DC2KV68-DCK67 | B66: =MaHP -> DC2KV68 | C66: 65 | D66: DC2KV68(116)_04 | E66: Nguyên lý kế toán(116)_04/67DCKT24 | F66: Nguyên lý kế toán | G66: 3 | H66: Kế toán - kiểm toán | I66: Khoa kinh tế vận tải | J66: 0 | K66: 0 | L66: K67DHCQ | M66: Nguyễn Tiến Dũng | N66: =Loclop -> 67DCKT24 | P66: =_trangay -> #N/A | Q66: =_trangay -> #N/A | R66: =_trangay -> #N/A | T66: =IF(P66<S65,"??","") -> #N/A | U66: =IF(P66>S65+1,"??","") -> #N/A
A67: =Ma -> DC2KV68-DCK67 | B67: =MaHP -> DC2KV68 | C67: 66 | D67: DC2KV68-1-16 (08) | E67: Nguyên lý kế toán-1-16 (08)/67DCTN21 | F67: Nguyên lý kế toán | G67: 3 | H67: Kế toán - kiểm toán | I67: Khoa kinh tế vận tải | J67: 68 | K67: 72 | L67: K67DHCQ | M67: Đặng Thu Hằng | N67: =Loclop -> 67DCTN21 | P67: =_trangay -> #N/A | Q67: =_trangay -> #N/A | R67: =_trangay -> #N/A | S67: =+P67+G68 -> #N/A | T67: =IF(P67<S66,"??","") -> #N/A | U67: =IF(P67>S66+1,"??","") -> #N/A
A68: =Ma -> CC2KV71-CCK67 | B68: =MaHP -> CC2KV71 | C68: 67 | D68: CC2KV71-1-16 (01) | E68: Nguyên lý thống kê kinh tế-1-16 (01)/67CCKT21 | F68: Nguyên lý thống kê kinh tế | G68: 3 | H68: Cơ sở (KV) | I68: Khoa kinh tế vận tải | J68: 34 | K68: 34 | L68: K67CDCQ | M68: Lâm Phạm Thị Hải Hà | N68: =Loclop -> 67CCKT21 | P68: =_trangay -> #N/A | Q68: =_trangay -> #N/A | R68: =_trangay -> #N/A | T68: =IF(P68<S67,"??","") -> #N/A | U68: =IF(P68>S67+1,"??","") -> #N/A
A69: =Ma -> DC2KV71-DCK67 | B69: =MaHP -> DC2KV71 | C69: 68 | D69: DC2KV71-1-16 (01) | E69: Nguyên lý thống kê kinh tế-1-16 (01)/67DCQT21 | F69: Nguyên lý thống kê kinh tế | G69: 3 | H69: Cơ sở (KV) | I69: Khoa kinh tế vận tải | J69: 64 | K69: 67 | L69: K67DHCQ | M69: Kiều Mạnh | N69: =Loclop -> 67DCQT21 | P69: =_trangay -> #N/A | Q69: =_trangay -> #N/A | R69: =_trangay -> #N/A | S69: =+P69+G70 -> #N/A | T69: =IF(P69<S68,"??","") -> #N/A | U69: =IF(P69>S68+1,"??","") -> #N/A
A70: =Ma -> DC2KV71-DCK67 | B70: =MaHP -> DC2KV71 | C70: 69 | D70: DC2KV71-1-16 (02) | E70: Nguyên lý thống kê kinh tế-1-16 (02)/67DCQT22 | F70: Nguyên lý thống kê kinh tế | G70: 3 | H70: Cơ sở (KV) | I70: Khoa kinh tế vận tải | J70: 65 | K70: 67 | L70: K67DHCQ | M70: Kiều Mạnh | N70: =Loclop -> 67DCQT22 | P70: =_trangay -> #N/A | Q70: =_trangay -> #N/A | R70: =_trangay -> #N/A | T70: =IF(P70<S69,"??","") -> #N/A | U70: =IF(P70>S69+1,"??","") -> #N/A
A71: =Ma -> DC2KV71-DCK67 | B71: =MaHP -> DC2KV71 | C71: 70 | D71: DC2KV71-1-16 (03) | E71: Nguyên lý thống kê kinh tế-1-16 (03)/67DCTN21 | F71: Nguyên lý thống kê kinh tế | G71: 3 | H71: Cơ sở (KV) | I71: Khoa kinh tế vận tải | J71: 68 | K71: 72 | L71: K67DHCQ | M71: Lâm Phạm Thị Hải Hà | N71: =Loclop -> 67DCTN21 | P71: =_trangay -> #N/A | Q71: =_trangay -> #N/A | R71: =_trangay -> #N/A | S71: =+P71+G72 -> #N/A | T71: =IF(P71<S70,"??","") -> #N/A | U71: =IF(P71>S70+1,"??","") -> #N/A
A72: =Ma -> CC1LL01-CCK67 | B72: =MaHP -> CC1LL01 | C72: 71 | D72: CC1LL01-1-16 (01) | E72: Những nguyên lý cơ bản của CN Mác - Lênin 1-1-16 (01)/67CCOT21 | F72: Những nguyên lý cơ bản của CN Mác - Lênin 1 | G72: 2 | H72: Nguyên lý | I72: Khoa lý luận chính trị | J72: 57 | K72: 60 | L72: K67CDCQ | M72: Nguyễn Thị Thu | N72: =Loclop -> 67CCOT21 | P72: =_trangay -> #N/A | Q72: =_trangay -> #N/A | R72: =_trangay -> #N/A | T72: =IF(P72<S71,"??","") -> #N/A | U72: =IF(P72>S71+1,"??","") -> #N/A
A73: =Ma -> DC1LL01-DCK67 | B73: =MaHP -> DC1LL01 | C73: 72 | D73: DC1LL01(116)_01 | E73: Những nguyên lý cơ bản của CN Mác - Lênin 1(116)_01/67DCOT21 | F73: Những nguyên lý cơ bản của CN Mác - Lênin 1 | G73: 2 | H73: Nguyên lý | I73: Khoa lý luận chính trị | J73: 0 | K73: 0 | L73: K67DHCQ | M73: Tạ Ngọc Bài | N73: =Loclop -> 67DCOT21 | P73: =_trangay -> #N/A | Q73: =_trangay -> #N/A | R73: =_trangay -> #N/A | S73: =+P73+G74 -> #N/A | T73: =IF(P73<S72,"??","") -> #N/A | U73: =IF(P73>S72+1,"??","") -> #N/A
A74: =Ma -> DC1LL01-DCK67 | B74: =MaHP -> DC1LL01 | C74: 73 | D74: DC1LL01(116)_02 | E74: Những nguyên lý cơ bản của CN Mác - Lênin 1(116)_02/67DCOT22 | F74: Những nguyên lý cơ bản của CN Mác - Lênin 1 | G74: 2 | H74: Nguyên lý | I74: Khoa lý luận chính trị | J74: 0 | K74: 0 | L74: K67DHCQ | N74: =Loclop -> 67DCOT22 | P74: =_trangay -> #N/A | Q74: =_trangay -> #N/A | R74: =_trangay -> #N/A | T74: =IF(P74<S73,"??","") -> #N/A | U74: =IF(P74>S73+1,"??","") -> #N/A
A75: =Ma -> CC1LL01-CCK67 | B75: =MaHP -> CC1LL01 | C75: 74 | D75: CC1LL01-1-16 (02) | E75: Những nguyên lý cơ bản của CN Mác - Lênin 1-1-16 (02)/67CCCD21 | F75: Những nguyên lý cơ bản của CN Mác - Lênin 1 | G75: 2 | H75: Nguyên lý | I75: Khoa lý luận chính trị | J75: 63 | K75: 64 | L75: K67CDCQ | M75: Nguyễn Thị Thanh Hương | N75: =Loclop -> 67CCCD21 | P75: =_trangay -> #N/A | Q75: =_trangay -> #N/A | R75: =_trangay -> #N/A
A76: =Ma -> CC1LL01-CCK67 | B76: =MaHP -> CC1LL01 | C76: 75 | D76: CC1LL01-1-16 (02) | E76: Những nguyên lý cơ bản của CN Mác - Lênin 1-1-16 (02)/67CCDD21 | F76: Những nguyên lý cơ bản của CN Mác - Lênin 1 | G76: 2 | H76: Nguyên lý | I76: Khoa lý luận chính trị | J76: 0 | K76: 0 | L76: K67CDCQ | M76: Nguyễn Thị Thanh Hương | N76: =Loclop -> 67CCDD21 | P76: =_trangay -> #N/A | Q76: =_trangay -> #N/A | R76: =_trangay -> #N/A | S76: =+P76+#REF! -> #N/A | T76: =IF(P76<S74,"??","") -> #N/A | U76: =IF(P76>S74+1,"??","") -> #N/A
A77: =Ma -> DC1LL01-DCK67 | B77: =MaHP -> DC1LL01 | C77: 76 | D77: DC1LL01(116)_03 | E77: Những nguyên lý cơ bản của CN Mác - Lênin 1(116)_03/67DCOT23 | F77: Những nguyên lý cơ bản của CN Mác - Lênin 1 | G77: 2 | H77: Nguyên lý | I77: Khoa lý luận chính trị | J77: 0 | K77: 0 | L77: K67DHCQ | M77: Phan Huy Trường | N77: =Loclop -> 67DCOT23 | P77: =_trangay -> #N/A | Q77: =_trangay -> #N/A | R77: =_trangay -> #N/A | S77: =+P77+#REF! -> #N/A | T77: =IF(P77<S76,"??","") -> #N/A | U77: =IF(P77>S76+1,"??","") -> #N/A
A78: =Ma -> CC1LL01-CCK67 | B78: =MaHP -> CC1LL01 | C78: 77 | D78: CC1LL01-1-16 (03) | E78: Những nguyên lý cơ bản của CN Mác - Lênin 1-1-16 (03)/67CCTH21 | F78: Những nguyên lý cơ bản của CN Mác - Lênin 1 | G78: 2 | H78: Nguyên lý | I78: Khoa lý luận chính trị | J78: 62 | K78: 62 | L78: K67CDCQ | N78: =Loclop -> 67CCTH21 | P78: =_trangay -> #N/A | Q78: =_trangay -> #N/A | R78: =_trangay -> #N/A | T78: =IF(P78<S77,"??","") -> #N/A | U78: =IF(P78>S77+1,"??","") -> #N/A
A79: =Ma -> CC1LL01-CCK67 | B79: =MaHP -> CC1LL01 | C79: 78 | D79: CC1LL01-1-16 (03) | E79: Những nguyên lý cơ bản của CN Mác - Lênin 1-1-16 (03)/67CCKT21 | F79: Những nguyên lý cơ bản của CN Mác - Lênin 1 | G79: 2 | H79: Nguyên lý | I79: Khoa lý luận chính trị | J79: 0 | K79: 0 | L79: K67CDCQ | N79: =Loclop -> 67CCKT21 | P79: =_trangay -> #N/A | Q79: =_trangay -> #N/A | R79: =_trangay -> #N/A | T79: =IF(P79<#REF!,"??","") -> #N/A | U79: =IF(P79>#REF!+1,"??","") -> #N/A
A80: =Ma -> DC1LL01-DCK67 | B80: =MaHP -> DC1LL01 | C80: 79 | D80: DC1LL01(116)_04 | E80: Những nguyên lý cơ bản của CN Mác - Lênin 1(116)_04/67DCCO21 | F80: Những nguyên lý cơ bản của CN Mác - Lênin 1 | G80: 2 | H80: Nguyên lý | I80: Khoa lý luận chính trị | J80: 0 | K80: 0 | L80: K67DHCQ | M80: Hà Hoàng Giang | N80: =Loclop -> 67DCCO21 | P80: =_trangay -> #N/A | Q80: =_trangay -> #N/A | R80: =_trangay -> #N/A | S80: =+P80+G81 -> #N/A | T80: =IF(P80<S79,"??","") -> #N/A | U80: =IF(P80>S79+1,"??","") -> #N/A
A81: =Ma -> DC1LL01-DCK67 | B81: =MaHP -> DC1LL01 | C81: 80 | D81: DC1LL01(116)_07 | E81: Những nguyên lý cơ bản của CN Mác - Lênin 1(116)_07/67DCCO22 | F81: Những nguyên lý cơ bản của CN Mác - Lênin 1 | G81: 2 | H81: Nguyên lý | I81: Khoa lý luận chính trị | J81: 0 | K81: 0 | L81: K67DHCQ | M81: Phan Huy Trường | N81: =Loclop -> 67DCCO22 | P81: =_trangay -> #N/A | Q81: =_trangay -> #N/A | R81: =_trangay -> #N/A | T81: =IF(P81<S80,"??","") -> #N/A | U81: =IF(P81>S80+1,"??","") -> #N/A
A82: =Ma -> DC1LL01-DCK67 | B82: =MaHP -> DC1LL01 | C82: 81 | D82: DC1LL01(116)_08 | E82: Những nguyên lý cơ bản của CN Mác - Lênin 1(116)_08/67DCHT22 | F82: Những nguyên lý cơ bản của CN Mác - Lênin 1 | G82: 2 | H82: Nguyên lý | I82: Khoa lý luận chính trị | J82: 0 | K82: 0 | L82: K67DHCQ | M82: Trịnh Thị Thu Hằng | N82: =Loclop -> 67DCHT22 | P82: =_trangay -> #N/A | Q82: =_trangay -> #N/A | R82: =_trangay -> #N/A | T82: =IF(P82<S81,"??","") -> #N/A | U82: =IF(P82>S81+1,"??","") -> #N/A
A83: =Ma -> DC1LL01-DCK67 | B83: =MaHP -> DC1LL01 | C83: 82 | D83: DC1LL01(116)_09 | E83: Những nguyên lý cơ bản của CN Mác - Lênin 1(116)_09/67DCDT21 | F83: Những nguyên lý cơ bản của CN Mác - Lênin 1 | G83: 2 | H83: Nguyên lý | I83: Khoa lý luận chính trị | J83: 0 | K83: 0 | L83: K67DHCQ | M83: Hà Hoàng Giang | N83: =Loclop -> 67DCDT21 | P83: =_trangay -> #N/A | Q83: =_trangay -> #N/A | R83: =_trangay -> #N/A | S83: =+P83+G84 -> #N/A | T83: =IF(P83<S82,"??","") -> #N/A | U83: =IF(P83>S82+1,"??","") -> #N/A
A84: =Ma -> DC1LL01-DCK67 | B84: =MaHP -> DC1LL01 | C84: 83 | D84: DC1LL01(116)_10 | E84: Những nguyên lý cơ bản của CN Mác - Lênin 1(116)_10/67DCDT22 | F84: Những nguyên lý cơ bản của CN Mác - Lênin 1 | G84: 2 | H84: Nguyên lý | I84: Khoa lý luận chính trị | J84: 0 | K84: 0 | L84: K67DHCQ | M84: Hà Hoàng Giang | N84: =Loclop -> 67DCDT22 | P84: =_trangay -> #N/A | Q84: =_trangay -> #N/A | R84: =_trangay -> #N/A | T84: =IF(P84<S83,"??","") -> #N/A | U84: =IF(P84>S83+1,"??","") -> #N/A
A85: =Ma -> DC1LL01-DCK67 | B85: =MaHP -> DC1LL01 | C85: 84 | D85: DC1LL01(116)_11 | E85: Những nguyên lý cơ bản của CN Mác - Lênin 1(116)_11/67DCHT21 | F85: Những nguyên lý cơ bản của CN Mác - Lênin 1 | G85: 2 | H85: Nguyên lý | I85: Khoa lý luận chính trị | J85: 0 | K85: 0 | L85: K67DHCQ | M85: Trịnh Thị Thu Hằng | N85: =Loclop -> 67DCHT21 | P85: =_trangay -> #N/A | Q85: =_trangay -> #N/A | R85: =_trangay -> #N/A | T85: =IF(P85<S84,"??","") -> #N/A | U85: =IF(P85>S84+1,"??","") -> #N/A
A86: =Ma -> DC1LL01-DCK67 | B86: =MaHP -> DC1LL01 | C86: 85 | D86: DC1LL01(116)_14 | E86: Những nguyên lý cơ bản của CN Mác - Lênin 1(116)_14/67DCTM21 | F86: Những nguyên lý cơ bản của CN Mác - Lênin 1 | G86: 2 | H86: Nguyên lý | I86: Khoa lý luận chính trị | J86: 0 | K86: 0 | L86: K67DHCQ | M86: Tạ Ngọc Bài | N86: =Loclop -> 67DCTM21 | P86: =_trangay -> #N/A | Q86: =_trangay -> #N/A | R86: =_trangay -> #N/A | S86: =+P86+G87 -> #N/A | T86: =IF(P86<S85,"??","") -> #N/A | U86: =IF(P86>S85+1,"??","") -> #N/A
A87: =Ma -> DC1LL01-DCK67 | B87: =MaHP -> DC1LL01 | C87: 86 | D87: DC1LL01(116)_16 | E87: Những nguyên lý cơ bản của CN Mác - Lênin 1(116)_16/67DCKT21 | F87: Những nguyên lý cơ bản của CN Mác - Lênin 1 | G87: 2 | H87: Nguyên lý | I87: Khoa lý luận chính trị | J87: 0 | K87: 0 | L87: K67DHCQ | M87: Tạ Ngọc Bài | N87: =Loclop -> 67DCKT21 | P87: =_trangay -> #N/A | Q87: =_trangay -> #N/A | R87: =_trangay -> #N/A | T87: =IF(P87<S86,"??","") -> #N/A | U87: =IF(P87>S86+1,"??","") -> #N/A
A88: =Ma -> DC1LL01-DCK67 | B88: =MaHP -> DC1LL01 | C88: 87 | D88: DC1LL01(116)_18 | E88: Những nguyên lý cơ bản của CN Mác - Lênin 1(116)_18/67DCKT23 | F88: Những nguyên lý cơ bản của CN Mác - Lênin 1 | G88: 2 | H88: Nguyên lý | I88: Khoa lý luận chính trị | J88: 0 | K88: 0 | L88: K67DHCQ | M88: Phan Huy Trường | N88: =Loclop -> 67DCKT23 | P88: =_trangay -> #N/A | Q88: =_trangay -> #N/A | R88: =_trangay -> #N/A | T88: =IF(P88<S87,"??","") -> #N/A | U88: =IF(P88>S87+1,"??","") -> #N/A
A89: =Ma -> DC1LL01-DCK67 | B89: =MaHP -> DC1LL01 | C89: 88 | D89: DC1LL01(116)_19 | E89: Những nguyên lý cơ bản của CN Mác - Lênin 1(116)_19/67DCHTA1 | F89: Những nguyên lý cơ bản của CN Mác - Lênin 1 | G89: 2 | H89: Nguyên lý | I89: Khoa lý luận chính trị | J89: 0 | K89: 0 | L89: K67DHCQ | M89: Trịnh Thị Thu Hằng | N89: =Loclop -> 67DCHTA1 | P89: =_trangay -> #N/A | Q89: =_trangay -> #N/A | R89: =_trangay -> #N/A | T89: =IF(P89<#REF!,"??","") -> #N/A | U89: =IF(P89>#REF!+1,"??","") -> #N/A
A90: =Ma -> DC1LL01-DCK67 | B90: =MaHP -> DC1LL01 | C90: 89 | D90: DC1LL01(116)_20 | E90: Những nguyên lý cơ bản của CN Mác - Lênin 1(116)_20/67DCKX21 | F90: Những nguyên lý cơ bản của CN Mác - Lênin 1 | G90: 2 | H90: Nguyên lý | I90: Khoa lý luận chính trị | J90: 0 | K90: 0 | L90: K67DHCQ | M90: Tạ Ngọc Bài | N90: =Loclop -> 67DCKX21 | P90: =_trangay -> #N/A | Q90: =_trangay -> #N/A | R90: =_trangay -> #N/A | S90: =+P90+G91 -> #N/A | T90: =IF(P90<S89,"??","") -> #N/A | U90: =IF(P90>S89+1,"??","") -> #N/A
A91: =Ma -> DC1LL01-DCK67 | B91: =MaHP -> DC1LL01 | C91: 90 | D91: DC1LL01(116)_21 | E91: Những nguyên lý cơ bản của CN Mác - Lênin 1(116)_21/67DCKX22 | F91: Những nguyên lý cơ bản của CN Mác - Lênin 1 | G91: 2 | H91: Nguyên lý | I91: Khoa lý luận chính trị | J91: 0 | K91: 0 | L91: K67DHCQ | M91: Hà Hoàng Giang | N91: =Loclop -> 67DCKX22 | P91: =_trangay -> #N/A | Q91: =_trangay -> #N/A | R91: =_trangay -> #N/A | S91: =+P91+G93 -> #N/A | T91: =IF(P91<S90,"??","") -> #N/A | U91: =IF(P91>S90+1,"??","") -> #N/A
A92: =Ma -> DC1LL01-DCK67 | B92: =MaHP -> DC1LL01 | C92: 91 | D92: DC1LL01-1-16 (01) | E92: Những nguyên lý cơ bản của CN Mác - Lênin 1-1-16 (01)/67DCCA21 | F92: Những nguyên lý cơ bản của CN Mác - Lênin 1 | G92: 2 | H92: Nguyên lý | I92: Khoa lý luận chính trị | J92: 119 | K92: 135 | L92: K67DHCQ | M92: Trần Thị Tâm | N92: =Loclop -> 67DCCA21 | P92: =_trangay -> #N/A | Q92: =_trangay -> #N/A | R92: =_trangay -> #N/A | S92: =+P92+G94 -> #N/A | T92: =IF(P92<S91,"??","") -> #N/A | U92: =IF(P92>S91+1,"??","") -> #N/A
A93: =Ma -> DC1LL01-DCK67 | B93: =MaHP -> DC1LL01 | C93: 92 | D93: DC1LL01-1-16 (01) | E93: Những nguyên lý cơ bản của CN Mác - Lênin 1-1-16 (01)/67DCMO21 | F93: Những nguyên lý cơ bản của CN Mác - Lênin 1 | G93: 2 | H93: Nguyên lý | I93: Khoa lý luận chính trị | J93: 0 | K93: 0 | L93: K67DHCQ | M93: Trần Thị Tâm | N93: =Loclop -> 67DCMO21 | P93: =_trangay -> #N/A | Q93: =_trangay -> #N/A | R93: =_trangay -> #N/A | T93: =IF(P93<S91,"??","") -> #N/A | U93: =IF(P93>S91+1,"??","") -> #N/A
A94: =Ma -> DC1LL01-DCK67 | B94: =MaHP -> DC1LL01 | C94: 93 | D94: DC1LL01-1-16 (02) | E94: Những nguyên lý cơ bản của CN Mác - Lênin 1-1-16 (02)/67DCCDA1 | F94: Những nguyên lý cơ bản của CN Mác - Lênin 1 | G94: 2 | H94: Nguyên lý | I94: Khoa lý luận chính trị | J94: 60 | K94: 0 | L94: K67DHCQ | M94: Trần Thị Tâm | N94: =Loclop -> 67DCCDA1 | P94: =_trangay -> #N/A | Q94: =_trangay -> #N/A | R94: =_trangay -> #N/A | T94: =IF(P94<S93,"??","") -> #N/A | U94: =IF(P94>S93+1,"??","") -> #N/A
A95: =Ma -> DC1LL01-DCK67 | B95: =MaHP -> DC1LL01 | C95: 94 | D95: DC1LL01-1-16 (03) | E95: Những nguyên lý cơ bản của CN Mác - Lênin 1-1-16 (03)/67DCCD21 | F95: Những nguyên lý cơ bản của CN Mác - Lênin 1 | G95: 2 | H95: Nguyên lý | I95: Khoa lý luận chính trị | J95: 116 | K95: 129 | L95: K67DHCQ | M95: Nguyễn Thị Thanh Hương | N95: =Loclop -> 67DCCD21 | P95: =_trangay -> #N/A | Q95: =_trangay -> #N/A | R95: =_trangay -> #N/A | S95: =+P95+G96 -> #N/A | T95: =IF(P95<S94,"??","") -> #N/A | U95: =IF(P95>S94+1,"??","") -> #N/A
A96: =Ma -> DC1LL01-DCK67 | B96: =MaHP -> DC1LL01 | C96: 95 | D96: DC1LL01-1-16 (03) | E96: Những nguyên lý cơ bản của CN Mác - Lênin 1-1-16 (03)/67DCCD22 | F96: Những nguyên lý cơ bản của CN Mác - Lênin 1 | G96: 2 | H96: Nguyên lý | I96: Khoa lý luận chính trị | J96: 0 | K96: 0 | L96: K67DHCQ | M96: Nguyễn Thị Thanh Hương | N96: =Loclop -> 67DCCD22 | P96: =_trangay -> #N/A | Q96: =_trangay -> #N/A | R96: =_trangay -> #N/A | T96: =IF(P96<S95,"??","") -> #N/A | U96: =IF(P96>S95+1,"??","") -> #N/A
A97: =Ma -> DC1LL01-DCK67 | B97: =MaHP -> DC1LL01 | C97: 96 | D97: DC1LL01-1-16 (06) | E97: Những nguyên lý cơ bản của CN Mác - Lênin 1-1-16 (06)/67DCDB21 | F97: Những nguyên lý cơ bản của CN Mác - Lênin 1 | G97: 2 | H97: Nguyên lý | I97: Khoa lý luận chính trị | J97: 100 | K97: 109 | L97: K67DHCQ | M97: Phạm Văn Tân | N97: =Loclop -> 67DCDB21 | P97: =_trangay -> #N/A | Q97: =_trangay -> #N/A | R97: =_trangay -> #N/A | T97: =IF(P97<S96,"??","") -> #N/A | U97: =IF(P97>S96+1,"??","") -> #N/A
A98: =Ma -> DC1LL01-DCK67 | B98: =MaHP -> DC1LL01 | C98: 97 | D98: DC1LL01-1-16 (06) | E98: Những nguyên lý cơ bản của CN Mác - Lênin 1-1-16 (06)/67DCDB22 | F98: Những nguyên lý cơ bản của CN Mác - Lênin 1 | G98: 2 | H98: Nguyên lý | I98: Khoa lý luận chính trị | J98: 0 | K98: 0 | L98: K67DHCQ | M98: Phạm Văn Tân | N98: =Loclop -> 67DCDB22 | P98: =_trangay -> #N/A | Q98: =_trangay -> #N/A | R98: =_trangay -> #N/A | S98: =+P98+G99 -> #N/A | T98: =IF(P98<S96,"??","") -> #N/A | U98: =IF(P98>S96+1,"??","") -> #N/A
A99: =Ma -> DC1LL01-DCK67 | B99: =MaHP -> DC1LL01 | C99: 98 | D99: DC1LL01-1-16 (08) | E99: Những nguyên lý cơ bản của CN Mác - Lênin 1-1-16 (08)/67DCCC21 | F99: Những nguyên lý cơ bản của CN Mác - Lênin 1 | G99: 2 | H99: Nguyên lý | I99: Khoa lý luận chính trị | J99: 0 | K99: 0 | L99: K67DHCQ | M99: Trần Thị Tâm | N99: =Loclop -> 67DCCC21 | P99: =_trangay -> #N/A | Q99: =_trangay -> #N/A | R99: =_trangay -> #N/A | S99: =+P99+G100 -> #N/A | T99: =IF(P99<S98,"??","") -> #N/A | U99: =IF(P99>S98+1,"??","") -> #N/A
A100: =Ma -> DC1LL01-DCK67 | B100: =MaHP -> DC1LL01 | C100: 99 | D100: DC1LL01-1-16 (08) | E100: Những nguyên lý cơ bản của CN Mác - Lênin 1-1-16 (08)/67DCCS21 | F100: Những nguyên lý cơ bản của CN Mác - Lênin 1 | G100: 2 | H100: Nguyên lý | I100: Khoa lý luận chính trị | J100: 0 | K100: 0 | L100: K67DHCQ | M100: Trần Thị Tâm | N100: =Loclop -> 67DCCS21 | P100: =_trangay -> #N/A | Q100: =_trangay -> #N/A | R100: =_trangay -> #N/A | S100: =+P100+G101 -> #N/A | T100: =IF(P100<S99,"??","") -> #N/A | U100: =IF(P100>S99+1,"??","") -> #N/A
...

Sheet LICH THI
G1: 7 | H1: 8 | I1: 13 | J1: 14 | M1: Số lượt GV huy động | Q1: =Q3-Q2 -> 0 | R1: =R3-R2 -> 18 | S1: =S3-S2 -> 10 | T1: =T3-T2 -> 4 | U1: =U3-U2 -> 0 | V1: =V3-V2 -> 10 | W1: =W3-W2 -> 0 | X1: =SUM(Q1:W1) -> 42 | AG1: 17 | AH1: 18 | AL1: 20 | AM1: =+AL1+1 -> 21 | AN1: =+AM1+1 -> 22 | AO1: =+AN1+1 -> 23 | AP1: =+AO1+1 -> 24 | AQ1: =+AP1+1 -> 25 | AR1: =+AQ1+1 -> 26 | AS1: =+AR1+1 -> 27 | AT1: =+AS1+1 -> 28 | ... BD1: =+BC1+1 -> 38 | BE1: 39 | BF1: =+BE1+1 -> 40 | BG1: =+BF1+1 -> 41 | BH1: =+BG1+1 -> 42 | BI1: =+BH1+1 -> 43 | BJ1: =+BI1+1 -> 44 | BK1: =+BJ1+1 -> 45 | BL1: =+BK1+1 -> 46 | BM1: =+BL1+1 -> 47 | ... BW1: =+BV1+1 -> 57
A2: _Ngay_gio | B2: _Gio | D2: _stt | G2: _Loc | H2: _Loc | L2: Số SV/Phòng tiêu chuẩn | O2: 40 | P2: _sophong | Q2: =SUM(Q10:Q35) -> 0 | R2: =SUM(R10:R35) -> 0 | S2: =SUM(S10:S35) -> 0 | T2: =SUM(T10:T35) -> 0 | U2: =SUM(U10:U35) -> 0 | V2: =SUM(V10:V35) -> 0 | W2: =SUM(W10:W35) -> 0 | X2: =SUM(Q2:W2) -> 0 | Y2: _Ngaycham | Z2: _Nopdiem | AB2: _Ngay
L3: Số SV/Phòng tối thiểu | O3: 10 | P3: =SUM(P10:P35) -> 25 | Q3: =SUMIF($AH$10:$AH$35,Q9,$P$10:$P$35)*2 -> 0 | R3: =SUMIF($AH$10:$AH$35,R9,$P$10:$P$35)*2 -> 18 | S3: =SUMIF($AH$10:$AH$35,S9,$P$10:$P$35)*2 -> 10 | T3: =SUMIF($AH$10:$AH$35,T9,$P$10:$P$35)*2 -> 4 | U3: =SUMIF($AH$10:$AH$35,U9,$P$10:$P$35)*2 -> 0 | V3: =SUMIF($AH$10:$AH$35,V9,$P$10:$P$35)*2 -> 10 | W3: =SUMIF($AH$10:$AH$35,W9,$P$10:$P$35)*2 -> 0 | X3: =SUM(Q3:W3) -> 42
E4: TRƯỜNG ĐẠI HỌC CÔNG NGHỆ GTVT | I4: LỊCH THI HỌC KỲ 1 - NĂM HỌC 2016-2017
E5: PHÒNG ĐẢM BẢO CHẤT LƯỢNG ĐÀO TẠO
A6: 42156
A7: 42174 | C7: NHẬP DỮ LIỆU CỘT NÀY | D7: S T T | E7: Hệ đào tạo - Khóa | F7: Mã học phần | G7: Tên học phần | H7: Số TC | I7: Hình thức thi | J7: Thời gian thi | K7: THI LẦN 1 | Q7: KẾ HOẠCH COI, CHẤM THI LẦN 1 | AA7: GHI CHÚ
A8: 42181 | K8: Ngày thi | M8: Ca thi | N8: Tổng số SV | O8: Số SV/phg | P8: Số phòng | Q8: Phân công GV coi thi | Y8: Thời gian
Q9: LLCT | R9: KHCB | S9: CSKT | T9: KCT | U9: KCK | V9: KTVT | W9: CNTT | X9: Tổng | Y9: Bắt đầu chấm thi | Z9: Nộp bảng điểm | AA9: (Ghép phòng) | AB9: Đề thi | AE9: Số SV | AF9: Số phòng thi | AK9: TN | AL9: DCCA | AM9: DCCC | AN9: DCCD | AO9: DCCS | AP9: DCDB | AQ9: DCDD | AR9: DCCDA | AS9: DCOT | AT9: DCMX | AU9: DCMT | AV9: DCDM | AW9: DTDT | AX9: DCHT | AY9: DCKT | AZ9: DCQT | BA9: DCKX | BB9: DCVB | BC9: DCVS | BD9: DCVL | BE9: CCCA | BF9: CCCC | BG9: CCCD | BH9: CCCS | BI9: CCDB | BJ9: CCDD | BK9: CCCDA | BL9: CCOT | BM9: CCMX | BN9: CCMT | BO9: CCDM | BP9: CCDT | BQ9: CCTH | BR9: CCKT | BS9: CCQT | BT9: CCKX | BU9: CCVB | BV9: CCVS | BW9: CCVL
A10: =_Ngay_gio -> 42812.292 | B10: =_Gio -> 7:00 | C10: DC1CB20-DL67D | D10: =_stt -> 1 | E10: =_LocHe -> DL67D | F10: =_LocMaHP -> DC1CB20 | G10: =_Loc -> Lý thuyết xác suất - thống kê | H10: =_Loc -> 2 | I10: =_Loc -> Viết | J10: =_Loc -> 60 | K10: 42812 | L10: =_Ngay -> (Thứ 7) | M10: 1 | N10: 72 | O10: =_SV_P -> 40 | P10: =_sophong -> 2 | X10: =SUM(Q10:W10) -> 0 | Y10: =_Ngaycham -> 42813 | Z10: =_Nopdiem -> 42819 | AE10: =X10-2*P10 -> -4 | AF10: =_SV_Pcuoi -> 32 | AG10: =_Loc -> CBTO | AH10: =_Loc -> KHCB | AI10: =X10-2*P10 -> -4 | AJ10: =+N10/O10 -> 1.8 | AL10: =_Loc -> o | AM10: =_Loc -> o | AN10: =_Loc -> o | AO10: =_Loc -> o | AP10: =_Loc -> o | AQ10: =_Loc -> o | AR10: =_Loc -> o | AS10: =_Loc -> o | ... BD10: =_Loc -> o
A11: =_Ngay_gio -> 42812.292 | B11: =_Gio -> 7:00 | C11: DC2CB94-DL67D | D11: =_stt -> 2 | E11: =_LocHe -> DL67D | F11: =_LocMaHP -> DC2CB94 | G11: =_Loc -> Văn hóa kinh doanh | H11: =_Loc -> 2 | I11: =_Loc -> Viết | J11: =_Loc -> 75 | K11: 42812 | L11: =_Ngay -> (Thứ 7) | M11: 1 | N11: 3 | O11: =_SV_P -> 3 | P11: =_sophong -> 1 | X11: =SUM(Q11:W11) -> 0 | Y11: =_Ngaycham -> 42813 | Z11: =_Nopdiem -> 42819 | AE11: =X11-2*P11 -> -2 | AF11: =_SV_Pcuoi -> 3 | AG11: =_Loc -> KVQT | AH11: =_Loc -> KTVT | AI11: =X11-2*P11 -> -2 | AJ11: =+N11/O11 -> 1 | AL11: =_Loc -> 0 | AM11: =_Loc -> 0 | AN11: =_Loc -> 0 | AO11: =_Loc -> 0 | AP11: =_Loc -> 0 | AQ11: =_Loc -> 0 | AR11: =_Loc -> 0 | AS11: =_Loc -> 0 | ... BW11: =_Loc -> 0
A12: =_Ngay_gio -> 42812.75 | B12: =_Gio -> 18:00 | C12: DL3VB61-DL67D | D12: =_stt -> 3 | E12: =_LocHe -> DL67D | F12: =_LocMaHP -> DL3VB61 | G12: =_Loc -> Tổ chức vận tải hàng hóa | H12: =_Loc -> 2 | I12: =_Loc -> Viết | J12: =_Loc -> 75 | K12: 42812 | L12: =_Ngay -> (Thứ 7) | M12: 5 | O12: =_SV_P -> 0 | P12: =_sophong | X12: =SUM(Q12:W12) -> 0 | Y12: =_Ngaycham -> 42813 | Z12: =_Nopdiem -> 42819 | AA12: đã qua | AE12: =X12-2*P12 -> #VALUE! | AF12: =_SV_Pcuoi | AG12: =_Loc -> KVSB | AH12: =_Loc -> KTVT | AI12: =X12-2*P12 -> #VALUE! | AJ12: =+N12/O12 -> #DIV/0! | AL12: =_Loc -> 0 | AM12: =_Loc -> 0 | AN12: =_Loc -> 0 | AO12: =_Loc -> 0 | AP12: =_Loc -> 0 | AQ12: =_Loc -> 0 | AR12: =_Loc -> 0 | AS12: =_Loc -> 0 | ... BW12: =_Loc -> 0
A13: =_Ngay_gio -> 42812.375 | B13: =_Gio -> 9:00 | C13: DL2CO21-DL67D | D13: =_stt -> 4 | E13: =_LocHe -> DL67D | F13: =_LocMaHP -> DL2CO21 | G13: =_Loc -> Cơ học cơ sở | H13: =_Loc -> 2 | I13: =_Loc -> Viết | J13: =_Loc -> 60 | K13: 42812 | L13: =_Ngay -> (Thứ 7) | M13: 2 | N13: 121 | O13: =_SV_P -> 41 | P13: =_sophong -> 3 | X13: =SUM(Q13:W13) -> 0 | Y13: =_Ngaycham -> 42813 | Z13: =_Nopdiem -> 42819 | AE13: =X13-2*P13 -> -6 | AF13: =_SV_Pcuoi -> 39 | AG13: =_Loc -> CSCO | AH13: =_Loc -> CSKT | AI13: =X13-2*P13 -> -6 | AJ13: =+N13/O13 -> 2.9512195 | AL13: =_Loc -> 0 | AM13: =_Loc -> 0 | AN13: =_Loc -> 0 | AO13: =_Loc -> 0 | AP13: =_Loc -> 0 | AQ13: =_Loc -> 0 | AR13: =_Loc -> 0 | AS13: =_Loc -> 0 | ... BW13: =_Loc -> 0
A14: =_Ngay_gio -> 42812.375 | B14: =_Gio -> 9:00 | C14: DL3VB63-DL67D | D14: =_stt -> 5 | E14: =_LocHe -> DL67D | F14: =_LocMaHP -> DL3VB63 | G14: =_Loc -> Tổ chức vận tải hành khách | H14: =_Loc -> 2 | I14: =_Loc -> Viết | J14: =_Loc -> 75 | K14: 42812 | L14: =_Ngay -> (Thứ 7) | M14: 2 | N14: 1 | O14: =_SV_P -> 1 | P14: =_sophong -> 1 | X14: =SUM(Q14:W14) -> 0 | Y14: =_Ngaycham -> 42813 | Z14: =_Nopdiem -> 42819 | AE14: =X14-2*P14 -> -2 | AF14: =_SV_Pcuoi -> 1 | AG14: =_Loc -> KVSB | AH14: =_Loc -> KTVT | AI14: =X14-2*P14 -> -2 | AJ14: =+N14/O14 -> 1 | AL14: =_Loc -> 0 | AM14: =_Loc -> 0 | AN14: =_Loc -> 0 | AO14: =_Loc -> 0 | AP14: =_Loc -> 0 | AQ14: =_Loc -> 0 | AR14: =_Loc -> 0 | AS14: =_Loc -> 0 | ... BW14: =_Loc -> 0
A15: =_Ngay_gio -> 42812.75 | B15: =_Gio -> 18:00 | C15: DC2KV63-DL67D | D15: =_stt -> 6 | E15: =_LocHe -> DL67D | F15: =_LocMaHP -> DC2KV63 | G15: =_Loc -> Kinh tế lượng | H15: =_Loc -> 3 | I15: =_Loc -> Viết | J15: =_Loc -> 90 | K15: 42812 | L15: =_Ngay -> (Thứ 7) | M15: 5 | N15: 3 | O15: =_SV_P -> 3 | P15: =_sophong -> 1 | X15: =SUM(Q15:W15) -> 0 | Y15: =_Ngaycham -> 42813 | Z15: =_Nopdiem -> 42819 | AE15: =X15-2*P15 -> -2 | AF15: =_SV_Pcuoi -> 3 | AG15: =_Loc -> KVQT | AH15: =_Loc -> KTVT | AI15: =X15-2*P15 -> -2 | AJ15: =+N15/O15 -> 1 | AL15: =_Loc -> 0 | AM15: =_Loc -> 0 | AN15: =_Loc -> 0 | AO15: =_Loc -> 0 | AP15: =_Loc -> 0 | AQ15: =_Loc -> 0 | AR15: =_Loc -> 0 | AS15: =_Loc -> 0 | ... BW15: =_Loc -> 0
A16: =_Ngay_gio -> 42813.75 | B16: =_Gio -> 18:00 | C16: DC2CO24-DL67D | D16: =_stt -> 7 | E16: =_LocHe -> DL67D | F16: =_LocMaHP -> DC2CO24 | G16: =_Loc -> Cơ kỹ thuật | H16: =_Loc -> 3 | I16: =_Loc -> Viết | J16: =_Loc -> 90 | K16: 42813 | L16: =_Ngay -> (Cnhật) | M16: 5 | O16: =_SV_P -> 0 | P16: =_sophong | X16: =SUM(Q16:W16) -> 0 | Y16: =_Ngaycham -> 42814 | Z16: =_Nopdiem -> 42820 | AA16: đã qua | AE16: =X16-2*P16 -> #VALUE! | AF16: =_SV_Pcuoi | AG16: =_Loc -> CSCO | AH16: =_Loc -> CSKT | AI16: =X16-2*P16 -> #VALUE! | AJ16: =+N16/O16 -> #DIV/0! | AL16: =_Loc -> 0 | AM16: =_Loc -> 0 | AN16: =_Loc -> 0 | AO16: =_Loc -> 0 | AP16: =_Loc -> 0 | AQ16: =_Loc -> 0 | AR16: =_Loc -> 0 | AS16: =_Loc -> 0 | ... BD16: =_Loc -> 0
A17: =_Ngay_gio -> 42812.75 | B17: =_Gio -> 18:00 | C17: DL1CB22-DL67D | D17: =_stt -> 8 | E17: =_LocHe -> DL67D | F17: =_LocMaHP -> DL1CB22 | G17: =_Loc -> Vật lý đại cương 2 | H17: =_Loc -> 3 | I17: =_Loc -> Viết | J17: =_Loc -> 60 | K17: 42812 | L17: =_Ngay -> (Thứ 7) | M17: 5 | N17: 52 | O17: =_SV_P -> 40 | P17: =_sophong -> 2 | X17: =SUM(Q17:W17) -> 0 | Y17: =_Ngaycham -> 42813 | Z17: =_Nopdiem -> 42819 | AE17: =X17-2*P17 -> -4 | AF17: =_SV_Pcuoi -> 12 | AG17: =_Loc -> CBLY | AH17: =_Loc -> KHCB | AI17: =X17-2*P17 -> -4 | AJ17: =+N17/O17 -> 1.3 | AL17: =_Loc -> 0 | AM17: =_Loc -> 0 | AN17: =_Loc -> 0 | AO17: =_Loc -> 0 | AP17: =_Loc -> 0 | AQ17: =_Loc -> 0 | AR17: =_Loc -> 0 | AS17: =_Loc -> 0 | ... BW17: =_Loc -> 0
A18: =_Ngay_gio -> 42813.271 | B18: =_Gio -> 6:30 | C18: DC1CB99-DL67D | D18: =_stt -> 9 | E18: =_LocHe -> DL67D | F18: =_LocMaHP -> DC1CB99 | G18: =_Loc -> Phương pháp nghiên cứu khoa học | H18: =_Loc -> 2 | I18: =_Loc -> Viết | J18: =_Loc -> 75 | K18: 42813 | L18: =_Ngay -> (Cnhật) | M18: 6 | O18: =_SV_P -> 0 | P18: =_sophong | X18: =SUM(Q18:W18) -> 0 | Y18: =_Ngaycham -> 42814 | Z18: =_Nopdiem -> 42820 | AA18: đã qua | AE18: =X18-2*P18 -> #VALUE! | AF18: =_SV_Pcuoi | AG18: =_Loc | AH18: =_Loc -> KTVT | AI18: =X18-2*P18 -> #VALUE! | AJ18: =+N18/O18 -> #DIV/0! | AL18: =_Loc -> 0 | AM18: =_Loc -> 0 | AN18: =_Loc -> 0 | AO18: =_Loc -> 0 | AP18: =_Loc -> 0 | AQ18: =_Loc -> 0 | AR18: =_Loc -> 0 | AS18: =_Loc -> 0 | ... BD18: =_Loc -> o
A19: =_Ngay_gio -> 42813.75 | B19: =_Gio -> 18:00 | C19: DC1CB12-DL67D | D19: =_stt -> 10 | E19: =_LocHe -> DL67D | F19: =_LocMaHP -> DC1CB12 | G19: =_Loc -> Toán 2 | H19: =_Loc -> 3 | I19: =_Loc -> Viết | J19: =_Loc -> 60 | K19: 42813 | L19: =_Ngay -> (Cnhật) | M19: 5 | N19: 149 | O19: =_SV_P -> 40 | P19: =_sophong -> 4 | X19: =SUM(Q19:W19) -> 0 | Y19: =_Ngaycham -> 42814 | Z19: =_Nopdiem -> 42820 | AE19: =X19-2*P19 -> -8 | AF19: =_SV_Pcuoi -> 29 | AG19: =_Loc -> CBTO | AH19: =_Loc -> KHCB | AI19: =X19-2*P19 -> -8 | AJ19: =+N19/O19 -> 3.725 | AL19: =_Loc -> x | AM19: =_Loc -> x | AN19: =_Loc -> x | AO19: =_Loc -> x | AP19: =_Loc -> x | AQ19: =_Loc -> x | AR19: =_Loc -> x | AS19: =_Loc -> x | ... BW19: =_Loc -> 0
A20: =_Ngay_gio -> 42813.75 | B20: =_Gio -> 18:00 | C20: DC2KV82-DL67D | D20: =_stt -> 11 | E20: =_LocHe -> DL67D | F20: =_LocMaHP -> DC2KV82 | G20: =_Loc -> Kinh tế quốc tế | H20: =_Loc -> 2 | I20: =_Loc -> Viết | J20: =_Loc -> 60 | K20: 42813 | L20: =_Ngay -> (Cnhật) | M20: 5 | N20: 1 | O20: =_SV_P -> 1 | P20: =_sophong -> 1 | X20: =SUM(Q20:W20) -> 0 | Y20: =_Ngaycham -> 42814 | Z20: =_Nopdiem -> 42820 | AE20: =X20-2*P20 -> -2 | AF20: =_SV_Pcuoi -> 1 | AG20: =_Loc -> KVCS | AH20: =_Loc -> KTVT | AI20: =X20-2*P20 -> -2 | AJ20: =+N20/O20 -> 1 | AL20: =_Loc -> 0 | AM20: =_Loc -> 0 | AN20: =_Loc -> 0 | AO20: =_Loc -> 0 | AP20: =_Loc -> 0 | AQ20: =_Loc -> 0 | AR20: =_Loc -> 0 | AS20: =_Loc -> 0 | ... BW20: =_Loc -> 0
A21: =_Ngay_gio -> 42813.271 | B21: =_Gio -> 6:30 | C21: DC2GT34-DL67D | D21: =_stt -> 12 | E21: =_LocHe -> DL67D | F21: =_LocMaHP -> DC2GT34 | G21: =_Loc -> Đồ án Nền và móng | H21: =_Loc -> 1 | I21: =_Loc -> VĐ | J21: =_Loc -> 0 | K21: 42813 | L21: =_Ngay -> (Cnhật) | M21: SA | N21: 84 | O21: =_SV_P -> 0 | P21: =_sophong | X21: =SUM(Q21:W21) -> 0 | Y21: =_Ngaycham -> 42813 | Z21: =_Nopdiem -> 42815 | AE21: =X21-2*P21 -> #VALUE! | AF21: =_SV_Pcuoi | AG21: =_Loc -> CTDK | AH21: =_Loc -> KCT | AI21: =X21-2*P21 -> #VALUE! | AJ21: =+N21/O21 -> #DIV/0! | AL21: =_Loc -> x | AM21: =_Loc -> x | AN21: =_Loc -> x | AO21: =_Loc -> x | AP21: =_Loc -> x | AQ21: =_Loc -> 0 | AR21: =_Loc -> x | AS21: =_Loc -> 0 | ... BD21: =_Loc -> 0
A22: =_Ngay_gio -> 42819.542 | B22: =_Gio -> 13:00 | C22: DL2CO25-DL67D | D22: =_stt -> 13 | E22: =_LocHe -> DL67D | F22: =_LocMaHP -> DL2CO25 | G22: =_Loc -> Sức bền vật liệu | H22: =_Loc -> 2 | I22: =_Loc -> Viết | J22: =_Loc -> 60 | K22: 42819 | L22: =_Ngay -> (Thứ 7) | M22: 3 | N22: 80 | O22: =_SV_P -> 40 | P22: =_sophong -> 2 | X22: =SUM(Q22:W22) -> 0 | Y22: =_Ngaycham -> 42820 | Z22: =_Nopdiem -> 42826 | AE22: =X22-2*P22 -> -4 | AF22: =_SV_Pcuoi -> 40 | AG22: =_Loc -> CSCO | AH22: =_Loc -> CSKT | AI22: =X22-2*P22 -> -4 | AJ22: =+N22/O22 -> 2 | AL22: =_Loc -> 0 | AM22: =_Loc -> 0 | AN22: =_Loc -> 0 | AO22: =_Loc -> 0 | AP22: =_Loc -> 0 | AQ22: =_Loc -> 0 | AR22: =_Loc -> 0 | AS22: =_Loc -> 0 | ... BW22: =_Loc -> 0
A23: =_Ngay_gio -> 42819.75 | B23: =_Gio -> 18:00 | C23: DC1CB18-DL67D | D23: =_stt -> 14 | E23: =_LocHe -> DL67D | F23: =_LocMaHP -> DC1CB18 | G23: =_Loc -> Toán 2 | H23: =_Loc -> 2 | I23: =_Loc -> Viết | J23: =_Loc -> 60 | K23: 42819 | L23: =_Ngay -> (Thứ 7) | M23: 5 | N23: 4 | O23: =_SV_P -> 4 | P23: =_sophong -> 1 | X23: =SUM(Q23:W23) -> 0 | Y23: =_Ngaycham -> 42820 | Z23: =_Nopdiem -> 42826 | AE23: =X23-2*P23 -> -2 | AF23: =_SV_Pcuoi -> 4 | AG23: =_Loc -> CBTO | AH23: =_Loc -> KHCB | AI23: =X23-2*P23 -> -2 | AJ23: =+N23/O23 -> 1 | AL23: =_Loc -> 0 | AM23: =_Loc -> 0 | AN23: =_Loc -> 0 | AO23: =_Loc -> 0 | AP23: =_Loc -> 0 | AQ23: =_Loc -> 0 | AR23: =_Loc -> 0 | AS23: =_Loc -> 0 | ... BD23: =_Loc -> 0
A24: =_Ngay_gio -> 42819.75 | B24: =_Gio -> 18:00 | C24: DC2KV72-DL67D | D24: =_stt -> 15 | E24: =_LocHe -> DL67D | F24: =_LocMaHP -> DC2KV72 | G24: =_Loc -> Quản trị học | H24: =_Loc -> 2 | I24: =_Loc -> Viết | J24: =_Loc -> 75 | K24: 42819 | L24: =_Ngay -> (Thứ 7) | M24: 5 | N24: 2 | O24: =_SV_P -> 2 | P24: =_sophong -> 1 | X24: =SUM(Q24:W24) -> 0 | Y24: =_Ngaycham -> 42820 | Z24: =_Nopdiem -> 42826 | AE24: =X24-2*P24 -> -2 | AF24: =_SV_Pcuoi -> 2 | AG24: =_Loc -> KVQT | AH24: =_Loc -> KTVT | AI24: =X24-2*P24 -> -2 | AJ24: =+N24/O24 -> 1 | AL24: =_Loc -> 0 | AM24: =_Loc -> 0 | AN24: =_Loc -> 0 | AO24: =_Loc -> 0 | AP24: =_Loc -> 0 | AQ24: =_Loc -> 0 | AR24: =_Loc -> 0 | AS24: =_Loc -> 0 | ... BW24: =_Loc -> 0
A25: =_Ngay_gio -> 42819.75 | B25: =_Gio -> 18:00 | C25: DL2GT33-DL67D | D25: =_stt -> 16 | E25: =_LocHe -> DL67D | F25: =_LocMaHP -> DL2GT33 | G25: =_Loc -> Nền và móng | H25: =_Loc -> 2 | I25: =_Loc -> Viết | J25: =_Loc -> 90 | K25: 42819 | L25: =_Ngay -> (Thứ 7) | M25: 5 | N25: 13 | O25: =_SV_P -> 13 | P25: =_sophong -> 1 | X25: =SUM(Q25:W25) -> 0 | Y25: =_Ngaycham -> 42820 | Z25: =_Nopdiem -> 42826 | AE25: =X25-2*P25 -> -2 | AF25: =_SV_Pcuoi -> 13 | AG25: =_Loc -> CTDK | AH25: =_Loc -> KCT | AI25: =X25-2*P25 -> -2 | AJ25: =+N25/O25 -> 1 | AL25: =_Loc -> 0 | AM25: =_Loc -> 0 | AN25: =_Loc -> 0 | AO25: =_Loc -> 0 | AP25: =_Loc -> 0 | AQ25: =_Loc -> 0 | AR25: =_Loc -> 0 | AS25: =_Loc -> 0 | ... BD25: =_Loc -> 0
A26: =_Ngay_gio -> 42819.75 | B26: =_Gio -> 18:00 | C26: DL3DD33-DL67D | D26: =_stt -> 17 | E26: =_LocHe -> DL67D | F26: =_LocMaHP -> DL3DD33 | G26: =_Loc -> Tiếng Anh 3 | H26: =_Loc -> 0 | I26: =_Loc -> Viết | J26: =_Loc -> 0 | K26: 42819 | L26: =_Ngay -> (Thứ 7) | M26: 5 | N26: 41 | O26: =_SV_P -> 41 | P26: =_sophong -> 1 | X26: =SUM(Q26:W26) -> 0 | Y26: =_Ngaycham -> 42820 | Z26: =_Nopdiem -> 42826 | AE26: =X26-2*P26 -> -2 | AF26: =_SV_Pcuoi -> 41 | AG26: =_Loc -> 0 | AH26: =_Loc -> 0 | AI26: =X26-2*P26 -> -2 | AJ26: =+N26/O26 -> 1 | AL26: =_Loc -> 0 | AM26: =_Loc -> 0 | AN26: =_Loc -> 0 | AO26: =_Loc -> 0 | AP26: =_Loc -> 0 | AQ26: =_Loc -> 0 | AR26: =_Loc -> 0 | AS26: =_Loc -> 0 | ... BD26: =_Loc -> 0
A27: =_Ngay_gio -> 42819.75 | B27: =_Gio -> 18:00 | C27: DL3OT33-DL67D | D27: =_stt -> 18 | E27: =_LocHe -> DL67D | F27: =_LocMaHP -> DL3OT33 | G27: =_Loc -> Tiếng Anh 3 | H27: =_Loc -> 0 | I27: =_Loc -> Viết | J27: =_Loc -> 0 | K27: 42819 | L27: =_Ngay -> (Thứ 7) | M27: 5 | N27: 1 | O27: =_SV_P -> 1 | P27: =_sophong -> 1 | X27: =SUM(Q27:W27) -> 0 | Y27: =_Ngaycham -> 42820 | Z27: =_Nopdiem -> 42826 | AE27: =X27-2*P27 -> -2 | AF27: =_SV_Pcuoi -> 1 | AG27: =_Loc -> 0 | AH27: =_Loc -> 0 | AI27: =X27-2*P27 -> -2 | AJ27: =+N27/O27 -> 1 | AL27: =_Loc -> 0 | AM27: =_Loc -> 0 | AN27: =_Loc -> 0 | AO27: =_Loc -> 0 | AP27: =_Loc -> 0 | AQ27: =_Loc -> 0 | AR27: =_Loc -> 0 | AS27: =_Loc -> 0 | ... BW27: =_Loc -> 0
A28: =_Ngay_gio -> 42819.271 | B28: =_Gio -> 6:30 | C28: DC3KV90-DL67D | D28: =_stt -> 19 | E28: =_LocHe -> DL67D | F28: =_LocMaHP -> DC3KV90 | G28: =_Loc -> Thương mại điện tử | H28: =_Loc -> 0 | I28: =_Loc -> Viết | J28: =_Loc -> 0 | K28: 42819 | L28: =_Ngay -> (Thứ 7) | M28: 6 | O28: =_SV_P -> 0 | P28: =_sophong | X28: =SUM(Q28:W28) -> 0 | Y28: =_Ngaycham -> 42820 | Z28: =_Nopdiem -> 42826 | AA28: đã qua | AE28: =X28-2*P28 -> #VALUE! | AF28: =_SV_Pcuoi | AG28: =_Loc -> 0 | AH28: =_Loc -> 0 | AI28: =X28-2*P28 -> #VALUE! | AJ28: =+N28/O28 -> #DIV/0! | AL28: =_Loc -> 0 | AM28: =_Loc -> 0 | AN28: =_Loc -> 0 | AO28: =_Loc -> 0 | AP28: =_Loc -> 0 | AQ28: =_Loc -> 0 | AR28: =_Loc -> 0 | AS28: =_Loc -> 0 | ... BW28: =_Loc -> 0
A29: =_Ngay_gio -> 42819.271 | B29: =_Gio -> 6:30 | C29: DL3VB33-DL67D | D29: =_stt -> 20 | E29: =_LocHe -> DL67D | F29: =_LocMaHP -> DL3VB33 | G29: =_Loc -> Tiếng Anh 3 | H29: =_Loc -> 0 | I29: =_Loc -> Viết | J29: =_Loc -> 0 | K29: 42819 | L29: =_Ngay -> (Thứ 7) | M29: 6 | O29: =_SV_P -> 0 | P29: =_sophong | X29: =SUM(Q29:W29) -> 0 | Y29: =_Ngaycham -> 42820 | Z29: =_Nopdiem -> 42826 | AA29: đã qua | AE29: =X29-2*P29 -> #VALUE! | AF29: =_SV_Pcuoi | AG29: =_Loc -> 0 | AH29: =_Loc -> 0 | AI29: =X29-2*P29 -> #VALUE! | AJ29: =+N29/O29 -> #DIV/0! | AL29: =_Loc -> 0 | AM29: =_Loc -> 0 | AN29: =_Loc -> 0 | AO29: =_Loc -> 0 | AP29: =_Loc -> 0 | AQ29: =_Loc -> 0 | AR29: =_Loc -> 0 | AS29: =_Loc -> 0 | ... BD29: =_Loc -> 0
A30: =_Ngay_gio -> 42820.75 | B30: =_Gio -> 18:00 | C30: DL2CO13-DL67D | D30: =_stt -> 21 | E30: =_LocHe -> DL67D | F30: =_LocMaHP -> DL2CO13 | G30: =_Loc -> Vẽ kỹ thuật | H30: =_Loc -> 2 | I30: =_Loc -> Viết | J30: =_Loc -> 90 | K30: 42820 | L30: =_Ngay -> (Cnhật) | M30: 5 | O30: =_SV_P -> 0 | P30: =_sophong | X30: =SUM(Q30:W30) -> 0 | Y30: =_Ngaycham -> 42821 | Z30: =_Nopdiem -> 42827 | AA30: đã qua | AE30: =X30-2*P30 -> #VALUE! | AF30: =_SV_Pcuoi | AG30: =_Loc -> CSVE | AH30: =_Loc -> CSKT | AI30: =X30-2*P30 -> #VALUE! | AJ30: =+N30/O30 -> #DIV/0! | AL30: =_Loc -> 0 | AM30: =_Loc -> 0 | AN30: =_Loc -> 0 | AO30: =_Loc -> 0 | AP30: =_Loc -> 0 | AQ30: =_Loc -> 0 | AR30: =_Loc -> 0 | AS30: =_Loc -> 0 | ... BD30: =_Loc -> 0
A31: =_Ngay_gio -> 42819.271 | B31: =_Gio -> 6:30 | C31: DC2KX31-DL67D | D31: =_stt -> 22 | E31: =_LocHe -> DL67D | F31: =_LocMaHP -> DC2KX31 | G31: =_Loc -> Địa kỹ thuật | H31: =_Loc -> 3 | I31: =_Loc -> Viết | J31: =_Loc -> 90 | K31: 42819 | L31: =_Ngay -> (Thứ 7) | M31: 6 | N31: 1 | O31: =_SV_P -> 1 | P31: =_sophong -> 1 | X31: =SUM(Q31:W31) -> 0 | Y31: =_Ngaycham -> 42820 | Z31: =_Nopdiem -> 42826 | AE31: =X31-2*P31 -> -2 | AF31: =_SV_Pcuoi -> 1 | AG31: =_Loc -> CTDK | AH31: =_Loc -> KCT | AI31: =X31-2*P31 -> -2 | AJ31: =+N31/O31 -> 1 | AL31: =_Loc -> 0 | AM31: =_Loc -> 0 | AN31: =_Loc -> 0 | AO31: =_Loc -> 0 | AP31: =_Loc -> 0 | AQ31: =_Loc -> 0 | AR31: =_Loc -> 0 | AS31: =_Loc -> 0 | ... BW31: =_Loc -> 0
A32: =_Ngay_gio -> 42820.75 | B32: =_Gio -> 18:00 | C32: DL3KT33-DL67D | D32: =_stt -> 23 | E32: =_LocHe -> DL67D | F32: =_LocMaHP -> DL3KT33 | G32: =_Loc -> Tiếng Anh 3 | H32: =_Loc -> 0 | I32: =_Loc -> Viết | J32: =_Loc -> 0 | K32: 42820 | L32: =_Ngay -> (Cnhật) | M32: 5 | N32: 11 | O32: =_SV_P -> 11 | P32: =_sophong -> 1 | X32: =SUM(Q32:W32) -> 0 | Y32: =_Ngaycham -> 42821 | Z32: =_Nopdiem -> 42827 | AE32: =X32-2*P32 -> -2 | AF32: =_SV_Pcuoi -> 11 | AG32: =_Loc -> 0 | AH32: =_Loc -> 0 | AI32: =X32-2*P32 -> -2 | AJ32: =+N32/O32 -> 1 | AL32: =_Loc -> 0 | AM32: =_Loc -> 0 | AN32: =_Loc -> 0 | AO32: =_Loc -> 0 | AP32: =_Loc -> 0 | AQ32: =_Loc -> 0 | AR32: =_Loc -> 0 | AS32: =_Loc -> 0 | ... BD32: =_Loc -> 0
A33: =_Ngay_gio -> 42820.75 | B33: =_Gio -> 18:00 | C33: DL3KX33-DL67D | D33: =_stt -> 24 | E33: =_LocHe -> DL67D | F33: =_LocMaHP -> DL3KX33 | G33: =_Loc -> Tiếng Anh 3 | H33: =_Loc -> 0 | I33: =_Loc -> Viết | J33: =_Loc -> 0 | K33: 42820 | L33: =_Ngay -> (Cnhật) | M33: 5 | O33: =_SV_P -> 0 | P33: =_sophong | X33: =SUM(Q33:W33) -> 0 | Y33: =_Ngaycham -> 42821 | Z33: =_Nopdiem -> 42827 | AA33: đã qua | AE33: =X33-2*P33 -> #VALUE! | AF33: =_SV_Pcuoi | AG33: =_Loc -> 0 | AH33: =_Loc -> 0 | AI33: =X33-2*P33 -> #VALUE! | AJ33: =+N33/O33 -> #DIV/0! | AL33: =_Loc -> 0 | AM33: =_Loc -> 0 | AN33: =_Loc -> 0 | AO33: =_Loc -> 0 | AP33: =_Loc -> 0 | AQ33: =_Loc -> 0 | AR33: =_Loc -> 0 | AS33: =_Loc -> 0 | ... BD33: =_Loc -> 0
A34: =_Ngay_gio -> 42820.271 | B34: =_Gio -> 6:30 | C34: DL3CD33-DL67D | D34: =_stt -> 25 | E34: =_LocHe -> DL67D | F34: =_LocMaHP -> DL3CD33 | G34: =_Loc -> Tiếng Anh 3 | H34: =_Loc -> 0 | I34: =_Loc -> Viết | J34: =_Loc -> 0 | K34: 42820 | L34: =_Ngay -> (Cnhật) | M34: 6 | N34: 18 | O34: =_SV_P -> 18 | P34: =_sophong -> 1 | X34: =SUM(Q34:W34) -> 0 | Y34: =_Ngaycham -> 42821 | Z34: =_Nopdiem -> 42827 | AE34: =X34-2*P34 -> -2 | AF34: =_SV_Pcuoi -> 18 | AG34: =_Loc -> 0 | AH34: =_Loc -> 0 | AI34: =X34-2*P34 -> -2 | AJ34: =+N34/O34 -> 1 | AL34: =_Loc -> 0 | AM34: =_Loc -> 0 | AN34: =_Loc -> 0 | AO34: =_Loc -> 0 | AP34: =_Loc -> 0 | AQ34: =_Loc -> 0 | AR34: =_Loc -> 0 | AS34: =_Loc -> 0 | ... BW34: =_Loc -> 0
A35: =_Ngay_gio -> 0.27083333 | B35: =_Gio -> 6:30 | C35: DL2CK55-DL67D | D35: =_stt -> 26 | E35: =_LocHe -> DL67D | F35: =_LocMaHP -> DL2CK55 | G35: =_Loc -> Nguyên lý máy | H35: =_Loc -> 2 | I35: =_Loc -> VĐ | J35: =_Loc -> 60 | L35: =_Ngay | M35: 6 | O35: =_SV_P -> 0 | P35: =_sophong | X35: =SUM(Q35:W35) -> 0 | Y35: =_Ngaycham -> 0 | Z35: =_Nopdiem -> 2 | AA35: đã qua | AE35: =X35-2*P35 -> #VALUE! | AF35: =_SV_Pcuoi | AG35: =_Loc -> KCK | AH35: =_Loc -> KCK | AI35: =X35-2*P35 -> #VALUE! | AJ35: =+N35/O35 -> #DIV/0! | AL35: =_Loc -> 0 | AM35: =_Loc -> 0 | AN35: =_Loc -> 0 | AO35: =_Loc -> 0 | AP35: =_Loc -> 0 | AQ35: =_Loc -> 0 | AR35: =_Loc -> 0 | AS35: =_Loc -> 0 | ... BD35: =_Loc -> 0
AE36: =X36-2*P36 -> 0 | AF36: =_SV_Pcuoi
E37: Ghi chú: | AE37: =X37-2*P37 -> 0 | AF37: =_SV_Pcuoi
F38: + Thời gian thi: Ca 1: 7h00' - 9h00'; Ca 2: 9h00' - 11h00'; Ca 3: 13h00' - 15h00'; Ca 4: 15h00' - 17h00'; Ca5: 18h00' - 20h00' | AE38: =X38-2*P38 -> 0 | AF38: =_SV_Pcuoi | AG38: KHCB | AI38: =SUMIF(AG$8:AG$35,AG38,P$8:P$35) -> 0 | AL38: =AI38*2 -> 0
F39: + Các Khoa, Bộ môn, Giảng viên, Sinh viên kiểm tra Lịch thi, nếu còn Học phần chưa có lịch thi phản ánh ngay cho Phòng ĐBCLĐT để kịp thời điều chỉnh | AE39: =X39-2*P39 -> 0 | AF39: =_SV_Pcuoi | AG39: LLCT | AI39: =SUMIF(AG$8:AG$35,AG39,P$8:P$35) -> 0 | AL39: =AI39*2 -> 0
F40: + Các khoa gửi danh sách phân công Giảng viên coi thi, chấm thi, nhập điểm thi (lần 1) về Phòng Đảm bảo chất lượng đào tạo (ĐBCLĐT) trước ngày 20/5/2015 | AE40: =X40-2*P40 -> 0 | AF40: =_SV_Pcuoi | AG40: CSKT | AI40: =SUMIF(AG$8:AG$35,AG40,P$8:P$35) -> 0 | AL40: =AI40*2 -> 0
F41: + Phòng TCKT thống kê danh sách SV chưa nộp học phí, gửi về Phòng ĐBCLĐT trước ngày 20/5/2015 | AE41: =X41-2*P41 -> 0 | AF41: =_SV_Pcuoi | AG41: CT | AI41: =SUMIF(AG$8:AG$35,AG41,P$8:P$35) -> 0 | AL41: =AI41*2 -> 0
F42: + Trường hợp Lịch thi trùng ngày nghỉ lễ, Phòng ĐBCLĐT sẽ điều chỉnh lại và thông báo trên Website (http://www.qldt.utt.edu.vn) trước ngày thi ít nhất 02 ngày | AE42: =X42-2*P42 -> 0 | AF42: =_SV_Pcuoi | AG42: CK | AI42: =SUMIF(AG$8:AG$35,AG42,P$8:P$35) -> 0 | AL42: =AI42*2 -> 0
F43: + Mọi vấn đề vướng mắc khác, xin liên hệ trực tiếp với Phòng ĐBCLĐT - P409-H1 (Điện thoại: 043 552 8978) | AE43: =X43-2*P43 -> 0 | AF43: =_SV_Pcuoi | AG43: CNTT | AI43: =SUMIF(AG$8:AG$35,AG43,P$8:P$35) -> 0 | AL43: =AI43*2 -> 0
G44: (*) DC - Đại học chính quy; DL - Đại học liên thông; CC - Cao đẳng chính quy; CL - Cao đẳng liên thông | AE44: =X44-2*P44 -> 0 | AF44: =_SV_Pcuoi | AG44: KTVT | AI44: =SUMIF(AG$8:AG$35,AG44,P$8:P$35) -> 0 | AL44: =AI44*2 -> 0
G45: (*) DCK66D1: Thi đợt 1 các lớp đại học chính quy K66 gồm: 66DCKX21,22,23,24, 66DCMO21, 66DCTN21,22,23 | AE45: =X45-2*P45 -> 0 | AF45: =_SV_Pcuoi | AI45: =SUM(AI38:AI44) -> 0 | AL45: =SUM(AL38:AL44) -> 0
G46: (*) CC-K64-Đ2: Thi đợt 2 các lớp cao đẳng chính quy K64 gồm: 64CCDD01, CS01, CD05, CD06, OT02, OT03, MX01 | AE46: =X46-2*P46 -> 0 | AF46: =_SV_Pcuoi
G47: (*) DL-K65-Đ1: Thi đợt 1 các lớp đại học liên thông K65 gồm: Lớp 64DLKT05 | AE47: =X47-2*P47 -> 0 | AF47: =_SV_Pcuoi
G48: (*) DL-K65-Đ2: Thi đợt 2 các lớp đại học liên thông K65 gồm: Lớp 64DLKT05 | AE48: =X48-2*P48 -> 0 | AF48: =_SV_Pcuoi

Sheet Theo Ngay
C2: PHÂN CÔNG CB COI THI VIẾT THEO TỪNG CA THI
C3: ĐỢT 2 - ĐẠI HỌC, CAO ĐẲNG CHÍNH QUY - HK1 2015-2016
C5: STT | D5: Ngày | E5: Ca | F5: Số phòng | G5: LLCT | H5: KHCB | I5: CSKT | J5: KCT | K5: KCK | L5: KTVT | M5: CNTT | N5: Tổng | S5: Số phòng
A6: =_Ngay_Gio_ -> 42812.292 | B6: =_Gio_ -> 7:00 | C6: 1 | D6: =MIN('LICH THI'!K:K) -> 42812 | E6: 1 | F6: =_CongSP_ -> 3 | G6: =_CongLLCT -> 0 | H6: =_CongKHCB -> 0 | I6: =_CongCSKT -> 0 | J6: =_CongKCT -> 0 | K6: =_CongKCK -> 0 | L6: =_CongKTVT -> 0 | M6: =_CongCNTT -> 0 | N6: =SUMIF('LICH THI'!$A:$A,'Theo Ngay'!$A6,'LICH THI'!X:X) -> 0 | O6: =IF(D6="","",CHOOSE(WEEKDAY(D6),"(Cnhật)","(Thứ 2)","(Thứ 3)","(Thứ 4)","(Thứ 5)","(Thứ 6)","(Thứ 7)")) -> (Thứ 7) | P6: =N6-2*F6 -> -6 | Q6: =SUMIF('LICH THI'!$A:$A,'Theo Ngay'!$A6,'LICH THI'!N:N) -> 75 | S6: 18 | T6: =+S6-F6 -> 15
A7: =_Ngay_Gio_ -> 42812.375 | B7: =_Gio_ -> 9:00 | C7: =_stt -> 2 | D7: =D6 -> 42812 | E7: 2 | F7: =_CongSP_ -> 4 | G7: =_CongLLCT -> 0 | H7: =_CongKHCB -> 0 | I7: =_CongCSKT -> 0 | J7: =_CongKCT -> 0 | K7: =_CongKCK -> 0 | L7: =_CongKTVT -> 0 | M7: =_CongCNTT -> 0 | N7: =SUMIF('LICH THI'!$A:$A,'Theo Ngay'!$A7,'LICH THI'!X:X) -> 0 | P7: =N7-2*F7 -> -8 | Q7: =SUMIF('LICH THI'!$A:$A,'Theo Ngay'!$A7,'LICH THI'!N:N) -> 122 | S7: 21 | T7: =+S7-F7 -> 17
A8: =_Ngay_Gio_ -> 42812.542 | B8: =_Gio_ -> 13:00 | C8: =_stt -> 3 | D8: =D7 -> 42812 | E8: 3 | F8: =_CongSP_ -> 0 | G8: =_CongLLCT -> 0 | H8: =_CongKHCB -> 0 | I8: =_CongCSKT -> 0 | J8: =_CongKCT -> 0 | K8: =_CongKCK -> 0 | L8: =_CongKTVT -> 0 | M8: =_CongCNTT -> 0 | N8: =SUMIF('LICH THI'!$A:$A,'Theo Ngay'!$A8,'LICH THI'!X:X) -> 0 | P8: =N8-2*F8 -> 0 | Q8: =SUMIF('LICH THI'!$A:$A,'Theo Ngay'!$A8,'LICH THI'!N:N) -> 0 | S8: 15 | T8: =+S8-F8 -> 15
A9: =_Ngay_Gio_ -> 42812.625 | B9: =_Gio_ -> 15:00 | C9: =_stt -> 4 | D9: =D8 -> 42812 | E9: 4 | F9: =_CongSP_ -> 0 | G9: =_CongLLCT -> 0 | H9: =_CongKHCB -> 0 | I9: =_CongCSKT -> 0 | J9: =_CongKCT -> 0 | K9: =_CongKCK -> 0 | L9: =_CongKTVT -> 0 | M9: =_CongCNTT -> 0 | N9: =SUMIF('LICH THI'!$A:$A,'Theo Ngay'!$A9,'LICH THI'!X:X) -> 0 | P9: =N9-2*F9 -> 0 | Q9: =SUMIF('LICH THI'!$A:$A,'Theo Ngay'!$A9,'LICH THI'!N:N) -> 0 | S9: 2 | T9: =+S9-F9 -> 2
A10: =_Ngay_Gio_ -> 42812.75 | B10: =_Gio_ -> 18:00 | C10: =_stt -> 5 | D10: =D9 -> 42812 | E10: 5 | F10: =_CongSP_ -> 3 | G10: =_CongLLCT -> 0 | H10: =_CongKHCB -> 0 | I10: =_CongCSKT -> 0 | J10: =_CongKCT -> 0 | K10: =_CongKCK -> 0 | L10: =_CongKTVT -> 0 | M10: =_CongCNTT -> 0 | N10: =SUMIF('LICH THI'!$A:$A,'Theo Ngay'!$A10,'LICH THI'!X:X) -> 0 | P10: =N10-2*F10 -> -6 | Q10: =SUMIF('LICH THI'!$A:$A,'Theo Ngay'!$A10,'LICH THI'!N:N) -> 55 | S10: 0 | T10: =+S10-F10 -> -3
A11: =_Ngay_Gio_ -> 42813.292 | B11: =_Gio_ -> 7:00 | C11: =_stt -> 6 | D11: =+D6+1 -> 42813 | E11: 1 | F11: =_CongSP_ -> 0 | G11: =_CongLLCT -> 0 | H11: =_CongKHCB -> 0 | I11: =_CongCSKT -> 0 | J11: =_CongKCT -> 0 | K11: =_CongKCK -> 0 | L11: =_CongKTVT -> 0 | M11: =_CongCNTT -> 0 | N11: =SUMIF('LICH THI'!$A:$A,'Theo Ngay'!$A11,'LICH THI'!X:X) -> 0 | O11: =IF(D11="","",CHOOSE(WEEKDAY(D11),"(Cnhật)","(Thứ 2)","(Thứ 3)","(Thứ 4)","(Thứ 5)","(Thứ 6)","(Thứ 7)")) -> (Cnhật) | P11: =N11-2*F11 -> 0 | Q11: =SUMIF('LICH THI'!$A:$A,'Theo Ngay'!$A11,'LICH THI'!N:N) -> 0 | S11: 8 | T11: =+S11-F11 -> 8
A12: =_Ngay_Gio_ -> 42813.375 | B12: =_Gio_ -> 9:00 | C12: =_stt -> 7 | D12: =D11 -> 42813 | E12: 2 | F12: =_CongSP_ -> 0 | G12: =_CongLLCT -> 0 | H12: =_CongKHCB -> 0 | I12: =_CongCSKT -> 0 | J12: =_CongKCT -> 0 | K12: =_CongKCK -> 0 | L12: =_CongKTVT -> 0 | M12: =_CongCNTT -> 0 | N12: =SUMIF('LICH THI'!$A:$A,'Theo Ngay'!$A12,'LICH THI'!X:X) -> 0 | P12: =N12-2*F12 -> 0 | Q12: =SUMIF('LICH THI'!$A:$A,'Theo Ngay'!$A12,'LICH THI'!N:N) -> 0 | S12: 9 | T12: =+S12-F12 -> 9
A13: =_Ngay_Gio_ -> 42813.542 | B13: =_Gio_ -> 13:00 | C13: =_stt -> 8 | D13: =D12 -> 42813 | E13: 3 | F13: =_CongSP_ -> 0 | G13: =_CongLLCT -> 0 | H13: =_CongKHCB -> 0 | I13: =_CongCSKT -> 0 | J13: =_CongKCT -> 0 | K13: =_CongKCK -> 0 | L13: =_CongKTVT -> 0 | M13: =_CongCNTT -> 0 | N13: =SUMIF('LICH THI'!$A:$A,'Theo Ngay'!$A13,'LICH THI'!X:X) -> 0 | P13: =N13-2*F13 -> 0 | Q13: =SUMIF('LICH THI'!$A:$A,'Theo Ngay'!$A13,'LICH THI'!N:N) -> 0 | S13: 5 | T13: =+S13-F13 -> 5
A14: =_Ngay_Gio_ -> 42813.625 | B14: =_Gio_ -> 15:00 | C14: =_stt -> 9 | D14: =D13 -> 42813 | E14: 4 | F14: =_CongSP_ -> 0 | G14: =_CongLLCT -> 0 | H14: =_CongKHCB -> 0 | I14: =_CongCSKT -> 0 | J14: =_CongKCT -> 0 | K14: =_CongKCK -> 0 | L14: =_CongKTVT -> 0 | M14: =_CongCNTT -> 0 | N14: =SUMIF('LICH THI'!$A:$A,'Theo Ngay'!$A14,'LICH THI'!X:X) -> 0 | P14: =N14-2*F14 -> 0 | Q14: =SUMIF('LICH THI'!$A:$A,'Theo Ngay'!$A14,'LICH THI'!N:N) -> 0 | S14: 9 | T14: =+S14-F14 -> 9
A15: =_Ngay_Gio_ -> 42813.75 | B15: =_Gio_ -> 18:00 | C15: =_stt -> 10 | D15: =D14 -> 42813 | E15: 5 | F15: =_CongSP_ -> 5 | G15: =_CongLLCT -> 0 | H15: =_CongKHCB -> 0 | I15: =_CongCSKT -> 0 | J15: =_CongKCT -> 0 | K15: =_CongKCK -> 0 | L15: =_CongKTVT -> 0 | M15: =_CongCNTT -> 0 | N15: =SUMIF('LICH THI'!$A:$A,'Theo Ngay'!$A15,'LICH THI'!X:X) -> 0 | P15: =N15-2*F15 -> -10 | Q15: =SUMIF('LICH THI'!$A:$A,'Theo Ngay'!$A15,'LICH THI'!N:N) -> 150 | S15: 0 | T15: =+S15-F15 -> -5
A16: =_Ngay_Gio_ -> 42814.292 | B16: =_Gio_ -> 7:00 | C16: =_stt -> 11 | D16: =+D11+1 -> 42814 | E16: 1 | F16: =_CongSP_ -> 0 | G16: =_CongLLCT -> 0 | H16: =_CongKHCB -> 0 | I16: =_CongCSKT -> 0 | J16: =_CongKCT -> 0 | K16: =_CongKCK -> 0 | L16: =_CongKTVT -> 0 | M16: =_CongCNTT -> 0 | N16: =SUMIF('LICH THI'!$A:$A,'Theo Ngay'!$A16,'LICH THI'!X:X) -> 0 | O16: =IF(D16="","",CHOOSE(WEEKDAY(D16),"(Cnhật)","(Thứ 2)","(Thứ 3)","(Thứ 4)","(Thứ 5)","(Thứ 6)","(Thứ 7)")) -> (Thứ 2) | P16: =N16-2*F16 -> 0 | Q16: =SUMIF('LICH THI'!$A:$A,'Theo Ngay'!$A16,'LICH THI'!N:N) -> 0 | S16: 0 | T16: =+S16-F16 -> 0
A17: =_Ngay_Gio_ -> 42814.375 | B17: =_Gio_ -> 9:00 | C17: =_stt -> 12 | D17: =D16 -> 42814 | E17: 2 | F17: =_CongSP_ -> 0 | G17: =_CongLLCT -> 0 | H17: =_CongKHCB -> 0 | I17: =_CongCSKT -> 0 | J17: =_CongKCT -> 0 | K17: =_CongKCK -> 0 | L17: =_CongKTVT -> 0 | M17: =_CongCNTT -> 0 | N17: =SUMIF('LICH THI'!$A:$A,'Theo Ngay'!$A17,'LICH THI'!X:X) -> 0 | P17: =N17-2*F17 -> 0 | Q17: =SUMIF('LICH THI'!$A:$A,'Theo Ngay'!$A17,'LICH THI'!N:N) -> 0 | S17: 6 | T17: =+S17-F17 -> 6
A18: =_Ngay_Gio_ -> 42814.542 | B18: =_Gio_ -> 13:00 | C18: =_stt -> 13 | D18: =D17 -> 42814 | E18: 3 | F18: =_CongSP_ -> 0 | G18: =_CongLLCT -> 0 | H18: =_CongKHCB -> 0 | I18: =_CongCSKT -> 0 | J18: =_CongKCT -> 0 | K18: =_CongKCK -> 0 | L18: =_CongKTVT -> 0 | M18: =_CongCNTT -> 0 | N18: =SUMIF('LICH THI'!$A:$A,'Theo Ngay'!$A18,'LICH THI'!X:X) -> 0 | P18: =N18-2*F18 -> 0 | Q18: =SUMIF('LICH THI'!$A:$A,'Theo Ngay'!$A18,'LICH THI'!N:N) -> 0 | S18: 0 | T18: =+S18-F18 -> 0
A19: =_Ngay_Gio_ -> 42814.625 | B19: =_Gio_ -> 15:00 | C19: =_stt -> 14 | D19: =D18 -> 42814 | E19: 4 | F19: =_CongSP_ -> 0 | G19: =_CongLLCT -> 0 | H19: =_CongKHCB -> 0 | I19: =_CongCSKT -> 0 | J19: =_CongKCT -> 0 | K19: =_CongKCK -> 0 | L19: =_CongKTVT -> 0 | M19: =_CongCNTT -> 0 | N19: =SUMIF('LICH THI'!$A:$A,'Theo Ngay'!$A19,'LICH THI'!X:X) -> 0 | P19: =N19-2*F19 -> 0 | Q19: =SUMIF('LICH THI'!$A:$A,'Theo Ngay'!$A19,'LICH THI'!N:N) -> 0 | S19: 0 | T19: =+S19-F19 -> 0
A20: =_Ngay_Gio_ -> 42814.75 | B20: =_Gio_ -> 18:00 | C20: =_stt -> 15 | D20: =D19 -> 42814 | E20: 5 | F20: =_CongSP_ -> 0 | G20: =_CongLLCT -> 0 | H20: =_CongKHCB -> 0 | I20: =_CongCSKT -> 0 | J20: =_CongKCT -> 0 | K20: =_CongKCK -> 0 | L20: =_CongKTVT -> 0 | M20: =_CongCNTT -> 0 | N20: =SUMIF('LICH THI'!$A:$A,'Theo Ngay'!$A20,'LICH THI'!X:X) -> 0 | P20: =N20-2*F20 -> 0 | Q20: =SUMIF('LICH THI'!$A:$A,'Theo Ngay'!$A20,'LICH THI'!N:N) -> 0 | S20: 0 | T20: =+S20-F20 -> 0
A21: =_Ngay_Gio_ -> 42815.292 | B21: =_Gio_ -> 7:00 | C21: =_stt -> 16 | D21: =+D16+1 -> 42815 | E21: 1 | F21: =_CongSP_ -> 0 | G21: =_CongLLCT -> 0 | H21: =_CongKHCB -> 0 | I21: =_CongCSKT -> 0 | J21: =_CongKCT -> 0 | K21: =_CongKCK -> 0 | L21: =_CongKTVT -> 0 | M21: =_CongCNTT -> 0 | N21: =SUMIF('LICH THI'!$A:$A,'Theo Ngay'!$A21,'LICH THI'!X:X) -> 0 | O21: =IF(D21="","",CHOOSE(WEEKDAY(D21),"(Cnhật)","(Thứ 2)","(Thứ 3)","(Thứ 4)","(Thứ 5)","(Thứ 6)","(Thứ 7)")) -> (Thứ 3) | P21: =N21-2*F21 -> 0 | Q21: =SUMIF('LICH THI'!$A:$A,'Theo Ngay'!$A21,'LICH THI'!N:N) -> 0 | S21: 15 | T21: =+S21-F21 -> 15
A22: =_Ngay_Gio_ -> 42815.375 | B22: =_Gio_ -> 9:00 | C22: =_stt -> 17 | D22: =D21 -> 42815 | E22: 2 | F22: =_CongSP_ -> 0 | G22: =_CongLLCT -> 0 | H22: =_CongKHCB -> 0 | I22: =_CongCSKT -> 0 | J22: =_CongKCT -> 0 | K22: =_CongKCK -> 0 | L22: =_CongKTVT -> 0 | M22: =_CongCNTT -> 0 | N22: =SUMIF('LICH THI'!$A:$A,'Theo Ngay'!$A22,'LICH THI'!X:X) -> 0 | P22: =N22-2*F22 -> 0 | Q22: =SUMIF('LICH THI'!$A:$A,'Theo Ngay'!$A22,'LICH THI'!N:N) -> 0 | S22: 21 | T22: =+S22-F22 -> 21
A23: =_Ngay_Gio_ -> 42815.542 | B23: =_Gio_ -> 13:00 | C23: =_stt -> 18 | D23: =D22 -> 42815 | E23: 3 | F23: =_CongSP_ -> 0 | G23: =_CongLLCT -> 0 | H23: =_CongKHCB -> 0 | I23: =_CongCSKT -> 0 | J23: =_CongKCT -> 0 | K23: =_CongKCK -> 0 | L23: =_CongKTVT -> 0 | M23: =_CongCNTT -> 0 | N23: =SUMIF('LICH THI'!$A:$A,'Theo Ngay'!$A23,'LICH THI'!X:X) -> 0 | P23: =N23-2*F23 -> 0 | Q23: =SUMIF('LICH THI'!$A:$A,'Theo Ngay'!$A23,'LICH THI'!N:N) -> 0 | S23: 26 | T23: =+S23-F23 -> 26
A24: =_Ngay_Gio_ -> 42815.625 | B24: =_Gio_ -> 15:00 | C24: =_stt -> 19 | D24: =D23 -> 42815 | E24: 4 | F24: =_CongSP_ -> 0 | G24: =_CongLLCT -> 0 | H24: =_CongKHCB -> 0 | I24: =_CongCSKT -> 0 | J24: =_CongKCT -> 0 | K24: =_CongKCK -> 0 | L24: =_CongKTVT -> 0 | M24: =_CongCNTT -> 0 | N24: =SUMIF('LICH THI'!$A:$A,'Theo Ngay'!$A24,'LICH THI'!X:X) -> 0 | P24: =N24-2*F24 -> 0 | Q24: =SUMIF('LICH THI'!$A:$A,'Theo Ngay'!$A24,'LICH THI'!N:N) -> 0 | S24: 23 | T24: =+S24-F24 -> 23
A25: =_Ngay_Gio_ -> 42815.75 | B25: =_Gio_ -> 18:00 | C25: =_stt -> 20 | D25: =D24 -> 42815 | E25: 5 | F25: =_CongSP_ -> 0 | G25: =_CongLLCT -> 0 | H25: =_CongKHCB -> 0 | I25: =_CongCSKT -> 0 | J25: =_CongKCT -> 0 | K25: =_CongKCK -> 0 | L25: =_CongKTVT -> 0 | M25: =_CongCNTT -> 0 | N25: =SUMIF('LICH THI'!$A:$A,'Theo Ngay'!$A25,'LICH THI'!X:X) -> 0 | P25: =N25-2*F25 -> 0 | Q25: =SUMIF('LICH THI'!$A:$A,'Theo Ngay'!$A25,'LICH THI'!N:N) -> 0 | S25: 0 | T25: =+S25-F25 -> 0
A26: =_Ngay_Gio_ -> 42816.292 | B26: =_Gio_ -> 7:00 | C26: =_stt -> 21 | D26: =+D21+1 -> 42816 | E26: 1 | F26: =_CongSP_ -> 0 | G26: =_CongLLCT -> 0 | H26: =_CongKHCB -> 0 | I26: =_CongCSKT -> 0 | J26: =_CongKCT -> 0 | K26: =_CongKCK -> 0 | L26: =_CongKTVT -> 0 | M26: =_CongCNTT -> 0 | N26: =SUMIF('LICH THI'!$A:$A,'Theo Ngay'!$A26,'LICH THI'!X:X) -> 0 | O26: =IF(D26="","",CHOOSE(WEEKDAY(D26),"(Cnhật)","(Thứ 2)","(Thứ 3)","(Thứ 4)","(Thứ 5)","(Thứ 6)","(Thứ 7)")) -> (Thứ 4) | P26: =N26-2*F26 -> 0 | Q26: =SUMIF('LICH THI'!$A:$A,'Theo Ngay'!$A26,'LICH THI'!N:N) -> 0 | S26: 0 | T26: =+S26-F26 -> 0
A27: =_Ngay_Gio_ -> 42816.375 | B27: =_Gio_ -> 9:00 | C27: =_stt -> 22 | D27: =D26 -> 42816 | E27: 2 | F27: =_CongSP_ -> 0 | G27: =_CongLLCT -> 0 | H27: =_CongKHCB -> 0 | I27: =_CongCSKT -> 0 | J27: =_CongKCT -> 0 | K27: =_CongKCK -> 0 | L27: =_CongKTVT -> 0 | M27: =_CongCNTT -> 0 | N27: =SUMIF('LICH THI'!$A:$A,'Theo Ngay'!$A27,'LICH THI'!X:X) -> 0 | P27: =N27-2*F27 -> 0 | Q27: =SUMIF('LICH THI'!$A:$A,'Theo Ngay'!$A27,'LICH THI'!N:N) -> 0 | S27: 0 | T27: =+S27-F27 -> 0
A28: =_Ngay_Gio_ -> 42816.542 | B28: =_Gio_ -> 13:00 | C28: =_stt -> 23 | D28: =D27 -> 42816 | E28: 3 | F28: =_CongSP_ -> 0 | G28: =_CongLLCT -> 0 | H28: =_CongKHCB -> 0 | I28: =_CongCSKT -> 0 | J28: =_CongKCT -> 0 | K28: =_CongKCK -> 0 | L28: =_CongKTVT -> 0 | M28: =_CongCNTT -> 0 | N28: =SUMIF('LICH THI'!$A:$A,'Theo Ngay'!$A28,'LICH THI'!X:X) -> 0 | P28: =N28-2*F28 -> 0 | Q28: =SUMIF('LICH THI'!$A:$A,'Theo Ngay'!$A28,'LICH THI'!N:N) -> 0 | S28: 0 | T28: =+S28-F28 -> 0
A29: =_Ngay_Gio_ -> 42816.625 | B29: =_Gio_ -> 15:00 | C29: =_stt -> 24 | D29: =D28 -> 42816 | E29: 4 | F29: =_CongSP_ -> 0 | G29: =_CongLLCT -> 0 | H29: =_CongKHCB -> 0 | I29: =_CongCSKT -> 0 | J29: =_CongKCT -> 0 | K29: =_CongKCK -> 0 | L29: =_CongKTVT -> 0 | M29: =_CongCNTT -> 0 | N29: =SUMIF('LICH THI'!$A:$A,'Theo Ngay'!$A29,'LICH THI'!X:X) -> 0 | P29: =N29-2*F29 -> 0 | Q29: =SUMIF('LICH THI'!$A:$A,'Theo Ngay'!$A29,'LICH THI'!N:N) -> 0 | S29: 0 | T29: =+S29-F29 -> 0
A30: =_Ngay_Gio_ -> 42816.75 | B30: =_Gio_ -> 18:00 | C30: =_stt -> 25 | D30: =D29 -> 42816 | E30: 5 | F30: =_CongSP_ -> 0 | G30: =_CongLLCT -> 0 | H30: =_CongKHCB -> 0 | I30: =_CongCSKT -> 0 | J30: =_CongKCT -> 0 | K30: =_CongKCK -> 0 | L30: =_CongKTVT -> 0 | M30: =_CongCNTT -> 0 | N30: =SUMIF('LICH THI'!$A:$A,'Theo Ngay'!$A30,'LICH THI'!X:X) -> 0 | P30: =N30-2*F30 -> 0 | Q30: =SUMIF('LICH THI'!$A:$A,'Theo Ngay'!$A30,'LICH THI'!N:N) -> 0 | S30: 0 | T30: =+S30-F30 -> 0
A31: =_Ngay_Gio_ -> 42817.292 | B31: =_Gio_ -> 7:00 | C31: =_stt -> 26 | D31: =+D26+1 -> 42817 | E31: 1 | F31: =_CongSP_ -> 0 | G31: =_CongLLCT -> 0 | H31: =_CongKHCB -> 0 | I31: =_CongCSKT -> 0 | J31: =_CongKCT -> 0 | K31: =_CongKCK -> 0 | L31: =_CongKTVT -> 0 | M31: =_CongCNTT -> 0 | N31: =SUMIF('LICH THI'!$A:$A,'Theo Ngay'!$A31,'LICH THI'!X:X) -> 0 | O31: =IF(D31="","",CHOOSE(WEEKDAY(D31),"(Cnhật)","(Thứ 2)","(Thứ 3)","(Thứ 4)","(Thứ 5)","(Thứ 6)","(Thứ 7)")) -> (Thứ 5) | P31: =N31-2*F31 -> 0 | Q31: =SUMIF('LICH THI'!$A:$A,'Theo Ngay'!$A31,'LICH THI'!N:N) -> 0 | S31: 0 | T31: =+S31-F31 -> 0
A32: =_Ngay_Gio_ -> 42817.375 | B32: =_Gio_ -> 9:00 | C32: =_stt -> 27 | D32: =D31 -> 42817 | E32: 2 | F32: =_CongSP_ -> 0 | G32: =_CongLLCT -> 0 | H32: =_CongKHCB -> 0 | I32: =_CongCSKT -> 0 | J32: =_CongKCT -> 0 | K32: =_CongKCK -> 0 | L32: =_CongKTVT -> 0 | M32: =_CongCNTT -> 0 | N32: =SUMIF('LICH THI'!$A:$A,'Theo Ngay'!$A32,'LICH THI'!X:X) -> 0 | P32: =N32-2*F32 -> 0 | Q32: =SUMIF('LICH THI'!$A:$A,'Theo Ngay'!$A32,'LICH THI'!N:N) -> 0 | S32: 0 | T32: =+S32-F32 -> 0
A33: =_Ngay_Gio_ -> 42817.542 | B33: =_Gio_ -> 13:00 | C33: =_stt -> 28 | D33: =D32 -> 42817 | E33: 3 | F33: =_CongSP_ -> 0 | G33: =_CongLLCT -> 0 | H33: =_CongKHCB -> 0 | I33: =_CongCSKT -> 0 | J33: =_CongKCT -> 0 | K33: =_CongKCK -> 0 | L33: =_CongKTVT -> 0 | M33: =_CongCNTT -> 0 | N33: =SUMIF('LICH THI'!$A:$A,'Theo Ngay'!$A33,'LICH THI'!X:X) -> 0 | P33: =N33-2*F33 -> 0 | Q33: =SUMIF('LICH THI'!$A:$A,'Theo Ngay'!$A33,'LICH THI'!N:N) -> 0 | S33: 0 | T33: =+S33-F33 -> 0
A34: =_Ngay_Gio_ -> 42817.625 | B34: =_Gio_ -> 15:00 | C34: =_stt -> 29 | D34: =D33 -> 42817 | E34: 4 | F34: =_CongSP_ -> 0 | G34: =_CongLLCT -> 0 | H34: =_CongKHCB -> 0 | I34: =_CongCSKT -> 0 | J34: =_CongKCT -> 0 | K34: =_CongKCK -> 0 | L34: =_CongKTVT -> 0 | M34: =_CongCNTT -> 0 | N34: =SUMIF('LICH THI'!$A:$A,'Theo Ngay'!$A34,'LICH THI'!X:X) -> 0 | P34: =N34-2*F34 -> 0 | Q34: =SUMIF('LICH THI'!$A:$A,'Theo Ngay'!$A34,'LICH THI'!N:N) -> 0 | S34: 0 | T34: =+S34-F34 -> 0
A35: =_Ngay_Gio_ -> 42817.75 | B35: =_Gio_ -> 18:00 | C35: =_stt -> 30 | D35: =D34 -> 42817 | E35: 5 | F35: =_CongSP_ -> 0 | G35: =_CongLLCT -> 0 | H35: =_CongKHCB -> 0 | I35: =_CongCSKT -> 0 | J35: =_CongKCT -> 0 | K35: =_CongKCK -> 0 | L35: =_CongKTVT -> 0 | M35: =_CongCNTT -> 0 | N35: =SUMIF('LICH THI'!$A:$A,'Theo Ngay'!$A35,'LICH THI'!X:X) -> 0 | P35: =N35-2*F35 -> 0 | Q35: =SUMIF('LICH THI'!$A:$A,'Theo Ngay'!$A35,'LICH THI'!N:N) -> 0 | S35: 0 | T35: =+S35-F35 -> 0
A36: =_Ngay_Gio_ -> 42818.292 | B36: =_Gio_ -> 7:00 | C36: =_stt -> 31 | D36: =+D31+1 -> 42818 | E36: 1 | F36: =_CongSP_ -> 0 | G36: =_CongLLCT -> 0 | H36: =_CongKHCB -> 0 | I36: =_CongCSKT -> 0 | J36: =_CongKCT -> 0 | K36: =_CongKCK -> 0 | L36: =_CongKTVT -> 0 | M36: =_CongCNTT -> 0 | N36: =SUMIF('LICH THI'!$A:$A,'Theo Ngay'!$A36,'LICH THI'!X:X) -> 0 | O36: =IF(D36="","",CHOOSE(WEEKDAY(D36),"(Cnhật)","(Thứ 2)","(Thứ 3)","(Thứ 4)","(Thứ 5)","(Thứ 6)","(Thứ 7)")) -> (Thứ 6) | P36: =N36-2*F36 -> 0 | Q36: =SUMIF('LICH THI'!$A:$A,'Theo Ngay'!$A36,'LICH THI'!N:N) -> 0 | S36: 15 | T36: =+S36-F36 -> 15
A37: =_Ngay_Gio_ -> 42818.375 | B37: =_Gio_ -> 9:00 | C37: =_stt -> 32 | D37: =D36 -> 42818 | E37: 2 | F37: =_CongSP_ -> 0 | G37: =_CongLLCT -> 0 | H37: =_CongKHCB -> 0 | I37: =_CongCSKT -> 0 | J37: =_CongKCT -> 0 | K37: =_CongKCK -> 0 | L37: =_CongKTVT -> 0 | M37: =_CongCNTT -> 0 | N37: =SUMIF('LICH THI'!$A:$A,'Theo Ngay'!$A37,'LICH THI'!X:X) -> 0 | P37: =N37-2*F37 -> 0 | Q37: =SUMIF('LICH THI'!$A:$A,'Theo Ngay'!$A37,'LICH THI'!N:N) -> 0 | S37: 15 | T37: =+S37-F37 -> 15
A38: =_Ngay_Gio_ -> 42818.542 | B38: =_Gio_ -> 13:00 | C38: =_stt -> 33 | D38: =D37 -> 42818 | E38: 3 | F38: =_CongSP_ -> 0 | G38: =_CongLLCT -> 0 | H38: =_CongKHCB -> 0 | I38: =_CongCSKT -> 0 | J38: =_CongKCT -> 0 | K38: =_CongKCK -> 0 | L38: =_CongKTVT -> 0 | M38: =_CongCNTT -> 0 | N38: =SUMIF('LICH THI'!$A:$A,'Theo Ngay'!$A38,'LICH THI'!X:X) -> 0 | P38: =N38-2*F38 -> 0 | Q38: =SUMIF('LICH THI'!$A:$A,'Theo Ngay'!$A38,'LICH THI'!N:N) -> 0 | S38: 17 | T38: =+S38-F38 -> 17
A39: =_Ngay_Gio_ -> 42818.625 | B39: =_Gio_ -> 15:00 | C39: =_stt -> 34 | D39: =D38 -> 42818 | E39: 4 | F39: =_CongSP_ -> 0 | G39: =_CongLLCT -> 0 | H39: =_CongKHCB -> 0 | I39: =_CongCSKT -> 0 | J39: =_CongKCT -> 0 | K39: =_CongKCK -> 0 | L39: =_CongKTVT -> 0 | M39: =_CongCNTT -> 0 | N39: =SUMIF('LICH THI'!$A:$A,'Theo Ngay'!$A39,'LICH THI'!X:X) -> 0 | P39: =N39-2*F39 -> 0 | Q39: =SUMIF('LICH THI'!$A:$A,'Theo Ngay'!$A39,'LICH THI'!N:N) -> 0 | S39: 16 | T39: =+S39-F39 -> 16
A40: =_Ngay_Gio_ -> 42818.75 | B40: =_Gio_ -> 18:00 | C40: =_stt -> 35 | D40: =D39 -> 42818 | E40: 5 | F40: =_CongSP_ -> 0 | G40: =_CongLLCT -> 0 | H40: =_CongKHCB -> 0 | I40: =_CongCSKT -> 0 | J40: =_CongKCT -> 0 | K40: =_CongKCK -> 0 | L40: =_CongKTVT -> 0 | M40: =_CongCNTT -> 0 | N40: =SUMIF('LICH THI'!$A:$A,'Theo Ngay'!$A40,'LICH THI'!X:X) -> 0 | P40: =N40-2*F40 -> 0 | Q40: =SUMIF('LICH THI'!$A:$A,'Theo Ngay'!$A40,'LICH THI'!N:N) -> 0 | S40: 0 | T40: =+S40-F40 -> 0
A41: =_Ngay_Gio_ -> 42819.292 | B41: =_Gio_ -> 7:00 | C41: =_stt -> 36 | D41: =+D36+1 -> 42819 | E41: 1 | F41: =_CongSP_ -> 0 | G41: =_CongLLCT -> 0 | H41: =_CongKHCB -> 0 | I41: =_CongCSKT -> 0 | J41: =_CongKCT -> 0 | K41: =_CongKCK -> 0 | L41: =_CongKTVT -> 0 | M41: =_CongCNTT -> 0 | N41: =SUMIF('LICH THI'!$A:$A,'Theo Ngay'!$A41,'LICH THI'!X:X) -> 0 | O41: =IF(D41="","",CHOOSE(WEEKDAY(D41),"(Cnhật)","(Thứ 2)","(Thứ 3)","(Thứ 4)","(Thứ 5)","(Thứ 6)","(Thứ 7)")) -> (Thứ 7) | P41: =N41-2*F41 -> 0 | Q41: =SUMIF('LICH THI'!$A:$A,'Theo Ngay'!$A41,'LICH THI'!N:N) -> 0 | S41: 7 | T41: =+S41-F41 -> 7
A42: =_Ngay_Gio_ -> 42819.375 | B42: =_Gio_ -> 9:00 | C42: =_stt -> 37 | D42: =D41 -> 42819 | E42: 2 | F42: =_CongSP_ -> 0 | G42: =_CongLLCT -> 0 | H42: =_CongKHCB -> 0 | I42: =_CongCSKT -> 0 | J42: =_CongKCT -> 0 | K42: =_CongKCK -> 0 | L42: =_CongKTVT -> 0 | M42: =_CongCNTT -> 0 | N42: =SUMIF('LICH THI'!$A:$A,'Theo Ngay'!$A42,'LICH THI'!X:X) -> 0 | P42: =N42-2*F42 -> 0 | Q42: =SUMIF('LICH THI'!$A:$A,'Theo Ngay'!$A42,'LICH THI'!N:N) -> 0 | S42: 7 | T42: =+S42-F42 -> 7
A43: =_Ngay_Gio_ -> 42819.542 | B43: =_Gio_ -> 13:00 | C43: =_stt -> 38 | D43: =D42 -> 42819 | E43: 3 | F43: =_CongSP_ -> 2 | G43: =_CongLLCT -> 0 | H43: =_CongKHCB -> 0 | I43: =_CongCSKT -> 0 | J43: =_CongKCT -> 0 | K43: =_CongKCK -> 0 | L43: =_CongKTVT -> 0 | M43: =_CongCNTT -> 0 | N43: =SUMIF('LICH THI'!$A:$A,'Theo Ngay'!$A43,'LICH THI'!X:X) -> 0 | P43: =N43-2*F43 -> -4 | Q43: =SUMIF('LICH THI'!$A:$A,'Theo Ngay'!$A43,'LICH THI'!N:N) -> 80 | S43: 17 | T43: =+S43-F43 -> 15
A44: =_Ngay_Gio_ -> 42819.625 | B44: =_Gio_ -> 15:00 | C44: =_stt -> 39 | D44: =D43 -> 42819 | E44: 4 | F44: =_CongSP_ -> 0 | G44: =_CongLLCT -> 0 | H44: =_CongKHCB -> 0 | I44: =_CongCSKT -> 0 | J44: =_CongKCT -> 0 | K44: =_CongKCK -> 0 | L44: =_CongKTVT -> 0 | M44: =_CongCNTT -> 0 | N44: =SUMIF('LICH THI'!$A:$A,'Theo Ngay'!$A44,'LICH THI'!X:X) -> 0 | P44: =N44-2*F44 -> 0 | Q44: =SUMIF('LICH THI'!$A:$A,'Theo Ngay'!$A44,'LICH THI'!N:N) -> 0 | S44: 15 | T44: =+S44-F44 -> 15
A45: =_Ngay_Gio_ -> 42819.75 | B45: =_Gio_ -> 18:00 | C45: =_stt -> 40 | D45: =D44 -> 42819 | E45: 5 | F45: =_CongSP_ -> 5 | G45: =_CongLLCT -> 0 | H45: =_CongKHCB -> 0 | I45: =_CongCSKT -> 0 | J45: =_CongKCT -> 0 | K45: =_CongKCK -> 0 | L45: =_CongKTVT -> 0 | M45: =_CongCNTT -> 0 | N45: =SUMIF('LICH THI'!$A:$A,'Theo Ngay'!$A45,'LICH THI'!X:X) -> 0 | P45: =N45-2*F45 -> -10 | Q45: =SUMIF('LICH THI'!$A:$A,'Theo Ngay'!$A45,'LICH THI'!N:N) -> 61 | S45: 0 | T45: =+S45-F45 -> -5
A46: =_Ngay_Gio_ -> 42820.292 | B46: =_Gio_ -> 7:00 | C46: =_stt -> 41 | D46: =+D41+1 -> 42820 | E46: 1 | F46: =_CongSP_ -> 0 | G46: =_CongLLCT -> 0 | H46: =_CongKHCB -> 0 | I46: =_CongCSKT -> 0 | J46: =_CongKCT -> 0 | K46: =_CongKCK -> 0 | L46: =_CongKTVT -> 0 | M46: =_CongCNTT -> 0 | N46: =SUMIF('LICH THI'!$A:$A,'Theo Ngay'!$A46,'LICH THI'!X:X) -> 0 | O46: =IF(D46="","",CHOOSE(WEEKDAY(D46),"(Cnhật)","(Thứ 2)","(Thứ 3)","(Thứ 4)","(Thứ 5)","(Thứ 6)","(Thứ 7)")) -> (Cnhật) | P46: =N46-2*F46 -> 0 | Q46: =SUMIF('LICH THI'!$A:$A,'Theo Ngay'!$A46,'LICH THI'!N:N) -> 0 | S46: 4 | T46: =+S46-F46 -> 4
A47: =_Ngay_Gio_ -> 42820.375 | B47: =_Gio_ -> 9:00 | C47: =_stt -> 42 | D47: =D46 -> 42820 | E47: 2 | F47: =_CongSP_ -> 0 | G47: =_CongLLCT -> 0 | H47: =_CongKHCB -> 0 | I47: =_CongCSKT -> 0 | J47: =_CongKCT -> 0 | K47: =_CongKCK -> 0 | L47: =_CongKTVT -> 0 | M47: =_CongCNTT -> 0 | N47: =SUMIF('LICH THI'!$A:$A,'Theo Ngay'!$A47,'LICH THI'!X:X) -> 0 | P47: =N47-2*F47 -> 0 | Q47: =SUMIF('LICH THI'!$A:$A,'Theo Ngay'!$A47,'LICH THI'!N:N) -> 0 | S47: 7 | T47: =+S47-F47 -> 7
A48: =_Ngay_Gio_ -> 42820.542 | B48: =_Gio_ -> 13:00 | C48: =_stt -> 43 | D48: =D47 -> 42820 | E48: 3 | F48: =_CongSP_ -> 0 | G48: =_CongLLCT -> 0 | H48: =_CongKHCB -> 0 | I48: =_CongCSKT -> 0 | J48: =_CongKCT -> 0 | K48: =_CongKCK -> 0 | L48: =_CongKTVT -> 0 | M48: =_CongCNTT -> 0 | N48: =SUMIF('LICH THI'!$A:$A,'Theo Ngay'!$A48,'LICH THI'!X:X) -> 0 | P48: =N48-2*F48 -> 0 | Q48: =SUMIF('LICH THI'!$A:$A,'Theo Ngay'!$A48,'LICH THI'!N:N) -> 0 | S48: 10 | T48: =+S48-F48 -> 10
A49: =_Ngay_Gio_ -> 42820.625 | B49: =_Gio_ -> 15:00 | C49: =_stt -> 44 | D49: =D48 -> 42820 | E49: 4 | F49: =_CongSP_ -> 0 | G49: =_CongLLCT -> 0 | H49: =_CongKHCB -> 0 | I49: =_CongCSKT -> 0 | J49: =_CongKCT -> 0 | K49: =_CongKCK -> 0 | L49: =_CongKTVT -> 0 | M49: =_CongCNTT -> 0 | N49: =SUMIF('LICH THI'!$A:$A,'Theo Ngay'!$A49,'LICH THI'!X:X) -> 0 | P49: =N49-2*F49 -> 0 | Q49: =SUMIF('LICH THI'!$A:$A,'Theo Ngay'!$A49,'LICH THI'!N:N) -> 0 | S49: 0 | T49: =+S49-F49 -> 0
A50: =_Ngay_Gio_ -> 42820.75 | B50: =_Gio_ -> 18:00 | C50: =_stt -> 45 | D50: =D49 -> 42820 | E50: 5 | F50: =_CongSP_ -> 1 | G50: =_CongLLCT -> 0 | H50: =_CongKHCB -> 0 | I50: =_CongCSKT -> 0 | J50: =_CongKCT -> 0 | K50: =_CongKCK -> 0 | L50: =_CongKTVT -> 0 | M50: =_CongCNTT -> 0 | N50: =SUMIF('LICH THI'!$A:$A,'Theo Ngay'!$A50,'LICH THI'!X:X) -> 0 | P50: =N50-2*F50 -> -2 | Q50: =SUMIF('LICH THI'!$A:$A,'Theo Ngay'!$A50,'LICH THI'!N:N) -> 11 | S50: 0 | T50: =+S50-F50 -> -1
A51: =_Ngay_Gio_ -> 42821.292 | B51: =_Gio_ -> 7:00 | C51: =_stt -> 46 | D51: =+D46+1 -> 42821 | E51: 1 | F51: =_CongSP_ -> 0 | G51: =_CongLLCT -> 0 | H51: =_CongKHCB -> 0 | I51: =_CongCSKT -> 0 | J51: =_CongKCT -> 0 | K51: =_CongKCK -> 0 | L51: =_CongKTVT -> 0 | M51: =_CongCNTT -> 0 | N51: =SUMIF('LICH THI'!$A:$A,'Theo Ngay'!$A51,'LICH THI'!X:X) -> 0 | O51: =IF(D51="","",CHOOSE(WEEKDAY(D51),"(Cnhật)","(Thứ 2)","(Thứ 3)","(Thứ 4)","(Thứ 5)","(Thứ 6)","(Thứ 7)")) -> (Thứ 2) | P51: =N51-2*F51 -> 0 | Q51: =SUMIF('LICH THI'!$A:$A,'Theo Ngay'!$A51,'LICH THI'!N:N) -> 0 | S51: 13 | T51: =+S51-F51 -> 13
A52: =_Ngay_Gio_ -> 42821.375 | B52: =_Gio_ -> 9:00 | C52: =_stt -> 47 | D52: =D51 -> 42821 | E52: 2 | F52: =_CongSP_ -> 0 | G52: =_CongLLCT -> 0 | H52: =_CongKHCB -> 0 | I52: =_CongCSKT -> 0 | J52: =_CongKCT -> 0 | K52: =_CongKCK -> 0 | L52: =_CongKTVT -> 0 | M52: =_CongCNTT -> 0 | N52: =SUMIF('LICH THI'!$A:$A,'Theo Ngay'!$A52,'LICH THI'!X:X) -> 0 | P52: =N52-2*F52 -> 0 | Q52: =SUMIF('LICH THI'!$A:$A,'Theo Ngay'!$A52,'LICH THI'!N:N) -> 0 | S52: 8 | T52: =+S52-F52 -> 8
A53: =_Ngay_Gio_ -> 42821.542 | B53: =_Gio_ -> 13:00 | C53: =_stt -> 48 | D53: =D52 -> 42821 | E53: 3 | F53: =_CongSP_ -> 0 | G53: =_CongLLCT -> 0 | H53: =_CongKHCB -> 0 | I53: =_CongCSKT -> 0 | J53: =_CongKCT -> 0 | K53: =_CongKCK -> 0 | L53: =_CongKTVT -> 0 | M53: =_CongCNTT -> 0 | N53: =SUMIF('LICH THI'!$A:$A,'Theo Ngay'!$A53,'LICH THI'!X:X) -> 0 | P53: =N53-2*F53 -> 0 | Q53: =SUMIF('LICH THI'!$A:$A,'Theo Ngay'!$A53,'LICH THI'!N:N) -> 0 | S53: 6 | T53: =+S53-F53 -> 6
A54: =_Ngay_Gio_ -> 42821.625 | B54: =_Gio_ -> 15:00 | C54: =_stt -> 49 | D54: =D53 -> 42821 | E54: 4 | F54: =_CongSP_ -> 0 | G54: =_CongLLCT -> 0 | H54: =_CongKHCB -> 0 | I54: =_CongCSKT -> 0 | J54: =_CongKCT -> 0 | K54: =_CongKCK -> 0 | L54: =_CongKTVT -> 0 | M54: =_CongCNTT -> 0 | N54: =SUMIF('LICH THI'!$A:$A,'Theo Ngay'!$A54,'LICH THI'!X:X) -> 0 | P54: =N54-2*F54 -> 0 | Q54: =SUMIF('LICH THI'!$A:$A,'Theo Ngay'!$A54,'LICH THI'!N:N) -> 0 | S54: 4 | T54: =+S54-F54 -> 4
A55: =_Ngay_Gio_ -> 42821.75 | B55: =_Gio_ -> 18:00 | C55: =_stt -> 50 | D55: =D54 -> 42821 | E55: 5 | F55: =_CongSP_ -> 0 | G55: =_CongLLCT -> 0 | H55: =_CongKHCB -> 0 | I55: =_CongCSKT -> 0 | J55: =_CongKCT -> 0 | K55: =_CongKCK -> 0 | L55: =_CongKTVT -> 0 | M55: =_CongCNTT -> 0 | N55: =SUMIF('LICH THI'!$A:$A,'Theo Ngay'!$A55,'LICH THI'!X:X) -> 0 | P55: =N55-2*F55 -> 0 | Q55: =SUMIF('LICH THI'!$A:$A,'Theo Ngay'!$A55,'LICH THI'!N:N) -> 0 | S55: 0 | T55: =+S55-F55 -> 0
A56: =_Ngay_Gio_ -> 42822.292 | B56: =_Gio_ -> 7:00 | C56: =_stt -> 51 | D56: =+D51+1 -> 42822 | E56: 1 | F56: =_CongSP_ -> 0 | G56: =_CongLLCT -> 0 | H56: =_CongKHCB -> 0 | I56: =_CongCSKT -> 0 | J56: =_CongKCT -> 0 | K56: =_CongKCK -> 0 | L56: =_CongKTVT -> 0 | M56: =_CongCNTT -> 0 | N56: =SUMIF('LICH THI'!$A:$A,'Theo Ngay'!$A56,'LICH THI'!X:X) -> 0 | O56: =IF(D56="","",CHOOSE(WEEKDAY(D56),"(Cnhật)","(Thứ 2)","(Thứ 3)","(Thứ 4)","(Thứ 5)","(Thứ 6)","(Thứ 7)")) -> (Thứ 3) | P56: =N56-2*F56 -> 0 | Q56: =SUMIF('LICH THI'!$A:$A,'Theo Ngay'!$A56,'LICH THI'!N:N) -> 0 | S56: 13 | T56: =+S56-F56 -> 13
A57: =_Ngay_Gio_ -> 42822.375 | B57: =_Gio_ -> 9:00 | C57: =_stt -> 52 | D57: =D56 -> 42822 | E57: 2 | F57: =_CongSP_ -> 0 | G57: =_CongLLCT -> 0 | H57: =_CongKHCB -> 0 | I57: =_CongCSKT -> 0 | J57: =_CongKCT -> 0 | K57: =_CongKCK -> 0 | L57: =_CongKTVT -> 0 | M57: =_CongCNTT -> 0 | N57: =SUMIF('LICH THI'!$A:$A,'Theo Ngay'!$A57,'LICH THI'!X:X) -> 0 | P57: =N57-2*F57 -> 0 | Q57: =SUMIF('LICH THI'!$A:$A,'Theo Ngay'!$A57,'LICH THI'!N:N) -> 0 | S57: 18 | T57: =+S57-F57 -> 18
A58: =_Ngay_Gio_ -> 42822.542 | B58: =_Gio_ -> 13:00 | C58: =_stt -> 53 | D58: =D57 -> 42822 | E58: 3 | F58: =_CongSP_ -> 0 | G58: =_CongLLCT -> 0 | H58: =_CongKHCB -> 0 | I58: =_CongCSKT -> 0 | J58: =_CongKCT -> 0 | K58: =_CongKCK -> 0 | L58: =_CongKTVT -> 0 | M58: =_CongCNTT -> 0 | N58: =SUMIF('LICH THI'!$A:$A,'Theo Ngay'!$A58,'LICH THI'!X:X) -> 0 | P58: =N58-2*F58 -> 0 | Q58: =SUMIF('LICH THI'!$A:$A,'Theo Ngay'!$A58,'LICH THI'!N:N) -> 0 | S58: 22 | T58: =+S58-F58 -> 22
A59: =_Ngay_Gio_ -> 42822.625 | B59: =_Gio_ -> 15:00 | C59: =_stt -> 54 | D59: =D58 -> 42822 | E59: 4 | F59: =_CongSP_ -> 0 | G59: =_CongLLCT -> 0 | H59: =_CongKHCB -> 0 | I59: =_CongCSKT -> 0 | J59: =_CongKCT -> 0 | K59: =_CongKCK -> 0 | L59: =_CongKTVT -> 0 | M59: =_CongCNTT -> 0 | N59: =SUMIF('LICH THI'!$A:$A,'Theo Ngay'!$A59,'LICH THI'!X:X) -> 0 | P59: =N59-2*F59 -> 0 | Q59: =SUMIF('LICH THI'!$A:$A,'Theo Ngay'!$A59,'LICH THI'!N:N) -> 0 | S59: 18 | T59: =+S59-F59 -> 18
A60: =_Ngay_Gio_ -> 42822.75 | B60: =_Gio_ -> 18:00 | C60: =_stt -> 55 | D60: =D59 -> 42822 | E60: 5 | F60: =_CongSP_ -> 0 | G60: =_CongLLCT -> 0 | H60: =_CongKHCB -> 0 | I60: =_CongCSKT -> 0 | J60: =_CongKCT -> 0 | K60: =_CongKCK -> 0 | L60: =_CongKTVT -> 0 | M60: =_CongCNTT -> 0 | N60: =SUMIF('LICH THI'!$A:$A,'Theo Ngay'!$A60,'LICH THI'!X:X) -> 0 | P60: =N60-2*F60 -> 0 | Q60: =SUMIF('LICH THI'!$A:$A,'Theo Ngay'!$A60,'LICH THI'!N:N) -> 0 | S60: 0 | T60: =+S60-F60 -> 0
A61: =_Ngay_Gio_ -> 42823.292 | B61: =_Gio_ -> 7:00 | C61: =_stt -> 56 | D61: =+D56+1 -> 42823 | E61: 1 | F61: =_CongSP_ -> 0 | G61: =_CongLLCT -> 0 | H61: =_CongKHCB -> 0 | I61: =_CongCSKT -> 0 | J61: =_CongKCT -> 0 | K61: =_CongKCK -> 0 | L61: =_CongKTVT -> 0 | M61: =_CongCNTT -> 0 | N61: =SUMIF('LICH THI'!$A:$A,'Theo Ngay'!$A61,'LICH THI'!X:X) -> 0 | O61: =IF(D61="","",CHOOSE(WEEKDAY(D61),"(Cnhật)","(Thứ 2)","(Thứ 3)","(Thứ 4)","(Thứ 5)","(Thứ 6)","(Thứ 7)")) -> (Thứ 4) | P61: =N61-2*F61 -> 0 | Q61: =SUMIF('LICH THI'!$A:$A,'Theo Ngay'!$A61,'LICH THI'!N:N) -> 0 | S61: 0 | T61: =+S61-F61 -> 0
A62: =_Ngay_Gio_ -> 42823.375 | B62: =_Gio_ -> 9:00 | C62: =_stt -> 57 | D62: =D61 -> 42823 | E62: 2 | F62: =_CongSP_ -> 0 | G62: =_CongLLCT -> 0 | H62: =_CongKHCB -> 0 | I62: =_CongCSKT -> 0 | J62: =_CongKCT -> 0 | K62: =_CongKCK -> 0 | L62: =_CongKTVT -> 0 | M62: =_CongCNTT -> 0 | N62: =SUMIF('LICH THI'!$A:$A,'Theo Ngay'!$A62,'LICH THI'!X:X) -> 0 | P62: =N62-2*F62 -> 0 | Q62: =SUMIF('LICH THI'!$A:$A,'Theo Ngay'!$A62,'LICH THI'!N:N) -> 0 | S62: 0 | T62: =+S62-F62 -> 0
A63: =_Ngay_Gio_ -> 42823.542 | B63: =_Gio_ -> 13:00 | C63: =_stt -> 58 | D63: =D62 -> 42823 | E63: 3 | F63: =_CongSP_ -> 0 | G63: =_CongLLCT -> 0 | H63: =_CongKHCB -> 0 | I63: =_CongCSKT -> 0 | J63: =_CongKCT -> 0 | K63: =_CongKCK -> 0 | L63: =_CongKTVT -> 0 | M63: =_CongCNTT -> 0 | N63: =SUMIF('LICH THI'!$A:$A,'Theo Ngay'!$A63,'LICH THI'!X:X) -> 0 | P63: =N63-2*F63 -> 0 | Q63: =SUMIF('LICH THI'!$A:$A,'Theo Ngay'!$A63,'LICH THI'!N:N) -> 0 | S63: 0 | T63: =+S63-F63 -> 0
A64: =_Ngay_Gio_ -> 42823.625 | B64: =_Gio_ -> 15:00 | C64: =_stt -> 59 | D64: =D63 -> 42823 | E64: 4 | F64: =_CongSP_ -> 0 | G64: =_CongLLCT -> 0 | H64: =_CongKHCB -> 0 | I64: =_CongCSKT -> 0 | J64: =_CongKCT -> 0 | K64: =_CongKCK -> 0 | L64: =_CongKTVT -> 0 | M64: =_CongCNTT -> 0 | N64: =SUMIF('LICH THI'!$A:$A,'Theo Ngay'!$A64,'LICH THI'!X:X) -> 0 | P64: =N64-2*F64 -> 0 | Q64: =SUMIF('LICH THI'!$A:$A,'Theo Ngay'!$A64,'LICH THI'!N:N) -> 0 | S64: 0 | T64: =+S64-F64 -> 0
A65: =_Ngay_Gio_ -> 42823.75 | B65: =_Gio_ -> 18:00 | C65: =_stt -> 60 | D65: =D64 -> 42823 | E65: 5 | F65: =_CongSP_ -> 0 | G65: =_CongLLCT -> 0 | H65: =_CongKHCB -> 0 | I65: =_CongCSKT -> 0 | J65: =_CongKCT -> 0 | K65: =_CongKCK -> 0 | L65: =_CongKTVT -> 0 | M65: =_CongCNTT -> 0 | N65: =SUMIF('LICH THI'!$A:$A,'Theo Ngay'!$A65,'LICH THI'!X:X) -> 0 | P65: =N65-2*F65 -> 0 | Q65: =SUMIF('LICH THI'!$A:$A,'Theo Ngay'!$A65,'LICH THI'!N:N) -> 0 | S65: 0 | T65: =+S65-F65 -> 0
A66: =_Ngay_Gio_ -> 42824.292 | B66: =_Gio_ -> 7:00 | C66: =_stt -> 61 | D66: =+D61+1 -> 42824 | E66: 1 | F66: =_CongSP_ -> 0 | G66: =_CongLLCT -> 0 | H66: =_CongKHCB -> 0 | I66: =_CongCSKT -> 0 | J66: =_CongKCT -> 0 | K66: =_CongKCK -> 0 | L66: =_CongKTVT -> 0 | M66: =_CongCNTT -> 0 | N66: =SUMIF('LICH THI'!$A:$A,'Theo Ngay'!$A66,'LICH THI'!X:X) -> 0 | O66: =IF(D66="","",CHOOSE(WEEKDAY(D66),"(Cnhật)","(Thứ 2)","(Thứ 3)","(Thứ 4)","(Thứ 5)","(Thứ 6)","(Thứ 7)")) -> (Thứ 5) | P66: =N66-2*F66 -> 0 | Q66: =SUMIF('LICH THI'!$A:$A,'Theo Ngay'!$A66,'LICH THI'!N:N) -> 0 | S66: 0 | T66: =+S66-F66 -> 0
A67: =_Ngay_Gio_ -> 42824.375 | B67: =_Gio_ -> 9:00 | C67: =_stt -> 62 | D67: =D66 -> 42824 | E67: 2 | F67: =_CongSP_ -> 0 | G67: =_CongLLCT -> 0 | H67: =_CongKHCB -> 0 | I67: =_CongCSKT -> 0 | J67: =_CongKCT -> 0 | K67: =_CongKCK -> 0 | L67: =_CongKTVT -> 0 | M67: =_CongCNTT -> 0 | N67: =SUMIF('LICH THI'!$A:$A,'Theo Ngay'!$A67,'LICH THI'!X:X) -> 0 | P67: =N67-2*F67 -> 0 | Q67: =SUMIF('LICH THI'!$A:$A,'Theo Ngay'!$A67,'LICH THI'!N:N) -> 0 | S67: 0 | T67: =+S67-F67 -> 0
A68: =_Ngay_Gio_ -> 42824.542 | B68: =_Gio_ -> 13:00 | C68: =_stt -> 63 | D68: =D67 -> 42824 | E68: 3 | F68: =_CongSP_ -> 0 | G68: =_CongLLCT -> 0 | H68: =_CongKHCB -> 0 | I68: =_CongCSKT -> 0 | J68: =_CongKCT -> 0 | K68: =_CongKCK -> 0 | L68: =_CongKTVT -> 0 | M68: =_CongCNTT -> 0 | N68: =SUMIF('LICH THI'!$A:$A,'Theo Ngay'!$A68,'LICH THI'!X:X) -> 0 | P68: =N68-2*F68 -> 0 | Q68: =SUMIF('LICH THI'!$A:$A,'Theo Ngay'!$A68,'LICH THI'!N:N) -> 0 | S68: 0 | T68: =+S68-F68 -> 0
A69: =_Ngay_Gio_ -> 42824.625 | B69: =_Gio_ -> 15:00 | C69: =_stt -> 64 | D69: =D68 -> 42824 | E69: 4 | F69: =_CongSP_ -> 0 | G69: =_CongLLCT -> 0 | H69: =_CongKHCB -> 0 | I69: =_CongCSKT -> 0 | J69: =_CongKCT -> 0 | K69: =_CongKCK -> 0 | L69: =_CongKTVT -> 0 | M69: =_CongCNTT -> 0 | N69: =SUMIF('LICH THI'!$A:$A,'Theo Ngay'!$A69,'LICH THI'!X:X) -> 0 | P69: =N69-2*F69 -> 0 | Q69: =SUMIF('LICH THI'!$A:$A,'Theo Ngay'!$A69,'LICH THI'!N:N) -> 0 | S69: 0 | T69: =+S69-F69 -> 0
A70: =_Ngay_Gio_ -> 42824.75 | B70: =_Gio_ -> 18:00 | C70: =_stt -> 65 | D70: =D69 -> 42824 | E70: 5 | F70: =_CongSP_ -> 0 | G70: =_CongLLCT -> 0 | H70: =_CongKHCB -> 0 | I70: =_CongCSKT -> 0 | J70: =_CongKCT -> 0 | K70: =_CongKCK -> 0 | L70: =_CongKTVT -> 0 | M70: =_CongCNTT -> 0 | N70: =SUMIF('LICH THI'!$A:$A,'Theo Ngay'!$A70,'LICH THI'!X:X) -> 0 | P70: =N70-2*F70 -> 0 | Q70: =SUMIF('LICH THI'!$A:$A,'Theo Ngay'!$A70,'LICH THI'!N:N) -> 0 | S70: 0 | T70: =+S70-F70 -> 0
A71: =_Ngay_Gio_ -> 42825.292 | B71: =_Gio_ -> 7:00 | C71: =_stt -> 66 | D71: =+D66+1 -> 42825 | E71: 1 | F71: =_CongSP_ -> 0 | G71: =_CongLLCT -> 0 | H71: =_CongKHCB -> 0 | I71: =_CongCSKT -> 0 | J71: =_CongKCT -> 0 | K71: =_CongKCK -> 0 | L71: =_CongKTVT -> 0 | M71: =_CongCNTT -> 0 | N71: =SUMIF('LICH THI'!$A:$A,'Theo Ngay'!$A71,'LICH THI'!X:X) -> 0 | O71: =IF(D71="","",CHOOSE(WEEKDAY(D71),"(Cnhật)","(Thứ 2)","(Thứ 3)","(Thứ 4)","(Thứ 5)","(Thứ 6)","(Thứ 7)")) -> (Thứ 6) | P71: =N71-2*F71 -> 0 | Q71: =SUMIF('LICH THI'!$A:$A,'Theo Ngay'!$A71,'LICH THI'!N:N) -> 0 | S71: 19 | T71: =+S71-F71 -> 19
A72: =_Ngay_Gio_ -> 42825.375 | B72: =_Gio_ -> 9:00 | C72: =_stt -> 67 | D72: =D71 -> 42825 | E72: 2 | F72: =_CongSP_ -> 0 | G72: =_CongLLCT -> 0 | H72: =_CongKHCB -> 0 | I72: =_CongCSKT -> 0 | J72: =_CongKCT -> 0 | K72: =_CongKCK -> 0 | L72: =_CongKTVT -> 0 | M72: =_CongCNTT -> 0 | N72: =SUMIF('LICH THI'!$A:$A,'Theo Ngay'!$A72,'LICH THI'!X:X) -> 0 | P72: =N72-2*F72 -> 0 | Q72: =SUMIF('LICH THI'!$A:$A,'Theo Ngay'!$A72,'LICH THI'!N:N) -> 0 | S72: 21 | T72: =+S72-F72 -> 21
A73: =_Ngay_Gio_ -> 42825.542 | B73: =_Gio_ -> 13:00 | C73: =_stt -> 68 | D73: =D72 -> 42825 | E73: 3 | F73: =_CongSP_ -> 0 | G73: =_CongLLCT -> 0 | H73: =_CongKHCB -> 0 | I73: =_CongCSKT -> 0 | J73: =_CongKCT -> 0 | K73: =_CongKCK -> 0 | L73: =_CongKTVT -> 0 | M73: =_CongCNTT -> 0 | N73: =SUMIF('LICH THI'!$A:$A,'Theo Ngay'!$A73,'LICH THI'!X:X) -> 0 | P73: =N73-2*F73 -> 0 | Q73: =SUMIF('LICH THI'!$A:$A,'Theo Ngay'!$A73,'LICH THI'!N:N) -> 0 | S73: 27 | T73: =+S73-F73 -> 27
A74: =_Ngay_Gio_ -> 42825.625 | B74: =_Gio_ -> 15:00 | C74: =_stt -> 69 | D74: =D73 -> 42825 | E74: 4 | F74: =_CongSP_ -> 0 | G74: =_CongLLCT -> 0 | H74: =_CongKHCB -> 0 | I74: =_CongCSKT -> 0 | J74: =_CongKCT -> 0 | K74: =_CongKCK -> 0 | L74: =_CongKTVT -> 0 | M74: =_CongCNTT -> 0 | N74: =SUMIF('LICH THI'!$A:$A,'Theo Ngay'!$A74,'LICH THI'!X:X) -> 0 | P74: =N74-2*F74 -> 0 | Q74: =SUMIF('LICH THI'!$A:$A,'Theo Ngay'!$A74,'LICH THI'!N:N) -> 0 | S74: 14 | T74: =+S74-F74 -> 14
A75: =_Ngay_Gio_ -> 42825.75 | B75: =_Gio_ -> 18:00 | C75: =_stt -> 70 | D75: =D74 -> 42825 | E75: 5 | F75: =_CongSP_ -> 0 | G75: =_CongLLCT -> 0 | H75: =_CongKHCB -> 0 | I75: =_CongCSKT -> 0 | J75: =_CongKCT -> 0 | K75: =_CongKCK -> 0 | L75: =_CongKTVT -> 0 | M75: =_CongCNTT -> 0 | N75: =SUMIF('LICH THI'!$A:$A,'Theo Ngay'!$A75,'LICH THI'!X:X) -> 0 | P75: =N75-2*F75 -> 0 | Q75: =SUMIF('LICH THI'!$A:$A,'Theo Ngay'!$A75,'LICH THI'!N:N) -> 0 | S75: 0 | T75: =+S75-F75 -> 0
A76: =_Ngay_Gio_ -> 42826.292 | B76: =_Gio_ -> 7:00 | C76: =_stt -> 71 | D76: =+D71+1 -> 42826 | E76: 1 | F76: =_CongSP_ -> 0 | G76: =_CongLLCT -> 0 | H76: =_CongKHCB -> 0 | I76: =_CongCSKT -> 0 | J76: =_CongKCT -> 0 | K76: =_CongKCK -> 0 | L76: =_CongKTVT -> 0 | M76: =_CongCNTT -> 0 | N76: =SUMIF('LICH THI'!$A:$A,'Theo Ngay'!$A76,'LICH THI'!X:X) -> 0 | O76: =IF(D76="","",CHOOSE(WEEKDAY(D76),"(Cnhật)","(Thứ 2)","(Thứ 3)","(Thứ 4)","(Thứ 5)","(Thứ 6)","(Thứ 7)")) -> (Thứ 7) | P76: =N76-2*F76 -> 0 | Q76: =SUMIF('LICH THI'!$A:$A,'Theo Ngay'!$A76,'LICH THI'!N:N) -> 0 | S76: 0 | T76: =+S76-F76 -> 0
A77: =_Ngay_Gio_ -> 42826.375 | B77: =_Gio_ -> 9:00 | C77: =_stt -> 72 | D77: =D76 -> 42826 | E77: 2 | F77: =_CongSP_ -> 0 | G77: =_CongLLCT -> 0 | H77: =_CongKHCB -> 0 | I77: =_CongCSKT -> 0 | J77: =_CongKCT -> 0 | K77: =_CongKCK -> 0 | L77: =_CongKTVT -> 0 | M77: =_CongCNTT -> 0 | N77: =SUMIF('LICH THI'!$A:$A,'Theo Ngay'!$A77,'LICH THI'!X:X) -> 0 | P77: =N77-2*F77 -> 0 | Q77: =SUMIF('LICH THI'!$A:$A,'Theo Ngay'!$A77,'LICH THI'!N:N) -> 0 | S77: 9 | T77: =+S77-F77 -> 9
A78: =_Ngay_Gio_ -> 42826.542 | B78: =_Gio_ -> 13:00 | C78: =_stt -> 73 | D78: =D77 -> 42826 | E78: 3 | F78: =_CongSP_ -> 0 | G78: =_CongLLCT -> 0 | H78: =_CongKHCB -> 0 | I78: =_CongCSKT -> 0 | J78: =_CongKCT -> 0 | K78: =_CongKCK -> 0 | L78: =_CongKTVT -> 0 | M78: =_CongCNTT -> 0 | N78: =SUMIF('LICH THI'!$A:$A,'Theo Ngay'!$A78,'LICH THI'!X:X) -> 0 | P78: =N78-2*F78 -> 0 | Q78: =SUMIF('LICH THI'!$A:$A,'Theo Ngay'!$A78,'LICH THI'!N:N) -> 0 | S78: 9 | T78: =+S78-F78 -> 9
A79: =_Ngay_Gio_ -> 42826.625 | B79: =_Gio_ -> 15:00 | C79: =_stt -> 74 | D79: =D78 -> 42826 | E79: 4 | F79: =_CongSP_ -> 0 | G79: =_CongLLCT -> 0 | H79: =_CongKHCB -> 0 | I79: =_CongCSKT -> 0 | J79: =_CongKCT -> 0 | K79: =_CongKCK -> 0 | L79: =_CongKTVT -> 0 | M79: =_CongCNTT -> 0 | N79: =SUMIF('LICH THI'!$A:$A,'Theo Ngay'!$A79,'LICH THI'!X:X) -> 0 | P79: =N79-2*F79 -> 0 | Q79: =SUMIF('LICH THI'!$A:$A,'Theo Ngay'!$A79,'LICH THI'!N:N) -> 0 | S79: 13 | T79: =+S79-F79 -> 13
A80: =_Ngay_Gio_ -> 42826.75 | B80: =_Gio_ -> 18:00 | C80: =_stt -> 75 | D80: =D79 -> 42826 | E80: 5 | F80: =_CongSP_ -> 0 | G80: =_CongLLCT -> 0 | H80: =_CongKHCB -> 0 | I80: =_CongCSKT -> 0 | J80: =_CongKCT -> 0 | K80: =_CongKCK -> 0 | L80: =_CongKTVT -> 0 | M80: =_CongCNTT -> 0 | N80: =SUMIF('LICH THI'!$A:$A,'Theo Ngay'!$A80,'LICH THI'!X:X) -> 0 | P80: =N80-2*F80 -> 0 | Q80: =SUMIF('LICH THI'!$A:$A,'Theo Ngay'!$A80,'LICH THI'!N:N) -> 0 | S80: 0 | T80: =+S80-F80 -> 0
A81: =_Ngay_Gio_ -> 42827.292 | B81: =_Gio_ -> 7:00 | C81: =_stt -> 76 | D81: =+D76+1 -> 42827 | E81: 1 | F81: =_CongSP_ -> 0 | G81: =_CongLLCT -> 0 | H81: =_CongKHCB -> 0 | I81: =_CongCSKT -> 0 | J81: =_CongKCT -> 0 | K81: =_CongKCK -> 0 | L81: =_CongKTVT -> 0 | M81: =_CongCNTT -> 0 | N81: =SUMIF('LICH THI'!$A:$A,'Theo Ngay'!$A81,'LICH THI'!X:X) -> 0 | O81: =IF(D81="","",CHOOSE(WEEKDAY(D81),"(Cnhật)","(Thứ 2)","(Thứ 3)","(Thứ 4)","(Thứ 5)","(Thứ 6)","(Thứ 7)")) -> (Cnhật) | P81: =N81-2*F81 -> 0 | Q81: =SUMIF('LICH THI'!$A:$A,'Theo Ngay'!$A81,'LICH THI'!N:N) -> 0 | S81: 0 | T81: =+S81-F81 -> 0
A82: =_Ngay_Gio_ -> 42827.375 | B82: =_Gio_ -> 9:00 | C82: =_stt -> 77 | D82: =D81 -> 42827 | E82: 2 | F82: =_CongSP_ -> 0 | G82: =_CongLLCT -> 0 | H82: =_CongKHCB -> 0 | I82: =_CongCSKT -> 0 | J82: =_CongKCT -> 0 | K82: =_CongKCK -> 0 | L82: =_CongKTVT -> 0 | M82: =_CongCNTT -> 0 | N82: =SUMIF('LICH THI'!$A:$A,'Theo Ngay'!$A82,'LICH THI'!X:X) -> 0 | P82: =N82-2*F82 -> 0 | Q82: =SUMIF('LICH THI'!$A:$A,'Theo Ngay'!$A82,'LICH THI'!N:N) -> 0 | S82: 0 | T82: =+S82-F82 -> 0
A83: =_Ngay_Gio_ -> 42827.542 | B83: =_Gio_ -> 13:00 | C83: =_stt -> 78 | D83: =D82 -> 42827 | E83: 3 | F83: =_CongSP_ -> 0 | G83: =_CongLLCT -> 0 | H83: =_CongKHCB -> 0 | I83: =_CongCSKT -> 0 | J83: =_CongKCT -> 0 | K83: =_CongKCK -> 0 | L83: =_CongKTVT -> 0 | M83: =_CongCNTT -> 0 | N83: =SUMIF('LICH THI'!$A:$A,'Theo Ngay'!$A83,'LICH THI'!X:X) -> 0 | P83: =N83-2*F83 -> 0 | Q83: =SUMIF('LICH THI'!$A:$A,'Theo Ngay'!$A83,'LICH THI'!N:N) -> 0 | S83: 6 | T83: =+S83-F83 -> 6
A84: =_Ngay_Gio_ -> 42827.625 | B84: =_Gio_ -> 15:00 | C84: =_stt -> 79 | D84: =D83 -> 42827 | E84: 4 | F84: =_CongSP_ -> 0 | G84: =_CongLLCT -> 0 | H84: =_CongKHCB -> 0 | I84: =_CongCSKT -> 0 | J84: =_CongKCT -> 0 | K84: =_CongKCK -> 0 | L84: =_CongKTVT -> 0 | M84: =_CongCNTT -> 0 | N84: =SUMIF('LICH THI'!$A:$A,'Theo Ngay'!$A84,'LICH THI'!X:X) -> 0 | P84: =N84-2*F84 -> 0 | Q84: =SUMIF('LICH THI'!$A:$A,'Theo Ngay'!$A84,'LICH THI'!N:N) -> 0 | S84: 10 | T84: =+S84-F84 -> 10
A85: =_Ngay_Gio_ -> 42827.75 | B85: =_Gio_ -> 18:00 | C85: =_stt -> 80 | D85: =D84 -> 42827 | E85: 5 | F85: =_CongSP_ -> 0 | G85: =_CongLLCT -> 0 | H85: =_CongKHCB -> 0 | I85: =_CongCSKT -> 0 | J85: =_CongKCT -> 0 | K85: =_CongKCK -> 0 | L85: =_CongKTVT -> 0 | M85: =_CongCNTT -> 0 | N85: =SUMIF('LICH THI'!$A:$A,'Theo Ngay'!$A85,'LICH THI'!X:X) -> 0 | P85: =N85-2*F85 -> 0 | Q85: =SUMIF('LICH THI'!$A:$A,'Theo Ngay'!$A85,'LICH THI'!N:N) -> 0 | S85: 0 | T85: =+S85-F85 -> 0
A86: =_Ngay_Gio_ -> 42828.292 | B86: =_Gio_ -> 7:00 | C86: =_stt -> 81 | D86: =+D81+1 -> 42828 | E86: 1 | F86: =_CongSP_ -> 0 | G86: =_CongLLCT -> 0 | H86: =_CongKHCB -> 0 | I86: =_CongCSKT -> 0 | J86: =_CongKCT -> 0 | K86: =_CongKCK -> 0 | L86: =_CongKTVT -> 0 | M86: =_CongCNTT -> 0 | N86: =SUMIF('LICH THI'!$A:$A,'Theo Ngay'!$A86,'LICH THI'!X:X) -> 0 | O86: =IF(D86="","",CHOOSE(WEEKDAY(D86),"(Cnhật)","(Thứ 2)","(Thứ 3)","(Thứ 4)","(Thứ 5)","(Thứ 6)","(Thứ 7)")) -> (Thứ 2) | P86: =N86-2*F86 -> 0 | Q86: =SUMIF('LICH THI'!$A:$A,'Theo Ngay'!$A86,'LICH THI'!N:N) -> 0 | S86: 0 | T86: =+S86-F86 -> 0
A87: =_Ngay_Gio_ -> 42828.375 | B87: =_Gio_ -> 9:00 | C87: =_stt -> 82 | D87: =D86 -> 42828 | E87: 2 | F87: =_CongSP_ -> 0 | G87: =_CongLLCT -> 0 | H87: =_CongKHCB -> 0 | I87: =_CongCSKT -> 0 | J87: =_CongKCT -> 0 | K87: =_CongKCK -> 0 | L87: =_CongKTVT -> 0 | M87: =_CongCNTT -> 0 | N87: =SUMIF('LICH THI'!$A:$A,'Theo Ngay'!$A87,'LICH THI'!X:X) -> 0 | P87: =N87-2*F87 -> 0 | Q87: =SUMIF('LICH THI'!$A:$A,'Theo Ngay'!$A87,'LICH THI'!N:N) -> 0 | S87: 0 | T87: =+S87-F87 -> 0
A88: =_Ngay_Gio_ -> 42828.542 | B88: =_Gio_ -> 13:00 | C88: =_stt -> 83 | D88: =D87 -> 42828 | E88: 3 | F88: =_CongSP_ -> 0 | G88: =_CongLLCT -> 0 | H88: =_CongKHCB -> 0 | I88: =_CongCSKT -> 0 | J88: =_CongKCT -> 0 | K88: =_CongKCK -> 0 | L88: =_CongKTVT -> 0 | M88: =_CongCNTT -> 0 | N88: =SUMIF('LICH THI'!$A:$A,'Theo Ngay'!$A88,'LICH THI'!X:X) -> 0 | P88: =N88-2*F88 -> 0 | Q88: =SUMIF('LICH THI'!$A:$A,'Theo Ngay'!$A88,'LICH THI'!N:N) -> 0 | S88: 19 | T88: =+S88-F88 -> 19
A89: =_Ngay_Gio_ -> 42828.625 | B89: =_Gio_ -> 15:00 | C89: =_stt -> 84 | D89: =D88 -> 42828 | E89: 4 | F89: =_CongSP_ -> 0 | G89: =_CongLLCT -> 0 | H89: =_CongKHCB -> 0 | I89: =_CongCSKT -> 0 | J89: =_CongKCT -> 0 | K89: =_CongKCK -> 0 | L89: =_CongKTVT -> 0 | M89: =_CongCNTT -> 0 | N89: =SUMIF('LICH THI'!$A:$A,'Theo Ngay'!$A89,'LICH THI'!X:X) -> 0 | P89: =N89-2*F89 -> 0 | Q89: =SUMIF('LICH THI'!$A:$A,'Theo Ngay'!$A89,'LICH THI'!N:N) -> 0 | S89: 3 | T89: =+S89-F89 -> 3
A90: =_Ngay_Gio_ -> 42828.75 | B90: =_Gio_ -> 18:00 | C90: =_stt -> 85 | D90: =D89 -> 42828 | E90: 5 | F90: =_CongSP_ -> 0 | G90: =_CongLLCT -> 0 | H90: =_CongKHCB -> 0 | I90: =_CongCSKT -> 0 | J90: =_CongKCT -> 0 | K90: =_CongKCK -> 0 | L90: =_CongKTVT -> 0 | M90: =_CongCNTT -> 0 | N90: =SUMIF('LICH THI'!$A:$A,'Theo Ngay'!$A90,'LICH THI'!X:X) -> 0 | P90: =N90-2*F90 -> 0 | Q90: =SUMIF('LICH THI'!$A:$A,'Theo Ngay'!$A90,'LICH THI'!N:N) -> 0 | S90: 0 | T90: =+S90-F90 -> 0
A91: =_Ngay_Gio_ -> 42829.292 | B91: =_Gio_ -> 7:00 | C91: =_stt -> 86 | D91: =+D86+1 -> 42829 | E91: 1 | F91: =_CongSP_ -> 0 | G91: =_CongLLCT -> 0 | H91: =_CongKHCB -> 0 | I91: =_CongCSKT -> 0 | J91: =_CongKCT -> 0 | K91: =_CongKCK -> 0 | L91: =_CongKTVT -> 0 | M91: =_CongCNTT -> 0 | N91: =SUMIF('LICH THI'!$A:$A,'Theo Ngay'!$A91,'LICH THI'!X:X) -> 0 | O91: =IF(D91="","",CHOOSE(WEEKDAY(D91),"(Cnhật)","(Thứ 2)","(Thứ 3)","(Thứ 4)","(Thứ 5)","(Thứ 6)","(Thứ 7)")) -> (Thứ 3) | P91: =N91-2*F91 -> 0 | Q91: =SUMIF('LICH THI'!$A:$A,'Theo Ngay'!$A91,'LICH THI'!N:N) -> 0 | S91: 6 | T91: =+S91-F91 -> 6
A92: =_Ngay_Gio_ -> 42829.375 | B92: =_Gio_ -> 9:00 | C92: =_stt -> 87 | D92: =D91 -> 42829 | E92: 2 | F92: =_CongSP_ -> 0 | G92: =_CongLLCT -> 0 | H92: =_CongKHCB -> 0 | I92: =_CongCSKT -> 0 | J92: =_CongKCT -> 0 | K92: =_CongKCK -> 0 | L92: =_CongKTVT -> 0 | M92: =_CongCNTT -> 0 | N92: =SUMIF('LICH THI'!$A:$A,'Theo Ngay'!$A92,'LICH THI'!X:X) -> 0 | P92: =N92-2*F92 -> 0 | Q92: =SUMIF('LICH THI'!$A:$A,'Theo Ngay'!$A92,'LICH THI'!N:N) -> 0 | S92: 11 | T92: =+S92-F92 -> 11
A93: =_Ngay_Gio_ -> 42829.542 | B93: =_Gio_ -> 13:00 | C93: =_stt -> 88 | D93: =D92 -> 42829 | E93: 3 | F93: =_CongSP_ -> 0 | G93: =_CongLLCT -> 0 | H93: =_CongKHCB -> 0 | I93: =_CongCSKT -> 0 | J93: =_CongKCT -> 0 | K93: =_CongKCK -> 0 | L93: =_CongKTVT -> 0 | M93: =_CongCNTT -> 0 | N93: =SUMIF('LICH THI'!$A:$A,'Theo Ngay'!$A93,'LICH THI'!X:X) -> 0 | P93: =N93-2*F93 -> 0 | Q93: =SUMIF('LICH THI'!$A:$A,'Theo Ngay'!$A93,'LICH THI'!N:N) -> 0 | S93: 8 | T93: =+S93-F93 -> 8
A94: =_Ngay_Gio_ -> 42829.625 | B94: =_Gio_ -> 15:00 | C94: =_stt -> 89 | D94: =D93 -> 42829 | E94: 4 | F94: =_CongSP_ -> 0 | G94: =_CongLLCT -> 0 | H94: =_CongKHCB -> 0 | I94: =_CongCSKT -> 0 | J94: =_CongKCT -> 0 | K94: =_CongKCK -> 0 | L94: =_CongKTVT -> 0 | M94: =_CongCNTT -> 0 | N94: =SUMIF('LICH THI'!$A:$A,'Theo Ngay'!$A94,'LICH THI'!X:X) -> 0 | P94: =N94-2*F94 -> 0 | Q94: =SUMIF('LICH THI'!$A:$A,'Theo Ngay'!$A94,'LICH THI'!N:N) -> 0 | S94: 7 | T94: =+S94-F94 -> 7
A95: =_Ngay_Gio_ -> 42829.75 | B95: =_Gio_ -> 18:00 | C95: =_stt -> 90 | D95: =D94 -> 42829 | E95: 5 | F95: =_CongSP_ -> 0 | G95: =_CongLLCT -> 0 | H95: =_CongKHCB -> 0 | I95: =_CongCSKT -> 0 | J95: =_CongKCT -> 0 | K95: =_CongKCK -> 0 | L95: =_CongKTVT -> 0 | M95: =_CongCNTT -> 0 | N95: =SUMIF('LICH THI'!$A:$A,'Theo Ngay'!$A95,'LICH THI'!X:X) -> 0 | P95: =N95-2*F95 -> 0 | Q95: =SUMIF('LICH THI'!$A:$A,'Theo Ngay'!$A95,'LICH THI'!N:N) -> 0 | S95: 0 | T95: =+S95-F95 -> 0
A96: =_Ngay_Gio_ -> 42830.292 | B96: =_Gio_ -> 7:00 | C96: =_stt -> 91 | D96: =+D91+1 -> 42830 | E96: 1 | F96: =_CongSP_ -> 0 | G96: =_CongLLCT -> 0 | H96: =_CongKHCB -> 0 | I96: =_CongCSKT -> 0 | J96: =_CongKCT -> 0 | K96: =_CongKCK -> 0 | L96: =_CongKTVT -> 0 | M96: =_CongCNTT -> 0 | N96: =SUMIF('LICH THI'!$A:$A,'Theo Ngay'!$A96,'LICH THI'!X:X) -> 0 | O96: =IF(D96="","",CHOOSE(WEEKDAY(D96),"(Cnhật)","(Thứ 2)","(Thứ 3)","(Thứ 4)","(Thứ 5)","(Thứ 6)","(Thứ 7)")) -> (Thứ 4) | P96: =N96-2*F96 -> 0 | Q96: =SUMIF('LICH THI'!$A:$A,'Theo Ngay'!$A96,'LICH THI'!N:N) -> 0 | S96: 0 | T96: =+S96-F96 -> 0
A97: =_Ngay_Gio_ -> 42830.375 | B97: =_Gio_ -> 9:00 | C97: =_stt -> 92 | D97: =D96 -> 42830 | E97: 2 | F97: =_CongSP_ -> 0 | G97: =_CongLLCT -> 0 | H97: =_CongKHCB -> 0 | I97: =_CongCSKT -> 0 | J97: =_CongKCT -> 0 | K97: =_CongKCK -> 0 | L97: =_CongKTVT -> 0 | M97: =_CongCNTT -> 0 | N97: =SUMIF('LICH THI'!$A:$A,'Theo Ngay'!$A97,'LICH THI'!X:X) -> 0 | P97: =N97-2*F97 -> 0 | Q97: =SUMIF('LICH THI'!$A:$A,'Theo Ngay'!$A97,'LICH THI'!N:N) -> 0 | S97: 0 | T97: =+S97-F97 -> 0
A98: =_Ngay_Gio_ -> 42830.542 | B98: =_Gio_ -> 13:00 | C98: =_stt -> 93 | D98: =D97 -> 42830 | E98: 3 | F98: =_CongSP_ -> 0 | G98: =_CongLLCT -> 0 | H98: =_CongKHCB -> 0 | I98: =_CongCSKT -> 0 | J98: =_CongKCT -> 0 | K98: =_CongKCK -> 0 | L98: =_CongKTVT -> 0 | M98: =_CongCNTT -> 0 | N98: =SUMIF('LICH THI'!$A:$A,'Theo Ngay'!$A98,'LICH THI'!X:X) -> 0 | P98: =N98-2*F98 -> 0 | Q98: =SUMIF('LICH THI'!$A:$A,'Theo Ngay'!$A98,'LICH THI'!N:N) -> 0 | S98: 2 | T98: =+S98-F98 -> 2
A99: =_Ngay_Gio_ -> 42830.625 | B99: =_Gio_ -> 15:00 | C99: =_stt -> 94 | D99: =D98 -> 42830 | E99: 4 | F99: =_CongSP_ -> 0 | G99: =_CongLLCT -> 0 | H99: =_CongKHCB -> 0 | I99: =_CongCSKT -> 0 | J99: =_CongKCT -> 0 | K99: =_CongKCK -> 0 | L99: =_CongKTVT -> 0 | M99: =_CongCNTT -> 0 | N99: =SUMIF('LICH THI'!$A:$A,'Theo Ngay'!$A99,'LICH THI'!X:X) -> 0 | P99: =N99-2*F99 -> 0 | Q99: =SUMIF('LICH THI'!$A:$A,'Theo Ngay'!$A99,'LICH THI'!N:N) -> 0 | S99: 0 | T99: =+S99-F99 -> 0
A100: =_Ngay_Gio_ -> 42830.75 | B100: =_Gio_ -> 18:00 | C100: =_stt -> 95 | D100: =D99 -> 42830 | E100: 5 | F100: =_CongSP_ -> 0 | G100: =_CongLLCT -> 0 | H100: =_CongKHCB -> 0 | I100: =_CongCSKT -> 0 | J100: =_CongKCT -> 0 | K100: =_CongKCK -> 0 | L100: =_CongKTVT -> 0 | M100: =_CongCNTT -> 0 | N100: =SUMIF('LICH THI'!$A:$A,'Theo Ngay'!$A100,'LICH THI'!X:X) -> 0 | P100: =N100-2*F100 -> 0 | Q100: =SUMIF('LICH THI'!$A:$A,'Theo Ngay'!$A100,'LICH THI'!N:N) -> 0 | S100: 0 | T100: =+S100-F100 -> 0
A101: =_Ngay_Gio_ -> 42831.292 | B101: =_Gio_ -> 7:00 | C101: =_stt -> 96 | D101: =+D96+1 -> 42831 | E101: 1 | F101: =_CongSP_ -> 0 | G101: =_CongLLCT -> 0 | H101: =_CongKHCB -> 0 | I101: =_CongCSKT -> 0 | J101: =_CongKCT -> 0 | K101: =_CongKCK -> 0 | L101: =_CongKTVT -> 0 | M101: =_CongCNTT -> 0 | N101: =SUMIF('LICH THI'!$A:$A,'Theo Ngay'!$A101,'LICH THI'!X:X) -> 0 | O101: =IF(D101="","",CHOOSE(WEEKDAY(D101),"(Cnhật)","(Thứ 2)","(Thứ 3)","(Thứ 4)","(Thứ 5)","(Thứ 6)","(Thứ 7)")) -> (Thứ 5) | P101: =N101-2*F101 -> 0 | Q101: =SUMIF('LICH THI'!$A:$A,'Theo Ngay'!$A101,'LICH THI'!N:N) -> 0 | S101: 0 | T101: =+S101-F101 -> 0
A102: =_Ngay_Gio_ -> 42831.375 | B102: =_Gio_ -> 9:00 | C102: =_stt -> 97 | D102: =D101 -> 42831 | E102: 2 | F102: =_CongSP_ -> 0 | G102: =_CongLLCT -> 0 | H102: =_CongKHCB -> 0 | I102: =_CongCSKT -> 0 | J102: =_CongKCT -> 0 | K102: =_CongKCK -> 0 | L102: =_CongKTVT -> 0 | M102: =_CongCNTT -> 0 | N102: =SUMIF('LICH THI'!$A:$A,'Theo Ngay'!$A102,'LICH THI'!X:X) -> 0 | P102: =N102-2*F102 -> 0 | Q102: =SUMIF('LICH THI'!$A:$A,'Theo Ngay'!$A102,'LICH THI'!N:N) -> 0 | S102: 0 | T102: =+S102-F102 -> 0
...

Sheet Sheet2
A1: STT | B1: Khóa | C1: Mã môn | D1: Tên môn | F1: Hình thức thi | J1: Ca thi
A2: 1 | B2: DCK63 | C2: DC3DD51 | D2: Kỹ thuật thi công 1 | E2: 3 | F2: Viết | G2: 90 | H2: 42332 | I2: (Thứ 3) | J2: 1 | L2: =C2&"-"&B2 -> DC3DD51-DCK63 | M2: =VLOOKUP(L2,'LICH THI'!C:AF,9,0) -> #N/A | N2: =VLOOKUP(L2,'LICH THI'!C:AF,11,0) -> #N/A | O2: =M2-H2 -> #N/A | P2: =IF(J2=N2,"",1) -> #N/A
A3: 2 | B3: DCK63 | C3: DC3CA51 | D3: Kỹ thuật thi công cầu 1 | E3: 3 | F3: Viết | G3: 90 | H3: 42332 | I3: (Thứ 3) | J3: 2 | L3: =C3&"-"&B3 -> DC3CA51-DCK63 | M3: =VLOOKUP(L3,'LICH THI'!C:AF,9,0) -> #N/A | N3: =VLOOKUP(L3,'LICH THI'!C:AF,11,0) -> #N/A | O3: =M3-H3 -> #N/A | P3: =IF(J3=N3,"",1) -> #N/A
A4: 3 | B4: DCK63 | C4: DC2CT65 | D4: An toàn lao động | E4: 2 | F4: Viết | G4: 90 | H4: 42333 | I4: (Thứ 4) | J4: 2 | L4: =C4&"-"&B4 -> DC2CT65-DCK63 | M4: =VLOOKUP(L4,'LICH THI'!C:AF,9,0) -> #N/A | N4: =VLOOKUP(L4,'LICH THI'!C:AF,11,0) -> #N/A | O4: =M4-H4 -> #N/A | P4: =IF(J4=N4,"",1) -> #N/A
A5: 4 | B5: DCK63 | C5: DC3QT51 | D5: Quản trị doanh nghiệp | E5: 3 | F5: 0 | G5: 0 | H5: 42333 | I5: (Thứ 4) | J5: 2 | L5: =C5&"-"&B5 -> DC3QT51-DCK63 | M5: =VLOOKUP(L5,'LICH THI'!C:AF,9,0) -> #N/A | N5: =VLOOKUP(L5,'LICH THI'!C:AF,11,0) -> #N/A | O5: =M5-H5 -> #N/A | P5: =IF(J5=N5,"",1) -> #N/A
A6: 5 | B6: DCK63 | C6: DC3CA52 | D6: Kỹ thuật thi công cầu 2 | E6: 3 | F6: Viết | G6: 90 | H6: 42335 | I6: (Thứ 6) | J6: 2 | L6: =C6&"-"&B6 -> DC3CA52-DCK63 | M6: =VLOOKUP(L6,'LICH THI'!C:AF,9,0) -> #N/A | N6: =VLOOKUP(L6,'LICH THI'!C:AF,11,0) -> #N/A | O6: =M6-H6 -> #N/A | P6: =IF(J6=N6,"",1) -> #N/A
A7: 6 | B7: DCK63 | C7: DC3DD52 | D7: Kỹ thuật thi công 2 | E7: 3 | F7: Viết | G7: 90 | H7: 42335 | I7: (Thứ 6) | J7: 2 | L7: =C7&"-"&B7 -> DC3DD52-DCK63 | M7: =VLOOKUP(L7,'LICH THI'!C:AF,9,0) -> #N/A | N7: =VLOOKUP(L7,'LICH THI'!C:AF,11,0) -> #N/A | O7: =M7-H7 -> #N/A | P7: =IF(J7=N7,"",1) -> #N/A
A8: 7 | B8: DCK63 | C8: DC3CD60 | D8: Tin học ứng dụng | E8: 2 | F8: TH | G8: 0 | H8: 42338 | I8: (Thứ 2) | J8: S,C | L8: =C8&"-"&B8 -> DC3CD60-DCK63 | M8: =VLOOKUP(L8,'LICH THI'!C:AF,9,0) -> #N/A | N8: =VLOOKUP(L8,'LICH THI'!C:AF,11,0) -> #N/A | O8: =M8-H8 -> #N/A | P8: =IF(J8=N8,"",1) -> #N/A
A9: 8 | B9: DCK63 | C9: DC3CT91 | D9: Kinh tế xây dựng | E9: 2 | F9: Viết | G9: 90 | H9: 42338 | I9: (Thứ 2) | J9: 2 | L9: =C9&"-"&B9 -> DC3CT91-DCK63 | M9: =VLOOKUP(L9,'LICH THI'!C:AF,9,0) -> #N/A | N9: =VLOOKUP(L9,'LICH THI'!C:AF,11,0) -> #N/A | O9: =M9-H9 -> #N/A | P9: =IF(J9=N9,"",1) -> #N/A
A10: 9 | B10: DCK63 | C10: DC3KV32 | D10: Phân tích hoạt động kinh doanh | E10: 3 | F10: 0 | G10: 0 | H10: 42338 | I10: (Thứ 2) | J10: 2 | L10: =C10&"-"&B10 -> DC3KV32-DCK63 | M10: =VLOOKUP(L10,'LICH THI'!C:AF,9,0) -> #N/A | N10: =VLOOKUP(L10,'LICH THI'!C:AF,11,0) -> #N/A | O10: =M10-H10 -> #N/A | P10: =IF(J10=N10,"",1) -> #N/A
A11: 10 | B11: DCK63 | C11: DC2DD53 | D11: Kết cấu gạch, đá và gỗ | E11: 2 | F11: Viết | G11: 60 | H11: 42340 | I11: (Thứ 4) | J11: 2 | L11: =C11&"-"&B11 -> DC2DD53-DCK63 | M11: =VLOOKUP(L11,'LICH THI'!C:AF,9,0) -> #N/A | N11: =VLOOKUP(L11,'LICH THI'!C:AF,11,0) -> #N/A | O11: =M11-H11 -> #N/A | P11: =IF(J11=N11,"",1) -> #N/A
A12: 11 | B12: DCK63 | C12: DC3QT69 | D12: Quản trị rủi ro | E12: 2 | F12: 0 | G12: 0 | H12: 42340 | I12: (Thứ 4) | J12: 2 | L12: =C12&"-"&B12 -> DC3QT69-DCK63 | M12: =VLOOKUP(L12,'LICH THI'!C:AF,9,0) -> #N/A | N12: =VLOOKUP(L12,'LICH THI'!C:AF,11,0) -> #N/A | O12: =M12-H12 -> #N/A | P12: =IF(J12=N12,"",1) -> #N/A
A13: 12 | B13: DCK63 | C13: DC3MX45 | D13: Máy làm đất | E13: 3 | F13: Viết | G13: 90 | H13: 42340 | I13: (Thứ 4) | J13: 2 | L13: =C13&"-"&B13 -> DC3MX45-DCK63 | M13: =VLOOKUP(L13,'LICH THI'!C:AF,9,0) -> #N/A | N13: =VLOOKUP(L13,'LICH THI'!C:AF,11,0) -> #N/A | O13: =M13-H13 -> #N/A | P13: =IF(J13=N13,"",1) -> #N/A
A14: 13 | B14: DCK63 | C14: DC3DB52 | D14: Kỹ thuật thi công mặt đường | E14: 3 | F14: VĐ | G14: 0 | H14: 42341 | I14: (Thứ 5) | J14: S,C | L14: =C14&"-"&B14 -> DC3DB52-DCK63 | M14: =VLOOKUP(L14,'LICH THI'!C:AF,9,0) -> #N/A | N14: =VLOOKUP(L14,'LICH THI'!C:AF,11,0) -> #N/A | O14: =M14-H14 -> #N/A | P14: =IF(J14=N14,"",1) -> #N/A
A15: 14 | B15: DCK63 | C15: DC3DB52 | D15: Kỹ thuật thi công mặt đường | E15: 3 | F15: VĐ | G15: 0 | H15: 42341 | I15: (Thứ 5) | J15: S,C | L15: =C15&"-"&B15 -> DC3DB52-DCK63 | M15: =VLOOKUP(L15,'LICH THI'!C:AF,9,0) -> #N/A | N15: =VLOOKUP(L15,'LICH THI'!C:AF,11,0) -> #N/A | O15: =M15-H15 -> #N/A | P15: =IF(J15=N15,"",1) -> #N/A
A16: 15 | B16: DCK63 | C16: DC3KV43 | D16: Kiểm toán báo cáo tài chính | E16: 3 | F16: Viết | G16: 90 | H16: 42341 | I16: (Thứ 5) | J16: 2 | L16: =C16&"-"&B16 -> DC3KV43-DCK63 | M16: =VLOOKUP(L16,'LICH THI'!C:AF,9,0) -> #N/A | N16: =VLOOKUP(L16,'LICH THI'!C:AF,11,0) -> #N/A | O16: =M16-H16 -> #N/A | P16: =IF(J16=N16,"",1) -> #N/A
