Workbook
Name BOMON: #REF!
Name HP: 'Tiến độ'!$BL$7:$BL$1446
Name KHOA: #REF!
Name LISTBM: #REF!
Name ma: 'Tiến độ'!$DS$7:$DS$1446
Name maloc: 'Tiến độ'!$EC$7:$EC$57
Name MON: 'Tiến độ'!$BK$7:$BK$1446
Name phong: #REF!

Sheet CHÚ Ý
A3: 1. PHÒNG HỌC
A4: NHÀ | B4: SỐ PHÒNG | C4: GHI CHÚ
A5: A1 | B5: 20 | C5: Thêm 4 phòng thứ 7 (401 - 404) | E5: =B5*50 -> 1000 | G5: =4*10 -> 40 | I5: =2642/2910 -> 0.90790378
A6: A2 | B6: 20 | C6: Thêm 2 phòng thứ 7 (202 - 203) | E6: =B6*50 -> 1000 | G6: =2*10 -> 20
A7: A3 | B7: 7 | C7: 401 - Phòng to, 406 + 407 - Phòng bé | E7: =B7*50 -> 350
A8: A5 | B8: 2 | C8: Không kể phòng 303 (65CDA) và 202 (66CDA) | E8: =B8*50 -> 100
A9: A6 | B9: 1 | E9: =B9*50 -> 50
A10: C2 | B10: 6 | E10: =B10*50 -> 300
A11: C3 | B11: 1 | C11: 106C3 | E11: =B11*50 -> 50
A13: 2. SỐ TiẾT HỌC 1 BuỔI
A14: - Sáng: 05 tiết, từ 06h45.
A15: - Chiều: 05 tiết, từ 12h30.
A16: - Học cả ngày thứ 7 (hạn chế bố trí ngày thứ 7).
A17: - Chú ý: mỗi Khoa cố gắng bố trí trống 1 buổi trong tuần.
A19: 3. CÁC CHÚ Ý KHÁC
A20: - Tất cả các môn của Cầu đường Anh học riêng, ko học ghép
A21: - Môn Mác 2 đa số học tại tầng 4 thư viện, trừ 4 lớp 66QT chia làm 2 lớp ghép, học tại phòng đôi.
A22: - Các môn Quốc phòng bố trí cho học vào hè, ko học vào kì chính.
A23: - Một số môn 66 chưa có mã, ko được kế thừa của khóa trên (do CTĐT thay đổi).
A24: - Các học phần thực hành thí nghiệm của khoa Công trình bố trí riêng hẳn 1 ngày hoặc 1 buổi.
A25: - Thông báo với các BM phụ trách các HP Thí nghiệm, Thực hành, Thực tập, Tin ứng dụng trước khi công bố TKB.
A26: - CÒN CHÚ Ý GÌ THÊM SẼ BÁO SAU.

Sheet Đăng kí
A1: BỘ GIAO THÔNG VẬN TẢI | AC1: CỘNG HÒA XÃ HỘI CHỦ NGHĨA VIỆT NAM | AP1: ! | AQ1: =MATCH(A5,SV!D:D,0) -> 2494 | AR1: =COUNTIF(SV!D:D,A5) -> 56 | AT1: =IF(ISERROR(MID(A5,7,1)-0)=FALSE,MID(A5,3,4),MID(A5,3,5)) -> DCCD | AU1: =LEFT(A5,4) -> 65DC | AV1: x | AY1: 10 | AZ1: 9 | BA1: 8 | BB1: 7 | BC1: 6 | BD1: 5 | BE1: 4 | BF1: 3 | BG1: 2 | BH1: 1
A2: TRƯỜNG ĐẠI HỌC CÔNG NGHỆ GTVT | AC2: Độc lập - Tự do - Hạnh phúc | AX2: 63 | AY2: 2 | AZ2: 1
AX3: 64 | BA3: 2 | BB3: 1
A4: 6 | AX4: 65 | BC4: 2 | BD4: 1
A5: 65DCCD22 | AX5: 66 | BE5: 2 | BF5: 1
E6: 1 | F6: 2 | G6: 3 | H6: 4 | I6: 5 | J6: 6 | K6: 7 | L6: 8 | M6: 9 | N6: 10 | O6: 11 | P6: 12 | Q6: =IF(Q7="","",VLOOKUP(Q7,$AP$9:$AR$108,3,0)) | R6: =IF(R7="","",VLOOKUP(R7,$AP$9:$AR$108,3,0)) | S6: =IF(S7="","",VLOOKUP(S7,$AP$9:$AR$108,3,0)) | T6: =IF(T7="","",VLOOKUP(T7,$AP$9:$AR$108,3,0)) | U6: =IF(U7="","",VLOOKUP(U7,$AP$9:$AR$108,3,0)) | AF6: =IF(AF7="","",VLOOKUP(AF7,$AP$9:$AR$108,3,0)) | AG6: =IF(AG7="","",VLOOKUP(AG7,$AP$9:$AR$108,3,0)) | AH6: =IF(AH7="","",VLOOKUP(AH7,$AP$9:$AR$108,3,0)) | AI6: =IF(AI7="","",VLOOKUP(AI7,$AP$9:$AR$108,3,0)) | AJ6: =IF(AJ7="","",VLOOKUP(AJ7,$AP$9:$AR$108,3,0)) | AK6: =IF(AK7="","",VLOOKUP(AK7,$AP$9:$AR$108,3,0)) | AL6: =IF(AL7="","",VLOOKUP(AL7,$AP$9:$AR$108,3,0)) | AM6: =IF(AM7="","",VLOOKUP(AM7,$AP$9:$AR$108,3,0)) | AX6: 67 | BG6: 2 | BH6: 1
A7: Số TT | B7: ="Họ và tên SV (Lớp "&A5&")" -> Họ và tên SV (Lớp 65DCCD22) | C7: Mã SV | D7: Tổng số TC Đăng ký | E7: =INDEX('Tiến độ'!$DZ$7:$DZ$21,E6) -> An toàn lao động (DC2CT65) | F7: =INDEX('Tiến độ'!$DZ$7:$DZ$21,F6) -> Thiết kế đường 1 (DC3DB41) | G7: =INDEX('Tiến độ'!$DZ$7:$DZ$21,G6) -> Đồ án Thiết kế đường (DC3DB44) | H7: =INDEX('Tiến độ'!$DZ$7:$DZ$21,H6) -> Thiết kế cầu 1 (DC3CA41) | I7: =INDEX('Tiến độ'!$DZ$7:$DZ$21,I6) -> Đồ án Thiết kế cầu (DC3CA44) | J7: =INDEX('Tiến độ'!$DZ$7:$DZ$21,J6) -> Máy xây dựng (DC2GT42) | K7: =INDEX('Tiến độ'!$DZ$7:$DZ$21,K6) -> Môi trường trong xây dựng (DC1CB92) | L7: =INDEX('Tiến độ'!$DZ$7:$DZ$21,L6) -> Tin học ứng dụng (DC3CD60) | ... P7: =INDEX('Tiến độ'!$DZ$7:$DZ$21,P6) | AN7: SV ký xác nhận
E8: =INDEX('Tiến độ'!$EA$7:$EA$21,E6) -> 2 | F8: =INDEX('Tiến độ'!$EA$7:$EA$21,F6) -> 4 | G8: =INDEX('Tiến độ'!$EA$7:$EA$21,G6) -> 2 | H8: =INDEX('Tiến độ'!$EA$7:$EA$21,H6) -> 4 | I8: =INDEX('Tiến độ'!$EA$7:$EA$21,I6) -> 2 | J8: =INDEX('Tiến độ'!$EA$7:$EA$21,J6) -> 2 | K8: =INDEX('Tiến độ'!$EA$7:$EA$21,K6) -> 2 | L8: =INDEX('Tiến độ'!$EA$7:$EA$21,L6) -> 2 | ... P8: =INDEX('Tiến độ'!$EA$7:$EA$21,P6) | Q8: =IF(Q7="","",VLOOKUP(Q7,$AP$9:$AR$108,2,0)) | R8: =IF(R7="","",VLOOKUP(R7,$AP$9:$AR$108,2,0)) | S8: =IF(S7="","",VLOOKUP(S7,$AP$9:$AR$108,2,0)) | T8: =IF(T7="","",VLOOKUP(T7,$AP$9:$AR$108,2,0)) | U8: =IF(U7="","",VLOOKUP(U7,$AP$9:$AR$108,2,0)) | V8: =IF(V7="","",VLOOKUP(V7,$AP$9:$AR$108,2,0)) | W8: =IF(W7="","",VLOOKUP(W7,$AP$9:$AR$108,2,0)) | X8: =IF(X7="","",VLOOKUP(X7,$AP$9:$AR$108,2,0)) | AB8: =IF(AB7="","",VLOOKUP(AB7,$AP$9:$AR$108,2,0)) | AC8: =IF(AC7="","",VLOOKUP(AC7,$AP$9:$AR$108,2,0)) | AD8: =IF(AD7="","",VLOOKUP(AD7,$AP$9:$AR$108,2,0)) | AE8: =IF(AE7="","",VLOOKUP(AE7,$AP$9:$AR$108,2,0)) | AF8: =IF(AF7="","",VLOOKUP(AF7,$AP$9:$AR$108,2,0)) | AG8: =IF(AG7="","",VLOOKUP(AG7,$AP$9:$AR$108,2,0)) | AH8: =IF(AH7="","",VLOOKUP(AH7,$AP$9:$AR$108,2,0)) | AI8: =IF(AI7="","",VLOOKUP(AI7,$AP$9:$AR$108,2,0)) | ... AM8: =IF(AM7="","",VLOOKUP(AM7,$AP$9:$AR$108,2,0))
A9: =IF(B9=$AP$1,"",1) -> 1 | B9: =TRIM(IF(AT9<>"",INDEX(SV!B:B,AT9,1)&" "&INDEX(SV!C:C,AT9,1),$AP$1)) -> Hoàng Ngọc Anh | C9: =IF(AT9<>"",INDEX(SV!A:A,AT9,1),"") -> 65DCCD20435 | D9: =IF(OR(B9=$AP$1,ISERROR(VLOOKUP($AN9,$AZ$9:$AZ$19,1,0))=FALSE),"",SUMIF(E9:AM9,$AV$1,$E$8:$AM$8)) -> 0 | AT9: =IF($AR$1>=AU9,$AQ$1-1+AU9,"") -> 2494 | AU9: 1 | AW9: {=IFERROR(INDEX($AP$9:$AP$108,SMALL(IF($AV$9:$AV$108=1,IF($AS$9:$AS$108=$A$4,ROW(INDIRECT("1:"&ROWS($AS$9:$AS$108))))),ROW(INDIRECT("1:"&ROWS($AS$9:$AS$108))))),"")} | AX9: {=IFERROR(INDEX($AP$9:$AP$108,SMALL(IF($AV$9:$AV$108=2,IF($AS$9:$AS$108=$A$4,ROW(INDIRECT("1:"&ROWS($AS$9:$AS$108))))),ROW(INDIRECT("1:"&ROWS($AS$9:$AS$108))))),"")} | BJ9: 63DCCD06 | BK9: 63CD06,07
A10: =IF(B10=$AP$1,"",MAX($A$9:A9)+1) -> 2 | B10: =TRIM(IF(AT10<>"",INDEX(SV!B:B,AT10,1)&" "&INDEX(SV!C:C,AT10,1),$AP$1)) -> Nguyễn Quang Anh | C10: =IF(AT10<>"",INDEX(SV!A:A,AT10,1),"") -> 65DCCD20494 | D10: =IF(OR(B10=$AP$1,ISERROR(VLOOKUP($AN10,$AZ$9:$AZ$19,1,0))=FALSE),"",SUMIF(E10:AM10,$AV$1,$E$8:$AM$8)) -> 0 | AT10: =IF($AR$1>=AU10,$AQ$1-1+AU10,"") -> 2495 | AU10: 2 | AZ10: Đã bỏ học | BJ10: 63DCCD07 | BK10: 63CD06,07
A11: =IF(B11=$AP$1,"",MAX($A$9:A10)+1) -> 3 | B11: =TRIM(IF(AT11<>"",INDEX(SV!B:B,AT11,1)&" "&INDEX(SV!C:C,AT11,1),$AP$1)) -> Phạm Ngọc Anh | C11: =IF(AT11<>"",INDEX(SV!A:A,AT11,1),"") -> 65DCCD22015 | D11: =IF(OR(B11=$AP$1,ISERROR(VLOOKUP($AN11,$AZ$9:$AZ$19,1,0))=FALSE),"",SUMIF(E11:AM11,$AV$1,$E$8:$AM$8)) -> 0 | AT11: =IF($AR$1>=AU11,$AQ$1-1+AU11,"") -> 2496 | AU11: 3 | AZ11: Đã thôi học | BJ11: 63DCCD08 | BK11: 63CD08, 09, 10
A12: =IF(B12=$AP$1,"",MAX($A$9:A11)+1) -> 4 | B12: =TRIM(IF(AT12<>"",INDEX(SV!B:B,AT12,1)&" "&INDEX(SV!C:C,AT12,1),$AP$1)) -> Bùi Đức Ba | C12: =IF(AT12<>"",INDEX(SV!A:A,AT12,1),"") -> 65DCCD20478 | D12: =IF(OR(B12=$AP$1,ISERROR(VLOOKUP($AN12,$AZ$9:$AZ$19,1,0))=FALSE),"",SUMIF(E12:AM12,$AV$1,$E$8:$AM$8)) -> 0 | AT12: =IF($AR$1>=AU12,$AQ$1-1+AU12,"") -> 2497 | AU12: 4 | AZ12: Tạm nghỉ học | BJ12: 63DCCD09 | BK12: 63CD08, 09, 10
A13: =IF(B13=$AP$1,"",MAX($A$9:A12)+1) -> 5 | B13: =TRIM(IF(AT13<>"",INDEX(SV!B:B,AT13,1)&" "&INDEX(SV!C:C,AT13,1),$AP$1)) -> Đặng Thế Bảo | C13: =IF(AT13<>"",INDEX(SV!A:A,AT13,1),"") -> 65DCCD23052 | D13: =IF(OR(B13=$AP$1,ISERROR(VLOOKUP($AN13,$AZ$9:$AZ$19,1,0))=FALSE),"",SUMIF(E13:AM13,$AV$1,$E$8:$AM$8)) -> 0 | AT13: =IF($AR$1>=AU13,$AQ$1-1+AU13,"") -> 2498 | AU13: 5 | AZ13: Không đăng kí học | BJ13: 63DCCD10 | BK13: 63CD08, 09, 10
A14: =IF(B14=$AP$1,"",MAX($A$9:A13)+1) -> 6 | B14: =TRIM(IF(AT14<>"",INDEX(SV!B:B,AT14,1)&" "&INDEX(SV!C:C,AT14,1),$AP$1)) -> Mai Đức Bình | C14: =IF(AT14<>"",INDEX(SV!A:A,AT14,1),"") -> 65DCCD20492 | D14: =IF(OR(B14=$AP$1,ISERROR(VLOOKUP($AN14,$AZ$9:$AZ$19,1,0))=FALSE),"",SUMIF(E14:AM14,$AV$1,$E$8:$AM$8)) -> 0 | AT14: =IF($AR$1>=AU14,$AQ$1-1+AU14,"") -> 2499 | AU14: 6 | BJ14: 64DCCD08 | BK14: 64CD08, 09, 10
A15: =IF(B15=$AP$1,"",MAX($A$9:A14)+1) -> 7 | B15: =TRIM(IF(AT15<>"",INDEX(SV!B:B,AT15,1)&" "&INDEX(SV!C:C,AT15,1),$AP$1)) -> Nguyễn Chí Chiến | C15: =IF(AT15<>"",INDEX(SV!A:A,AT15,1),"") -> 65DCCD24013 | D15: =IF(OR(B15=$AP$1,ISERROR(VLOOKUP($AN15,$AZ$9:$AZ$19,1,0))=FALSE),"",SUMIF(E15:AM15,$AV$1,$E$8:$AM$8)) -> 0 | AT15: =IF($AR$1>=AU15,$AQ$1-1+AU15,"") -> 2500 | AU15: 7 | BJ15: 64DCCD09 | BK15: 64CD08, 09, 10
A16: =IF(B16=$AP$1,"",MAX($A$9:A15)+1) -> 8 | B16: =TRIM(IF(AT16<>"",INDEX(SV!B:B,AT16,1)&" "&INDEX(SV!C:C,AT16,1),$AP$1)) -> Trần Quốc Chung | C16: =IF(AT16<>"",INDEX(SV!A:A,AT16,1),"") -> 65DCCD23051 | D16: =IF(OR(B16=$AP$1,ISERROR(VLOOKUP($AN16,$AZ$9:$AZ$19,1,0))=FALSE),"",SUMIF(E16:AM16,$AV$1,$E$8:$AM$8)) -> 0 | AT16: =IF($AR$1>=AU16,$AQ$1-1+AU16,"") -> 2501 | AU16: 8 | BJ16: 64DCCD10 | BK16: 64CD08, 09, 10
A17: =IF(B17=$AP$1,"",MAX($A$9:A16)+1) -> 9 | B17: =TRIM(IF(AT17<>"",INDEX(SV!B:B,AT17,1)&" "&INDEX(SV!C:C,AT17,1),$AP$1)) -> Lê Quang Cương | C17: =IF(AT17<>"",INDEX(SV!A:A,AT17,1),"") -> 65DCCD20464 | D17: =IF(OR(B17=$AP$1,ISERROR(VLOOKUP($AN17,$AZ$9:$AZ$19,1,0))=FALSE),"",SUMIF(E17:AM17,$AV$1,$E$8:$AM$8)) -> 0 | AT17: =IF($AR$1>=AU17,$AQ$1-1+AU17,"") -> 2502 | AU17: 9 | BJ17: 64DCCD11 | BK17: 64CD11, 12
A18: =IF(B18=$AP$1,"",MAX($A$9:A17)+1) -> 10 | B18: =TRIM(IF(AT18<>"",INDEX(SV!B:B,AT18,1)&" "&INDEX(SV!C:C,AT18,1),$AP$1)) -> Nguyễn Đức Cường | C18: =IF(AT18<>"",INDEX(SV!A:A,AT18,1),"") -> 65DCCD21058 | D18: =IF(OR(B18=$AP$1,ISERROR(VLOOKUP($AN18,$AZ$9:$AZ$19,1,0))=FALSE),"",SUMIF(E18:AM18,$AV$1,$E$8:$AM$8)) -> 0 | AT18: =IF($AR$1>=AU18,$AQ$1-1+AU18,"") -> 2503 | AU18: 10 | BJ18: 64DCCD12 | BK18: 64CD11, 12
A19: =IF(B19=$AP$1,"",MAX($A$9:A18)+1) -> 11 | B19: =TRIM(IF(AT19<>"",INDEX(SV!B:B,AT19,1)&" "&INDEX(SV!C:C,AT19,1),$AP$1)) -> Chu Hùng Dũng | C19: =IF(AT19<>"",INDEX(SV!A:A,AT19,1),"") -> 65DCCD20431 | D19: =IF(OR(B19=$AP$1,ISERROR(VLOOKUP($AN19,$AZ$9:$AZ$19,1,0))=FALSE),"",SUMIF(E19:AM19,$AV$1,$E$8:$AM$8)) -> 0 | AT19: =IF($AR$1>=AU19,$AQ$1-1+AU19,"") -> 2504 | AU19: 11 | BJ19: 65DCCDA1 | BK19: 65CDA
A20: =IF(B20=$AP$1,"",MAX($A$9:A19)+1) -> 12 | B20: =TRIM(IF(AT20<>"",INDEX(SV!B:B,AT20,1)&" "&INDEX(SV!C:C,AT20,1),$AP$1)) -> Nguyễn Văn Dũng | C20: =IF(AT20<>"",INDEX(SV!A:A,AT20,1),"") -> 65DCCD23502 | D20: =IF(OR(B20=$AP$1,ISERROR(VLOOKUP($AN20,$AZ$9:$AZ$19,1,0))=FALSE),"",SUMIF(E20:AM20,$AV$1,$E$8:$AM$8)) -> 0 | AT20: =IF($AR$1>=AU20,$AQ$1-1+AU20,"") -> 2505 | AU20: 12 | BJ20: 66DCCDA1 | BK20: 66CDA
A21: =IF(B21=$AP$1,"",MAX($A$9:A20)+1) -> 13 | B21: =TRIM(IF(AT21<>"",INDEX(SV!B:B,AT21,1)&" "&INDEX(SV!C:C,AT21,1),$AP$1)) -> Phạm Ngọc Dũng | C21: =IF(AT21<>"",INDEX(SV!A:A,AT21,1),"") -> 65DCCD22690 | D21: =IF(OR(B21=$AP$1,ISERROR(VLOOKUP($AN21,$AZ$9:$AZ$19,1,0))=FALSE),"",SUMIF(E21:AM21,$AV$1,$E$8:$AM$8)) -> 0 | AT21: =IF($AR$1>=AU21,$AQ$1-1+AU21,"") -> 2506 | AU21: 13 | BJ21: 67DCCDA1 | BK21: 67CDA
A22: =IF(B22=$AP$1,"",MAX($A$9:A21)+1) -> 14 | B22: =TRIM(IF(AT22<>"",INDEX(SV!B:B,AT22,1)&" "&INDEX(SV!C:C,AT22,1),$AP$1)) -> Vũ Tùng Dương | C22: =IF(AT22<>"",INDEX(SV!A:A,AT22,1),"") -> 65DCCD20487 | D22: =IF(OR(B22=$AP$1,ISERROR(VLOOKUP($AN22,$AZ$9:$AZ$19,1,0))=FALSE),"",SUMIF(E22:AM22,$AV$1,$E$8:$AM$8)) -> 0 | AT22: =IF($AR$1>=AU22,$AQ$1-1+AU22,"") -> 2507 | AU22: 14 | BJ22: 66DCTM21 | BK22: 66DCTM21
A23: =IF(B23=$AP$1,"",MAX($A$9:A22)+1) -> 15 | B23: =TRIM(IF(AT23<>"",INDEX(SV!B:B,AT23,1)&" "&INDEX(SV!C:C,AT23,1),$AP$1)) -> Nguyễn Tiến Đàm | C23: =IF(AT23<>"",INDEX(SV!A:A,AT23,1),"") -> 65DCCD22009 | D23: =IF(OR(B23=$AP$1,ISERROR(VLOOKUP($AN23,$AZ$9:$AZ$19,1,0))=FALSE),"",SUMIF(E23:AM23,$AV$1,$E$8:$AM$8)) -> 0 | AT23: =IF($AR$1>=AU23,$AQ$1-1+AU23,"") -> 2508 | AU23: 15 | BJ23: 66DCTM22 | BK23: 66DCTM22
A24: =IF(B24=$AP$1,"",MAX($A$9:A23)+1) -> 16 | B24: =TRIM(IF(AT24<>"",INDEX(SV!B:B,AT24,1)&" "&INDEX(SV!C:C,AT24,1),$AP$1)) -> Nguyễn Hải Điệp | C24: =IF(AT24<>"",INDEX(SV!A:A,AT24,1),"") -> 65DCCD22017 | D24: =IF(OR(B24=$AP$1,ISERROR(VLOOKUP($AN24,$AZ$9:$AZ$19,1,0))=FALSE),"",SUMIF(E24:AM24,$AV$1,$E$8:$AM$8)) -> 0 | AT24: =IF($AR$1>=AU24,$AQ$1-1+AU24,"") -> 2509 | AU24: 16 | BJ24: 66DCTM23 | BK24: 66DCTM23
A25: =IF(B25=$AP$1,"",MAX($A$9:A24)+1) -> 17 | B25: =TRIM(IF(AT25<>"",INDEX(SV!B:B,AT25,1)&" "&INDEX(SV!C:C,AT25,1),$AP$1)) -> Lưu Trường Giang | C25: =IF(AT25<>"",INDEX(SV!A:A,AT25,1),"") -> 65DCCD20475 | D25: =IF(OR(B25=$AP$1,ISERROR(VLOOKUP($AN25,$AZ$9:$AZ$19,1,0))=FALSE),"",SUMIF(E25:AM25,$AV$1,$E$8:$AM$8)) -> 0 | AT25: =IF($AR$1>=AU25,$AQ$1-1+AU25,"") -> 2510 | AU25: 17 | BJ25: 66DCDT21 | BK25: 66DCDT21
... A31: =IF(B31=$AP$1,"",MAX($A$9:A30)+1) -> 23 | B31: =TRIM(IF(AT31<>"",INDEX(SV!B:B,AT31,1)&" "&INDEX(SV!C:C,AT31,1),$AP$1)) -> Nguyễn Văn Hùng | C31: =IF(AT31<>"",INDEX(SV!A:A,AT31,1),"") -> 65DCCD23937 | D31: =IF(OR(B31=$AP$1,ISERROR(VLOOKUP($AN31,$AZ$9:$AZ$19,1,0))=FALSE),"",SUMIF(E31:AM31,$AV$1,$E$8:$AM$8)) -> 0 | AT31: =IF($AR$1>=AU31,$AQ$1-1+AU31,"") -> 2516 | AU31: 23 | BJ31: 65DCOT24 | BK31: 65OT21, 24
A32: =IF(B32=$AP$1,"",MAX($A$9:A31)+1) -> 24 | B32: =TRIM(IF(AT32<>"",INDEX(SV!B:B,AT32,1)&" "&INDEX(SV!C:C,AT32,1),$AP$1)) -> Tạ Đình Hùng | C32: =IF(AT32<>"",INDEX(SV!A:A,AT32,1),"") -> 65DCCD22809 | D32: =IF(OR(B32=$AP$1,ISERROR(VLOOKUP($AN32,$AZ$9:$AZ$19,1,0))=FALSE),"",SUMIF(E32:AM32,$AV$1,$E$8:$AM$8)) -> 0 | AT32: =IF($AR$1>=AU32,$AQ$1-1+AU32,"") -> 2517 | AU32: 24
A33: =IF(B33=$AP$1,"",MAX($A$9:A32)+1) -> 25 | B33: =TRIM(IF(AT33<>"",INDEX(SV!B:B,AT33,1)&" "&INDEX(SV!C:C,AT33,1),$AP$1)) -> Trần Mạnh Hùng | C33: =IF(AT33<>"",INDEX(SV!A:A,AT33,1),"") -> 65DCCD22691 | D33: =IF(OR(B33=$AP$1,ISERROR(VLOOKUP($AN33,$AZ$9:$AZ$19,1,0))=FALSE),"",SUMIF(E33:AM33,$AV$1,$E$8:$AM$8)) -> 0 | AT33: =IF($AR$1>=AU33,$AQ$1-1+AU33,"") -> 2518 | AU33: 25
A34: =IF(B34=$AP$1,"",MAX($A$9:A33)+1) -> 26 | B34: =TRIM(IF(AT34<>"",INDEX(SV!B:B,AT34,1)&" "&INDEX(SV!C:C,AT34,1),$AP$1)) -> Vũ Huy Hùng | C34: =IF(AT34<>"",INDEX(SV!A:A,AT34,1),"") -> 65DCCD20468 | D34: =IF(OR(B34=$AP$1,ISERROR(VLOOKUP($AN34,$AZ$9:$AZ$19,1,0))=FALSE),"",SUMIF(E34:AM34,$AV$1,$E$8:$AM$8)) -> 0 | AT34: =IF($AR$1>=AU34,$AQ$1-1+AU34,"") -> 2519 | AU34: 26
A35: =IF(B35=$AP$1,"",MAX($A$9:A34)+1) -> 27 | B35: =TRIM(IF(AT35<>"",INDEX(SV!B:B,AT35,1)&" "&INDEX(SV!C:C,AT35,1),$AP$1)) -> Lê Trọng Khánh | C35: =IF(AT35<>"",INDEX(SV!A:A,AT35,1),"") -> 65DCCD23069 | D35: =IF(OR(B35=$AP$1,ISERROR(VLOOKUP($AN35,$AZ$9:$AZ$19,1,0))=FALSE),"",SUMIF(E35:AM35,$AV$1,$E$8:$AM$8)) -> 0 | AT35: =IF($AR$1>=AU35,$AQ$1-1+AU35,"") -> 2520 | AU35: 27
A36: =IF(B36=$AP$1,"",MAX($A$9:A35)+1) -> 28 | B36: =TRIM(IF(AT36<>"",INDEX(SV!B:B,AT36,1)&" "&INDEX(SV!C:C,AT36,1),$AP$1)) -> Bùi Văn Khiêm | C36: =IF(AT36<>"",INDEX(SV!A:A,AT36,1),"") -> 65DCCD21702 | D36: =IF(OR(B36=$AP$1,ISERROR(VLOOKUP($AN36,$AZ$9:$AZ$19,1,0))=FALSE),"",SUMIF(E36:AM36,$AV$1,$E$8:$AM$8)) -> 0 | AT36: =IF($AR$1>=AU36,$AQ$1-1+AU36,"") -> 2521 | AU36: 28
A37: =IF(B37=$AP$1,"",MAX($A$9:A36)+1) -> 29 | B37: =TRIM(IF(AT37<>"",INDEX(SV!B:B,AT37,1)&" "&INDEX(SV!C:C,AT37,1),$AP$1)) -> Dương Văn Long | C37: =IF(AT37<>"",INDEX(SV!A:A,AT37,1),"") -> 65DCCD21700 | D37: =IF(OR(B37=$AP$1,ISERROR(VLOOKUP($AN37,$AZ$9:$AZ$19,1,0))=FALSE),"",SUMIF(E37:AM37,$AV$1,$E$8:$AM$8)) -> 0 | AT37: =IF($AR$1>=AU37,$AQ$1-1+AU37,"") -> 2522 | AU37: 29
A38: =IF(B38=$AP$1,"",MAX($A$9:A37)+1) -> 30 | B38: =TRIM(IF(AT38<>"",INDEX(SV!B:B,AT38,1)&" "&INDEX(SV!C:C,AT38,1),$AP$1)) -> Mai Văn Lực | C38: =IF(AT38<>"",INDEX(SV!A:A,AT38,1),"") -> 65DCCD20434 | D38: =IF(OR(B38=$AP$1,ISERROR(VLOOKUP($AN38,$AZ$9:$AZ$19,1,0))=FALSE),"",SUMIF(E38:AM38,$AV$1,$E$8:$AM$8)) -> 0 | AT38: =IF($AR$1>=AU38,$AQ$1-1+AU38,"") -> 2523 | AU38: 30
A39: =IF(B39=$AP$1,"",MAX($A$9:A38)+1) -> 31 | B39: =TRIM(IF(AT39<>"",INDEX(SV!B:B,AT39,1)&" "&INDEX(SV!C:C,AT39,1),$AP$1)) -> Phạm Văn Mạnh | C39: =IF(AT39<>"",INDEX(SV!A:A,AT39,1),"") -> 65DCCD20485 | D39: =IF(OR(B39=$AP$1,ISERROR(VLOOKUP($AN39,$AZ$9:$AZ$19,1,0))=FALSE),"",SUMIF(E39:AM39,$AV$1,$E$8:$AM$8)) -> 0 | AT39: =IF($AR$1>=AU39,$AQ$1-1+AU39,"") -> 2524 | AU39: 31
A40: =IF(B40=$AP$1,"",MAX($A$9:A39)+1) -> 32 | B40: =TRIM(IF(AT40<>"",INDEX(SV!B:B,AT40,1)&" "&INDEX(SV!C:C,AT40,1),$AP$1)) -> Đoàn Anh Minh | C40: =IF(AT40<>"",INDEX(SV!A:A,AT40,1),"") -> 65DCCD22022 | D40: =IF(OR(B40=$AP$1,ISERROR(VLOOKUP($AN40,$AZ$9:$AZ$19,1,0))=FALSE),"",SUMIF(E40:AM40,$AV$1,$E$8:$AM$8)) -> 0 | AT40: =IF($AR$1>=AU40,$AQ$1-1+AU40,"") -> 2525 | AU40: 32
A41: =IF(B41=$AP$1,"",MAX($A$9:A40)+1) -> 33 | B41: =TRIM(IF(AT41<>"",INDEX(SV!B:B,AT41,1)&" "&INDEX(SV!C:C,AT41,1),$AP$1)) -> Lê Đức Minh | C41: =IF(AT41<>"",INDEX(SV!A:A,AT41,1),"") -> 65DCCD20446 | D41: =IF(OR(B41=$AP$1,ISERROR(VLOOKUP($AN41,$AZ$9:$AZ$19,1,0))=FALSE),"",SUMIF(E41:AM41,$AV$1,$E$8:$AM$8)) -> 0 | AT41: =IF($AR$1>=AU41,$AQ$1-1+AU41,"") -> 2526 | AU41: 33
A42: =IF(B42=$AP$1,"",MAX($A$9:A41)+1) -> 34 | B42: =TRIM(IF(AT42<>"",INDEX(SV!B:B,AT42,1)&" "&INDEX(SV!C:C,AT42,1),$AP$1)) -> Nguyễn Tuấn Minh | C42: =IF(AT42<>"",INDEX(SV!A:A,AT42,1),"") -> 65DCCD21674 | D42: =IF(OR(B42=$AP$1,ISERROR(VLOOKUP($AN42,$AZ$9:$AZ$19,1,0))=FALSE),"",SUMIF(E42:AM42,$AV$1,$E$8:$AM$8)) -> 0 | AT42: =IF($AR$1>=AU42,$AQ$1-1+AU42,"") -> 2527 | AU42: 34
A43: =IF(B43=$AP$1,"",MAX($A$9:A42)+1) -> 35 | B43: =TRIM(IF(AT43<>"",INDEX(SV!B:B,AT43,1)&" "&INDEX(SV!C:C,AT43,1),$AP$1)) -> Phạm Thanh Minh | C43: =IF(AT43<>"",INDEX(SV!A:A,AT43,1),"") -> 65DCCD22799 | D43: =IF(OR(B43=$AP$1,ISERROR(VLOOKUP($AN43,$AZ$9:$AZ$19,1,0))=FALSE),"",SUMIF(E43:AM43,$AV$1,$E$8:$AM$8)) -> 0 | AT43: =IF($AR$1>=AU43,$AQ$1-1+AU43,"") -> 2528 | AU43: 35
... A108: =IF(B108=$AP$1,"",MAX($A$9:A107)+1) | B108: =TRIM(IF(AT108<>"",INDEX(SV!B:B,AT108,1)&" "&INDEX(SV!C:C,AT108,1),$AP$1)) -> ! | C108: =IF(AT108<>"",INDEX(SV!A:A,AT108,1),"") | D108: =IF(OR(B108=$AP$1,ISERROR(VLOOKUP($AN108,$AZ$9:$AZ$19,1,0))=FALSE),"",SUMIF(E108:AM108,$AV$1,$E$8:$AM$8)) | AT108: =IF($AR$1>=AU108,$AQ$1-1+AU108,"") | AU108: 100
A109: TỔNG | E109: =IF(E7="","",COUNTIF(E9:E108,$AV$1)-COUNTA($AN$9:$AN$108)) -> 0 | F109: =IF(F7="","",COUNTIF(F9:F108,$AV$1)-COUNTA($AN$9:$AN$108)) -> 0 | G109: =IF(G7="","",COUNTIF(G9:G108,$AV$1)-COUNTA($AN$9:$AN$108)) -> 0 | H109: =IF(H7="","",COUNTIF(H9:H108,$AV$1)-COUNTA($AN$9:$AN$108)) -> 0 | I109: =IF(I7="","",COUNTIF(I9:I108,$AV$1)-COUNTA($AN$9:$AN$108)) -> 0 | J109: =IF(J7="","",COUNTIF(J9:J108,$AV$1)-COUNTA($AN$9:$AN$108)) -> 0 | K109: =IF(K7="","",COUNTIF(K9:K108,$AV$1)-COUNTA($AN$9:$AN$108)) -> 0 | L109: =IF(L7="","",COUNTIF(L9:L108,$AV$1)-COUNTA($AN$9:$AN$108)) -> 0 | ... P109: =IF(P7="","",COUNTIF(P9:P108,$AV$1)-COUNTA($AN$9:$AN$108)) | Q109: =IF(Q7="","",COUNTIF(Q9:Q108,$AV$1)) | R109: =IF(R7="","",COUNTIF(R9:R108,$AV$1)) | S109: =IF(S7="","",COUNTIF(S9:S108,$AV$1)) | T109: =IF(T7="","",COUNTIF(T9:T108,$AV$1)) | U109: =IF(U7="","",COUNTIF(U9:U108,$AV$1)) | V109: =IF(V7="","",COUNTIF(V9:V108,$AV$1)) | W109: =IF(W7="","",COUNTIF(W9:W108,$AV$1)) | X109: =IF(X7="","",COUNTIF(X9:X108,$AV$1)) | AB109: =IF(AB7="","",COUNTIF(AB9:AB108,$AV$1)) | AC109: =IF(AC7="","",COUNTIF(AC9:AC108,$AV$1)) | AD109: =IF(AD7="","",COUNTIF(AD9:AD108,$AV$1)) | AE109: =IF(AE7="","",COUNTIF(AE9:AE108,$AV$1)) | AF109: =IF(AF7="","",COUNTIF(AF9:AF108,$AV$1)) | AG109: =IF(AG7="","",COUNTIF(AG9:AG108,$AV$1)) | AH109: =IF(AH7="","",COUNTIF(AH9:AH108,$AV$1)) | AI109: =IF(AI7="","",COUNTIF(AI9:AI108,$AV$1)) | ... AM109: =IF(AM7="","",COUNTIF(AM9:AM108,$AV$1))
...

Sheet Tiến độ
A1: KẾ HOẠCH CHI TIẾT NĂM HỌC 2016 - 2017 ĐẠI HỌC CHÍNH QUY - CƠ SỞ ĐÀO TẠO HÀ NỘI | BL1: =INDEX(#REF!,MATCH(#REF!,#REF!,0)) -> #REF! | BM1: Nguyên lý CNML | DV1: TỔNG TC - TỔNG TIẾT / LỚP / TUẦN
A2: SỐ TT | B2: KHÓA / CHUYÊN NGÀNH | C2: HỌC PHẦN | H2: SỐ LỚP | I2: SỐ SV | J2: GHI CHÚ | K2: 8/2016 | O2: 9/2016 | S2: 10/2016 | X2: 11/2016 | AB2: 12/2016 | AF2: 01/2017 | AK2: 02/2017 | AO2: 3/2017 | AS2: 4/2017 | AW2: 5/2017 | BB2: 6/2017 | BF2: 7/2017 | BK2: PHÒNG HỌC | BL2: BỘ MÔN CHỦ QUẢN | BM2: Tháng | BN2: 8/2016 | BR2: 9/2016 | BV2: 10/2016 | CA2: 11/2016 | CE2: 12/2016 | CI2: 01/2017 | CN2: 02/2017 | CR2: 3/2017 | CV2: 4/2017 | CZ2: 5/2017 | DE2: 6/2017 | DI2: 7/2017 | DV2: =IF(ISERROR(DV6)=FALSE,MATCH(DV6,'Tiến độ'!B1:B1446,0),MATCH(LEFT('Đăng kí'!A5,2)&MID('Đăng kí'!A5,5,2),'Tiến độ'!B1:B1446,0)) -> 292
C3: TÊN HỌC PHẦN | D3: MÃ HỌC PHẦN | E3: SỐ TC | F3: TIẾT LT | G3: GIỜ TH | K3: 42590 | L3: 42597 | M3: 42604 | N3: 42611 | O3: 42618 | P3: 42625 | Q3: 42632 | R3: 42639 | S3: 42646 | T3: 42653 | U3: 42660 | V3: 42667 | W3: 42674 | X3: 42681 | Y3: 42688 | Z3: 42695 | AA3: 42702 | AB3: 42709 | AC3: 42716 | AD3: 42723 | AE3: 42730 | AF3: 42737 | AG3: 42744 | AH3: 42751 | AI3: 42758 | AJ3: 42765 | AK3: 42772 | AL3: 42779 | AM3: 42786 | AN3: 42793 | AO3: 42800 | AP3: 42807 | AQ3: 42814 | AR3: 42821 | AS3: 42828 | AT3: 42835 | AU3: 42842 | AV3: 42849 | AW3: 42856 | AX3: 42863 | AY3: 42870 | AZ3: 42877 | BA3: 42884 | BB3: 42891 | BC3: 42898 | BD3: 42905 | BE3: 42912 | BF3: 42919 | BG3: 42926 | BH3: 42933 | BI3: 42940 | BJ3: 42947 | BM3: Từ ngày | BN3: 42590 | BO3: 42597 | BP3: 42604 | BQ3: 42611 | BR3: 42618 | BS3: 42625 | BT3: 42632 | BU3: 42639 | BV3: 42646 | BW3: 42653 | BX3: 42660 | BY3: 42667 | BZ3: 42674 | CA3: 42681 | CB3: 42688 | CC3: 42695 | CD3: 42702 | CE3: 42709 | CF3: 42716 | CG3: 42723 | CH3: 42730 | CI3: 42737 | CJ3: 42744 | CK3: 42751 | CL3: 42758 | CM3: 42765 | CN3: 42772 | CO3: 42779 | CP3: 42786 | CQ3: 42793 | CR3: 42800 | CS3: 42807 | CT3: 42814 | CU3: 42821 | CV3: 42828 | CW3: 42835 | CX3: 42842 | CY3: 42849 | CZ3: 42856 | DA3: 42863 | DB3: 42870 | DC3: 42877 | DD3: 42884 | DE3: 42891 | DF3: 42898 | DG3: 42905 | DH3: 42912 | DI3: 42919 | DJ3: 42926 | DK3: 42933 | DL3: 42940 | DM3: 42947 | DV3: =MATCH(DV1,INDIRECT("c"&DV2&":c"&ROWS(C1:C1446)),0)+DV2-2 -> 308
K4: 42594 | L4: 42601 | M4: 42608 | N4: 42615 | O4: 42622 | P4: 42629 | Q4: 42636 | R4: 42643 | S4: 42650 | T4: 42657 | U4: 42664 | V4: 42671 | W4: 42678 | X4: 42685 | Y4: 42692 | Z4: 42699 | AA4: 42706 | AB4: 42713 | AC4: 42720 | AD4: 42727 | AE4: 42734 | AF4: 42741 | AG4: 42748 | AH4: 42755 | AI4: 42762 | AJ4: 42769 | AK4: 42776 | AL4: 42783 | AM4: 42790 | AN4: 42797 | AO4: 42804 | AP4: 42811 | AQ4: 42818 | AR4: 42825 | AS4: 42832 | AT4: 42839 | AU4: 42846 | AV4: 42853 | AW4: 42860 | AX4: 42867 | AY4: 42874 | AZ4: 42881 | BA4: 42888 | BB4: 42895 | BC4: 42902 | BD4: 42909 | BE4: 42916 | BF4: 42923 | BG4: 42930 | BH4: 42937 | BI4: 42944 | BJ4: 42951 | BM4: Đến ngày | BN4: 42594 | BO4: 42601 | BP4: 42608 | BQ4: 42615 | BR4: 42622 | BS4: 42629 | BT4: 42636 | BU4: 42643 | BV4: 42650 | BW4: 42657 | BX4: 42664 | BY4: 42671 | BZ4: 42678 | CA4: 42685 | CB4: 42692 | CC4: 42699 | CD4: 42706 | CE4: 42713 | CF4: 42720 | CG4: 42727 | CH4: 42734 | CI4: 42741 | CJ4: 42748 | CK4: 42755 | CL4: 42762 | CM4: 42769 | CN4: 42776 | CO4: 42783 | CP4: 42790 | CQ4: 42797 | CR4: 42804 | CS4: 42811 | CT4: 42818 | CU4: 42825 | CV4: 42832 | CW4: 42839 | CX4: 42846 | CY4: 42853 | CZ4: 42860 | DA4: 42867 | DB4: 42874 | DC4: 42881 | DD4: 42888 | DE4: 42895 | DF4: 42902 | DG4: 42909 | DH4: 42916 | DI4: 42923 | DJ4: 42930 | DK4: 42937 | DL4: 42944 | DM4: 42951 | DV4: =INDEX('Đăng kí'!AY2:BH6,MATCH(LEFT('Đăng kí'!A5,2)-0,'Đăng kí'!AX2:AX6,0),MATCH('Đăng kí'!A4,'Đăng kí'!AY1:BH1,0)) -> 2
K5: 1 | L5: 2 | M5: 3 | N5: 4 | O5: 5 | P5: 6 | Q5: 7 | R5: 8 | S5: 9 | T5: 10 | U5: 11 | V5: 12 | W5: 13 | X5: 14 | Y5: 15 | Z5: 16 | AA5: 17 | AB5: 18 | AC5: 19 | AD5: 20 | AE5: 21 | AF5: 22 | AG5: 23 | AH5: 24 | AI5: 25 | AJ5: 26 | AK5: 27 | AL5: 28 | AM5: 29 | AN5: 30 | AO5: 31 | AP5: 32 | AQ5: 33 | AR5: 34 | AS5: 35 | AT5: 36 | AU5: 37 | AV5: 38 | AW5: 39 | AX5: 40 | AY5: 41 | AZ5: 42 | BA5: 43 | BB5: 44 | BC5: 45 | BD5: 46 | BE5: 47 | BF5: 48 | BG5: 49 | BH5: 50 | BI5: 51 | BJ5: 52 | BM5: Tuần | BN5: 1 | BO5: 2 | BP5: 3 | BQ5: 4 | BR5: 5 | BS5: 6 | BT5: 7 | BU5: 8 | BV5: 9 | BW5: 10 | BX5: 11 | BY5: 12 | BZ5: 13 | CA5: 14 | CB5: 15 | CC5: 16 | CD5: 17 | CE5: 18 | CF5: 19 | CG5: 20 | CH5: 21 | CI5: 22 | CJ5: 23 | CK5: 24 | CL5: 25 | CM5: 26 | CN5: 27 | CO5: 28 | CP5: 29 | CQ5: 30 | CR5: 31 | CS5: 32 | CT5: 33 | CU5: 34 | CV5: 35 | CW5: 36 | CX5: 37 | CY5: 38 | CZ5: 39 | DA5: 40 | DB5: 41 | DC5: 42 | DD5: 43 | DE5: 44 | DF5: 45 | DG5: 46 | DH5: 47 | DI5: 48 | DJ5: 49 | DK5: 50 | DL5: 51 | DM5: 52
A6: Lý thuyết | K6: =SUMIF(MON,$A$6,BN7:BN1446) -> 2256 | L6: =SUMIF(MON,$A$6,BO7:BO1446) -> 2256 | M6: =SUMIF(MON,$A$6,BP7:BP1446) -> 2256 | N6: =SUMIF(MON,$A$6,BQ7:BQ1446) -> 2310 | O6: =SUMIF(MON,$A$6,BR7:BR1446) -> 2310 | P6: =SUMIF(MON,$A$6,BS7:BS1446) -> 2218 | Q6: =SUMIF(MON,$A$6,BT7:BT1446) -> 2576 | R6: =SUMIF(MON,$A$6,BU7:BU1446) -> 2482 | ... BJ6: =SUMIF(MON,$A$6,DM7:DM1446) -> 0 | BL6: Đường | BN6: =SUMIF($BK$7:$BK$645,$BM$1,BN7:BN645) -> 0 | BO6: =SUMIF($BK$7:$BK$645,$BM$1,BO7:BO645) -> 0 | BP6: =SUMIF($BK$7:$BK$645,$BM$1,BP7:BP645) -> 0 | BQ6: =SUMIF($BK$7:$BK$645,$BM$1,BQ7:BQ645) -> 0 | BR6: =SUMIF($BK$7:$BK$645,$BM$1,BR7:BR645) -> 0 | BS6: =SUMIF($BK$7:$BK$645,$BM$1,BS7:BS645) -> 0 | BT6: =SUMIF($BK$7:$BK$645,$BM$1,BT7:BT645) -> 0 | BU6: =SUMIF($BK$7:$BK$645,$BM$1,BU7:BU645) -> 0 | ... CF6: =SUMIF($BK$7:$BK$645,$BM$1,CF7:CF645) -> 0 | DN6: =SUMIF(HP,$BL$6,DN7:DN1446) -> 4218 | DO6: =SUMIF(HP,$BL$6,DO7:DO1446) -> 1950 | DP6: =SUMIF(HP,$BL$6,DP7:DP1446) -> 0 | DQ6: =SUMIF(HP,$BL$6,DQ7:DQ1446) -> 2268 | DR6: Kì | DT6: HP (Bộ môn) | DV6: =INDEX('Đăng kí'!BK9:BK58,MATCH('Đăng kí'!A5,'Đăng kí'!BJ9:BJ58,0)) -> #N/A
A7: =IF(B7="","",1) -> 1 | B7: 63DD | C7: Thực tập nghề nghiệp xây dựng công trình | D7: DC4DD23 | E7: 4 | G7: 180 | H7: 2 | I7: =57+51 -> 108 | K7: NN | L7: NN | M7: NN | N7: NN | S7: DT | T7: DT | U7: DT | V7: DT | W7: DT | X7: DT | Y7: DT | Z7: DT | AA7: DT | AB7: DT | AC7: DT | AD7: KP | AE7: KP | AF7: KP | AG7: KP | AH7: KP | AK7: KP | BE7: NGHỈ HÈ (KÌ PHỤ) | BL7: Xây dựng dân dụng và công nghiệp | BM7: =IF(D7="","",INDEX(CSDL!$H$2:$H$1501,MATCH(D7,CSDL!$B$2:$B$1501,0))) | BN7: =IF(ISERROR(K7-0)=TRUE,0,$H7*K7) -> 0 | BO7: =IF(ISERROR(L7-0)=TRUE,0,$H7*L7) -> 0 | BP7: =IF(ISERROR(M7-0)=TRUE,0,$H7*M7) -> 0 | BQ7: =IF(ISERROR(N7-0)=TRUE,0,$H7*N7) -> 0 | BR7: =IF(ISERROR(O7-0)=TRUE,0,$H7*O7) -> 0 | BS7: =IF(ISERROR(P7-0)=TRUE,0,$H7*P7) -> 0 | BT7: =IF(ISERROR(Q7-0)=TRUE,0,$H7*Q7) -> 0 | BU7: =IF(ISERROR(R7-0)=TRUE,0,$H7*R7) -> 0 | ... DM7: =IF(ISERROR(BJ7-0)=TRUE,0,$H7*BJ7) -> 0 | DN7: =I7*1 -> 108 | DO7: =IF(COUNTA(K7:AC7)>0,DN7,"") -> 108 | DP7: =IF(DO7="",IF(COUNT(AD7:AH7,AK7)>0,DN7,""),"") | DQ7: =IF(AND(DO7="",DP7=""),IF(COUNTA(AL7:BD7)>0,DN7,""),"") | DR7: =IF(DQ7="",1,2) -> 1 | DS7: =IF(AND(DR7=#REF!,BL7=#REF!),'Tiến độ'!D7,"") -> #REF! | DT7: =IF(ISERROR(ED7)=TRUE,"",ED7) | DU7: =IF(ISERROR(DT7)=TRUE,0,IF(DT7="",0,1)) -> 0 | DV7: 1 | DW7: =IF($DV$2+DV7-1<=$DV$3,$DV$2+DV7-1,"") -> 292 | DX7: =IF(DW7="","",IF(INDEX(DR:DR,DW7,0)=$DV$4,INDEX(D:D,DW7,0),"")) | DY7: {=IFERROR(INDEX($DX$7:$DX$36,SMALL(IF($DX$7:$DX$36<>"",ROW(INDIRECT("1:"&ROWS($DX$7:$DX$36)))),ROW(INDIRECT("1:"&ROWS($DX$7:$DX$36))))),"")} -> DC2CT65 | DZ7: =IF(DY7="","",INDEX(C:C,MATCH(DY7,D:D,0))&" ("&DY7&")") -> An toàn lao động (DC2CT65) | EA7: =IF(DY7="","",INDEX(E:E,MATCH(DY7,D:D,0))) -> 2 | EC7: {=IFERROR(INDEX(ma,SMALL(IF(ma<>"",ROW(INDIRECT("1:"&ROWS(ma)))),ROW(INDIRECT("1:"&ROWS(ma))))),"")} | ED7: {=INDEX(maloc,SMALL(IF(MATCH(maloc,maloc,0)=ROW(INDIRECT("1:"&ROWS(maloc))),MATCH(maloc,maloc,0),""),ROW(INDIRECT("1:"&ROWS(maloc)))))}
A8: =IF(B8="","",MAX($A$7:A7)+1) | C8: Thực tập tốt nghiệp | D8: DC4DD70 | E8: 4 | G8: 180 | H8: =H7 -> 2 | I8: =I7 -> 108 | O8: TN | P8: TN | Q8: TN | R8: TN | S8: DT | T8: DT | U8: DT | V8: DT | W8: DT | X8: DT | Y8: DT | Z8: DT | AA8: DT | AB8: DT | AC8: DT | AD8: KP | AE8: KP | AF8: KP | AG8: KP | AH8: KP | AK8: KP | BL8: Xây dựng dân dụng và công nghiệp | BN8: =IF(ISERROR(K8-0)=TRUE,0,$H8*K8) -> 0 | BO8: =IF(ISERROR(L8-0)=TRUE,0,$H8*L8) -> 0 | BP8: =IF(ISERROR(M8-0)=TRUE,0,$H8*M8) -> 0 | BQ8: =IF(ISERROR(N8-0)=TRUE,0,$H8*N8) -> 0 | BR8: =IF(ISERROR(O8-0)=TRUE,0,$H8*O8) -> 0 | BS8: =IF(ISERROR(P8-0)=TRUE,0,$H8*P8) -> 0 | BT8: =IF(ISERROR(Q8-0)=TRUE,0,$H8*Q8) -> 0 | BU8: =IF(ISERROR(R8-0)=TRUE,0,$H8*R8) -> 0 | ... DM8: =IF(ISERROR(BJ8-0)=TRUE,0,$H8*BJ8) -> 0 | DN8: =I8*2 -> 216 | DO8: =IF(COUNTA(K8:AC8)>0,DN8,"") -> 216 | DP8: =IF(DO8="",IF(COUNT(AD8:AH8,AK8)>0,DN8,""),"") | DQ8: =IF(AND(DO8="",DP8=""),IF(COUNTA(AL8:BD8)>0,DN8,""),"") | DR8: =IF(DQ8="",1,2) -> 1 | DS8: =IF(AND(DR8=#REF!,BL8=#REF!),'Tiến độ'!D8,"") -> #REF! | DT8: =IF(ISERROR(ED8)=TRUE,"",ED8) | DU8: =IF(ISERROR(DT8)=TRUE,0,IF(DT8="",0,1+MAX($DU$7:DU7))) -> 0 | DV8: 2 | DW8: =IF($DV$2+DV8-1<=$DV$3,$DV$2+DV8-1,"") -> 293 | DX8: =IF(DW8="","",IF(INDEX(DR:DR,DW8,0)=$DV$4,INDEX(D:D,DW8,0),"")) | DY8: DC3DB41 | DZ8: =IF(DY8="","",INDEX(C:C,MATCH(DY8,D:D,0))&" ("&DY8&")") -> Thiết kế đường 1 (DC3DB41) | EA8: =IF(DY8="","",INDEX(E:E,MATCH(DY8,D:D,0))) -> 4 | ED8: #NUM!
A9: =IF(B9="","",MAX($A$7:A8)+1) | C9: Đồ án tốt nghiệp | D9: DC4DD80 | E9: 8 | G9: 480 | H9: =H8 -> 2 | I9: =I8 -> 108 | AL9: DT | AM9: DT | AN9: DT | AO9: DT | AP9: DT | AQ9: ĐA | AR9: ĐA | AS9: ĐA | AT9: ĐA | AU9: ĐA | AV9: ĐA | AW9: ĐA | AX9: ĐA | AY9: ĐA | AZ9: ĐA | BA9: ĐA | BB9: ĐA | BC9: # | BD9: # | BL9: Xây dựng dân dụng và công nghiệp | BN9: =IF(ISERROR(K9-0)=TRUE,0,$H9*K9) -> 0 | BO9: =IF(ISERROR(L9-0)=TRUE,0,$H9*L9) -> 0 | BP9: =IF(ISERROR(M9-0)=TRUE,0,$H9*M9) -> 0 | BQ9: =IF(ISERROR(N9-0)=TRUE,0,$H9*N9) -> 0 | BR9: =IF(ISERROR(O9-0)=TRUE,0,$H9*O9) -> 0 | BS9: =IF(ISERROR(P9-0)=TRUE,0,$H9*P9) -> 0 | BT9: =IF(ISERROR(Q9-0)=TRUE,0,$H9*Q9) -> 0 | BU9: =IF(ISERROR(R9-0)=TRUE,0,$H9*R9) -> 0 | ... DM9: =IF(ISERROR(BJ9-0)=TRUE,0,$H9*BJ9) -> 0 | DN9: =I9*15 -> 1620 | DO9: =IF(COUNTA(K9:AC9)>0,DN9,"") | DP9: =IF(DO9="",IF(COUNT(AD9:AH9,AK9)>0,DN9,""),"") | DQ9: =IF(AND(DO9="",DP9=""),IF(COUNTA(AL9:BD9)>0,DN9,""),"") -> 1620 | DR9: =IF(DQ9="",1,2) -> 2 | DS9: =IF(AND(DR9=#REF!,BL9=#REF!),'Tiến độ'!D9,"") -> #REF! | DT9: =IF(ISERROR(ED9)=TRUE,"",ED9) | DU9: =IF(ISERROR(DT9)=TRUE,0,IF(DT9="",0,1+MAX($DU$7:DU8))) -> 0 | DV9: 3 | DW9: =IF($DV$2+DV9-1<=$DV$3,$DV$2+DV9-1,"") -> 294 | DX9: =IF(DW9="","",IF(INDEX(DR:DR,DW9,0)=$DV$4,INDEX(D:D,DW9,0),"")) | DY9: DC3DB44 | DZ9: =IF(DY9="","",INDEX(C:C,MATCH(DY9,D:D,0))&" ("&DY9&")") -> Đồ án Thiết kế đường (DC3DB44) | EA9: =IF(DY9="","",INDEX(E:E,MATCH(DY9,D:D,0))) -> 2 | ED9: #NUM!
A10: =IF(B10="","",MAX($A$7:A9)+1) | C10: TỔNG TC - TỔNG TIẾT / LỚP / TUẦN | E10: =SUM(E7:E9) -> 16 | K10: =SUM(K7:K9) -> 0 | L10: =SUM(L7:L9) -> 0 | M10: =SUM(M7:M9) -> 0 | N10: =SUM(N7:N9) -> 0 | O10: =SUM(O7:O9) -> 0 | P10: =SUM(P7:P9) -> 0 | Q10: =SUM(Q7:Q9) -> 0 | R10: =SUM(R7:R9) -> 0 | ... AH10: =SUM(AH7:AH9) -> 0 | AK10: =SUM(AK7:AK9) -> 0 | AL10: =SUM(AL7:AL9) -> 0 | AM10: =SUM(AM7:AM9) -> 0 | AN10: =SUM(AN7:AN9) -> 0 | AO10: =SUM(AO7:AO9) -> 0 | AP10: =SUM(AP7:AP9) -> 0 | AQ10: =SUM(AQ7:AQ9) -> 0 | AR10: =SUM(AR7:AR9) -> 0 | ... BD10: =SUM(BD7:BD9) -> 0 | BN10: =IF(ISERROR(K10-0)=TRUE,0,$H10*K10) -> 0 | BO10: =IF(ISERROR(L10-0)=TRUE,0,$H10*L10) -> 0 | BP10: =IF(ISERROR(M10-0)=TRUE,0,$H10*M10) -> 0 | BQ10: =IF(ISERROR(N10-0)=TRUE,0,$H10*N10) -> 0 | BR10: =IF(ISERROR(O10-0)=TRUE,0,$H10*O10) -> 0 | BS10: =IF(ISERROR(P10-0)=TRUE,0,$H10*P10) -> 0 | BT10: =IF(ISERROR(Q10-0)=TRUE,0,$H10*Q10) -> 0 | BU10: =IF(ISERROR(R10-0)=TRUE,0,$H10*R10) -> 0 | ... DM10: =IF(ISERROR(BJ10-0)=TRUE,0,$H10*BJ10) -> 0 | DS10: =IF(AND(DR10=#REF!,BL10=#REF!),'Tiến độ'!D10,"") -> #REF! | DT10: =IF(ISERROR(ED10)=TRUE,"",ED10) | DU10: =IF(ISERROR(DT10)=TRUE,0,IF(DT10="",0,1+MAX($DU$7:DU9))) -> 0 | DV10: 4 | DW10: =IF($DV$2+DV10-1<=$DV$3,$DV$2+DV10-1,"") -> 295 | DX10: =IF(DW10="","",IF(INDEX(DR:DR,DW10,0)=$DV$4,INDEX(D:D,DW10,0),"")) | DY10: DC3CA41 | DZ10: =IF(DY10="","",INDEX(C:C,MATCH(DY10,D:D,0))&" ("&DY10&")") -> Thiết kế cầu 1 (DC3CA41) | EA10: =IF(DY10="","",INDEX(E:E,MATCH(DY10,D:D,0))) -> 4 | ED10: #NUM!
A11: =IF(B11="","",MAX($A$7:A10)+1) -> 2 | B11: 63DB | C11: Thực tập nghề nghiệp xây dựng đường | D11: DC4DB23 | E11: 3 | G11: 135 | H11: 1 | I11: =53 -> 53 | K11: DB | L11: DB | M11: DB | R11: DT | S11: DT | T11: DT | U11: DT | V11: DT | W11: DT | X11: DT | Y11: DT | Z11: DT | AA11: DT | AB11: DT | AC11: DT | AD11: KP | AE11: KP | AF11: KP | AG11: KP | AH11: KP | AK11: KP | BL11: Đường | BN11: =IF(ISERROR(K11-0)=TRUE,0,$H11*K11) -> 0 | BO11: =IF(ISERROR(L11-0)=TRUE,0,$H11*L11) -> 0 | BP11: =IF(ISERROR(M11-0)=TRUE,0,$H11*M11) -> 0 | BQ11: =IF(ISERROR(N11-0)=TRUE,0,$H11*N11) -> 0 | BR11: =IF(ISERROR(O11-0)=TRUE,0,$H11*O11) -> 0 | BS11: =IF(ISERROR(P11-0)=TRUE,0,$H11*P11) -> 0 | BT11: =IF(ISERROR(Q11-0)=TRUE,0,$H11*Q11) -> 0 | BU11: =IF(ISERROR(R11-0)=TRUE,0,$H11*R11) -> 0 | ... DM11: =IF(ISERROR(BJ11-0)=TRUE,0,$H11*BJ11) -> 0 | DN11: =I11*1 -> 53 | DO11: =IF(COUNTA(K11:AC11)>0,DN11,"") -> 53 | DP11: =IF(DO11="",IF(COUNT(AD11:AH11,AK11)>0,DN11,""),"") | DQ11: =IF(AND(DO11="",DP11=""),IF(COUNTA(AL11:BD11)>0,DN11,""),"") | DR11: =IF(DQ11="",1,2) -> 1 | DS11: =IF(AND(DR11=#REF!,BL11=#REF!),'Tiến độ'!D11,"") -> #REF! | DT11: =IF(ISERROR(ED11)=TRUE,"",ED11) | DU11: =IF(ISERROR(DT11)=TRUE,0,IF(DT11="",0,1+MAX($DU$7:DU10))) -> 0 | DV11: 5 | DW11: =IF($DV$2+DV11-1<=$DV$3,$DV$2+DV11-1,"") -> 296 | DX11: =IF(DW11="","",IF(INDEX(DR:DR,DW11,0)=$DV$4,INDEX(D:D,DW11,0),"")) | DY11: DC3CA44 | DZ11: =IF(DY11="","",INDEX(C:C,MATCH(DY11,D:D,0))&" ("&DY11&")") -> Đồ án Thiết kế cầu (DC3CA44) | EA11: =IF(DY11="","",INDEX(E:E,MATCH(DY11,D:D,0))) -> 2 | ED11: #NUM!
A12: =IF(B12="","",MAX($A$7:A11)+1) | C12: Thực tập tốt nghiệp | D12: DC4DB70 | E12: 4 | G12: 180 | H12: =H11 -> 1 | I12: =I11 -> 53 | N12: TN | O12: TN | P12: TN | Q12: TN | R12: DT | S12: DT | T12: DT | U12: DT | V12: DT | W12: DT | X12: DT | Y12: DT | Z12: DT | AA12: DT | AB12: DT | AC12: DT | AD12: KP | AE12: KP | AF12: KP | AG12: KP | AH12: KP | AK12: KP | BL12: Đường | BN12: =IF(ISERROR(K12-0)=TRUE,0,$H12*K12) -> 0 | BO12: =IF(ISERROR(L12-0)=TRUE,0,$H12*L12) -> 0 | BP12: =IF(ISERROR(M12-0)=TRUE,0,$H12*M12) -> 0 | BQ12: =IF(ISERROR(N12-0)=TRUE,0,$H12*N12) -> 0 | BR12: =IF(ISERROR(O12-0)=TRUE,0,$H12*O12) -> 0 | BS12: =IF(ISERROR(P12-0)=TRUE,0,$H12*P12) -> 0 | BT12: =IF(ISERROR(Q12-0)=TRUE,0,$H12*Q12) -> 0 | BU12: =IF(ISERROR(R12-0)=TRUE,0,$H12*R12) -> 0 | ... DM12: =IF(ISERROR(BJ12-0)=TRUE,0,$H12*BJ12) -> 0 | DN12: =I12*2 -> 106 | DO12: =IF(COUNTA(K12:AC12)>0,DN12,"") -> 106 | DP12: =IF(DO12="",IF(COUNT(AD12:AH12,AK12)>0,DN12,""),"") | DQ12: =IF(AND(DO12="",DP12=""),IF(COUNTA(AL12:BD12)>0,DN12,""),"") | DR12: =IF(DQ12="",1,2) -> 1 | DS12: =IF(AND(DR12=#REF!,BL12=#REF!),'Tiến độ'!D12,"") -> #REF! | DT12: =IF(ISERROR(ED12)=TRUE,"",ED12) | DU12: =IF(ISERROR(DT12)=TRUE,0,IF(DT12="",0,1+MAX($DU$7:DU11))) -> 0 | DV12: 6 | DW12: =IF($DV$2+DV12-1<=$DV$3,$DV$2+DV12-1,"") -> 297 | DX12: =IF(DW12="","",IF(INDEX(DR:DR,DW12,0)=$DV$4,INDEX(D:D,DW12,0),"")) | DY12: DC2GT42 | DZ12: =IF(DY12="","",INDEX(C:C,MATCH(DY12,D:D,0))&" ("&DY12&")") -> Máy xây dựng (DC2GT42) | EA12: =IF(DY12="","",INDEX(E:E,MATCH(DY12,D:D,0))) -> 2 | ED12: #NUM!
A13: =IF(B13="","",MAX($A$7:A12)+1) | C13: Đồ án tốt nghiệp | D13: DC4DB80 | E13: 8 | G13: 480 | H13: =H12 -> 1 | I13: =I12 -> 53 | AL13: DT | AM13: DT | AN13: DT | AO13: DT | AP13: DT | AQ13: ĐA | AR13: ĐA | AS13: ĐA | AT13: ĐA | AU13: ĐA | AV13: ĐA | AW13: ĐA | AX13: ĐA | AY13: ĐA | AZ13: ĐA | BA13: ĐA | BB13: ĐA | BC13: # | BD13: # | BL13: Đường | BN13: =IF(ISERROR(K13-0)=TRUE,0,$H13*K13) -> 0 | BO13: =IF(ISERROR(L13-0)=TRUE,0,$H13*L13) -> 0 | BP13: =IF(ISERROR(M13-0)=TRUE,0,$H13*M13) -> 0 | BQ13: =IF(ISERROR(N13-0)=TRUE,0,$H13*N13) -> 0 | BR13: =IF(ISERROR(O13-0)=TRUE,0,$H13*O13) -> 0 | BS13: =IF(ISERROR(P13-0)=TRUE,0,$H13*P13) -> 0 | BT13: =IF(ISERROR(Q13-0)=TRUE,0,$H13*Q13) -> 0 | BU13: =IF(ISERROR(R13-0)=TRUE,0,$H13*R13) -> 0 | ... DM13: =IF(ISERROR(BJ13-0)=TRUE,0,$H13*BJ13) -> 0 | DN13: =I13*15 -> 795 | DO13: =IF(COUNTA(K13:AC13)>0,DN13,"") | DP13: =IF(DO13="",IF(COUNT(AD13:AH13,AK13)>0,DN13,""),"") | DQ13: =IF(AND(DO13="",DP13=""),IF(COUNTA(AL13:BD13)>0,DN13,""),"") -> 795 | DR13: =IF(DQ13="",1,2) -> 2 | DS13: =IF(AND(DR13=#REF!,BL13=#REF!),'Tiến độ'!D13,"") -> #REF! | DT13: =IF(ISERROR(ED13)=TRUE,"",ED13) | DU13: =IF(ISERROR(DT13)=TRUE,0,IF(DT13="",0,1+MAX($DU$7:DU12))) -> 0 | DV13: 7 | DW13: =IF($DV$2+DV13-1<=$DV$3,$DV$2+DV13-1,"") -> 298 | DX13: =IF(DW13="","",IF(INDEX(DR:DR,DW13,0)=$DV$4,INDEX(D:D,DW13,0),"")) | DY13: DC1CB92 | DZ13: =IF(DY13="","",INDEX(C:C,MATCH(DY13,D:D,0))&" ("&DY13&")") -> Môi trường trong xây dựng (DC1CB92) | EA13: =IF(DY13="","",INDEX(E:E,MATCH(DY13,D:D,0))) -> 2 | ED13: #NUM!
A14: =IF(B14="","",MAX($A$7:A13)+1) | C14: TỔNG TC - TỔNG TIẾT / LỚP / TUẦN | E14: =SUM(E11:E13) -> 15 | K14: =SUM(K11:K13) -> 0 | L14: =SUM(L11:L13) -> 0 | M14: =SUM(M11:M13) -> 0 | N14: =SUM(N11:N13) -> 0 | O14: =SUM(O11:O13) -> 0 | P14: =SUM(P11:P13) -> 0 | Q14: =SUM(Q11:Q13) -> 0 | R14: =SUM(R11:R13) -> 0 | ... AH14: =SUM(AH11:AH13) -> 0 | AK14: =SUM(AK11:AK13) -> 0 | AL14: =SUM(AL11:AL13) -> 0 | AM14: =SUM(AM11:AM13) -> 0 | AN14: =SUM(AN11:AN13) -> 0 | AO14: =SUM(AO11:AO13) -> 0 | AP14: =SUM(AP11:AP13) -> 0 | AQ14: =SUM(AQ11:AQ13) -> 0 | AR14: =SUM(AR11:AR13) -> 0 | ... BD14: =SUM(BD11:BD13) -> 0 | BN14: =IF(ISERROR(K14-0)=TRUE,0,$H14*K14) -> 0 | BO14: =IF(ISERROR(L14-0)=TRUE,0,$H14*L14) -> 0 | BP14: =IF(ISERROR(M14-0)=TRUE,0,$H14*M14) -> 0 | BQ14: =IF(ISERROR(N14-0)=TRUE,0,$H14*N14) -> 0 | BR14: =IF(ISERROR(O14-0)=TRUE,0,$H14*O14) -> 0 | BS14: =IF(ISERROR(P14-0)=TRUE,0,$H14*P14) -> 0 | BT14: =IF(ISERROR(Q14-0)=TRUE,0,$H14*Q14) -> 0 | BU14: =IF(ISERROR(R14-0)=TRUE,0,$H14*R14) -> 0 | ... DM14: =IF(ISERROR(BJ14-0)=TRUE,0,$H14*BJ14) -> 0 | DS14: =IF(AND(DR14=#REF!,BL14=#REF!),'Tiến độ'!D14,"") -> #REF! | DT14: =IF(ISERROR(ED14)=TRUE,"",ED14) | DU14: =IF(ISERROR(DT14)=TRUE,0,IF(DT14="",0,1+MAX($DU$7:DU13))) -> 0 | DV14: 8 | DW14: =IF($DV$2+DV14-1<=$DV$3,$DV$2+DV14-1,"") -> 299 | DX14: =IF(DW14="","",IF(INDEX(DR:DR,DW14,0)=$DV$4,INDEX(D:D,DW14,0),"")) -> DC2CT65 | DY14: DC3CD60 | DZ14: =IF(DY14="","",INDEX(C:C,MATCH(DY14,D:D,0))&" ("&DY14&")") -> Tin học ứng dụng (DC3CD60) | EA14: =IF(DY14="","",INDEX(E:E,MATCH(DY14,D:D,0))) -> 2 | ED14: #NUM!
A15: =IF(B15="","",MAX($A$7:A14)+1) -> 3 | B15: 63CA | C15: Thực tập khảo sát thiết kế cầu | D15: DC4CA21 | E15: 5 | G15: 225 | H15: 1 | I15: =24 -> 24 | K15: KS | L15: KS | M15: KS | N15: KS | O15: KS | W15: DT | X15: DT | Y15: DT | Z15: DT | AA15: DT | AB15: DT | AC15: DT | AD15: KP | AE15: KP | AF15: KP | AG15: KP | AH15: KP | AK15: KP | BL15: Đo đạc - Khảo sát công trình | BN15: =IF(ISERROR(K15-0)=TRUE,0,$H15*K15) -> 0 | BO15: =IF(ISERROR(L15-0)=TRUE,0,$H15*L15) -> 0 | BP15: =IF(ISERROR(M15-0)=TRUE,0,$H15*M15) -> 0 | BQ15: =IF(ISERROR(N15-0)=TRUE,0,$H15*N15) -> 0 | BR15: =IF(ISERROR(O15-0)=TRUE,0,$H15*O15) -> 0 | BS15: =IF(ISERROR(P15-0)=TRUE,0,$H15*P15) -> 0 | BT15: =IF(ISERROR(Q15-0)=TRUE,0,$H15*Q15) -> 0 | BU15: =IF(ISERROR(R15-0)=TRUE,0,$H15*R15) -> 0 | ... DM15: =IF(ISERROR(BJ15-0)=TRUE,0,$H15*BJ15) -> 0 | DN15: =60*H15 -> 60 | DO15: =IF(COUNTA(K15:AC15)>0,DN15,"") -> 60 | DP15: =IF(DO15="",IF(COUNT(AD15:AH15,AK15)>0,DN15,""),"") | DQ15: =IF(AND(DO15="",DP15=""),IF(COUNTA(AL15:BD15)>0,DN15,""),"") | DR15: =IF(DQ15="",1,2) -> 1 | DS15: =IF(AND(DR15=#REF!,BL15=#REF!),'Tiến độ'!D15,"") -> #REF! | DT15: =IF(ISERROR(ED15)=TRUE,"",ED15) | DU15: =IF(ISERROR(DT15)=TRUE,0,IF(DT15="",0,1+MAX($DU$7:DU14))) -> 0 | DV15: 9 | DW15: =IF($DV$2+DV15-1<=$DV$3,$DV$2+DV15-1,"") -> 300 | DX15: =IF(DW15="","",IF(INDEX(DR:DR,DW15,0)=$DV$4,INDEX(D:D,DW15,0),"")) | DY15: DC1LL04 | DZ15: =IF(DY15="","",INDEX(C:C,MATCH(DY15,D:D,0))&" ("&DY15&")") -> Đường lối cách mạng của Đảng cộng sản Việt Nam (DC1LL04) | EA15: =IF(DY15="","",INDEX(E:E,MATCH(DY15,D:D,0))) -> 3 | ED15: #NUM!
A16: =IF(B16="","",MAX($A$7:A15)+1) | C16: Thực tập nghề nghiệp xây dựng cầu | D16: DC4CA23 | E16: 3 | G16: 135 | H16: =H15 -> 1 | I16: =I15 -> 24 | P16: CA | Q16: CA | R16: CA | W16: DT | X16: DT | Y16: DT | Z16: DT | AA16: DT | AB16: DT | AC16: DT | AD16: KP | AE16: KP | AF16: KP | AG16: KP | AH16: KP | AK16: KP | BL16: Cầu | BN16: =IF(ISERROR(K16-0)=TRUE,0,$H16*K16) -> 0 | BO16: =IF(ISERROR(L16-0)=TRUE,0,$H16*L16) -> 0 | BP16: =IF(ISERROR(M16-0)=TRUE,0,$H16*M16) -> 0 | BQ16: =IF(ISERROR(N16-0)=TRUE,0,$H16*N16) -> 0 | BR16: =IF(ISERROR(O16-0)=TRUE,0,$H16*O16) -> 0 | BS16: =IF(ISERROR(P16-0)=TRUE,0,$H16*P16) -> 0 | BT16: =IF(ISERROR(Q16-0)=TRUE,0,$H16*Q16) -> 0 | BU16: =IF(ISERROR(R16-0)=TRUE,0,$H16*R16) -> 0 | ... DM16: =IF(ISERROR(BJ16-0)=TRUE,0,$H16*BJ16) -> 0 | DN16: =I16*1 -> 24 | DO16: =IF(COUNTA(K16:AC16)>0,DN16,"") -> 24 | DP16: =IF(DO16="",IF(COUNT(AD16:AH16,AK16)>0,DN16,""),"") | DQ16: =IF(AND(DO16="",DP16=""),IF(COUNTA(AL16:BD16)>0,DN16,""),"") | DR16: =IF(DQ16="",1,2) -> 1 | DS16: =IF(AND(DR16=#REF!,BL16=#REF!),'Tiến độ'!D16,"") -> #REF! | DT16: =IF(ISERROR(ED16)=TRUE,"",ED16) | DU16: =IF(ISERROR(DT16)=TRUE,0,IF(DT16="",0,1+MAX($DU$7:DU15))) -> 0 | DV16: 10 | DW16: =IF($DV$2+DV16-1<=$DV$3,$DV$2+DV16-1,"") -> 301 | DX16: =IF(DW16="","",IF(INDEX(DR:DR,DW16,0)=$DV$4,INDEX(D:D,DW16,0),"")) -> DC3DB41 | DZ16: =IF(DY16="","",INDEX(C:C,MATCH(DY16,D:D,0))&" ("&DY16&")") | EA16: =IF(DY16="","",INDEX(E:E,MATCH(DY16,D:D,0))) | ED16: #NUM!
A17: =IF(B17="","",MAX($A$7:A16)+1) | C17: Thực tập tốt nghiệp | D17: DC4CA70 | E17: 4 | G17: 180 | H17: =H16 -> 1 | I17: =I16 -> 24 | S17: TN | T17: TN | U17: TN | V17: TN | W17: DT | X17: DT | Y17: DT | Z17: DT | AA17: DT | AB17: DT | AC17: DT | AD17: KP | AE17: KP | AF17: KP | AG17: KP | AH17: KP | AK17: KP | BL17: Cầu | BN17: =IF(ISERROR(K17-0)=TRUE,0,$H17*K17) -> 0 | BO17: =IF(ISERROR(L17-0)=TRUE,0,$H17*L17) -> 0 | BP17: =IF(ISERROR(M17-0)=TRUE,0,$H17*M17) -> 0 | BQ17: =IF(ISERROR(N17-0)=TRUE,0,$H17*N17) -> 0 | BR17: =IF(ISERROR(O17-0)=TRUE,0,$H17*O17) -> 0 | BS17: =IF(ISERROR(P17-0)=TRUE,0,$H17*P17) -> 0 | BT17: =IF(ISERROR(Q17-0)=TRUE,0,$H17*Q17) -> 0 | BU17: =IF(ISERROR(R17-0)=TRUE,0,$H17*R17) -> 0 | ... DM17: =IF(ISERROR(BJ17-0)=TRUE,0,$H17*BJ17) -> 0 | DN17: =I17*2 -> 48 | DO17: =IF(COUNTA(K17:AC17)>0,DN17,"") -> 48 | DP17: =IF(DO17="",IF(COUNT(AD17:AH17,AK17)>0,DN17,""),"") | DQ17: =IF(AND(DO17="",DP17=""),IF(COUNTA(AL17:BD17)>0,DN17,""),"") | DR17: =IF(DQ17="",1,2) -> 1 | DS17: =IF(AND(DR17=#REF!,BL17=#REF!),'Tiến độ'!D17,"") -> #REF! | DT17: =IF(ISERROR(ED17)=TRUE,"",ED17) | DU17: =IF(ISERROR(DT17)=TRUE,0,IF(DT17="",0,1+MAX($DU$7:DU16))) -> 0 | DV17: 11 | DW17: =IF($DV$2+DV17-1<=$DV$3,$DV$2+DV17-1,"") -> 302 | DX17: =IF(DW17="","",IF(INDEX(DR:DR,DW17,0)=$DV$4,INDEX(D:D,DW17,0),"")) -> DC3DB44 | DZ17: =IF(DY17="","",INDEX(C:C,MATCH(DY17,D:D,0))&" ("&DY17&")") | EA17: =IF(DY17="","",INDEX(E:E,MATCH(DY17,D:D,0))) | ED17: #NUM!
A18: =IF(B18="","",MAX($A$7:A17)+1) | C18: Đồ án tốt nghiệp | D18: DC4CA80 | E18: 8 | G18: 480 | H18: =H17 -> 1 | I18: =I17 -> 24 | AL18: DT | AM18: DT | AN18: DT | AO18: DT | AP18: DT | AQ18: ĐA | AR18: ĐA | AS18: ĐA | AT18: ĐA | AU18: ĐA | AV18: ĐA | AW18: ĐA | AX18: ĐA | AY18: ĐA | AZ18: ĐA | BA18: ĐA | BB18: ĐA | BC18: # | BD18: # | BL18: Cầu | BN18: =IF(ISERROR(K18-0)=TRUE,0,$H18*K18) -> 0 | BO18: =IF(ISERROR(L18-0)=TRUE,0,$H18*L18) -> 0 | BP18: =IF(ISERROR(M18-0)=TRUE,0,$H18*M18) -> 0 | BQ18: =IF(ISERROR(N18-0)=TRUE,0,$H18*N18) -> 0 | BR18: =IF(ISERROR(O18-0)=TRUE,0,$H18*O18) -> 0 | BS18: =IF(ISERROR(P18-0)=TRUE,0,$H18*P18) -> 0 | BT18: =IF(ISERROR(Q18-0)=TRUE,0,$H18*Q18) -> 0 | BU18: =IF(ISERROR(R18-0)=TRUE,0,$H18*R18) -> 0 | ... DM18: =IF(ISERROR(BJ18-0)=TRUE,0,$H18*BJ18) -> 0 | DN18: =I18*15 -> 360 | DO18: =IF(COUNTA(K18:AC18)>0,DN18,"") | DP18: =IF(DO18="",IF(COUNT(AD18:AH18,AK18)>0,DN18,""),"") | DQ18: =IF(AND(DO18="",DP18=""),IF(COUNTA(AL18:BD18)>0,DN18,""),"") -> 360 | DR18: =IF(DQ18="",1,2) -> 2 | DS18: =IF(AND(DR18=#REF!,BL18=#REF!),'Tiến độ'!D18,"") -> #REF! | DT18: =IF(ISERROR(ED18)=TRUE,"",ED18) | DU18: =IF(ISERROR(DT18)=TRUE,0,IF(DT18="",0,1+MAX($DU$7:DU17))) -> 0 | DV18: 12 | DW18: =IF($DV$2+DV18-1<=$DV$3,$DV$2+DV18-1,"") -> 303 | DX18: =IF(DW18="","",IF(INDEX(DR:DR,DW18,0)=$DV$4,INDEX(D:D,DW18,0),"")) -> DC3CA41 | DZ18: =IF(DY18="","",INDEX(C:C,MATCH(DY18,D:D,0))&" ("&DY18&")") | EA18: =IF(DY18="","",INDEX(E:E,MATCH(DY18,D:D,0))) | ED18: #NUM!
A19: =IF(B19="","",MAX($A$7:A18)+1) | C19: TỔNG TC - TỔNG TIẾT / LỚP / TUẦN | E19: =SUM(E15:E18) -> 20 | K19: =SUM(K15:K18) -> 0 | L19: =SUM(L15:L18) -> 0 | M19: =SUM(M15:M18) -> 0 | N19: =SUM(N15:N18) -> 0 | O19: =SUM(O15:O18) -> 0 | P19: =SUM(P15:P18) -> 0 | Q19: =SUM(Q15:Q18) -> 0 | R19: =SUM(R15:R18) -> 0 | ... AH19: =SUM(AH15:AH18) -> 0 | AK19: =SUM(AK15:AK18) -> 0 | AL19: =SUM(AL15:AL18) -> 0 | AM19: =SUM(AM15:AM18) -> 0 | AN19: =SUM(AN15:AN18) -> 0 | AO19: =SUM(AO15:AO18) -> 0 | AP19: =SUM(AP15:AP18) -> 0 | AQ19: =SUM(AQ15:AQ18) -> 0 | AR19: =SUM(AR15:AR18) -> 0 | ... BD19: =SUM(BD15:BD18) -> 0 | BN19: =IF(ISERROR(K19-0)=TRUE,0,$H19*K19) -> 0 | BO19: =IF(ISERROR(L19-0)=TRUE,0,$H19*L19) -> 0 | BP19: =IF(ISERROR(M19-0)=TRUE,0,$H19*M19) -> 0 | BQ19: =IF(ISERROR(N19-0)=TRUE,0,$H19*N19) -> 0 | BR19: =IF(ISERROR(O19-0)=TRUE,0,$H19*O19) -> 0 | BS19: =IF(ISERROR(P19-0)=TRUE,0,$H19*P19) -> 0 | BT19: =IF(ISERROR(Q19-0)=TRUE,0,$H19*Q19) -> 0 | BU19: =IF(ISERROR(R19-0)=TRUE,0,$H19*R19) -> 0 | ... DM19: =IF(ISERROR(BJ19-0)=TRUE,0,$H19*BJ19) -> 0 | DS19: =IF(AND(DR19=#REF!,BL19=#REF!),'Tiến độ'!D19,"") -> #REF! | DT19: =IF(ISERROR(ED19)=TRUE,"",ED19) | DU19: =IF(ISERROR(DT19)=TRUE,0,IF(DT19="",0,1+MAX($DU$7:DU18))) -> 0 | DV19: 13 | DW19: =IF($DV$2+DV19-1<=$DV$3,$DV$2+DV19-1,"") -> 304 | DX19: =IF(DW19="","",IF(INDEX(DR:DR,DW19,0)=$DV$4,INDEX(D:D,DW19,0),"")) -> DC3CA44 | DZ19: =IF(DY19="","",INDEX(C:C,MATCH(DY19,D:D,0))&" ("&DY19&")") | EA19: =IF(DY19="","",INDEX(E:E,MATCH(DY19,D:D,0))) | ED19: #NUM!
A20: =IF(B20="","",MAX($A$7:A19)+1) -> 4 | B20: 63CS | C20: Thực tập khảo sát thiết kế cầu, đường sắt | D20: DC4CS21 | E20: 5 | G20: 225 | H20: 1 | I20: =17 -> 17 | K20: KS | L20: KS | M20: KS | N20: KS | O20: KS | Z20: DT | AA20: DT | AB20: DT | AC20: DT | AD20: KP | AE20: KP | AF20: KP | AG20: KP | AH20: KP | AK20: KP | BL20: Đo đạc - Khảo sát công trình | BN20: =IF(ISERROR(K20-0)=TRUE,0,$H20*K20) -> 0 | BO20: =IF(ISERROR(L20-0)=TRUE,0,$H20*L20) -> 0 | BP20: =IF(ISERROR(M20-0)=TRUE,0,$H20*M20) -> 0 | BQ20: =IF(ISERROR(N20-0)=TRUE,0,$H20*N20) -> 0 | BR20: =IF(ISERROR(O20-0)=TRUE,0,$H20*O20) -> 0 | BS20: =IF(ISERROR(P20-0)=TRUE,0,$H20*P20) -> 0 | BT20: =IF(ISERROR(Q20-0)=TRUE,0,$H20*Q20) -> 0 | BU20: =IF(ISERROR(R20-0)=TRUE,0,$H20*R20) -> 0 | ... DM20: =IF(ISERROR(BJ20-0)=TRUE,0,$H20*BJ20) -> 0 | DN20: =60*H20 -> 60 | DO20: =IF(COUNTA(K20:AC20)>0,DN20,"") -> 60 | DP20: =IF(DO20="",IF(COUNT(AD20:AH20,AK20)>0,DN20,""),"") | DQ20: =IF(AND(DO20="",DP20=""),IF(COUNTA(AL20:BD20)>0,DN20,""),"") | DR20: =IF(DQ20="",1,2) -> 1 | DS20: =IF(AND(DR20=#REF!,BL20=#REF!),'Tiến độ'!D20,"") -> #REF! | DT20: =IF(ISERROR(ED20)=TRUE,"",ED20) | DU20: =IF(ISERROR(DT20)=TRUE,0,IF(DT20="",0,1+MAX($DU$7:DU19))) -> 0 | DV20: 14 | DW20: =IF($DV$2+DV20-1<=$DV$3,$DV$2+DV20-1,"") -> 305 | DX20: =IF(DW20="","",IF(INDEX(DR:DR,DW20,0)=$DV$4,INDEX(D:D,DW20,0),"")) -> DC2GT42 | DZ20: =IF(DY20="","",INDEX(C:C,MATCH(DY20,D:D,0))&" ("&DY20&")") | EA20: =IF(DY20="","",INDEX(E:E,MATCH(DY20,D:D,0))) | ED20: #NUM!
A21: =IF(B21="","",MAX($A$7:A20)+1) | C21: Thực tập nghề nghiệp xây dựng cầu | D21: DC4CA23 | E21: 3 | G21: 135 | H21: =H20 -> 1 | I21: =I20 -> 17 | J21: 1/2 Theo ĐATN + Ghép TT NN và TN XD Cầu với 63CD07 | P21: NN | Q21: NN | R21: NN | Z21: DT | AA21: DT | AB21: DT | AC21: DT | AD21: KP | AE21: KP | AF21: KP | AG21: KP | AH21: KP | AK21: KP | BL21: Cầu | BN21: =IF(ISERROR(K21-0)=TRUE,0,$H21*K21) -> 0 | BO21: =IF(ISERROR(L21-0)=TRUE,0,$H21*L21) -> 0 | BP21: =IF(ISERROR(M21-0)=TRUE,0,$H21*M21) -> 0 | BQ21: =IF(ISERROR(N21-0)=TRUE,0,$H21*N21) -> 0 | BR21: =IF(ISERROR(O21-0)=TRUE,0,$H21*O21) -> 0 | BS21: =IF(ISERROR(P21-0)=TRUE,0,$H21*P21) -> 0 | BT21: =IF(ISERROR(Q21-0)=TRUE,0,$H21*Q21) -> 0 | BU21: =IF(ISERROR(R21-0)=TRUE,0,$H21*R21) -> 0 | ... DM21: =IF(ISERROR(BJ21-0)=TRUE,0,$H21*BJ21) -> 0 | DN21: =I21*1 -> 17 | DO21: =IF(COUNTA(K21:AC21)>0,DN21,"") -> 17 | DP21: =IF(DO21="",IF(COUNT(AD21:AH21,AK21)>0,DN21,""),"") | DQ21: =IF(AND(DO21="",DP21=""),IF(COUNTA(AL21:BD21)>0,DN21,""),"") | DR21: =IF(DQ21="",1,2) -> 1 | DS21: =IF(AND(DR21=#REF!,BL21=#REF!),'Tiến độ'!D21,"") -> #REF! | DT21: =IF(ISERROR(ED21)=TRUE,"",ED21) | DU21: =IF(ISERROR(DT21)=TRUE,0,IF(DT21="",0,1+MAX($DU$7:DU20))) -> 0 | DV21: 15 | DW21: =IF($DV$2+DV21-1<=$DV$3,$DV$2+DV21-1,"") -> 306 | DX21: =IF(DW21="","",IF(INDEX(DR:DR,DW21,0)=$DV$4,INDEX(D:D,DW21,0),"")) -> DC1CB92 | DZ21: =IF(DY21="","",INDEX(C:C,MATCH(DY21,D:D,0))&" ("&DY21&")") | EA21: =IF(DY21="","",INDEX(E:E,MATCH(DY21,D:D,0))) | ED21: #NUM!
A22: =IF(B22="","",MAX($A$7:A21)+1) | C22: Thực tập nghề nghiệp xây dựng đường sắt | D22: DC4DS23 | E22: 3 | G22: 135 | H22: =H21 -> 1 | I22: =I21 -> 17 | J22: 1/2 Khác ĐATN | W22: NN | X22: NN | Y22: NN | Z22: DT | AA22: DT | AB22: DT | AC22: DT | AD22: KP | AE22: KP | AF22: KP | AG22: KP | AH22: KP | AK22: KP | BL22: Đường sắt | BN22: =IF(ISERROR(K22-0)=TRUE,0,$H22*K22) -> 0 | BO22: =IF(ISERROR(L22-0)=TRUE,0,$H22*L22) -> 0 | BP22: =IF(ISERROR(M22-0)=TRUE,0,$H22*M22) -> 0 | BQ22: =IF(ISERROR(N22-0)=TRUE,0,$H22*N22) -> 0 | BR22: =IF(ISERROR(O22-0)=TRUE,0,$H22*O22) -> 0 | BS22: =IF(ISERROR(P22-0)=TRUE,0,$H22*P22) -> 0 | BT22: =IF(ISERROR(Q22-0)=TRUE,0,$H22*Q22) -> 0 | BU22: =IF(ISERROR(R22-0)=TRUE,0,$H22*R22) -> 0 | ... DM22: =IF(ISERROR(BJ22-0)=TRUE,0,$H22*BJ22) -> 0 | DN22: =I22*1 -> 17 | DO22: =IF(COUNTA(K22:AC22)>0,DN22,"") -> 17 | DP22: =IF(DO22="",IF(COUNT(AD22:AH22,AK22)>0,DN22,""),"") | DQ22: =IF(AND(DO22="",DP22=""),IF(COUNTA(AL22:BD22)>0,DN22,""),"") | DR22: =IF(DQ22="",1,2) -> 1 | DS22: =IF(AND(DR22=#REF!,BL22=#REF!),'Tiến độ'!D22,"") -> #REF! | DT22: =IF(ISERROR(ED22)=TRUE,"",ED22) | DU22: =IF(ISERROR(DT22)=TRUE,0,IF(DT22="",0,1+MAX($DU$7:DU21))) -> 0 | DV22: 16 | DW22: =IF($DV$2+DV22-1<=$DV$3,$DV$2+DV22-1,"") -> 307 | DX22: =IF(DW22="","",IF(INDEX(DR:DR,DW22,0)=$DV$4,INDEX(D:D,DW22,0),"")) -> DC3CD60 | ED22: #NUM!
A23: =IF(B23="","",MAX($A$7:A22)+1) | C23: Thực tập tốt nghiệp | D23: DC4CS70 | E23: 4 | G23: 180 | H23: =H22 -> 1 | I23: =I22 -> 17 | S23: TN | T23: TN | U23: TN | V23: TN | Z23: DT | AA23: DT | AB23: DT | AC23: DT | AD23: KP | AE23: KP | AF23: KP | AG23: KP | AH23: KP | AK23: KP | BL23: Cầu + Đường sắt | BN23: =IF(ISERROR(K23-0)=TRUE,0,$H23*K23) -> 0 | BO23: =IF(ISERROR(L23-0)=TRUE,0,$H23*L23) -> 0 | BP23: =IF(ISERROR(M23-0)=TRUE,0,$H23*M23) -> 0 | BQ23: =IF(ISERROR(N23-0)=TRUE,0,$H23*N23) -> 0 | BR23: =IF(ISERROR(O23-0)=TRUE,0,$H23*O23) -> 0 | BS23: =IF(ISERROR(P23-0)=TRUE,0,$H23*P23) -> 0 | BT23: =IF(ISERROR(Q23-0)=TRUE,0,$H23*Q23) -> 0 | BU23: =IF(ISERROR(R23-0)=TRUE,0,$H23*R23) -> 0 | ... DM23: =IF(ISERROR(BJ23-0)=TRUE,0,$H23*BJ23) -> 0 | DN23: =I23*2 -> 34 | DO23: =IF(COUNTA(K23:AC23)>0,DN23,"") -> 34 | DP23: =IF(DO23="",IF(COUNT(AD23:AH23,AK23)>0,DN23,""),"") | DQ23: =IF(AND(DO23="",DP23=""),IF(COUNTA(AL23:BD23)>0,DN23,""),"") | DR23: =IF(DQ23="",1,2) -> 1 | DS23: =IF(AND(DR23=#REF!,BL23=#REF!),'Tiến độ'!D23,"") -> #REF! | DT23: =IF(ISERROR(ED23)=TRUE,"",ED23) | DU23: =IF(ISERROR(DT23)=TRUE,0,IF(DT23="",0,1+MAX($DU$7:DU22))) -> 0 | DV23: 17 | DW23: =IF($DV$2+DV23-1<=$DV$3,$DV$2+DV23-1,"") -> 308 | DX23: =IF(DW23="","",IF(INDEX(DR:DR,DW23,0)=$DV$4,INDEX(D:D,DW23,0),"")) -> DC1LL04 | ED23: #NUM!
A24: =IF(B24="","",MAX($A$7:A23)+1) | C24: Đồ án tốt nghiệp | D24: DC4CS80 | E24: 8 | G24: 480 | H24: =H23 -> 1 | I24: =I23 -> 17 | AL24: DT | AM24: DT | AN24: DT | AO24: DT | AP24: DT | AQ24: ĐA | AR24: ĐA | AS24: ĐA | AT24: ĐA | AU24: ĐA | AV24: ĐA | AW24: ĐA | AX24: ĐA | AY24: ĐA | AZ24: ĐA | BA24: ĐA | BB24: ĐA | BC24: # | BD24: # | BL24: Cầu + Đường sắt | BN24: =IF(ISERROR(K24-0)=TRUE,0,$H24*K24) -> 0 | BO24: =IF(ISERROR(L24-0)=TRUE,0,$H24*L24) -> 0 | BP24: =IF(ISERROR(M24-0)=TRUE,0,$H24*M24) -> 0 | BQ24: =IF(ISERROR(N24-0)=TRUE,0,$H24*N24) -> 0 | BR24: =IF(ISERROR(O24-0)=TRUE,0,$H24*O24) -> 0 | BS24: =IF(ISERROR(P24-0)=TRUE,0,$H24*P24) -> 0 | BT24: =IF(ISERROR(Q24-0)=TRUE,0,$H24*Q24) -> 0 | BU24: =IF(ISERROR(R24-0)=TRUE,0,$H24*R24) -> 0 | ... DM24: =IF(ISERROR(BJ24-0)=TRUE,0,$H24*BJ24) -> 0 | DN24: =I24*15 -> 255 | DO24: =IF(COUNTA(K24:AC24)>0,DN24,"") | DP24: =IF(DO24="",IF(COUNT(AD24:AH24,AK24)>0,DN24,""),"") | DQ24: =IF(AND(DO24="",DP24=""),IF(COUNTA(AL24:BD24)>0,DN24,""),"") -> 255 | DR24: =IF(DQ24="",1,2) -> 2 | DS24: =IF(AND(DR24=#REF!,BL24=#REF!),'Tiến độ'!D24,"") -> #REF! | DT24: =IF(ISERROR(ED24)=TRUE,"",ED24) | DU24: =IF(ISERROR(DT24)=TRUE,0,IF(DT24="",0,1+MAX($DU$7:DU23))) -> 0 | DV24: 18 | DW24: =IF($DV$2+DV24-1<=$DV$3,$DV$2+DV24-1,"") | DX24: =IF(DW24="","",IF(INDEX(DR:DR,DW24,0)=$DV$4,INDEX(D:D,DW24,0),"")) | ED24: #NUM!
A25: =IF(B25="","",MAX($A$7:A24)+1) | C25: TỔNG TC - TỔNG TIẾT / LỚP / TUẦN | E25: =SUM(E20:E24) -> 23 | K25: =SUM(K20:K24) -> 0 | L25: =SUM(L20:L24) -> 0 | M25: =SUM(M20:M24) -> 0 | N25: =SUM(N20:N24) -> 0 | O25: =SUM(O20:O24) -> 0 | P25: =SUM(P20:P24) -> 0 | Q25: =SUM(Q20:Q24) -> 0 | R25: =SUM(R20:R24) -> 0 | ... AH25: =SUM(AH20:AH24) -> 0 | AK25: =SUM(AK20:AK24) -> 0 | AL25: =SUM(AL20:AL24) -> 0 | AM25: =SUM(AM20:AM24) -> 0 | AN25: =SUM(AN20:AN24) -> 0 | AO25: =SUM(AO20:AO24) -> 0 | AP25: =SUM(AP20:AP24) -> 0 | AQ25: =SUM(AQ20:AQ24) -> 0 | AR25: =SUM(AR20:AR24) -> 0 | ... BD25: =SUM(BD20:BD24) -> 0 | BN25: =IF(ISERROR(K25-0)=TRUE,0,$H25*K25) -> 0 | BO25: =IF(ISERROR(L25-0)=TRUE,0,$H25*L25) -> 0 | BP25: =IF(ISERROR(M25-0)=TRUE,0,$H25*M25) -> 0 | BQ25: =IF(ISERROR(N25-0)=TRUE,0,$H25*N25) -> 0 | BR25: =IF(ISERROR(O25-0)=TRUE,0,$H25*O25) -> 0 | BS25: =IF(ISERROR(P25-0)=TRUE,0,$H25*P25) -> 0 | BT25: =IF(ISERROR(Q25-0)=TRUE,0,$H25*Q25) -> 0 | BU25: =IF(ISERROR(R25-0)=TRUE,0,$H25*R25) -> 0 | ... DM25: =IF(ISERROR(BJ25-0)=TRUE,0,$H25*BJ25) -> 0 | DS25: =IF(AND(DR25=#REF!,BL25=#REF!),'Tiến độ'!D25,"") -> #REF! | DT25: =IF(ISERROR(ED25)=TRUE,"",ED25) | DU25: =IF(ISERROR(DT25)=TRUE,0,IF(DT25="",0,1+MAX($DU$7:DU24))) -> 0 | DV25: 19 | DW25: =IF($DV$2+DV25-1<=$DV$3,$DV$2+DV25-1,"") | DX25: =IF(DW25="","",IF(INDEX(DR:DR,DW25,0)=$DV$4,INDEX(D:D,DW25,0),"")) | ED25: #NUM!
A26: =IF(B26="","",MAX($A$7:A25)+1) -> 5 | B26: 63CD06,07 | C26: Thực tập khảo sát thiết kế cầu, đường | D26: DC4CD21 | E26: 5 | G26: 225 | H26: 2 | I26: =54+50 -> 104 | K26: KS | L26: KS | M26: KS | N26: KS | O26: KS | Z26: DT | AA26: DT | AB26: DT | AC26: DT | AD26: KP | AE26: KP | AF26: KP | AG26: KP | AH26: KP | AK26: KP | BL26: Đo đạc - Khảo sát công trình | BN26: =IF(ISERROR(K26-0)=TRUE,0,$H26*K26) -> 0 | BO26: =IF(ISERROR(L26-0)=TRUE,0,$H26*L26) -> 0 | BP26: =IF(ISERROR(M26-0)=TRUE,0,$H26*M26) -> 0 | BQ26: =IF(ISERROR(N26-0)=TRUE,0,$H26*N26) -> 0 | BR26: =IF(ISERROR(O26-0)=TRUE,0,$H26*O26) -> 0 | BS26: =IF(ISERROR(P26-0)=TRUE,0,$H26*P26) -> 0 | BT26: =IF(ISERROR(Q26-0)=TRUE,0,$H26*Q26) -> 0 | BU26: =IF(ISERROR(R26-0)=TRUE,0,$H26*R26) -> 0 | ... DM26: =IF(ISERROR(BJ26-0)=TRUE,0,$H26*BJ26) -> 0 | DN26: =60*2*H26 -> 240 | DO26: =IF(COUNTA(K26:AC26)>0,DN26,"") -> 240 | DP26: =IF(DO26="",IF(COUNT(AD26:AH26,AK26)>0,DN26,""),"") | DQ26: =IF(AND(DO26="",DP26=""),IF(COUNTA(AL26:BD26)>0,DN26,""),"") | DR26: =IF(DQ26="",1,2) -> 1 | DS26: =IF(AND(DR26=#REF!,BL26=#REF!),'Tiến độ'!D26,"") -> #REF! | DT26: =IF(ISERROR(ED26)=TRUE,"",ED26) | DU26: =IF(ISERROR(DT26)=TRUE,0,IF(DT26="",0,1+MAX($DU$7:DU25))) -> 0 | DV26: 20 | DW26: =IF($DV$2+DV26-1<=$DV$3,$DV$2+DV26-1,"") | DX26: =IF(DW26="","",IF(INDEX(DR:DR,DW26,0)=$DV$4,INDEX(D:D,DW26,0),"")) | ED26: #NUM!
A27: =IF(B27="","",MAX($A$7:A26)+1) | C27: Thực tập nghề nghiệp xây dựng cầu | D27: DC4CA23 | E27: 3 | G27: 135 | H27: =H26 -> 2 | I27: =I26 -> 104 | J27: 1/2 Theo ĐATN | P27: NN | Q27: NN | R27: NN | Z27: DT | AA27: DT | AB27: DT | AC27: DT | AD27: KP | AE27: KP | AF27: KP | AG27: KP | AH27: KP | AK27: KP | BL27: Cầu | BN27: =IF(ISERROR(K27-0)=TRUE,0,$H27*K27) -> 0 | BO27: =IF(ISERROR(L27-0)=TRUE,0,$H27*L27) -> 0 | BP27: =IF(ISERROR(M27-0)=TRUE,0,$H27*M27) -> 0 | BQ27: =IF(ISERROR(N27-0)=TRUE,0,$H27*N27) -> 0 | BR27: =IF(ISERROR(O27-0)=TRUE,0,$H27*O27) -> 0 | BS27: =IF(ISERROR(P27-0)=TRUE,0,$H27*P27) -> 0 | BT27: =IF(ISERROR(Q27-0)=TRUE,0,$H27*Q27) -> 0 | BU27: =IF(ISERROR(R27-0)=TRUE,0,$H27*R27) -> 0 | ... DM27: =IF(ISERROR(BJ27-0)=TRUE,0,$H27*BJ27) -> 0 | DN27: =I27*1 -> 104 | DO27: =IF(COUNTA(K27:AC27)>0,DN27,"") -> 104 | DP27: =IF(DO27="",IF(COUNT(AD27:AH27,AK27)>0,DN27,""),"") | DQ27: =IF(AND(DO27="",DP27=""),IF(COUNTA(AL27:BD27)>0,DN27,""),"") | DR27: =IF(DQ27="",1,2) -> 1 | DS27: =IF(AND(DR27=#REF!,BL27=#REF!),'Tiến độ'!D27,"") -> #REF! | DT27: =IF(ISERROR(ED27)=TRUE,"",ED27) | DU27: =IF(ISERROR(DT27)=TRUE,0,IF(DT27="",0,1+MAX($DU$7:DU26))) -> 0 | DV27: 21 | DW27: =IF($DV$2+DV27-1<=$DV$3,$DV$2+DV27-1,"") | DX27: =IF(DW27="","",IF(INDEX(DR:DR,DW27,0)=$DV$4,INDEX(D:D,DW27,0),"")) | ED27: #NUM!
A28: =IF(B28="","",MAX($A$7:A27)+1) | C28: Thực tập nghề nghiệp xây dựng đường | D28: DC4DB23 | E28: 3 | G28: 135 | H28: =H27 -> 2 | I28: =I27 -> 104 | J28: 1/2 Khác ĐATN | W28: NN | X28: NN | Y28: NN | Z28: DT | AA28: DT | AB28: DT | AC28: DT | AD28: KP | AE28: KP | AF28: KP | AG28: KP | AH28: KP | AK28: KP | BL28: Đường | BN28: =IF(ISERROR(K28-0)=TRUE,0,$H28*K28) -> 0 | BO28: =IF(ISERROR(L28-0)=TRUE,0,$H28*L28) -> 0 | BP28: =IF(ISERROR(M28-0)=TRUE,0,$H28*M28) -> 0 | BQ28: =IF(ISERROR(N28-0)=TRUE,0,$H28*N28) -> 0 | BR28: =IF(ISERROR(O28-0)=TRUE,0,$H28*O28) -> 0 | BS28: =IF(ISERROR(P28-0)=TRUE,0,$H28*P28) -> 0 | BT28: =IF(ISERROR(Q28-0)=TRUE,0,$H28*Q28) -> 0 | BU28: =IF(ISERROR(R28-0)=TRUE,0,$H28*R28) -> 0 | ... DM28: =IF(ISERROR(BJ28-0)=TRUE,0,$H28*BJ28) -> 0 | DN28: =I28*1 -> 104 | DO28: =IF(COUNTA(K28:AC28)>0,DN28,"") -> 104 | DP28: =IF(DO28="",IF(COUNT(AD28:AH28,AK28)>0,DN28,""),"") | DQ28: =IF(AND(DO28="",DP28=""),IF(COUNTA(AL28:BD28)>0,DN28,""),"") | DR28: =IF(DQ28="",1,2) -> 1 | DS28: =IF(AND(DR28=#REF!,BL28=#REF!),'Tiến độ'!D28,"") -> #REF! | DT28: =IF(ISERROR(ED28)=TRUE,"",ED28) | DU28: =IF(ISERROR(DT28)=TRUE,0,IF(DT28="",0,1+MAX($DU$7:DU27))) -> 0 | DV28: 22 | DW28: =IF($DV$2+DV28-1<=$DV$3,$DV$2+DV28-1,"") | DX28: =IF(DW28="","",IF(INDEX(DR:DR,DW28,0)=$DV$4,INDEX(D:D,DW28,0),"")) | ED28: #NUM!
A29: =IF(B29="","",MAX($A$7:A28)+1) | C29: Thực tập tốt nghiệp | D29: DC4CD70 | E29: 4 | G29: 180 | H29: =H28 -> 2 | I29: =I28 -> 104 | S29: TN | T29: TN | U29: TN | V29: TN | Z29: DT | AA29: DT | AB29: DT | AC29: DT | AD29: KP | AE29: KP | AF29: KP | AG29: KP | AH29: KP | AK29: KP | BL29: Cầu + Đường | BN29: =IF(ISERROR(K29-0)=TRUE,0,$H29*K29) -> 0 | BO29: =IF(ISERROR(L29-0)=TRUE,0,$H29*L29) -> 0 | BP29: =IF(ISERROR(M29-0)=TRUE,0,$H29*M29) -> 0 | BQ29: =IF(ISERROR(N29-0)=TRUE,0,$H29*N29) -> 0 | BR29: =IF(ISERROR(O29-0)=TRUE,0,$H29*O29) -> 0 | BS29: =IF(ISERROR(P29-0)=TRUE,0,$H29*P29) -> 0 | BT29: =IF(ISERROR(Q29-0)=TRUE,0,$H29*Q29) -> 0 | BU29: =IF(ISERROR(R29-0)=TRUE,0,$H29*R29) -> 0 | ... DM29: =IF(ISERROR(BJ29-0)=TRUE,0,$H29*BJ29) -> 0 | DN29: =I29*2 -> 208 | DO29: =IF(COUNTA(K29:AC29)>0,DN29,"") -> 208 | DP29: =IF(DO29="",IF(COUNT(AD29:AH29,AK29)>0,DN29,""),"") | DQ29: =IF(AND(DO29="",DP29=""),IF(COUNTA(AL29:BD29)>0,DN29,""),"") | DR29: =IF(DQ29="",1,2) -> 1 | DS29: =IF(AND(DR29=#REF!,BL29=#REF!),'Tiến độ'!D29,"") -> #REF! | DT29: =IF(ISERROR(ED29)=TRUE,"",ED29) | DU29: =IF(ISERROR(DT29)=TRUE,0,IF(DT29="",0,1+MAX($DU$7:DU28))) -> 0 | DV29: 23 | DW29: =IF($DV$2+DV29-1<=$DV$3,$DV$2+DV29-1,"") | DX29: =IF(DW29="","",IF(INDEX(DR:DR,DW29,0)=$DV$4,INDEX(D:D,DW29,0),"")) | ED29: #NUM!
