Workbook
Name BOMON: #REF!
Name HP: 'Tiến độ'!$BL$7:$BL$1446
Name KHOA: #REF!
Name LISTBM: #REF!
Name ma: 'Tiến độ'!$DS$7:$DS$1446
Name maloc: 'Tiến độ'!$EC$7:$EC$57
Name MON: 'Tiến độ'!$BK$7:$BK$1446
Name phong: #REF!

Sheet CHÚ Ý
A3: 1. PHÒNG HỌC
A4: NHÀ | B4: SỐ PHÒNG | C4: GHI CHÚ
A5: A1 | B5: 20 | C5: Thêm 4 phòng thứ 7 (401 - 404) | E5: =B5*50 -> 1000 | G5: =4*10 -> 40 | I5: =2642/2910 -> 0.90790378
A6: A2 | B6: 20 | C6: Thêm 2 phòng thứ 7 (202 - 203) | E6: =B6*50 -> 1000 | G6: =2*10 -> 20
A7: A3 | B7: 7 | C7: 401 - Phòng to, 406 + 407 - Phòng bé | E7: =B7*50 -> 350
A8: A5 | B8: 2 | C8: Không kể phòng 303 (65CDA) và 202 (66CDA) | E8: =B8*50 -> 100
A9: A6 | B9: 1 | E9: =B9*50 -> 50
A10: C2 | B10: 6 | E10: =B10*50 -> 300
A11: C3 | B11: 1 | C11: 106C3 | E11: =B11*50 -> 50
A13: 2. SỐ TiẾT HỌC 1 BuỔI
A14: - Sáng: 05 tiết, từ 06h45.
A15: - Chiều: 05 tiết, từ 12h30.
A16: - Học cả ngày thứ 7 (hạn chế bố trí ngày thứ 7).
A17: - Chú ý: mỗi Khoa cố gắng bố trí trống 1 buổi trong tuần.
A19: 3. CÁC CHÚ Ý KHÁC
A20: - Tất cả các môn của Cầu đường Anh học riêng, ko học ghép
A21: - Môn Mác 2 đa số học tại tầng 4 thư viện, trừ 4 lớp 66QT chia làm 2 lớp ghép, học tại phòng đôi.
A22: - Các môn Quốc phòng bố trí cho học vào hè, ko học vào kì chính.
A23: - Một số môn 66 chưa có mã, ko được kế thừa của khóa trên (do CTĐT thay đổi).
A24: - Các học phần thực hành thí nghiệm của khoa Công trình bố trí riêng hẳn 1 ngày hoặc 1 buổi.
A25: - Thông báo với các BM phụ trách các HP Thí nghiệm, Thực hành, Thực tập, Tin ứng dụng trước khi công bố TKB.
A26: - CÒN CHÚ Ý GÌ THÊM SẼ BÁO SAU.

Sheet Đăng kí
A1: BỘ GIAO THÔNG VẬN TẢI | AC1: CỘNG HÒA XÃ HỘI CHỦ NGHĨA VIỆT NAM | AP1: ! | AQ1: =MATCH(A5,SV!D:D,0) -> 2494 | AR1: =COUNTIF(SV!D:D,A5) -> 56 | AT1: =IF(ISERROR(MID(A5,7,1)-0)=FALSE,MID(A5,3,4),MID(A5,3,5)) -> DCCD | AU1: =LEFT(A5,4) -> 65DC | AV1: x | AY1: 10 | AZ1: 9 | BA1: 8 | BB1: 7 | BC1: 6 | BD1: 5 | BE1: 4 | BF1: 3 | BG1: 2 | BH1: 1
A2: TRƯỜNG ĐẠI HỌC CÔNG NGHỆ GTVT | AC2: Độc lập - Tự do - Hạnh phúc | AX2: 63 | AY2: 2 | AZ2: 1
AX3: 64 | BA3: 2 | BB3: 1
A4: 6 | AX4: 65 | BC4: 2 | BD4: 1
A5: 65DCCD22 | AX5: 66 | BE5: 2 | BF5: 1
E6: 1 | F6: 2 | G6: 3 | H6: 4 | I6: 5 | J6: 6 | K6: 7 | L6: 8 | M6: 9 | N6: 10 | O6: 11 | P6: 12 | Q6: =IF(Q7="","",VLOOKUP(Q7,$AP$9:$AR$108,3,0)) | R6: =IF(R7="","",VLOOKUP(R7,$AP$9:$AR$108,3,0)) | S6: =IF(S7="","",VLOOKUP(S7,$AP$9:$AR$108,3,0)) | T6: =IF(T7="","",VLOOKUP(T7,$AP$9:$AR$108,3,0)) | U6: =IF(U7="","",VLOOKUP(U7,$AP$9:$AR$108,3,0)) | AF6: =IF(AF7="","",VLOOKUP(AF7,$AP$9:$AR$108,3,0)) | AG6: =IF(AG7="","",VLOOKUP(AG7,$AP$9:$AR$108,3,0)) | AH6: =IF(AH7="","",VLOOKUP(AH7,$AP$9:$AR$108,3,0)) | AI6: =IF(AI7="","",VLOOKUP(AI7,$AP$9:$AR$108,3,0)) | AJ6: =IF(AJ7="","",VLOOKUP(AJ7,$AP$9:$AR$108,3,0)) | AK6: =IF(AK7="","",VLOOKUP(AK7,$AP$9:$AR$108,3,0)) | AL6: =IF(AL7="","",VLOOKUP(AL7,$AP$9:$AR$108,3,0)) | AM6: =IF(AM7="","",VLOOKUP(AM7,$AP$9:$AR$108,3,0)) | AX6: 67 | BG6: 2 | BH6: 1
A7: Số TT | B7: ="Họ và tên SV (Lớp "&A5&")" -> Họ và tên SV (Lớp 65DCCD22) | C7: Mã SV | D7: Tổng số TC Đăng ký | E7: =INDEX('Tiến độ'!$DZ$7:$DZ$21,E6) -> An toàn lao động (DC2CT65) | F7: =INDEX('Tiến độ'!$DZ$7:$DZ$21,F6) -> Thiết kế đường 1 (DC3DB41) | G7: =INDEX('Tiến độ'!$DZ$7:$DZ$21,G6) -> Đồ án Thiết kế đường (DC3DB44) | H7: =INDEX('Tiến độ'!$DZ$7:$DZ$21,H6) -> Thiết kế cầu 1 (DC3CA41) | I7: =INDEX('Tiến độ'!$DZ$7:$DZ$21,I6) -> Đồ án Thiết kế cầu (DC3CA44) | J7: =INDEX('Tiến độ'!$DZ$7:$DZ$21,J6) -> Máy xây dựng (DC2GT42) | K7: =INDEX('Tiến độ'!$DZ$7:$DZ$21,K6) -> Môi trường trong xây dựng (DC1CB92) | L7: =INDEX('Tiến độ'!$DZ$7:$DZ$21,L6) -> Tin học ứng dụng (DC3CD60) | ... P7: =INDEX('Tiến độ'!$DZ$7:$DZ$21,P6) | AN7: SV ký xác nhận
E8: =INDEX('Tiến độ'!$EA$7:$EA$21,E6) -> 2 | F8: =INDEX('Tiến độ'!$EA$7:$EA$21,F6) -> 4 | G8: =INDEX('Tiến độ'!$EA$7:$EA$21,G6) -> 2 | H8: =INDEX('Tiến độ'!$EA$7:$EA$21,H6) -> 4 | I8: =INDEX('Tiến độ'!$EA$7:$EA$21,I6) -> 2 | J8: =INDEX('Tiến độ'!$EA$7:$EA$21,J6) -> 2 | K8: =INDEX('Tiến độ'!$EA$7:$EA$21,K6) -> 2 | L8: =INDEX('Tiến độ'!$EA$7:$EA$21,L6) -> 2 | ... P8: =INDEX('Tiến độ'!$EA$7:$EA$21,P6) | Q8: =IF(Q7="","",VLOOKUP(Q7,$AP$9:$AR$108,2,0)) | R8: =IF(R7="","",VLOOKUP(R7,$AP$9:$AR$108,2,0)) | S8: =IF(S7="","",VLOOKUP(S7,$AP$9:$AR$108,2,0)) | T8: =IF(T7="","",VLOOKUP(T7,$AP$9:$AR$108,2,0)) | U8: =IF(U7="","",VLOOKUP(U7,$AP$9:$AR$108,2,0)) | V8: =IF(V7="","",VLOOKUP(V7,$AP$9:$AR$108,2,0)) | W8: =IF(W7="","",VLOOKUP(W7,$AP$9:$AR$108,2,0)) | X8: =IF(X7="","",VLOOKUP(X7,$AP$9:$AR$108,2,0)) | AB8: =IF(AB7="","",VLOOKUP(AB7,$AP$9:$AR$108,2,0)) | AC8: =IF(AC7="","",VLOOKUP(AC7,$AP$9:$AR$108,2,0)) | AD8: =IF(AD7="","",VLOOKUP(AD7,$AP$9:$AR$108,2,0)) | AE8: =IF(AE7="","",VLOOKUP(AE7,$AP$9:$AR$108,2,0)) | AF8: =IF(AF7="","",VLOOKUP(AF7,$AP$9:$AR$108,2,0)) | AG8: =IF(AG7="","",VLOOKUP(AG7,$AP$9:$AR$108,2,0)) | AH8: =IF(AH7="","",VLOOKUP(AH7,$AP$9:$AR$108,2,0)) | AI8: =IF(AI7="","",VLOOKUP(AI7,$AP$9:$AR$108,2,0)) | ... AM8: =IF(AM7="","",VLOOKUP(AM7,$AP$9:$AR$108,2,0))
A9: =IF(B9=$AP$1,"",1) -> 1 | B9: =TRIM(IF(AT9<>"",INDEX(SV!B:B,AT9,1)&" "&INDEX(SV!C:C,AT9,1),$AP$1)) -> Hoàng Ngọc Anh | C9: =IF(AT9<>"",INDEX(SV!A:A,AT9,1),"") -> 65DCCD20435 | D9: =IF(OR(B9=$AP$1,ISERROR(VLOOKUP($AN9,$AZ$9:$AZ$19,1,0))=FALSE),"",SUMIF(E9:AM9,$AV$1,$E$8:$AM$8)) -> 0 | AT9: =IF($AR$1>=AU9,$AQ$1-1+AU9,"") -> 2494 | AU9: 1 | AW9: {=IFERROR(INDEX($AP$9:$AP$108,SMALL(IF($AV$9:$AV$108=1,IF($AS$9:$AS$108=$A$4,ROW(INDIRECT("1:"&ROWS($AS$9:$AS$108))))),ROW(INDIRECT("1:"&ROWS($AS$9:$AS$108))))),"")} | AX9: {=IFERROR(INDEX($AP$9:$AP$108,SMALL(IF($AV$9:$AV$108=2,IF($AS$9:$AS$108=$A$4,ROW(INDIRECT("1:"&ROWS($AS$9:$AS$108))))),ROW(INDIRECT("1:"&ROWS($AS$9:$AS$108))))),"")} | BJ9: 63DCCD06 | BK9: 63CD06,07
A10: =IF(B10=$AP$1,"",MAX($A$9:A9)+1) -> 2 | B10: =TRIM(IF(AT10<>"",INDEX(SV!B:B,AT10,1)&" "&INDEX(SV!C:C,AT10,1),$AP$1)) -> Nguyễn Quang Anh | C10: =IF(AT10<>"",INDEX(SV!A:A,AT10,1),"") -> 65DCCD20494 | D10: =IF(OR(B10=$AP$1,ISERROR(VLOOKUP($AN10,$AZ$9:$AZ$19,1,0))=FALSE),"",SUMIF(E10:AM10,$AV$1,$E$8:$AM$8)) -> 0 | AT10: =IF($AR$1>=AU10,$AQ$1-1+AU10,"") -> 2495 | AU10: 2 | AZ10: Đã bỏ học | BJ10: 63DCCD07 | BK10: 63CD06,07
A11: =IF(B11=$AP$1,"",MAX($A$9:A10)+1) -> 3 | B11: =TRIM(IF(AT11<>"",INDEX(SV!B:B,AT11,1)&" "&INDEX(SV!C:C,AT11,1),$AP$1)) -> Phạm Ngọc Anh | C11: =IF(AT11<>"",INDEX(SV!A:A,AT11,1),"") -> 65DCCD22015 | D11: =IF(OR(B11=$AP$1,ISERROR(VLOOKUP($AN11,$AZ$9:$AZ$19,1,0))=FALSE),"",SUMIF(E11:AM11,$AV$1,$E$8:$AM$8)) -> 0 | AT11: =IF($AR$1>=AU11,$AQ$1-1+AU11,"") -> 2496 | AU11: 3 | AZ11: Đã thôi học | BJ11: 63DCCD08 | BK11: 63CD08, 09, 10
A12: =IF(B12=$AP$1,"",MAX($A$9:A11)+1) -> 4 | B12: =TRIM(IF(AT12<>"",INDEX(SV!B:B,AT12,1)&" "&INDEX(SV!C:C,AT12,1),$AP$1)) -> Bùi Đức Ba | C12: =IF(AT12<>"",INDEX(SV!A:A,AT12,1),"") -> 65DCCD20478 | D12: =IF(OR(B12=$AP$1,ISERROR(VLOOKUP($AN12,$AZ$9:$AZ$19,1,0))=FALSE),"",SUMIF(E12:AM12,$AV$1,$E$8:$AM$8)) -> 0 | AT12: =IF($AR$1>=AU12,$AQ$1-1+AU12,"") -> 2497 | AU12: 4 | AZ12: Tạm nghỉ học | BJ12: 63DCCD09 | BK12: 63CD08, 09, 10
A13: =IF(B13=$AP$1,"",MAX($A$9:A12)+1) -> 5 | B13: =TRIM(IF(AT13<>"",INDEX(SV!B:B,AT13,1)&" "&INDEX(SV!C:C,AT13,1),$AP$1)) -> Đặng Thế Bảo | C13: =IF(AT13<>"",INDEX(SV!A:A,AT13,1),"") -> 65DCCD23052 | D13: =IF(OR(B13=$AP$1,ISERROR(VLOOKUP($AN13,$AZ$9:$AZ$19,1,0))=FALSE),"",SUMIF(E13:AM13,$AV$1,$E$8:$AM$8)) -> 0 | AT13: =IF($AR$1>=AU13,$AQ$1-1+AU13,"") -> 2498 | AU13: 5 | AZ13: Không đăng kí học | BJ13: 63DCCD10 | BK13: 63CD08, 09, 10
A14: =IF(B14=$AP$1,"",MAX($A$9:A13)+1) -> 6 | B14: =TRIM(IF(AT14<>"",INDEX(SV!B:B,AT14,1)&" "&INDEX(SV!C:C,AT14,1),$AP$1)) -> Mai Đức Bình | C14: =IF(AT14<>"",INDEX(SV!A:A,AT14,1),"") -> 65DCCD20492 | D14: =IF(OR(B14=$AP$1,ISERROR(VLOOKUP($AN14,$AZ$9:$AZ$19,1,0))=FALSE),"",SUMIF(E14:AM14,$AV$1,$E$8:$AM$8)) -> 0 | AT14: =IF($AR$1>=AU14,$AQ$1-1+AU14,"") -> 2499 | AU14: 6 | BJ14: 64DCCD08 | BK14: 64CD08, 09, 10
A15: =IF(B15=$AP$1,"",MAX($A$9:A14)+1) -> 7 | B15: =TRIM(IF(AT15<>"",INDEX(SV!B:B,AT15,1)&" "&INDEX(SV!C:C,AT15,1),$AP$1)) -> Nguyễn Chí Chiến | C15: =IF(AT15<>"",INDEX(SV!A:A,AT15,1),"") -> 65DCCD24013 | D15: =IF(OR(B15=$AP$1,ISERROR(VLOOKUP($AN15,$AZ$9:$AZ$19,1,0))=FALSE),"",SUMIF(E15:AM15,$AV$1,$E$8:$AM$8)) -> 0 | AT15: =IF($AR$1>=AU15,$AQ$1-1+AU15,"") -> 2500 | AU15: 7 | BJ15: 64DCCD09 | BK15: 64CD08, 09, 10
A16: =IF(B16=$AP$1,"",MAX($A$9:A15)+1) -> 8 | B16: =TRIM(IF(AT16<>"",INDEX(SV!B:B,AT16,1)&" "&INDEX(SV!C:C,AT16,1),$AP$1)) -> Trần Quốc Chung | C16: =IF(AT16<>"",INDEX(SV!A:A,AT16,1),"") -> 65DCCD23051 | D16: =IF(OR(B16=$AP$1,ISERROR(VLOOKUP($AN16,$AZ$9:$AZ$19,1,0))=FALSE),"",SUMIF(E16:AM16,$AV$1,$E$8:$AM$8)) -> 0 | AT16: =IF($AR$1>=AU16,$AQ$1-1+AU16,"") -> 2501 | AU16: 8 | BJ16: 64DCCD10 | BK16: 64CD08, 09, 10
A17: =IF(B17=$AP$1,"",MAX($A$9:A16)+1) -> 9 | B17: =TRIM(IF(AT17<>"",INDEX(SV!B:B,AT17,1)&" "&INDEX(SV!C:C,AT17,1),$AP$1)) -> Lê Quang Cương | C17: =IF(AT17<>"",INDEX(SV!A:A,AT17,1),"") -> 65DCCD20464 | D17: =IF(OR(B17=$AP$1,ISERROR(VLOOKUP($AN17,$AZ$9:$AZ$19,1,0))=FALSE),"",SUMIF(E17:AM17,$AV$1,$E$8:$AM$8)) -> 0 | AT17: =IF($AR$1>=AU17,$AQ$1-1+AU17,"") -> 2502 | AU17: 9 | BJ17: 64DCCD11 | BK17: 64CD11, 12
A18: =IF(B18=$AP$1,"",MAX($A$9:A17)+1) -> 10 | B18: =TRIM(IF(AT18<>"",INDEX(SV!B:B,AT18,1)&" "&INDEX(SV!C:C,AT18,1),$AP$1)) -> Nguyễn Đức Cường | C18: =IF(AT18<>"",INDEX(SV!A:A,AT18,1),"") -> 65DCCD21058 | D18: =IF(OR(B18=$AP$1,ISERROR(VLOOKUP($AN18,$AZ$9:$AZ$19,1,0))=FALSE),"",SUMIF(E18:AM18,$AV$1,$E$8:$AM$8)) -> 0 | AT18: =IF($AR$1>=AU18,$AQ$1-1+AU18,"") -> 2503 | AU18: 10 | BJ18: 64DCCD12 | BK18: 64CD11, 12
A19: =IF(B19=$AP$1,"",MAX($A$9:A18)+1) -> 11 | B19: =TRIM(IF(AT19<>"",INDEX(SV!B:B,AT19,1)&" "&INDEX(SV!C:C,AT19,1),$AP$1)) -> Chu Hùng Dũng | C19: =IF(AT19<>"",INDEX(SV!A:A,AT19,1),"") -> 65DCCD20431 | D19: =IF(OR(B19=$AP$1,ISERROR(VLOOKUP($AN19,$AZ$9:$AZ$19,1,0))=FALSE),"",SUMIF(E19:AM19,$AV$1,$E$8:$AM$8)) -> 0 | AT19: =IF($AR$1>=AU19,$AQ$1-1+AU19,"") -> 2504 | AU19: 11 | BJ19: 65DCCDA1 | BK19: 65CDA
A20: =IF(B20=$AP$1,"",MAX($A$9:A19)+1) -> 12 | B20: =TRIM(IF(AT20<>"",INDEX(SV!B:B,AT20,1)&" "&INDEX(SV!C:C,AT20,1),$AP$1)) -> Nguyễn Văn Dũng | C20: =IF(AT20<>"",INDEX(SV!A:A,AT20,1),"") -> 65DCCD23502 | D20: =IF(OR(B20=$AP$1,ISERROR(VLOOKUP($AN20,$AZ$9:$AZ$19,1,0))=FALSE),"",SUMIF(E20:AM20,$AV$1,$E$8:$AM$8)) -> 0 | AT20: =IF($AR$1>=AU20,$AQ$1-1+AU20,"") -> 2505 | AU20: 12 | BJ20: 66DCCDA1 | BK20: 66CDA
A21: =IF(B21=$AP$1,"",MAX($A$9:A20)+1) -> 13 | B21: =TRIM(IF(AT21<>"",INDEX(SV!B:B,AT21,1)&" "&INDEX(SV!C:C,AT21,1),$AP$1)) -> Phạm Ngọc Dũng | C21: =IF(AT21<>"",INDEX(SV!A:A,AT21,1),"") -> 65DCCD22690 | D21: =IF(OR(B21=$AP$1,ISERROR(VLOOKUP($AN21,$AZ$9:$AZ$19,1,0))=FALSE),"",SUMIF(E21:AM21,$AV$1,$E$8:$AM$8)) -> 0 | AT21: =IF($AR$1>=AU21,$AQ$1-1+AU21,"") -> 2506 | AU21: 13 | BJ21: 67DCCDA1 | BK21: 67CDA
A22: =IF(B22=$AP$1,"",MAX($A$9:A21)+1) -> 14 | B22: =TRIM(IF(AT22<>"",INDEX(SV!B:B,AT22,1)&" "&INDEX(SV!C:C,AT22,1),$AP$1)) -> Vũ Tùng Dương | C22: =IF(AT22<>"",INDEX(SV!A:A,AT22,1),"") -> 65DCCD20487 | D22: =IF(OR(B22=$AP$1,ISERROR(VLOOKUP($AN22,$AZ$9:$AZ$19,1,0))=FALSE),"",SUMIF(E22:AM22,$AV$1,$E$8:$AM$8)) -> 0 | AT22: =IF($AR$1>=AU22,$AQ$1-1+AU22,"") -> 2507 | AU22: 14 | BJ22: 66DCTM21 | BK22: 66DCTM21
A23: =IF(B23=$AP$1,"",MAX($A$9:A22)+1) -> 15 | B23: =TRIM(IF(AT23<>"",INDEX(SV!B:B,AT23,1)&" "&INDEX(SV!C:C,AT23,1),$AP$1)) -> Nguyễn Tiến Đàm | C23: =IF(AT23<>"",INDEX(SV!A:A,AT23,1),"") -> 65DCCD22009 | D23: =IF(OR(B23=$AP$1,ISERROR(VLOOKUP($AN23,$AZ$9:$AZ$19,1,0))=FALSE),"",SUMIF(E23:AM23,$AV$1,$E$8:$AM$8)) -> 0 | AT23: =IF($AR$1>=AU23,$AQ$1-1+AU23,"") -> 2508 | AU23: 15 | BJ23: 66DCTM22 | BK23: 66DCTM22
A24: =IF(B24=$AP$1,"",MAX($A$9:A23)+1) -> 16 | B24: =TRIM(IF(AT24<>"",INDEX(SV!B:B,AT24,1)&" "&INDEX(SV!C:C,AT24,1),$AP$1)) -> Nguyễn Hải Điệp | C24: =IF(AT24<>"",INDEX(SV!A:A,AT24,1),"") -> 65DCCD22017 | D24: =IF(OR(B24=$AP$1,ISERROR(VLOOKUP($AN24,$AZ$9:$AZ$19,1,0))=FALSE),"",SUMIF(E24:AM24,$AV$1,$E$8:$AM$8)) -> 0 | AT24: =IF($AR$1>=AU24,$AQ$1-1+AU24,"") -> 2509 | AU24: 16 | BJ24: 66DCTM23 | BK24: 66DCTM23
A25: =IF(B25=$AP$1,"",MAX($A$9:A24)+1) -> 17 | B25: =TRIM(IF(AT25<>"",INDEX(SV!B:B,AT25,1)&" "&INDEX(SV!C:C,AT25,1),$AP$1)) -> Lưu Trường Giang | C25: =IF(AT25<>"",INDEX(SV!A:A,AT25,1),"") -> 65DCCD20475 | D25: =IF(OR(B25=$AP$1,ISERROR(VLOOKUP($AN25,$AZ$9:$AZ$19,1,0))=FALSE),"",SUMIF(E25:AM25,$AV$1,$E$8:$AM$8)) -> 0 | AT25: =IF($AR$1>=AU25,$AQ$1-1+AU25,"") -> 2510 | AU25: 17 | BJ25: 66DCDT21 | BK25: 66DCDT21
... A31: =IF(B31=$AP$1,"",MAX($A$9:A30)+1) -> 23 | B31: =TRIM(IF(AT31<>"",INDEX(SV!B:B,AT31,1)&" "&INDEX(SV!C:C,AT31,1),$AP$1)) -> Nguyễn Văn Hùng | C31: =IF(AT31<>"",INDEX(SV!A:A,AT31,1),"") -> 65DCCD23937 | D31: =IF(OR(B31=$AP$1,ISERROR(VLOOKUP($AN31,$AZ$9:$AZ$19,1,0))=FALSE),"",SUMIF(E31:AM31,$AV$1,$E$8:$AM$8)) -> 0 | AT31: =IF($AR$1>=AU31,$AQ$1-1+AU31,"") -> 2516 | AU31: 23 | BJ31: 65DCOT24 | BK31: 65OT21, 24
A32: =IF(B32=$AP$1,"",MAX($A$9:A31)+1) -> 24 | B32: =TRIM(IF(AT32<>"",INDEX(SV!B:B,AT32,1)&" "&INDEX(SV!C:C,AT32,1),$AP$1)) -> Tạ Đình Hùng | C32: =IF(AT32<>"",INDEX(SV!A:A,AT32,1),"") -> 65DCCD22809 | D32: =IF(OR(B32=$AP$1,ISERROR(VLOOKUP($AN32,$AZ$9:$AZ$19,1,0))=FALSE),"",SUMIF(E32:AM32,$AV$1,$E$8:$AM$8)) -> 0 | AT32: =IF($AR$1>=AU32,$AQ$1-1+AU32,"") -> 2517 | AU32: 24
A33: =IF(B33=$AP$1,"",MAX($A$9:A32)+1) -> 25 | B33: =TRIM(IF(AT33<>"",INDEX(SV!B:B,AT33,1)&" "&INDEX(SV!C:C,AT33,1),$AP$1)) -> Trần Mạnh Hùng | C33: =IF(AT33<>"",INDEX(SV!A:A,AT33,1),"") -> 65DCCD22691 | D33: =IF(OR(B33=$AP$1,ISERROR(VLOOKUP($AN33,$AZ$9:$AZ$19,1,0))=FALSE),"",SUMIF(E33:AM33,$AV$1,$E$8:$AM$8)) -> 0 | AT33: =IF($AR$1>=AU33,$AQ$1-1+AU33,"") -> 2518 | AU33: 25
A34: =IF(B34=$AP$1,"",MAX($A$9:A33)+1) -> 26 | B34: =TRIM(IF(AT34<>"",INDEX(SV!B:B,AT34,1)&" "&INDEX(SV!C:C,AT34,1),$AP$1)) -> Vũ Huy Hùng | C34: =IF(AT34<>"",INDEX(SV!A:A,AT34,1),"") -> 65DCCD20468 | D34: =IF(OR(B34=$AP$1,ISERROR(VLOOKUP($AN34,$AZ$9:$AZ$19,1,0))=FALSE),"",SUMIF(E34:AM34,$AV$1,$E$8:$AM$8)) -> 0 | AT34: =IF($AR$1>=AU34,$AQ$1-1+AU34,"") -> 2519 | AU34: 26
A35: =IF(B35=$AP$1,"",MAX($A$9:A34)+1) -> 27 | B35: =TRIM(IF(AT35<>"",INDEX(SV!B:B,AT35,1)&" "&INDEX(SV!C:C,AT35,1),$AP$1)) -> Lê Trọng Khánh | C35: =IF(AT35<>"",INDEX(SV!A:A,AT35,1),"") -> 65DCCD23069 | D35: =IF(OR(B35=$AP$1,ISERROR(VLOOKUP($AN35,$AZ$9:$AZ$19,1,0))=FALSE),"",SUMIF(E35:AM35,$AV$1,$E$8:$AM$8)) -> 0 | AT35: =IF($AR$1>=AU35,$AQ$1-1+AU35,"") -> 2520 | AU35: 27
A36: =IF(B36=$AP$1,"",MAX($A$9:A35)+1) -> 28 | B36: =TRIM(IF(AT36<>"",INDEX(SV!B:B,AT36,1)&" "&INDEX(SV!C:C,AT36,1),$AP$1)) -> Bùi Văn Khiêm | C36: =IF(AT36<>"",INDEX(SV!A:A,AT36,1),"") -> 65DCCD21702 | D36: =IF(OR(B36=$AP$1,ISERROR(VLOOKUP($AN36,$AZ$9:$AZ$19,1,0))=FALSE),"",SUMIF(E36:AM36,$AV$1,$E$8:$AM$8)) -> 0 | AT36: =IF($AR$1>=AU36,$AQ$1-1+AU36,"") -> 2521 | AU36: 28
A37: =IF(B37=$AP$1,"",MAX($A$9:A36)+1) -> 29 | B37: =TRIM(IF(AT37<>"",INDEX(SV!B:B,AT37,1)&" "&INDEX(SV!C:C,AT37,1),$AP$1)) -> Dương Văn Long | C37: =IF(AT37<>"",INDEX(SV!A:A,AT37,1),"") -> 65DCCD21700 | D37: =IF(OR(B37=$AP$1,ISERROR(VLOOKUP($AN37,$AZ$9:$AZ$19,1,0))=FALSE),"",SUMIF(E37:AM37,$AV$1,$E$8:$AM$8)) -> 0 | AT37: =IF($AR$1>=AU37,$AQ$1-1+AU37,"") -> 2522 | AU37: 29
A38: =IF(B38=$AP$1,"",MAX($A$9:A37)+1) -> 30 | B38: =TRIM(IF(AT38<>"",INDEX(SV!B:B,AT38,1)&" "&INDEX(SV!C:C,AT38,1),$AP$1)) -> Mai Văn Lực | C38: =IF(AT38<>"",INDEX(SV!A:A,AT38,1),"") -> 65DCCD20434 | D38: =IF(OR(B38=$AP$1,ISERROR(VLOOKUP($AN38,$AZ$9:$AZ$19,1,0))=FALSE),"",SUMIF(E38:AM38,$AV$1,$E$8:$AM$8)) -> 0 | AT38: =IF($AR$1>=AU38,$AQ$1-1+AU38,"") -> 2523 | AU38: 30
A39: =IF(B39=$AP$1,"",MAX($A$9:A38)+1) -> 31 | B39: =TRIM(IF(AT39<>"",INDEX(SV!B:B,AT39,1)&" "&INDEX(SV!C:C,AT39,1),$AP$1)) -> Phạm Văn Mạnh | C39: =IF(AT39<>"",INDEX(SV!A:A,AT39,1),"") -> 65DCCD20485 | D39: =IF(OR(B39=$AP$1,ISERROR(VLOOKUP($AN39,$AZ$9:$AZ$19,1,0))=FALSE),"",SUMIF(E39:AM39,$AV$1,$E$8:$AM$8)) -> 0 | AT39: =IF($AR$1>=AU39,$AQ$1-1+AU39,"") -> 2524 | AU39: 31
A40: =IF(B40=$AP$1,"",MAX($A$9:A39)+1) -> 32 | B40: =TRIM(IF(AT40<>"",INDEX(SV!B:B,AT40,1)&" "&INDEX(SV!C:C,AT40,1),$AP$1)) -> Đoàn Anh Minh | C40: =IF(AT40<>"",INDEX(SV!A:A,AT40,1),"") -> 65DCCD22022 | D40: =IF(OR(B40=$AP$1,ISERROR(VLOOKUP($AN40,$AZ$9:$AZ$19,1,0))=FALSE),"",SUMIF(E40:AM40,$AV$1,$E$8:$AM$8)) -> 0 | AT40: =IF($AR$1>=AU40,$AQ$1-1+AU40,"") -> 2525 | AU40: 32
A41: =IF(B41=$AP$1,"",MAX($A$9:A40)+1) -> 33 | B41: =TRIM(IF(AT41<>"",INDEX(SV!B:B,AT41,1)&" "&INDEX(SV!C:C,AT41,1),$AP$1)) -> Lê Đức Minh | C41: =IF(AT41<>"",INDEX(SV!A:A,AT41,1),"") -> 65DCCD20446 | D41: =IF(OR(B41=$AP$1,ISERROR(VLOOKUP($AN41,$AZ$9:$AZ$19,1,0))=FALSE),"",SUMIF(E41:AM41,$AV$1,$E$8:$AM$8)) -> 0 | AT41: =IF($AR$1>=AU41,$AQ$1-1+AU41,"") -> 2526 | AU41: 33
A42: =IF(B42=$AP$1,"",MAX($A$9:A41)+1) -> 34 | B42: =TRIM(IF(AT42<>"",INDEX(SV!B:B,AT42,1)&" "&INDEX(SV!C:C,AT42,1),$AP$1)) -> Nguyễn Tuấn Minh | C42: =IF(AT42<>"",INDEX(SV!A:A,AT42,1),"") -> 65DCCD21674 | D42: =IF(OR(B42=$AP$1,ISERROR(VLOOKUP($AN42,$AZ$9:$AZ$19,1,0))=FALSE),"",SUMIF(E42:AM42,$AV$1,$E$8:$AM$8)) -> 0 | AT42: =IF($AR$1>=AU42,$AQ$1-1+AU42,"") -> 2527 | AU42: 34
A43: =IF(B43=$AP$1,"",MAX($A$9:A42)+1) -> 35 | B43: =TRIM(IF(AT43<>"",INDEX(SV!B:B,AT43,1)&" "&INDEX(SV!C:C,AT43,1),$AP$1)) -> Phạm Thanh Minh | C43: =IF(AT43<>"",INDEX(SV!A:A,AT43,1),"") -> 65DCCD22799 | D43: =IF(OR(B43=$AP$1,ISERROR(VLOOKUP($AN43,$AZ$9:$AZ$19,1,0))=FALSE),"",SUMIF(E43:AM43,$AV$1,$E$8:$AM$8)) -> 0 | AT43: =IF($AR$1>=AU43,$AQ$1-1+AU43,"") -> 2528 | AU43: 35
... A108: =IF(B108=$AP$1,"",MAX($A$9:A107)+1) | B108: =TRIM(IF(AT108<>"",INDEX(SV!B:B,AT108,1)&" "&INDEX(SV!C:C,AT108,1),$AP$1)) -> ! | C108: =IF(AT108<>"",INDEX(SV!A:A,AT108,1),"") | D108: =IF(OR(B108=$AP$1,ISERROR(VLOOKUP($AN108,$AZ$9:$AZ$19,1,0))=FALSE),"",SUMIF(E108:AM108,$AV$1,$E$8:$AM$8)) | AT108: =IF($AR$1>=AU108,$AQ$1-1+AU108,"") | AU108: 100
A109: TỔNG | E109: =IF(E7="","",COUNTIF(E9:E108,$AV$1)-COUNTA($AN$9:$AN$108)) -> 0 | F109: =IF(F7="","",COUNTIF(F9:F108,$AV$1)-COUNTA($AN$9:$AN$108)) -> 0 | G109: =IF(G7="","",COUNTIF(G9:G108,$AV$1)-COUNTA($AN$9:$AN$108)) -> 0 | H109: =IF(H7="","",COUNTIF(H9:H108,$AV$1)-COUNTA($AN$9:$AN$108)) -> 0 | I109: =IF(I7="","",COUNTIF(I9:I108,$AV$1)-COUNTA($AN$9:$AN$108)) -> 0 | J109: =IF(J7="","",COUNTIF(J9:J108,$AV$1)-COUNTA($AN$9:$AN$108)) -> 0 | K109: =IF(K7="","",COUNTIF(K9:K108,$AV$1)-COUNTA($AN$9:$AN$108)) -> 0 | L109: =IF(L7="","",COUNTIF(L9:L108,$AV$1)-COUNTA($AN$9:$AN$108)) -> 0 | ... P109: =IF(P7="","",COUNTIF(P9:P108,$AV$1)-COUNTA($AN$9:$AN$108)) | Q109: =IF(Q7="","",COUNTIF(Q9:Q108,$AV$1)) | R109: =IF(R7="","",COUNTIF(R9:R108,$AV$1)) | S109: =IF(S7="","",COUNTIF(S9:S108,$AV$1)) | T109: =IF(T7="","",COUNTIF(T9:T108,$AV$1)) | U109: =IF(U7="","",COUNTIF(U9:U108,$AV$1)) | V109: =IF(V7="","",COUNTIF(V9:V108,$AV$1)) | W109: =IF(W7="","",COUNTIF(W9:W108,$AV$1)) | X109: =IF(X7="","",COUNTIF(X9:X108,$AV$1)) | AB109: =IF(AB7="","",COUNTIF(AB9:AB108,$AV$1)) | AC109: =IF(AC7="","",COUNTIF(AC9:AC108,$AV$1)) | AD109: =IF(AD7="","",COUNTIF(AD9:AD108,$AV$1)) | AE109: =IF(AE7="","",COUNTIF(AE9:AE108,$AV$1)) | AF109: =IF(AF7="","",COUNTIF(AF9:AF108,$AV$1)) | AG109: =IF(AG7="","",COUNTIF(AG9:AG108,$AV$1)) | AH109: =IF(AH7="","",COUNTIF(AH9:AH108,$AV$1)) | AI109: =IF(AI7="","",COUNTIF(AI9:AI108,$AV$1)) | ... AM109: =IF(AM7="","",COUNTIF(AM9:AM108,$AV$1))
B111: Chú ý: Sau khi đã hoàn thiện đăng ký tất cả các học phần trong mỗi học kì, GVCN-CVHT nộp bản in trên giấy (đề nghị in hai mặt) với đầy đủ chữ ký về phòng 104H2 theo đúng lịch đã được thông báo trên trang qldt.utt.edu.vn).
A112: ="Hà Nội, ngày "&TEXT(DAY(NOW()),"dd")&" tháng "&MONTH(NOW())&" năm "&YEAR(NOW()) -> Hà Nội, ngày 19 tháng 12 năm 2016
B113: LỚP TRƯỞNG (Ký, ghi rõ họ tên) | M113: GVCN - CVHT (Ký, ghi rõ họ tên) | AG113: PHÒNG ĐÀO TẠO (Ký, ghi rõ họ tên)

Sheet Tiến độ
A1: KẾ HOẠCH CHI TIẾT NĂM HỌC 2016 - 2017 ĐẠI HỌC CHÍNH QUY - CƠ SỞ ĐÀO TẠO HÀ NỘI | BL1: =INDEX(#REF!,MATCH(#REF!,#REF!,0)) -> #REF! | BM1: Nguyên lý CNML | DV1: TỔNG TC - TỔNG TIẾT / LỚP / TUẦN
A2: SỐ TT | B2: KHÓA / CHUYÊN NGÀNH | C2: HỌC PHẦN | H2: SỐ LỚP | I2: SỐ SV | J2: GHI CHÚ | K2: 8/2016 | O2: 9/2016 | S2: 10/2016 | X2: 11/2016 | AB2: 12/2016 | AF2: 01/2017 | AK2: 02/2017 | AO2: 3/2017 | AS2: 4/2017 | AW2: 5/2017 | BB2: 6/2017 | BF2: 7/2017 | BK2: PHÒNG HỌC | BL2: BỘ MÔN CHỦ QUẢN | BM2: Tháng | BN2: 8/2016 | BR2: 9/2016 | BV2: 10/2016 | CA2: 11/2016 | CE2: 12/2016 | CI2: 01/2017 | CN2: 02/2017 | CR2: 3/2017 | CV2: 4/2017 | CZ2: 5/2017 | DE2: 6/2017 | DI2: 7/2017 | DV2: =IF(ISERROR(DV6)=FALSE,MATCH(DV6,'Tiến độ'!B1:B1446,0),MATCH(LEFT('Đăng kí'!A5,2)&MID('Đăng kí'!A5,5,2),'Tiến độ'!B1:B1446,0)) -> 292
C3: TÊN HỌC PHẦN | D3: MÃ HỌC PHẦN | E3: SỐ TC | F3: TIẾT LT | G3: GIỜ TH | K3: 42590 | L3: 42597 | M3: 42604 | N3: 42611 | O3: 42618 | P3: 42625 | Q3: 42632 | R3: 42639 | S3: 42646 | T3: 42653 | U3: 42660 | V3: 42667 | W3: 42674 | X3: 42681 | Y3: 42688 | Z3: 42695 | AA3: 42702 | AB3: 42709 | AC3: 42716 | AD3: 42723 | AE3: 42730 | AF3: 42737 | AG3: 42744 | AH3: 42751 | AI3: 42758 | AJ3: 42765 | AK3: 42772 | AL3: 42779 | AM3: 42786 | AN3: 42793 | AO3: 42800 | AP3: 42807 | AQ3: 42814 | AR3: 42821 | AS3: 42828 | AT3: 42835 | AU3: 42842 | AV3: 42849 | AW3: 42856 | AX3: 42863 | AY3: 42870 | AZ3: 42877 | BA3: 42884 | BB3: 42891 | BC3: 42898 | BD3: 42905 | BE3: 42912 | BF3: 42919 | BG3: 42926 | BH3: 42933 | BI3: 42940 | BJ3: 42947 | BM3: Từ ngày | BN3: 42590 | BO3: 42597 | BP3: 42604 | BQ3: 42611 | BR3: 42618 | BS3: 42625 | BT3: 42632 | BU3: 42639 | BV3: 42646 | BW3: 42653 | BX3: 42660 | BY3: 42667 | BZ3: 42674 | CA3: 42681 | CB3: 42688 | CC3: 42695 | CD3: 42702 | CE3: 42709 | CF3: 42716 | CG3: 42723 | CH3: 42730 | CI3: 42737 | CJ3: 42744 | CK3: 42751 | CL3: 42758 | CM3: 42765 | CN3: 42772 | CO3: 42779 | CP3: 42786 | CQ3: 42793 | CR3: 42800 | CS3: 42807 | CT3: 42814 | CU3: 42821 | CV3: 42828 | CW3: 42835 | CX3: 42842 | CY3: 42849 | CZ3: 42856 | DA3: 42863 | DB3: 42870 | DC3: 42877 | DD3: 42884 | DE3: 42891 | DF3: 42898 | DG3: 42905 | DH3: 42912 | DI3: 42919 | DJ3: 42926 | DK3: 42933 | DL3: 42940 | DM3: 42947 | DV3: =MATCH(DV1,INDIRECT("c"&DV2&":c"&ROWS(C1:C1446)),0)+DV2-2 -> 308
K4: 42594 | L4: 42601 | M4: 42608 | N4: 42615 | O4: 42622 | P4: 42629 | Q4: 42636 | R4: 42643 | S4: 42650 | T4: 42657 | U4: 42664 | V4: 42671 | W4: 42678 | X4: 42685 | Y4: 42692 | Z4: 42699 | AA4: 42706 | AB4: 42713 | AC4: 42720 | AD4: 42727 | AE4: 42734 | AF4: 42741 | AG4: 42748 | AH4: 42755 | AI4: 42762 | AJ4: 42769 | AK4: 42776 | AL4: 42783 | AM4: 42790 | AN4: 42797 | AO4: 42804 | AP4: 42811 | AQ4: 42818 | AR4: 42825 | AS4: 42832 | AT4: 42839 | AU4: 42846 | AV4: 42853 | AW4: 42860 | AX4: 42867 | AY4: 42874 | AZ4: 42881 | BA4: 42888 | BB4: 42895 | BC4: 42902 | BD4: 42909 | BE4: 42916 | BF4: 42923 | BG4: 42930 | BH4: 42937 | BI4: 42944 | BJ4: 42951 | BM4: Đến ngày | BN4: 42594 | BO4: 42601 | BP4: 42608 | BQ4: 42615 | BR4: 42622 | BS4: 42629 | BT4: 42636 | BU4: 42643 | BV4: 42650 | BW4: 42657 | BX4: 42664 | BY4: 42671 | BZ4: 42678 | CA4: 42685 | CB4: 42692 | CC4: 42699 | CD4: 42706 | CE4: 42713 | CF4: 42720 | CG4: 42727 | CH4: 42734 | CI4: 42741 | CJ4: 42748 | CK4: 42755 | CL4: 42762 | CM4: 42769 | CN4: 42776 | CO4: 42783 | CP4: 42790 | CQ4: 42797 | CR4: 42804 | CS4: 42811 | CT4: 42818 | CU4: 42825 | CV4: 42832 | CW4: 42839 | CX4: 42846 | CY4: 42853 | CZ4: 42860 | DA4: 42867 | DB4: 42874 | DC4: 42881 | DD4: 42888 | DE4: 42895 | DF4: 42902 | DG4: 42909 | DH4: 42916 | DI4: 42923 | DJ4: 42930 | DK4: 42937 | DL4: 42944 | DM4: 42951 | DV4: =INDEX('Đăng kí'!AY2:BH6,MATCH(LEFT('Đăng kí'!A5,2)-0,'Đăng kí'!AX2:AX6,0),MATCH('Đăng kí'!A4,'Đăng kí'!AY1:BH1,0)) -> 2
K5: 1 | L5: 2 | M5: 3 | N5: 4 | O5: 5 | P5: 6 | Q5: 7 | R5: 8 | S5: 9 | T5: 10 | U5: 11 | V5: 12 | W5: 13 | X5: 14 | Y5: 15 | Z5: 16 | AA5: 17 | AB5: 18 | AC5: 19 | AD5: 20 | AE5: 21 | AF5: 22 | AG5: 23 | AH5: 24 | AI5: 25 | AJ5: 26 | AK5: 27 | AL5: 28 | AM5: 29 | AN5: 30 | AO5: 31 | AP5: 32 | AQ5: 33 | AR5: 34 | AS5: 35 | AT5: 36 | AU5: 37 | AV5: 38 | AW5: 39 | AX5: 40 | AY5: 41 | AZ5: 42 | BA5: 43 | BB5: 44 | BC5: 45 | BD5: 46 | BE5: 47 | BF5: 48 | BG5: 49 | BH5: 50 | BI5: 51 | BJ5: 52 | BM5: Tuần | BN5: 1 | BO5: 2 | BP5: 3 | BQ5: 4 | BR5: 5 | BS5: 6 | BT5: 7 | BU5: 8 | BV5: 9 | BW5: 10 | BX5: 11 | BY5: 12 | BZ5: 13 | CA5: 14 | CB5: 15 | CC5: 16 | CD5: 17 | CE5: 18 | CF5: 19 | CG5: 20 | CH5: 21 | CI5: 22 | CJ5: 23 | CK5: 24 | CL5: 25 | CM5: 26 | CN5: 27 | CO5: 28 | CP5: 29 | CQ5: 30 | CR5: 31 | CS5: 32 | CT5: 33 | CU5: 34 | CV5: 35 | CW5: 36 | CX5: 37 | CY5: 38 | CZ5: 39 | DA5: 40 | DB5: 41 | DC5: 42 | DD5: 43 | DE5: 44 | DF5: 45 | DG5: 46 | DH5: 47 | DI5: 48 | DJ5: 49 | DK5: 50 | DL5: 51 | DM5: 52
A6: Lý thuyết | K6: =SUMIF(MON,$A$6,BN7:BN1446) -> 2256 | L6: =SUMIF(MON,$A$6,BO7:BO1446) -> 2256 | M6: =SUMIF(MON,$A$6,BP7:BP1446) -> 2256 | N6: =SUMIF(MON,$A$6,BQ7:BQ1446) -> 2310 | O6: =SUMIF(MON,$A$6,BR7:BR1446) -> 2310 | P6: =SUMIF(MON,$A$6,BS7:BS1446) -> 2218 | Q6: =SUMIF(MON,$A$6,BT7:BT1446) -> 2576 | R6: =SUMIF(MON,$A$6,BU7:BU1446) -> 2482 | ... BJ6: =SUMIF(MON,$A$6,DM7:DM1446) -> 0 | BL6: Đường | BN6: =SUMIF($BK$7:$BK$645,$BM$1,BN7:BN645) -> 0 | BO6: =SUMIF($BK$7:$BK$645,$BM$1,BO7:BO645) -> 0 | BP6: =SUMIF($BK$7:$BK$645,$BM$1,BP7:BP645) -> 0 | BQ6: =SUMIF($BK$7:$BK$645,$BM$1,BQ7:BQ645) -> 0 | BR6: =SUMIF($BK$7:$BK$645,$BM$1,BR7:BR645) -> 0 | BS6: =SUMIF($BK$7:$BK$645,$BM$1,BS7:BS645) -> 0 | BT6: =SUMIF($BK$7:$BK$645,$BM$1,BT7:BT645) -> 0 | BU6: =SUMIF($BK$7:$BK$645,$BM$1,BU7:BU645) -> 0 | ... CF6: =SUMIF($BK$7:$BK$645,$BM$1,CF7:CF645) -> 0 | DN6: =SUMIF(HP,$BL$6,DN7:DN1446) -> 4218 | DO6: =SUMIF(HP,$BL$6,DO7:DO1446) -> 1950 | DP6: =SUMIF(HP,$BL$6,DP7:DP1446) -> 0 | DQ6: =SUMIF(HP,$BL$6,DQ7:DQ1446) -> 2268 | DR6: Kì | DT6: HP (Bộ môn) | DV6: =INDEX('Đăng kí'!BK9:BK58,MATCH('Đăng kí'!A5,'Đăng kí'!BJ9:BJ58,0)) -> #N/A
A7: =IF(B7="","",1) -> 1 | B7: 63DD | C7: Thực tập nghề nghiệp xây dựng công trình | D7: DC4DD23 | E7: 4 | G7: 180 | H7: 2 | I7: =57+51 -> 108 | K7: NN | L7: NN | M7: NN | N7: NN | S7: DT | T7: DT | U7: DT | V7: DT | W7: DT | X7: DT | Y7: DT | Z7: DT | AA7: DT | AB7: DT | AC7: DT | AD7: KP | AE7: KP | AF7: KP | AG7: KP | AH7: KP | AK7: KP | BE7: NGHỈ HÈ (KÌ PHỤ) | BL7: Xây dựng dân dụng và công nghiệp | BM7: =IF(D7="","",INDEX(CSDL!$H$2:$H$1501,MATCH(D7,CSDL!$B$2:$B$1501,0))) | BN7: =IF(ISERROR(K7-0)=TRUE,0,$H7*K7) -> 0 | BO7: =IF(ISERROR(L7-0)=TRUE,0,$H7*L7) -> 0 | BP7: =IF(ISERROR(M7-0)=TRUE,0,$H7*M7) -> 0 | BQ7: =IF(ISERROR(N7-0)=TRUE,0,$H7*N7) -> 0 | BR7: =IF(ISERROR(O7-0)=TRUE,0,$H7*O7) -> 0 | BS7: =IF(ISERROR(P7-0)=TRUE,0,$H7*P7) -> 0 | BT7: =IF(ISERROR(Q7-0)=TRUE,0,$H7*Q7) -> 0 | BU7: =IF(ISERROR(R7-0)=TRUE,0,$H7*R7) -> 0 | ... DM7: =IF(ISERROR(BJ7-0)=TRUE,0,$H7*BJ7) -> 0 | DN7: =I7*1 -> 108 | DO7: =IF(COUNTA(K7:AC7)>0,DN7,"") -> 108 | DP7: =IF(DO7="",IF(COUNT(AD7:AH7,AK7)>0,DN7,""),"") | DQ7: =IF(AND(DO7="",DP7=""),IF(COUNTA(AL7:BD7)>0,DN7,""),"") | DR7: =IF(DQ7="",1,2) -> 1 | DS7: =IF(AND(DR7=#REF!,BL7=#REF!),'Tiến độ'!D7,"") -> #REF! | DT7: =IF(ISERROR(ED7)=TRUE,"",ED7) | DU7: =IF(ISERROR(DT7)=TRUE,0,IF(DT7="",0,1)) -> 0 | DV7: 1 | DW7: =IF($DV$2+DV7-1<=$DV$3,$DV$2+DV7-1,"") -> 292 | DX7: =IF(DW7="","",IF(INDEX(DR:DR,DW7,0)=$DV$4,INDEX(D:D,DW7,0),"")) | DY7: {=IFERROR(INDEX($DX$7:$DX$36,SMALL(IF($DX$7:$DX$36<>"",ROW(INDIRECT("1:"&ROWS($DX$7:$DX$36)))),ROW(INDIRECT("1:"&ROWS($DX$7:$DX$36))))),"")} -> DC2CT65 | DZ7: =IF(DY7="","",INDEX(C:C,MATCH(DY7,D:D,0))&" ("&DY7&")") -> An toàn lao động (DC2CT65) | EA7: =IF(DY7="","",INDEX(E:E,MATCH(DY7,D:D,0))) -> 2 | EC7: {=IFERROR(INDEX(ma,SMALL(IF(ma<>"",ROW(INDIRECT("1:"&ROWS(ma)))),ROW(INDIRECT("1:"&ROWS(ma))))),"")} | ED7: {=INDEX(maloc,SMALL(IF(MATCH(maloc,maloc,0)=ROW(INDIRECT("1:"&ROWS(maloc))),MATCH(maloc,maloc,0),""),ROW(INDIRECT("1:"&ROWS(maloc)))))}
A8: =IF(B8="","",MAX($A$7:A7)+1) | C8: Thực tập tốt nghiệp | D8: DC4DD70 | E8: 4 | G8: 180 | H8: =H7 -> 2 | I8: =I7 -> 108 | O8: TN | P8: TN | Q8: TN | R8: TN | S8: DT | T8: DT | U8: DT | V8: DT | W8: DT | X8: DT | Y8: DT | Z8: DT | AA8: DT | AB8: DT | AC8: DT | AD8: KP | AE8: KP | AF8: KP | AG8: KP | AH8: KP | AK8: KP | BL8: Xây dựng dân dụng và công nghiệp | BN8: =IF(ISERROR(K8-0)=TRUE,0,$H8*K8) -> 0 | BO8: =IF(ISERROR(L8-0)=TRUE,0,$H8*L8) -> 0 | BP8: =IF(ISERROR(M8-0)=TRUE,0,$H8*M8) -> 0 | BQ8: =IF(ISERROR(N8-0)=TRUE,0,$H8*N8) -> 0 | BR8: =IF(ISERROR(O8-0)=TRUE,0,$H8*O8) -> 0 | BS8: =IF(ISERROR(P8-0)=TRUE,0,$H8*P8) -> 0 | BT8: =IF(ISERROR(Q8-0)=TRUE,0,$H8*Q8) -> 0 | BU8: =IF(ISERROR(R8-0)=TRUE,0,$H8*R8) -> 0 | ... DM8: =IF(ISERROR(BJ8-0)=TRUE,0,$H8*BJ8) -> 0 | DN8: =I8*2 -> 216 | DO8: =IF(COUNTA(K8:AC8)>0,DN8,"") -> 216 | DP8: =IF(DO8="",IF(COUNT(AD8:AH8,AK8)>0,DN8,""),"") | DQ8: =IF(AND(DO8="",DP8=""),IF(COUNTA(AL8:BD8)>0,DN8,""),"") | DR8: =IF(DQ8="",1,2) -> 1 | DS8: =IF(AND(DR8=#REF!,BL8=#REF!),'Tiến độ'!D8,"") -> #REF! | DT8: =IF(ISERROR(ED8)=TRUE,"",ED8) | DU8: =IF(ISERROR(DT8)=TRUE,0,IF(DT8="",0,1+MAX($DU$7:DU7))) -> 0 | DV8: 2 | DW8: =IF($DV$2+DV8-1<=$DV$3,$DV$2+DV8-1,"") -> 293 | DX8: =IF(DW8="","",IF(INDEX(DR:DR,DW8,0)=$DV$4,INDEX(D:D,DW8,0),"")) | DY8: DC3DB41 | DZ8: =IF(DY8="","",INDEX(C:C,MATCH(DY8,D:D,0))&" ("&DY8&")") -> Thiết kế đường 1 (DC3DB41) | EA8: =IF(DY8="","",INDEX(E:E,MATCH(DY8,D:D,0))) -> 4 | ED8: #NUM!
A9: =IF(B9="","",MAX($A$7:A8)+1) | C9: Đồ án tốt nghiệp | D9: DC4DD80 | E9: 8 | G9: 480 | H9: =H8 -> 2 | I9: =I8 -> 108 | AL9: DT | AM9: DT | AN9: DT | AO9: DT | AP9: DT | AQ9: ĐA | AR9: ĐA | AS9: ĐA | AT9: ĐA | AU9: ĐA | AV9: ĐA | AW9: ĐA | AX9: ĐA | AY9: ĐA | AZ9: ĐA | BA9: ĐA | BB9: ĐA | BC9: # | BD9: # | BL9: Xây dựng dân dụng và công nghiệp | BN9: =IF(ISERROR(K9-0)=TRUE,0,$H9*K9) -> 0 | BO9: =IF(ISERROR(L9-0)=TRUE,0,$H9*L9) -> 0 | BP9: =IF(ISERROR(M9-0)=TRUE,0,$H9*M9) -> 0 | BQ9: =IF(ISERROR(N9-0)=TRUE,0,$H9*N9) -> 0 | BR9: =IF(ISERROR(O9-0)=TRUE,0,$H9*O9) -> 0 | BS9: =IF(ISERROR(P9-0)=TRUE,0,$H9*P9) -> 0 | BT9: =IF(ISERROR(Q9-0)=TRUE,0,$H9*Q9) -> 0 | BU9: =IF(ISERROR(R9-0)=TRUE,0,$H9*R9) -> 0 | ... DM9: =IF(ISERROR(BJ9-0)=TRUE,0,$H9*BJ9) -> 0 | DN9: =I9*15 -> 1620 | DO9: =IF(COUNTA(K9:AC9)>0,DN9,"") | DP9: =IF(DO9="",IF(COUNT(AD9:AH9,AK9)>0,DN9,""),"") | DQ9: =IF(AND(DO9="",DP9=""),IF(COUNTA(AL9:BD9)>0,DN9,""),"") -> 1620 | DR9: =IF(DQ9="",1,2) -> 2 | DS9: =IF(AND(DR9=#REF!,BL9=#REF!),'Tiến độ'!D9,"") -> #REF! | DT9: =IF(ISERROR(ED9)=TRUE,"",ED9) | DU9: =IF(ISERROR(DT9)=TRUE,0,IF(DT9="",0,1+MAX($DU$7:DU8))) -> 0 | DV9: 3 | DW9: =IF($DV$2+DV9-1<=$DV$3,$DV$2+DV9-1,"") -> 294 | DX9: =IF(DW9="","",IF(INDEX(DR:DR,DW9,0)=$DV$4,INDEX(D:D,DW9,0),"")) | DY9: DC3DB44 | DZ9: =IF(DY9="","",INDEX(C:C,MATCH(DY9,D:D,0))&" ("&DY9&")") -> Đồ án Thiết kế đường (DC3DB44) | EA9: =IF(DY9="","",INDEX(E:E,MATCH(DY9,D:D,0))) -> 2 | ED9: #NUM!
A10: =IF(B10="","",MAX($A$7:A9)+1) | C10: TỔNG TC - TỔNG TIẾT / LỚP / TUẦN | E10: =SUM(E7:E9) -> 16 | K10: =SUM(K7:K9) -> 0 | L10: =SUM(L7:L9) -> 0 | M10: =SUM(M7:M9) -> 0 | N10: =SUM(N7:N9) -> 0 | O10: =SUM(O7:O9) -> 0 | P10: =SUM(P7:P9) -> 0 | Q10: =SUM(Q7:Q9) -> 0 | R10: =SUM(R7:R9) -> 0 | ... AH10: =SUM(AH7:AH9) -> 0 | AK10: =SUM(AK7:AK9) -> 0 | AL10: =SUM(AL7:AL9) -> 0 | AM10: =SUM(AM7:AM9) -> 0 | AN10: =SUM(AN7:AN9) -> 0 | AO10: =SUM(AO7:AO9) -> 0 | AP10: =SUM(AP7:AP9) -> 0 | AQ10: =SUM(AQ7:AQ9) -> 0 | AR10: =SUM(AR7:AR9) -> 0 | ... BD10: =SUM(BD7:BD9) -> 0 | BN10: =IF(ISERROR(K10-0)=TRUE,0,$H10*K10) -> 0 | BO10: =IF(ISERROR(L10-0)=TRUE,0,$H10*L10) -> 0 | BP10: =IF(ISERROR(M10-0)=TRUE,0,$H10*M10) -> 0 | BQ10: =IF(ISERROR(N10-0)=TRUE,0,$H10*N10) -> 0 | BR10: =IF(ISERROR(O10-0)=TRUE,0,$H10*O10) -> 0 | BS10: =IF(ISERROR(P10-0)=TRUE,0,$H10*P10) -> 0 | BT10: =IF(ISERROR(Q10-0)=TRUE,0,$H10*Q10) -> 0 | BU10: =IF(ISERROR(R10-0)=TRUE,0,$H10*R10) -> 0 | ... DM10: =IF(ISERROR(BJ10-0)=TRUE,0,$H10*BJ10) -> 0 | DS10: =IF(AND(DR10=#REF!,BL10=#REF!),'Tiến độ'!D10,"") -> #REF! | DT10: =IF(ISERROR(ED10)=TRUE,"",ED10) | DU10: =IF(ISERROR(DT10)=TRUE,0,IF(DT10="",0,1+MAX($DU$7:DU9))) -> 0 | DV10: 4 | DW10: =IF($DV$2+DV10-1<=$DV$3,$DV$2+DV10-1,"") -> 295 | DX10: =IF(DW10="","",IF(INDEX(DR:DR,DW10,0)=$DV$4,INDEX(D:D,DW10,0),"")) | DY10: DC3CA41 | DZ10: =IF(DY10="","",INDEX(C:C,MATCH(DY10,D:D,0))&" ("&DY10&")") -> Thiết kế cầu 1 (DC3CA41) | EA10: =IF(DY10="","",INDEX(E:E,MATCH(DY10,D:D,0))) -> 4 | ED10: #NUM!
A11: =IF(B11="","",MAX($A$7:A10)+1) -> 2 | B11: 63DB | C11: Thực tập nghề nghiệp xây dựng đường | D11: DC4DB23 | E11: 3 | G11: 135 | H11: 1 | I11: =53 -> 53 | K11: DB | L11: DB | M11: DB | R11: DT | S11: DT | T11: DT | U11: DT | V11: DT | W11: DT | X11: DT | Y11: DT | Z11: DT | AA11: DT | AB11: DT | AC11: DT | AD11: KP | AE11: KP | AF11: KP | AG11: KP | AH11: KP | AK11: KP | BL11: Đường | BN11: =IF(ISERROR(K11-0)=TRUE,0,$H11*K11) -> 0 | BO11: =IF(ISERROR(L11-0)=TRUE,0,$H11*L11) -> 0 | BP11: =IF(ISERROR(M11-0)=TRUE,0,$H11*M11) -> 0 | BQ11: =IF(ISERROR(N11-0)=TRUE,0,$H11*N11) -> 0 | BR11: =IF(ISERROR(O11-0)=TRUE,0,$H11*O11) -> 0 | BS11: =IF(ISERROR(P11-0)=TRUE,0,$H11*P11) -> 0 | BT11: =IF(ISERROR(Q11-0)=TRUE,0,$H11*Q11) -> 0 | BU11: =IF(ISERROR(R11-0)=TRUE,0,$H11*R11) -> 0 | ... DM11: =IF(ISERROR(BJ11-0)=TRUE,0,$H11*BJ11) -> 0 | DN11: =I11*1 -> 53 | DO11: =IF(COUNTA(K11:AC11)>0,DN11,"") -> 53 | DP11: =IF(DO11="",IF(COUNT(AD11:AH11,AK11)>0,DN11,""),"") | DQ11: =IF(AND(DO11="",DP11=""),IF(COUNTA(AL11:BD11)>0,DN11,""),"") | DR11: =IF(DQ11="",1,2) -> 1 | DS11: =IF(AND(DR11=#REF!,BL11=#REF!),'Tiến độ'!D11,"") -> #REF! | DT11: =IF(ISERROR(ED11)=TRUE,"",ED11) | DU11: =IF(ISERROR(DT11)=TRUE,0,IF(DT11="",0,1+MAX($DU$7:DU10))) -> 0 | DV11: 5 | DW11: =IF($DV$2+DV11-1<=$DV$3,$DV$2+DV11-1,"") -> 296 | DX11: =IF(DW11="","",IF(INDEX(DR:DR,DW11,0)=$DV$4,INDEX(D:D,DW11,0),"")) | DY11: DC3CA44 | DZ11: =IF(DY11="","",INDEX(C:C,MATCH(DY11,D:D,0))&" ("&DY11&")") -> Đồ án Thiết kế cầu (DC3CA44) | EA11: =IF(DY11="","",INDEX(E:E,MATCH(DY11,D:D,0))) -> 2 | ED11: #NUM!
A12: =IF(B12="","",MAX($A$7:A11)+1) | C12: Thực tập tốt nghiệp | D12: DC4DB70 | E12: 4 | G12: 180 | H12: =H11 -> 1 | I12: =I11 -> 53 | N12: TN | O12: TN | P12: TN | Q12: TN | R12: DT | S12: DT | T12: DT | U12: DT | V12: DT | W12: DT | X12: DT | Y12: DT | Z12: DT | AA12: DT | AB12: DT | AC12: DT | AD12: KP | AE12: KP | AF12: KP | AG12: KP | AH12: KP | AK12: KP | BL12: Đường | BN12: =IF(ISERROR(K12-0)=TRUE,0,$H12*K12) -> 0 | BO12: =IF(ISERROR(L12-0)=TRUE,0,$H12*L12) -> 0 | BP12: =IF(ISERROR(M12-0)=TRUE,0,$H12*M12) -> 0 | BQ12: =IF(ISERROR(N12-0)=TRUE,0,$H12*N12) -> 0 | BR12: =IF(ISERROR(O12-0)=TRUE,0,$H12*O12) -> 0 | BS12: =IF(ISERROR(P12-0)=TRUE,0,$H12*P12) -> 0 | BT12: =IF(ISERROR(Q12-0)=TRUE,0,$H12*Q12) -> 0 | BU12: =IF(ISERROR(R12-0)=TRUE,0,$H12*R12) -> 0 | ... DM12: =IF(ISERROR(BJ12-0)=TRUE,0,$H12*BJ12) -> 0 | DN12: =I12*2 -> 106 | DO12: =IF(COUNTA(K12:AC12)>0,DN12,"") -> 106 | DP12: =IF(DO12="",IF(COUNT(AD12:AH12,AK12)>0,DN12,""),"") | DQ12: =IF(AND(DO12="",DP12=""),IF(COUNTA(AL12:BD12)>0,DN12,""),"") | DR12: =IF(DQ12="",1,2) -> 1 | DS12: =IF(AND(DR12=#REF!,BL12=#REF!),'Tiến độ'!D12,"") -> #REF! | DT12: =IF(ISERROR(ED12)=TRUE,"",ED12) | DU12: =IF(ISERROR(DT12)=TRUE,0,IF(DT12="",0,1+MAX($DU$7:DU11))) -> 0 | DV12: 6 | DW12: =IF($DV$2+DV12-1<=$DV$3,$DV$2+DV12-1,"") -> 297 | DX12: =IF(DW12="","",IF(INDEX(DR:DR,DW12,0)=$DV$4,INDEX(D:D,DW12,0),"")) | DY12: DC2GT42 | DZ12: =IF(DY12="","",INDEX(C:C,MATCH(DY12,D:D,0))&" ("&DY12&")") -> Máy xây dựng (DC2GT42) | EA12: =IF(DY12="","",INDEX(E:E,MATCH(DY12,D:D,0))) -> 2 | ED12: #NUM!
A13: =IF(B13="","",MAX($A$7:A12)+1) | C13: Đồ án tốt nghiệp | D13: DC4DB80 | E13: 8 | G13: 480 | H13: =H12 -> 1 | I13: =I12 -> 53 | AL13: DT | AM13: DT | AN13: DT | AO13: DT | AP13: DT | AQ13: ĐA | AR13: ĐA | AS13: ĐA | AT13: ĐA | AU13: ĐA | AV13: ĐA | AW13: ĐA | AX13: ĐA | AY13: ĐA | AZ13: ĐA | BA13: ĐA | BB13: ĐA | BC13: # | BD13: # | BL13: Đường | BN13: =IF(ISERROR(K13-0)=TRUE,0,$H13*K13) -> 0 | BO13: =IF(ISERROR(L13-0)=TRUE,0,$H13*L13) -> 0 | BP13: =IF(ISERROR(M13-0)=TRUE,0,$H13*M13) -> 0 | BQ13: =IF(ISERROR(N13-0)=TRUE,0,$H13*N13) -> 0 | BR13: =IF(ISERROR(O13-0)=TRUE,0,$H13*O13) -> 0 | BS13: =IF(ISERROR(P13-0)=TRUE,0,$H13*P13) -> 0 | BT13: =IF(ISERROR(Q13-0)=TRUE,0,$H13*Q13) -> 0 | BU13: =IF(ISERROR(R13-0)=TRUE,0,$H13*R13) -> 0 | ... DM13: =IF(ISERROR(BJ13-0)=TRUE,0,$H13*BJ13) -> 0 | DN13: =I13*15 -> 795 | DO13: =IF(COUNTA(K13:AC13)>0,DN13,"") | DP13: =IF(DO13="",IF(COUNT(AD13:AH13,AK13)>0,DN13,""),"") | DQ13: =IF(AND(DO13="",DP13=""),IF(COUNTA(AL13:BD13)>0,DN13,""),"") -> 795 | DR13: =IF(DQ13="",1,2) -> 2 | DS13: =IF(AND(DR13=#REF!,BL13=#REF!),'Tiến độ'!D13,"") -> #REF! | DT13: =IF(ISERROR(ED13)=TRUE,"",ED13) | DU13: =IF(ISERROR(DT13)=TRUE,0,IF(DT13="",0,1+MAX($DU$7:DU12))) -> 0 | DV13: 7 | DW13: =IF($DV$2+DV13-1<=$DV$3,$DV$2+DV13-1,"") -> 298 | DX13: =IF(DW13="","",IF(INDEX(DR:DR,DW13,0)=$DV$4,INDEX(D:D,DW13,0),"")) | DY13: DC1CB92 | DZ13: =IF(DY13="","",INDEX(C:C,MATCH(DY13,D:D,0))&" ("&DY13&")") -> Môi trường trong xây dựng (DC1CB92) | EA13: =IF(DY13="","",INDEX(E:E,MATCH(DY13,D:D,0))) -> 2 | ED13: #NUM!
A14: =IF(B14="","",MAX($A$7:A13)+1) | C14: TỔNG TC - TỔNG TIẾT / LỚP / TUẦN | E14: =SUM(E11:E13) -> 15 | K14: =SUM(K11:K13) -> 0 | L14: =SUM(L11:L13) -> 0 | M14: =SUM(M11:M13) -> 0 | N14: =SUM(N11:N13) -> 0 | O14: =SUM(O11:O13) -> 0 | P14: =SUM(P11:P13) -> 0 | Q14: =SUM(Q11:Q13) -> 0 | R14: =SUM(R11:R13) -> 0 | ... AH14: =SUM(AH11:AH13) -> 0 | AK14: =SUM(AK11:AK13) -> 0 | AL14: =SUM(AL11:AL13) -> 0 | AM14: =SUM(AM11:AM13) -> 0 | AN14: =SUM(AN11:AN13) -> 0 | AO14: =SUM(AO11:AO13) -> 0 | AP14: =SUM(AP11:AP13) -> 0 | AQ14: =SUM(AQ11:AQ13) -> 0 | AR14: =SUM(AR11:AR13) -> 0 | ... BD14: =SUM(BD11:BD13) -> 0 | BN14: =IF(ISERROR(K14-0)=TRUE,0,$H14*K14) -> 0 | BO14: =IF(ISERROR(L14-0)=TRUE,0,$H14*L14) -> 0 | BP14: =IF(ISERROR(M14-0)=TRUE,0,$H14*M14) -> 0 | BQ14: =IF(ISERROR(N14-0)=TRUE,0,$H14*N14) -> 0 | BR14: =IF(ISERROR(O14-0)=TRUE,0,$H14*O14) -> 0 | BS14: =IF(ISERROR(P14-0)=TRUE,0,$H14*P14) -> 0 | BT14: =IF(ISERROR(Q14-0)=TRUE,0,$H14*Q14) -> 0 | BU14: =IF(ISERROR(R14-0)=TRUE,0,$H14*R14) -> 0 | ... DM14: =IF(ISERROR(BJ14-0)=TRUE,0,$H14*BJ14) -> 0 | DS14: =IF(AND(DR14=#REF!,BL14=#REF!),'Tiến độ'!D14,"") -> #REF! | DT14: =IF(ISERROR(ED14)=TRUE,"",ED14) | DU14: =IF(ISERROR(DT14)=TRUE,0,IF(DT14="",0,1+MAX($DU$7:DU13))) -> 0 | DV14: 8 | DW14: =IF($DV$2+DV14-1<=$DV$3,$DV$2+DV14-1,"") -> 299 | DX14: =IF(DW14="","",IF(INDEX(DR:DR,DW14,0)=$DV$4,INDEX(D:D,DW14,0),"")) -> DC2CT65 | DY14: DC3CD60 | DZ14: =IF(DY14="","",INDEX(C:C,MATCH(DY14,D:D,0))&" ("&DY14&")") -> Tin học ứng dụng (DC3CD60) | EA14: =IF(DY14="","",INDEX(E:E,MATCH(DY14,D:D,0))) -> 2 | ED14: #NUM!
A15: =IF(B15="","",MAX($A$7:A14)+1) -> 3 | B15: 63CA | C15: Thực tập khảo sát thiết kế cầu | D15: DC4CA21 | E15: 5 | G15: 225 | H15: 1 | I15: =24 -> 24 | K15: KS | L15: KS | M15: KS | N15: KS | O15: KS | W15: DT | X15: DT | Y15: DT | Z15: DT | AA15: DT | AB15: DT | AC15: DT | AD15: KP | AE15: KP | AF15: KP | AG15: KP | AH15: KP | AK15: KP | BL15: Đo đạc - Khảo sát công trình | BN15: =IF(ISERROR(K15-0)=TRUE,0,$H15*K15) -> 0 | BO15: =IF(ISERROR(L15-0)=TRUE,0,$H15*L15) -> 0 | BP15: =IF(ISERROR(M15-0)=TRUE,0,$H15*M15) -> 0 | BQ15: =IF(ISERROR(N15-0)=TRUE,0,$H15*N15) -> 0 | BR15: =IF(ISERROR(O15-0)=TRUE,0,$H15*O15) -> 0 | BS15: =IF(ISERROR(P15-0)=TRUE,0,$H15*P15) -> 0 | BT15: =IF(ISERROR(Q15-0)=TRUE,0,$H15*Q15) -> 0 | BU15: =IF(ISERROR(R15-0)=TRUE,0,$H15*R15) -> 0 | ... DM15: =IF(ISERROR(BJ15-0)=TRUE,0,$H15*BJ15) -> 0 | DN15: =60*H15 -> 60 | DO15: =IF(COUNTA(K15:AC15)>0,DN15,"") -> 60 | DP15: =IF(DO15="",IF(COUNT(AD15:AH15,AK15)>0,DN15,""),"") | DQ15: =IF(AND(DO15="",DP15=""),IF(COUNTA(AL15:BD15)>0,DN15,""),"") | DR15: =IF(DQ15="",1,2) -> 1 | DS15: =IF(AND(DR15=#REF!,BL15=#REF!),'Tiến độ'!D15,"") -> #REF! | DT15: =IF(ISERROR(ED15)=TRUE,"",ED15) | DU15: =IF(ISERROR(DT15)=TRUE,0,IF(DT15="",0,1+MAX($DU$7:DU14))) -> 0 | DV15: 9 | DW15: =IF($DV$2+DV15-1<=$DV$3,$DV$2+DV15-1,"") -> 300 | DX15: =IF(DW15="","",IF(INDEX(DR:DR,DW15,0)=$DV$4,INDEX(D:D,DW15,0),"")) | DY15: DC1LL04 | DZ15: =IF(DY15="","",INDEX(C:C,MATCH(DY15,D:D,0))&" ("&DY15&")") -> Đường lối cách mạng của Đảng cộng sản Việt Nam (DC1LL04) | EA15: =IF(DY15="","",INDEX(E:E,MATCH(DY15,D:D,0))) -> 3 | ED15: #NUM!
A16: =IF(B16="","",MAX($A$7:A15)+1) | C16: Thực tập nghề nghiệp xây dựng cầu | D16: DC4CA23 | E16: 3 | G16: 135 | H16: =H15 -> 1 | I16: =I15 -> 24 | P16: CA | Q16: CA | R16: CA | W16: DT | X16: DT | Y16: DT | Z16: DT | AA16: DT | AB16: DT | AC16: DT | AD16: KP | AE16: KP | AF16: KP | AG16: KP | AH16: KP | AK16: KP | BL16: Cầu | BN16: =IF(ISERROR(K16-0)=TRUE,0,$H16*K16) -> 0 | BO16: =IF(ISERROR(L16-0)=TRUE,0,$H16*L16) -> 0 | BP16: =IF(ISERROR(M16-0)=TRUE,0,$H16*M16) -> 0 | BQ16: =IF(ISERROR(N16-0)=TRUE,0,$H16*N16) -> 0 | BR16: =IF(ISERROR(O16-0)=TRUE,0,$H16*O16) -> 0 | BS16: =IF(ISERROR(P16-0)=TRUE,0,$H16*P16) -> 0 | BT16: =IF(ISERROR(Q16-0)=TRUE,0,$H16*Q16) -> 0 | BU16: =IF(ISERROR(R16-0)=TRUE,0,$H16*R16) -> 0 | ... DM16: =IF(ISERROR(BJ16-0)=TRUE,0,$H16*BJ16) -> 0 | DN16: =I16*1 -> 24 | DO16: =IF(COUNTA(K16:AC16)>0,DN16,"") -> 24 | DP16: =IF(DO16="",IF(COUNT(AD16:AH16,AK16)>0,DN16,""),"") | DQ16: =IF(AND(DO16="",DP16=""),IF(COUNTA(AL16:BD16)>0,DN16,""),"") | DR16: =IF(DQ16="",1,2) -> 1 | DS16: =IF(AND(DR16=#REF!,BL16=#REF!),'Tiến độ'!D16,"") -> #REF! | DT16: =IF(ISERROR(ED16)=TRUE,"",ED16) | DU16: =IF(ISERROR(DT16)=TRUE,0,IF(DT16="",0,1+MAX($DU$7:DU15))) -> 0 | DV16: 10 | DW16: =IF($DV$2+DV16-1<=$DV$3,$DV$2+DV16-1,"") -> 301 | DX16: =IF(DW16="","",IF(INDEX(DR:DR,DW16,0)=$DV$4,INDEX(D:D,DW16,0),"")) -> DC3DB41 | DZ16: =IF(DY16="","",INDEX(C:C,MATCH(DY16,D:D,0))&" ("&DY16&")") | EA16: =IF(DY16="","",INDEX(E:E,MATCH(DY16,D:D,0))) | ED16: #NUM!
A17: =IF(B17="","",MAX($A$7:A16)+1) | C17: Thực tập tốt nghiệp | D17: DC4CA70 | E17: 4 | G17: 180 | H17: =H16 -> 1 | I17: =I16 -> 24 | S17: TN | T17: TN | U17: TN | V17: TN | W17: DT | X17: DT | Y17: DT | Z17: DT | AA17: DT | AB17: DT | AC17: DT | AD17: KP | AE17: KP | AF17: KP | AG17: KP | AH17: KP | AK17: KP | BL17: Cầu | BN17: =IF(ISERROR(K17-0)=TRUE,0,$H17*K17) -> 0 | BO17: =IF(ISERROR(L17-0)=TRUE,0,$H17*L17) -> 0 | BP17: =IF(ISERROR(M17-0)=TRUE,0,$H17*M17) -> 0 | BQ17: =IF(ISERROR(N17-0)=TRUE,0,$H17*N17) -> 0 | BR17: =IF(ISERROR(O17-0)=TRUE,0,$H17*O17) -> 0 | BS17: =IF(ISERROR(P17-0)=TRUE,0,$H17*P17) -> 0 | BT17: =IF(ISERROR(Q17-0)=TRUE,0,$H17*Q17) -> 0 | BU17: =IF(ISERROR(R17-0)=TRUE,0,$H17*R17) -> 0 | ... DM17: =IF(ISERROR(BJ17-0)=TRUE,0,$H17*BJ17) -> 0 | DN17: =I17*2 -> 48 | DO17: =IF(COUNTA(K17:AC17)>0,DN17,"") -> 48 | DP17: =IF(DO17="",IF(COUNT(AD17:AH17,AK17)>0,DN17,""),"") | DQ17: =IF(AND(DO17="",DP17=""),IF(COUNTA(AL17:BD17)>0,DN17,""),"") | DR17: =IF(DQ17="",1,2) -> 1 | DS17: =IF(AND(DR17=#REF!,BL17=#REF!),'Tiến độ'!D17,"") -> #REF! | DT17: =IF(ISERROR(ED17)=TRUE,"",ED17) | DU17: =IF(ISERROR(DT17)=TRUE,0,IF(DT17="",0,1+MAX($DU$7:DU16))) -> 0 | DV17: 11 | DW17: =IF($DV$2+DV17-1<=$DV$3,$DV$2+DV17-1,"") -> 302 | DX17: =IF(DW17="","",IF(INDEX(DR:DR,DW17,0)=$DV$4,INDEX(D:D,DW17,0),"")) -> DC3DB44 | DZ17: =IF(DY17="","",INDEX(C:C,MATCH(DY17,D:D,0))&" ("&DY17&")") | EA17: =IF(DY17="","",INDEX(E:E,MATCH(DY17,D:D,0))) | ED17: #NUM!
A18: =IF(B18="","",MAX($A$7:A17)+1) | C18: Đồ án tốt nghiệp | D18: DC4CA80 | E18: 8 | G18: 480 | H18: =H17 -> 1 | I18: =I17 -> 24 | AL18: DT | AM18: DT | AN18: DT | AO18: DT | AP18: DT | AQ18: ĐA | AR18: ĐA | AS18: ĐA | AT18: ĐA | AU18: ĐA | AV18: ĐA | AW18: ĐA | AX18: ĐA | AY18: ĐA | AZ18: ĐA | BA18: ĐA | BB18: ĐA | BC18: # | BD18: # | BL18: Cầu | BN18: =IF(ISERROR(K18-0)=TRUE,0,$H18*K18) -> 0 | BO18: =IF(ISERROR(L18-0)=TRUE,0,$H18*L18) -> 0 | BP18: =IF(ISERROR(M18-0)=TRUE,0,$H18*M18) -> 0 | BQ18: =IF(ISERROR(N18-0)=TRUE,0,$H18*N18) -> 0 | BR18: =IF(ISERROR(O18-0)=TRUE,0,$H18*O18) -> 0 | BS18: =IF(ISERROR(P18-0)=TRUE,0,$H18*P18) -> 0 | BT18: =IF(ISERROR(Q18-0)=TRUE,0,$H18*Q18) -> 0 | BU18: =IF(ISERROR(R18-0)=TRUE,0,$H18*R18) -> 0 | ... DM18: =IF(ISERROR(BJ18-0)=TRUE,0,$H18*BJ18) -> 0 | DN18: =I18*15 -> 360 | DO18: =IF(COUNTA(K18:AC18)>0,DN18,"") | DP18: =IF(DO18="",IF(COUNT(AD18:AH18,AK18)>0,DN18,""),"") | DQ18: =IF(AND(DO18="",DP18=""),IF(COUNTA(AL18:BD18)>0,DN18,""),"") -> 360 | DR18: =IF(DQ18="",1,2) -> 2 | DS18: =IF(AND(DR18=#REF!,BL18=#REF!),'Tiến độ'!D18,"") -> #REF! | DT18: =IF(ISERROR(ED18)=TRUE,"",ED18) | DU18: =IF(ISERROR(DT18)=TRUE,0,IF(DT18="",0,1+MAX($DU$7:DU17))) -> 0 | DV18: 12 | DW18: =IF($DV$2+DV18-1<=$DV$3,$DV$2+DV18-1,"") -> 303 | DX18: =IF(DW18="","",IF(INDEX(DR:DR,DW18,0)=$DV$4,INDEX(D:D,DW18,0),"")) -> DC3CA41 | DZ18: =IF(DY18="","",INDEX(C:C,MATCH(DY18,D:D,0))&" ("&DY18&")") | EA18: =IF(DY18="","",INDEX(E:E,MATCH(DY18,D:D,0))) | ED18: #NUM!
A19: =IF(B19="","",MAX($A$7:A18)+1) | C19: TỔNG TC - TỔNG TIẾT / LỚP / TUẦN | E19: =SUM(E15:E18) -> 20 | K19: =SUM(K15:K18) -> 0 | L19: =SUM(L15:L18) -> 0 | M19: =SUM(M15:M18) -> 0 | N19: =SUM(N15:N18) -> 0 | O19: =SUM(O15:O18) -> 0 | P19: =SUM(P15:P18) -> 0 | Q19: =SUM(Q15:Q18) -> 0 | R19: =SUM(R15:R18) -> 0 | ... AH19: =SUM(AH15:AH18) -> 0 | AK19: =SUM(AK15:AK18) -> 0 | AL19: =SUM(AL15:AL18) -> 0 | AM19: =SUM(AM15:AM18) -> 0 | AN19: =SUM(AN15:AN18) -> 0 | AO19: =SUM(AO15:AO18) -> 0 | AP19: =SUM(AP15:AP18) -> 0 | AQ19: =SUM(AQ15:AQ18) -> 0 | AR19: =SUM(AR15:AR18) -> 0 | ... BD19: =SUM(BD15:BD18) -> 0 | BN19: =IF(ISERROR(K19-0)=TRUE,0,$H19*K19) -> 0 | BO19: =IF(ISERROR(L19-0)=TRUE,0,$H19*L19) -> 0 | BP19: =IF(ISERROR(M19-0)=TRUE,0,$H19*M19) -> 0 | BQ19: =IF(ISERROR(N19-0)=TRUE,0,$H19*N19) -> 0 | BR19: =IF(ISERROR(O19-0)=TRUE,0,$H19*O19) -> 0 | BS19: =IF(ISERROR(P19-0)=TRUE,0,$H19*P19) -> 0 | BT19: =IF(ISERROR(Q19-0)=TRUE,0,$H19*Q19) -> 0 | BU19: =IF(ISERROR(R19-0)=TRUE,0,$H19*R19) -> 0 | ... DM19: =IF(ISERROR(BJ19-0)=TRUE,0,$H19*BJ19) -> 0 | DS19: =IF(AND(DR19=#REF!,BL19=#REF!),'Tiến độ'!D19,"") -> #REF! | DT19: =IF(ISERROR(ED19)=TRUE,"",ED19) | DU19: =IF(ISERROR(DT19)=TRUE,0,IF(DT19="",0,1+MAX($DU$7:DU18))) -> 0 | DV19: 13 | DW19: =IF($DV$2+DV19-1<=$DV$3,$DV$2+DV19-1,"") -> 304 | DX19: =IF(DW19="","",IF(INDEX(DR:DR,DW19,0)=$DV$4,INDEX(D:D,DW19,0),"")) -> DC3CA44 | DZ19: =IF(DY19="","",INDEX(C:C,MATCH(DY19,D:D,0))&" ("&DY19&")") | EA19: =IF(DY19="","",INDEX(E:E,MATCH(DY19,D:D,0))) | ED19: #NUM!
A20: =IF(B20="","",MAX($A$7:A19)+1) -> 4 | B20: 63CS | C20: Thực tập khảo sát thiết kế cầu, đường sắt | D20: DC4CS21 | E20: 5 | G20: 225 | H20: 1 | I20: =17 -> 17 | K20: KS | L20: KS | M20: KS | N20: KS | O20: KS | Z20: DT | AA20: DT | AB20: DT | AC20: DT | AD20: KP | AE20: KP | AF20: KP | AG20: KP | AH20: KP | AK20: KP | BL20: Đo đạc - Khảo sát công trình | BN20: =IF(ISERROR(K20-0)=TRUE,0,$H20*K20) -> 0 | BO20: =IF(ISERROR(L20-0)=TRUE,0,$H20*L20) -> 0 | BP20: =IF(ISERROR(M20-0)=TRUE,0,$H20*M20) -> 0 | BQ20: =IF(ISERROR(N20-0)=TRUE,0,$H20*N20) -> 0 | BR20: =IF(ISERROR(O20-0)=TRUE,0,$H20*O20) -> 0 | BS20: =IF(ISERROR(P20-0)=TRUE,0,$H20*P20) -> 0 | BT20: =IF(ISERROR(Q20-0)=TRUE,0,$H20*Q20) -> 0 | BU20: =IF(ISERROR(R20-0)=TRUE,0,$H20*R20) -> 0 | ... DM20: =IF(ISERROR(BJ20-0)=TRUE,0,$H20*BJ20) -> 0 | DN20: =60*H20 -> 60 | DO20: =IF(COUNTA(K20:AC20)>0,DN20,"") -> 60 | DP20: =IF(DO20="",IF(COUNT(AD20:AH20,AK20)>0,DN20,""),"") | DQ20: =IF(AND(DO20="",DP20=""),IF(COUNTA(AL20:BD20)>0,DN20,""),"") | DR20: =IF(DQ20="",1,2) -> 1 | DS20: =IF(AND(DR20=#REF!,BL20=#REF!),'Tiến độ'!D20,"") -> #REF! | DT20: =IF(ISERROR(ED20)=TRUE,"",ED20) | DU20: =IF(ISERROR(DT20)=TRUE,0,IF(DT20="",0,1+MAX($DU$7:DU19))) -> 0 | DV20: 14 | DW20: =IF($DV$2+DV20-1<=$DV$3,$DV$2+DV20-1,"") -> 305 | DX20: =IF(DW20="","",IF(INDEX(DR:DR,DW20,0)=$DV$4,INDEX(D:D,DW20,0),"")) -> DC2GT42 | DZ20: =IF(DY20="","",INDEX(C:C,MATCH(DY20,D:D,0))&" ("&DY20&")") | EA20: =IF(DY20="","",INDEX(E:E,MATCH(DY20,D:D,0))) | ED20: #NUM!
A21: =IF(B21="","",MAX($A$7:A20)+1) | C21: Thực tập nghề nghiệp xây dựng cầu | D21: DC4CA23 | E21: 3 | G21: 135 | H21: =H20 -> 1 | I21: =I20 -> 17 | J21: 1/2 Theo ĐATN + Ghép TT NN và TN XD Cầu với 63CD07 | P21: NN | Q21: NN | R21: NN | Z21: DT | AA21: DT | AB21: DT | AC21: DT | AD21: KP | AE21: KP | AF21: KP | AG21: KP | AH21: KP | AK21: KP | BL21: Cầu | BN21: =IF(ISERROR(K21-0)=TRUE,0,$H21*K21) -> 0 | BO21: =IF(ISERROR(L21-0)=TRUE,0,$H21*L21) -> 0 | BP21: =IF(ISERROR(M21-0)=TRUE,0,$H21*M21) -> 0 | BQ21: =IF(ISERROR(N21-0)=TRUE,0,$H21*N21) -> 0 | BR21: =IF(ISERROR(O21-0)=TRUE,0,$H21*O21) -> 0 | BS21: =IF(ISERROR(P21-0)=TRUE,0,$H21*P21) -> 0 | BT21: =IF(ISERROR(Q21-0)=TRUE,0,$H21*Q21) -> 0 | BU21: =IF(ISERROR(R21-0)=TRUE,0,$H21*R21) -> 0 | ... DM21: =IF(ISERROR(BJ21-0)=TRUE,0,$H21*BJ21) -> 0 | DN21: =I21*1 -> 17 | DO21: =IF(COUNTA(K21:AC21)>0,DN21,"") -> 17 | DP21: =IF(DO21="",IF(COUNT(AD21:AH21,AK21)>0,DN21,""),"") | DQ21: =IF(AND(DO21="",DP21=""),IF(COUNTA(AL21:BD21)>0,DN21,""),"") | DR21: =IF(DQ21="",1,2) -> 1 | DS21: =IF(AND(DR21=#REF!,BL21=#REF!),'Tiến độ'!D21,"") -> #REF! | DT21: =IF(ISERROR(ED21)=TRUE,"",ED21) | DU21: =IF(ISERROR(DT21)=TRUE,0,IF(DT21="",0,1+MAX($DU$7:DU20))) -> 0 | DV21: 15 | DW21: =IF($DV$2+DV21-1<=$DV$3,$DV$2+DV21-1,"") -> 306 | DX21: =IF(DW21="","",IF(INDEX(DR:DR,DW21,0)=$DV$4,INDEX(D:D,DW21,0),"")) -> DC1CB92 | DZ21: =IF(DY21="","",INDEX(C:C,MATCH(DY21,D:D,0))&" ("&DY21&")") | EA21: =IF(DY21="","",INDEX(E:E,MATCH(DY21,D:D,0))) | ED21: #NUM!
A22: =IF(B22="","",MAX($A$7:A21)+1) | C22: Thực tập nghề nghiệp xây dựng đường sắt | D22: DC4DS23 | E22: 3 | G22: 135 | H22: =H21 -> 1 | I22: =I21 -> 17 | J22: 1/2 Khác ĐATN | W22: NN | X22: NN | Y22: NN | Z22: DT | AA22: DT | AB22: DT | AC22: DT | AD22: KP | AE22: KP | AF22: KP | AG22: KP | AH22: KP | AK22: KP | BL22: Đường sắt | BN22: =IF(ISERROR(K22-0)=TRUE,0,$H22*K22) -> 0 | BO22: =IF(ISERROR(L22-0)=TRUE,0,$H22*L22) -> 0 | BP22: =IF(ISERROR(M22-0)=TRUE,0,$H22*M22) -> 0 | BQ22: =IF(ISERROR(N22-0)=TRUE,0,$H22*N22) -> 0 | BR22: =IF(ISERROR(O22-0)=TRUE,0,$H22*O22) -> 0 | BS22: =IF(ISERROR(P22-0)=TRUE,0,$H22*P22) -> 0 | BT22: =IF(ISERROR(Q22-0)=TRUE,0,$H22*Q22) -> 0 | BU22: =IF(ISERROR(R22-0)=TRUE,0,$H22*R22) -> 0 | ... DM22: =IF(ISERROR(BJ22-0)=TRUE,0,$H22*BJ22) -> 0 | DN22: =I22*1 -> 17 | DO22: =IF(COUNTA(K22:AC22)>0,DN22,"") -> 17 | DP22: =IF(DO22="",IF(COUNT(AD22:AH22,AK22)>0,DN22,""),"") | DQ22: =IF(AND(DO22="",DP22=""),IF(COUNTA(AL22:BD22)>0,DN22,""),"") | DR22: =IF(DQ22="",1,2) -> 1 | DS22: =IF(AND(DR22=#REF!,BL22=#REF!),'Tiến độ'!D22,"") -> #REF! | DT22: =IF(ISERROR(ED22)=TRUE,"",ED22) | DU22: =IF(ISERROR(DT22)=TRUE,0,IF(DT22="",0,1+MAX($DU$7:DU21))) -> 0 | DV22: 16 | DW22: =IF($DV$2+DV22-1<=$DV$3,$DV$2+DV22-1,"") -> 307 | DX22: =IF(DW22="","",IF(INDEX(DR:DR,DW22,0)=$DV$4,INDEX(D:D,DW22,0),"")) -> DC3CD60 | ED22: #NUM!
A23: =IF(B23="","",MAX($A$7:A22)+1) | C23: Thực tập tốt nghiệp | D23: DC4CS70 | E23: 4 | G23: 180 | H23: =H22 -> 1 | I23: =I22 -> 17 | S23: TN | T23: TN | U23: TN | V23: TN | Z23: DT | AA23: DT | AB23: DT | AC23: DT | AD23: KP | AE23: KP | AF23: KP | AG23: KP | AH23: KP | AK23: KP | BL23: Cầu + Đường sắt | BN23: =IF(ISERROR(K23-0)=TRUE,0,$H23*K23) -> 0 | BO23: =IF(ISERROR(L23-0)=TRUE,0,$H23*L23) -> 0 | BP23: =IF(ISERROR(M23-0)=TRUE,0,$H23*M23) -> 0 | BQ23: =IF(ISERROR(N23-0)=TRUE,0,$H23*N23) -> 0 | BR23: =IF(ISERROR(O23-0)=TRUE,0,$H23*O23) -> 0 | BS23: =IF(ISERROR(P23-0)=TRUE,0,$H23*P23) -> 0 | BT23: =IF(ISERROR(Q23-0)=TRUE,0,$H23*Q23) -> 0 | BU23: =IF(ISERROR(R23-0)=TRUE,0,$H23*R23) -> 0 | ... DM23: =IF(ISERROR(BJ23-0)=TRUE,0,$H23*BJ23) -> 0 | DN23: =I23*2 -> 34 | DO23: =IF(COUNTA(K23:AC23)>0,DN23,"") -> 34 | DP23: =IF(DO23="",IF(COUNT(AD23:AH23,AK23)>0,DN23,""),"") | DQ23: =IF(AND(DO23="",DP23=""),IF(COUNTA(AL23:BD23)>0,DN23,""),"") | DR23: =IF(DQ23="",1,2) -> 1 | DS23: =IF(AND(DR23=#REF!,BL23=#REF!),'Tiến độ'!D23,"") -> #REF! | DT23: =IF(ISERROR(ED23)=TRUE,"",ED23) | DU23: =IF(ISERROR(DT23)=TRUE,0,IF(DT23="",0,1+MAX($DU$7:DU22))) -> 0 | DV23: 17 | DW23: =IF($DV$2+DV23-1<=$DV$3,$DV$2+DV23-1,"") -> 308 | DX23: =IF(DW23="","",IF(INDEX(DR:DR,DW23,0)=$DV$4,INDEX(D:D,DW23,0),"")) -> DC1LL04 | ED23: #NUM!
A24: =IF(B24="","",MAX($A$7:A23)+1) | C24: Đồ án tốt nghiệp | D24: DC4CS80 | E24: 8 | G24: 480 | H24: =H23 -> 1 | I24: =I23 -> 17 | AL24: DT | AM24: DT | AN24: DT | AO24: DT | AP24: DT | AQ24: ĐA | AR24: ĐA | AS24: ĐA | AT24: ĐA | AU24: ĐA | AV24: ĐA | AW24: ĐA | AX24: ĐA | AY24: ĐA | AZ24: ĐA | BA24: ĐA | BB24: ĐA | BC24: # | BD24: # | BL24: Cầu + Đường sắt | BN24: =IF(ISERROR(K24-0)=TRUE,0,$H24*K24) -> 0 | BO24: =IF(ISERROR(L24-0)=TRUE,0,$H24*L24) -> 0 | BP24: =IF(ISERROR(M24-0)=TRUE,0,$H24*M24) -> 0 | BQ24: =IF(ISERROR(N24-0)=TRUE,0,$H24*N24) -> 0 | BR24: =IF(ISERROR(O24-0)=TRUE,0,$H24*O24) -> 0 | BS24: =IF(ISERROR(P24-0)=TRUE,0,$H24*P24) -> 0 | BT24: =IF(ISERROR(Q24-0)=TRUE,0,$H24*Q24) -> 0 | BU24: =IF(ISERROR(R24-0)=TRUE,0,$H24*R24) -> 0 | ... DM24: =IF(ISERROR(BJ24-0)=TRUE,0,$H24*BJ24) -> 0 | DN24: =I24*15 -> 255 | DO24: =IF(COUNTA(K24:AC24)>0,DN24,"") | DP24: =IF(DO24="",IF(COUNT(AD24:AH24,AK24)>0,DN24,""),"") | DQ24: =IF(AND(DO24="",DP24=""),IF(COUNTA(AL24:BD24)>0,DN24,""),"") -> 255 | DR24: =IF(DQ24="",1,2) -> 2 | DS24: =IF(AND(DR24=#REF!,BL24=#REF!),'Tiến độ'!D24,"") -> #REF! | DT24: =IF(ISERROR(ED24)=TRUE,"",ED24) | DU24: =IF(ISERROR(DT24)=TRUE,0,IF(DT24="",0,1+MAX($DU$7:DU23))) -> 0 | DV24: 18 | DW24: =IF($DV$2+DV24-1<=$DV$3,$DV$2+DV24-1,"") | DX24: =IF(DW24="","",IF(INDEX(DR:DR,DW24,0)=$DV$4,INDEX(D:D,DW24,0),"")) | ED24: #NUM!
A25: =IF(B25="","",MAX($A$7:A24)+1) | C25: TỔNG TC - TỔNG TIẾT / LỚP / TUẦN | E25: =SUM(E20:E24) -> 23 | K25: =SUM(K20:K24) -> 0 | L25: =SUM(L20:L24) -> 0 | M25: =SUM(M20:M24) -> 0 | N25: =SUM(N20:N24) -> 0 | O25: =SUM(O20:O24) -> 0 | P25: =SUM(P20:P24) -> 0 | Q25: =SUM(Q20:Q24) -> 0 | R25: =SUM(R20:R24) -> 0 | ... AH25: =SUM(AH20:AH24) -> 0 | AK25: =SUM(AK20:AK24) -> 0 | AL25: =SUM(AL20:AL24) -> 0 | AM25: =SUM(AM20:AM24) -> 0 | AN25: =SUM(AN20:AN24) -> 0 | AO25: =SUM(AO20:AO24) -> 0 | AP25: =SUM(AP20:AP24) -> 0 | AQ25: =SUM(AQ20:AQ24) -> 0 | AR25: =SUM(AR20:AR24) -> 0 | ... BD25: =SUM(BD20:BD24) -> 0 | BN25: =IF(ISERROR(K25-0)=TRUE,0,$H25*K25) -> 0 | BO25: =IF(ISERROR(L25-0)=TRUE,0,$H25*L25) -> 0 | BP25: =IF(ISERROR(M25-0)=TRUE,0,$H25*M25) -> 0 | BQ25: =IF(ISERROR(N25-0)=TRUE,0,$H25*N25) -> 0 | BR25: =IF(ISERROR(O25-0)=TRUE,0,$H25*O25) -> 0 | BS25: =IF(ISERROR(P25-0)=TRUE,0,$H25*P25) -> 0 | BT25: =IF(ISERROR(Q25-0)=TRUE,0,$H25*Q25) -> 0 | BU25: =IF(ISERROR(R25-0)=TRUE,0,$H25*R25) -> 0 | ... DM25: =IF(ISERROR(BJ25-0)=TRUE,0,$H25*BJ25) -> 0 | DS25: =IF(AND(DR25=#REF!,BL25=#REF!),'Tiến độ'!D25,"") -> #REF! | DT25: =IF(ISERROR(ED25)=TRUE,"",ED25) | DU25: =IF(ISERROR(DT25)=TRUE,0,IF(DT25="",0,1+MAX($DU$7:DU24))) -> 0 | DV25: 19 | DW25: =IF($DV$2+DV25-1<=$DV$3,$DV$2+DV25-1,"") | DX25: =IF(DW25="","",IF(INDEX(DR:DR,DW25,0)=$DV$4,INDEX(D:D,DW25,0),"")) | ED25: #NUM!
A26: =IF(B26="","",MAX($A$7:A25)+1) -> 5 | B26: 63CD06,07 | C26: Thực tập khảo sát thiết kế cầu, đường | D26: DC4CD21 | E26: 5 | G26: 225 | H26: 2 | I26: =54+50 -> 104 | K26: KS | L26: KS | M26: KS | N26: KS | O26: KS | Z26: DT | AA26: DT | AB26: DT | AC26: DT | AD26: KP | AE26: KP | AF26: KP | AG26: KP | AH26: KP | AK26: KP | BL26: Đo đạc - Khảo sát công trình | BN26: =IF(ISERROR(K26-0)=TRUE,0,$H26*K26) -> 0 | BO26: =IF(ISERROR(L26-0)=TRUE,0,$H26*L26) -> 0 | BP26: =IF(ISERROR(M26-0)=TRUE,0,$H26*M26) -> 0 | BQ26: =IF(ISERROR(N26-0)=TRUE,0,$H26*N26) -> 0 | BR26: =IF(ISERROR(O26-0)=TRUE,0,$H26*O26) -> 0 | BS26: =IF(ISERROR(P26-0)=TRUE,0,$H26*P26) -> 0 | BT26: =IF(ISERROR(Q26-0)=TRUE,0,$H26*Q26) -> 0 | BU26: =IF(ISERROR(R26-0)=TRUE,0,$H26*R26) -> 0 | ... DM26: =IF(ISERROR(BJ26-0)=TRUE,0,$H26*BJ26) -> 0 | DN26: =60*2*H26 -> 240 | DO26: =IF(COUNTA(K26:AC26)>0,DN26,"") -> 240 | DP26: =IF(DO26="",IF(COUNT(AD26:AH26,AK26)>0,DN26,""),"") | DQ26: =IF(AND(DO26="",DP26=""),IF(COUNTA(AL26:BD26)>0,DN26,""),"") | DR26: =IF(DQ26="",1,2) -> 1 | DS26: =IF(AND(DR26=#REF!,BL26=#REF!),'Tiến độ'!D26,"") -> #REF! | DT26: =IF(ISERROR(ED26)=TRUE,"",ED26) | DU26: =IF(ISERROR(DT26)=TRUE,0,IF(DT26="",0,1+MAX($DU$7:DU25))) -> 0 | DV26: 20 | DW26: =IF($DV$2+DV26-1<=$DV$3,$DV$2+DV26-1,"") | DX26: =IF(DW26="","",IF(INDEX(DR:DR,DW26,0)=$DV$4,INDEX(D:D,DW26,0),"")) | ED26: #NUM!
A27: =IF(B27="","",MAX($A$7:A26)+1) | C27: Thực tập nghề nghiệp xây dựng cầu | D27: DC4CA23 | E27: 3 | G27: 135 | H27: =H26 -> 2 | I27: =I26 -> 104 | J27: 1/2 Theo ĐATN | P27: NN | Q27: NN | R27: NN | Z27: DT | AA27: DT | AB27: DT | AC27: DT | AD27: KP | AE27: KP | AF27: KP | AG27: KP | AH27: KP | AK27: KP | BL27: Cầu | BN27: =IF(ISERROR(K27-0)=TRUE,0,$H27*K27) -> 0 | BO27: =IF(ISERROR(L27-0)=TRUE,0,$H27*L27) -> 0 | BP27: =IF(ISERROR(M27-0)=TRUE,0,$H27*M27) -> 0 | BQ27: =IF(ISERROR(N27-0)=TRUE,0,$H27*N27) -> 0 | BR27: =IF(ISERROR(O27-0)=TRUE,0,$H27*O27) -> 0 | BS27: =IF(ISERROR(P27-0)=TRUE,0,$H27*P27) -> 0 | BT27: =IF(ISERROR(Q27-0)=TRUE,0,$H27*Q27) -> 0 | BU27: =IF(ISERROR(R27-0)=TRUE,0,$H27*R27) -> 0 | ... DM27: =IF(ISERROR(BJ27-0)=TRUE,0,$H27*BJ27) -> 0 | DN27: =I27*1 -> 104 | DO27: =IF(COUNTA(K27:AC27)>0,DN27,"") -> 104 | DP27: =IF(DO27="",IF(COUNT(AD27:AH27,AK27)>0,DN27,""),"") | DQ27: =IF(AND(DO27="",DP27=""),IF(COUNTA(AL27:BD27)>0,DN27,""),"") | DR27: =IF(DQ27="",1,2) -> 1 | DS27: =IF(AND(DR27=#REF!,BL27=#REF!),'Tiến độ'!D27,"") -> #REF! | DT27: =IF(ISERROR(ED27)=TRUE,"",ED27) | DU27: =IF(ISERROR(DT27)=TRUE,0,IF(DT27="",0,1+MAX($DU$7:DU26))) -> 0 | DV27: 21 | DW27: =IF($DV$2+DV27-1<=$DV$3,$DV$2+DV27-1,"") | DX27: =IF(DW27="","",IF(INDEX(DR:DR,DW27,0)=$DV$4,INDEX(D:D,DW27,0),"")) | ED27: #NUM!
A28: =IF(B28="","",MAX($A$7:A27)+1) | C28: Thực tập nghề nghiệp xây dựng đường | D28: DC4DB23 | E28: 3 | G28: 135 | H28: =H27 -> 2 | I28: =I27 -> 104 | J28: 1/2 Khác ĐATN | W28: NN | X28: NN | Y28: NN | Z28: DT | AA28: DT | AB28: DT | AC28: DT | AD28: KP | AE28: KP | AF28: KP | AG28: KP | AH28: KP | AK28: KP | BL28: Đường | BN28: =IF(ISERROR(K28-0)=TRUE,0,$H28*K28) -> 0 | BO28: =IF(ISERROR(L28-0)=TRUE,0,$H28*L28) -> 0 | BP28: =IF(ISERROR(M28-0)=TRUE,0,$H28*M28) -> 0 | BQ28: =IF(ISERROR(N28-0)=TRUE,0,$H28*N28) -> 0 | BR28: =IF(ISERROR(O28-0)=TRUE,0,$H28*O28) -> 0 | BS28: =IF(ISERROR(P28-0)=TRUE,0,$H28*P28) -> 0 | BT28: =IF(ISERROR(Q28-0)=TRUE,0,$H28*Q28) -> 0 | BU28: =IF(ISERROR(R28-0)=TRUE,0,$H28*R28) -> 0 | ... DM28: =IF(ISERROR(BJ28-0)=TRUE,0,$H28*BJ28) -> 0 | DN28: =I28*1 -> 104 | DO28: =IF(COUNTA(K28:AC28)>0,DN28,"") -> 104 | DP28: =IF(DO28="",IF(COUNT(AD28:AH28,AK28)>0,DN28,""),"") | DQ28: =IF(AND(DO28="",DP28=""),IF(COUNTA(AL28:BD28)>0,DN28,""),"") | DR28: =IF(DQ28="",1,2) -> 1 | DS28: =IF(AND(DR28=#REF!,BL28=#REF!),'Tiến độ'!D28,"") -> #REF! | DT28: =IF(ISERROR(ED28)=TRUE,"",ED28) | DU28: =IF(ISERROR(DT28)=TRUE,0,IF(DT28="",0,1+MAX($DU$7:DU27))) -> 0 | DV28: 22 | DW28: =IF($DV$2+DV28-1<=$DV$3,$DV$2+DV28-1,"") | DX28: =IF(DW28="","",IF(INDEX(DR:DR,DW28,0)=$DV$4,INDEX(D:D,DW28,0),"")) | ED28: #NUM!
A29: =IF(B29="","",MAX($A$7:A28)+1) | C29: Thực tập tốt nghiệp | D29: DC4CD70 | E29: 4 | G29: 180 | H29: =H28 -> 2 | I29: =I28 -> 104 | S29: TN | T29: TN | U29: TN | V29: TN | Z29: DT | AA29: DT | AB29: DT | AC29: DT | AD29: KP | AE29: KP | AF29: KP | AG29: KP | AH29: KP | AK29: KP | BL29: Cầu + Đường | BN29: =IF(ISERROR(K29-0)=TRUE,0,$H29*K29) -> 0 | BO29: =IF(ISERROR(L29-0)=TRUE,0,$H29*L29) -> 0 | BP29: =IF(ISERROR(M29-0)=TRUE,0,$H29*M29) -> 0 | BQ29: =IF(ISERROR(N29-0)=TRUE,0,$H29*N29) -> 0 | BR29: =IF(ISERROR(O29-0)=TRUE,0,$H29*O29) -> 0 | BS29: =IF(ISERROR(P29-0)=TRUE,0,$H29*P29) -> 0 | BT29: =IF(ISERROR(Q29-0)=TRUE,0,$H29*Q29) -> 0 | BU29: =IF(ISERROR(R29-0)=TRUE,0,$H29*R29) -> 0 | ... DM29: =IF(ISERROR(BJ29-0)=TRUE,0,$H29*BJ29) -> 0 | DN29: =I29*2 -> 208 | DO29: =IF(COUNTA(K29:AC29)>0,DN29,"") -> 208 | DP29: =IF(DO29="",IF(COUNT(AD29:AH29,AK29)>0,DN29,""),"") | DQ29: =IF(AND(DO29="",DP29=""),IF(COUNTA(AL29:BD29)>0,DN29,""),"") | DR29: =IF(DQ29="",1,2) -> 1 | DS29: =IF(AND(DR29=#REF!,BL29=#REF!),'Tiến độ'!D29,"") -> #REF! | DT29: =IF(ISERROR(ED29)=TRUE,"",ED29) | DU29: =IF(ISERROR(DT29)=TRUE,0,IF(DT29="",0,1+MAX($DU$7:DU28))) -> 0 | DV29: 23 | DW29: =IF($DV$2+DV29-1<=$DV$3,$DV$2+DV29-1,"") | DX29: =IF(DW29="","",IF(INDEX(DR:DR,DW29,0)=$DV$4,INDEX(D:D,DW29,0),"")) | ED29: #NUM!
A30: =IF(B30="","",MAX($A$7:A29)+1) | C30: Đồ án tốt nghiệp | D30: DC4CD80 | E30: 8 | G30: 480 | H30: =H29 -> 2 | I30: =I29 -> 104 | AL30: DT | AM30: DT | AN30: DT | AO30: DT | AP30: DT | AQ30: ĐA | AR30: ĐA | AS30: ĐA | AT30: ĐA | AU30: ĐA | AV30: ĐA | AW30: ĐA | AX30: ĐA | AY30: ĐA | AZ30: ĐA | BA30: ĐA | BB30: ĐA | BC30: # | BD30: # | BL30: Cầu + Đường | BN30: =IF(ISERROR(K30-0)=TRUE,0,$H30*K30) -> 0 | BO30: =IF(ISERROR(L30-0)=TRUE,0,$H30*L30) -> 0 | BP30: =IF(ISERROR(M30-0)=TRUE,0,$H30*M30) -> 0 | BQ30: =IF(ISERROR(N30-0)=TRUE,0,$H30*N30) -> 0 | BR30: =IF(ISERROR(O30-0)=TRUE,0,$H30*O30) -> 0 | BS30: =IF(ISERROR(P30-0)=TRUE,0,$H30*P30) -> 0 | BT30: =IF(ISERROR(Q30-0)=TRUE,0,$H30*Q30) -> 0 | BU30: =IF(ISERROR(R30-0)=TRUE,0,$H30*R30) -> 0 | ... DM30: =IF(ISERROR(BJ30-0)=TRUE,0,$H30*BJ30) -> 0 | DN30: =I30*15 -> 1560 | DO30: =IF(COUNTA(K30:AC30)>0,DN30,"") | DP30: =IF(DO30="",IF(COUNT(AD30:AH30,AK30)>0,DN30,""),"") | DQ30: =IF(AND(DO30="",DP30=""),IF(COUNTA(AL30:BD30)>0,DN30,""),"") -> 1560 | DR30: =IF(DQ30="",1,2) -> 2 | DS30: =IF(AND(DR30=#REF!,BL30=#REF!),'Tiến độ'!D30,"") -> #REF! | DT30: =IF(ISERROR(ED30)=TRUE,"",ED30) | DU30: =IF(ISERROR(DT30)=TRUE,0,IF(DT30="",0,1+MAX($DU$7:DU29))) -> 0 | DV30: 24 | DW30: =IF($DV$2+DV30-1<=$DV$3,$DV$2+DV30-1,"") | DX30: =IF(DW30="","",IF(INDEX(DR:DR,DW30,0)=$DV$4,INDEX(D:D,DW30,0),"")) | ED30: #NUM!
A31: =IF(B31="","",MAX($A$7:A30)+1) | C31: TỔNG TC - TỔNG TIẾT / LỚP / TUẦN | E31: =SUM(E26:E30) -> 23 | K31: =SUM(K26:K30) -> 0 | L31: =SUM(L26:L30) -> 0 | M31: =SUM(M26:M30) -> 0 | N31: =SUM(N26:N30) -> 0 | O31: =SUM(O26:O30) -> 0 | P31: =SUM(P26:P30) -> 0 | Q31: =SUM(Q26:Q30) -> 0 | R31: =SUM(R26:R30) -> 0 | ... AH31: =SUM(AH26:AH30) -> 0 | AK31: =SUM(AK26:AK30) -> 0 | AL31: =SUM(AL26:AL30) -> 0 | AM31: =SUM(AM26:AM30) -> 0 | AN31: =SUM(AN26:AN30) -> 0 | AO31: =SUM(AO26:AO30) -> 0 | AP31: =SUM(AP26:AP30) -> 0 | AQ31: =SUM(AQ26:AQ30) -> 0 | AR31: =SUM(AR26:AR30) -> 0 | ... BD31: =SUM(BD26:BD30) -> 0 | BN31: =IF(ISERROR(K31-0)=TRUE,0,$H31*K31) -> 0 | BO31: =IF(ISERROR(L31-0)=TRUE,0,$H31*L31) -> 0 | BP31: =IF(ISERROR(M31-0)=TRUE,0,$H31*M31) -> 0 | BQ31: =IF(ISERROR(N31-0)=TRUE,0,$H31*N31) -> 0 | BR31: =IF(ISERROR(O31-0)=TRUE,0,$H31*O31) -> 0 | BS31: =IF(ISERROR(P31-0)=TRUE,0,$H31*P31) -> 0 | BT31: =IF(ISERROR(Q31-0)=TRUE,0,$H31*Q31) -> 0 | BU31: =IF(ISERROR(R31-0)=TRUE,0,$H31*R31) -> 0 | ... DM31: =IF(ISERROR(BJ31-0)=TRUE,0,$H31*BJ31) -> 0 | DS31: =IF(AND(DR31=#REF!,BL31=#REF!),'Tiến độ'!D31,"") -> #REF! | DT31: =IF(ISERROR(ED31)=TRUE,"",ED31) | DU31: =IF(ISERROR(DT31)=TRUE,0,IF(DT31="",0,1+MAX($DU$7:DU30))) -> 0 | DV31: 25 | DW31: =IF($DV$2+DV31-1<=$DV$3,$DV$2+DV31-1,"") | DX31: =IF(DW31="","",IF(INDEX(DR:DR,DW31,0)=$DV$4,INDEX(D:D,DW31,0),"")) | ED31: #NUM!
A32: =IF(B32="","",MAX($A$7:A31)+1) -> 6 | B32: 63CD08, 09, 10 | C32: Thực tập khảo sát thiết kế cầu, đường | D32: DC4CD21 | E32: 5 | G32: 225 | H32: 3 | I32: =44+51+53 -> 148 | R32: KS | S32: KS | T32: KS | U32: KS | V32: KS | Z32: DT | AA32: DT | AB32: DT | AC32: DT | AD32: KP | AE32: KP | AF32: KP | AG32: KP | AH32: KP | AK32: KP | BL32: Đo đạc - Khảo sát công trình | BN32: =IF(ISERROR(K32-0)=TRUE,0,$H32*K32) -> 0 | BO32: =IF(ISERROR(L32-0)=TRUE,0,$H32*L32) -> 0 | BP32: =IF(ISERROR(M32-0)=TRUE,0,$H32*M32) -> 0 | BQ32: =IF(ISERROR(N32-0)=TRUE,0,$H32*N32) -> 0 | BR32: =IF(ISERROR(O32-0)=TRUE,0,$H32*O32) -> 0 | BS32: =IF(ISERROR(P32-0)=TRUE,0,$H32*P32) -> 0 | BT32: =IF(ISERROR(Q32-0)=TRUE,0,$H32*Q32) -> 0 | BU32: =IF(ISERROR(R32-0)=TRUE,0,$H32*R32) -> 0 | ... DM32: =IF(ISERROR(BJ32-0)=TRUE,0,$H32*BJ32) -> 0 | DN32: =60*2*H32 -> 360 | DO32: =IF(COUNTA(K32:AC32)>0,DN32,"") -> 360 | DP32: =IF(DO32="",IF(COUNT(AD32:AH32,AK32)>0,DN32,""),"") | DQ32: =IF(AND(DO32="",DP32=""),IF(COUNTA(AL32:BD32)>0,DN32,""),"") | DR32: =IF(DQ32="",1,2) -> 1 | DS32: =IF(AND(DR32=#REF!,BL32=#REF!),'Tiến độ'!D32,"") -> #REF! | DT32: =IF(ISERROR(ED32)=TRUE,"",ED32) | DU32: =IF(ISERROR(DT32)=TRUE,0,IF(DT32="",0,1+MAX($DU$7:DU31))) -> 0 | DV32: 26 | DW32: =IF($DV$2+DV32-1<=$DV$3,$DV$2+DV32-1,"") | DX32: =IF(DW32="","",IF(INDEX(DR:DR,DW32,0)=$DV$4,INDEX(D:D,DW32,0),"")) | ED32: #NUM!
A33: =IF(B33="","",MAX($A$7:A32)+1) | C33: Thực tập nghề nghiệp xây dựng cầu | D33: DC4CA23 | E33: 3 | G33: 135 | H33: =H32 -> 3 | I33: =I32 -> 148 | J33: 1/2 Khác ĐATN | W33: NN | X33: NN | Y33: NN | Z33: DT | AA33: DT | AB33: DT | AC33: DT | AD33: KP | AE33: KP | AF33: KP | AG33: KP | AH33: KP | AK33: KP | BL33: Cầu | BN33: =IF(ISERROR(K33-0)=TRUE,0,$H33*K33) -> 0 | BO33: =IF(ISERROR(L33-0)=TRUE,0,$H33*L33) -> 0 | BP33: =IF(ISERROR(M33-0)=TRUE,0,$H33*M33) -> 0 | BQ33: =IF(ISERROR(N33-0)=TRUE,0,$H33*N33) -> 0 | BR33: =IF(ISERROR(O33-0)=TRUE,0,$H33*O33) -> 0 | BS33: =IF(ISERROR(P33-0)=TRUE,0,$H33*P33) -> 0 | BT33: =IF(ISERROR(Q33-0)=TRUE,0,$H33*Q33) -> 0 | BU33: =IF(ISERROR(R33-0)=TRUE,0,$H33*R33) -> 0 | ... DM33: =IF(ISERROR(BJ33-0)=TRUE,0,$H33*BJ33) -> 0 | DN33: =I33*1 -> 148 | DO33: =IF(COUNTA(K33:AC33)>0,DN33,"") -> 148 | DP33: =IF(DO33="",IF(COUNT(AD33:AH33,AK33)>0,DN33,""),"") | DQ33: =IF(AND(DO33="",DP33=""),IF(COUNTA(AL33:BD33)>0,DN33,""),"") | DR33: =IF(DQ33="",1,2) -> 1 | DS33: =IF(AND(DR33=#REF!,BL33=#REF!),'Tiến độ'!D33,"") -> #REF! | DT33: =IF(ISERROR(ED33)=TRUE,"",ED33) | DU33: =IF(ISERROR(DT33)=TRUE,0,IF(DT33="",0,1+MAX($DU$7:DU32))) -> 0 | DV33: 27 | DW33: =IF($DV$2+DV33-1<=$DV$3,$DV$2+DV33-1,"") | DX33: =IF(DW33="","",IF(INDEX(DR:DR,DW33,0)=$DV$4,INDEX(D:D,DW33,0),"")) | ED33: #NUM!
A34: =IF(B34="","",MAX($A$7:A33)+1) | C34: Thực tập nghề nghiệp xây dựng đường | D34: DC4DB23 | E34: 3 | G34: 135 | H34: =H33 -> 3 | I34: =I33 -> 148 | J34: 1/2 Theo ĐATN | K34: NN | L34: NN | M34: NN | Z34: DT | AA34: DT | AB34: DT | AC34: DT | AD34: KP | AE34: KP | AF34: KP | AG34: KP | AH34: KP | AK34: KP | BL34: Đường | BN34: =IF(ISERROR(K34-0)=TRUE,0,$H34*K34) -> 0 | BO34: =IF(ISERROR(L34-0)=TRUE,0,$H34*L34) -> 0 | BP34: =IF(ISERROR(M34-0)=TRUE,0,$H34*M34) -> 0 | BQ34: =IF(ISERROR(N34-0)=TRUE,0,$H34*N34) -> 0 | BR34: =IF(ISERROR(O34-0)=TRUE,0,$H34*O34) -> 0 | BS34: =IF(ISERROR(P34-0)=TRUE,0,$H34*P34) -> 0 | BT34: =IF(ISERROR(Q34-0)=TRUE,0,$H34*Q34) -> 0 | BU34: =IF(ISERROR(R34-0)=TRUE,0,$H34*R34) -> 0 | ... DM34: =IF(ISERROR(BJ34-0)=TRUE,0,$H34*BJ34) -> 0 | DN34: =I34*1 -> 148 | DO34: =IF(COUNTA(K34:AC34)>0,DN34,"") -> 148 | DP34: =IF(DO34="",IF(COUNT(AD34:AH34,AK34)>0,DN34,""),"") | DQ34: =IF(AND(DO34="",DP34=""),IF(COUNTA(AL34:BD34)>0,DN34,""),"") | DR34: =IF(DQ34="",1,2) -> 1 | DS34: =IF(AND(DR34=#REF!,BL34=#REF!),'Tiến độ'!D34,"") -> #REF! | DT34: =IF(ISERROR(ED34)=TRUE,"",ED34) | DU34: =IF(ISERROR(DT34)=TRUE,0,IF(DT34="",0,1+MAX($DU$7:DU33))) -> 0 | DV34: 28 | DW34: =IF($DV$2+DV34-1<=$DV$3,$DV$2+DV34-1,"") | DX34: =IF(DW34="","",IF(INDEX(DR:DR,DW34,0)=$DV$4,INDEX(D:D,DW34,0),"")) | ED34: #NUM!
A35: =IF(B35="","",MAX($A$7:A34)+1) | C35: Thực tập tốt nghiệp | D35: DC4CD70 | E35: 4 | G35: 180 | H35: =H34 -> 3 | I35: =I34 -> 148 | N35: TN | O35: TN | P35: TN | Q35: TN | Z35: DT | AA35: DT | AB35: DT | AC35: DT | AD35: KP | AE35: KP | AF35: KP | AG35: KP | AH35: KP | AK35: KP | BL35: Cầu + Đường | BN35: =IF(ISERROR(K35-0)=TRUE,0,$H35*K35) -> 0 | BO35: =IF(ISERROR(L35-0)=TRUE,0,$H35*L35) -> 0 | BP35: =IF(ISERROR(M35-0)=TRUE,0,$H35*M35) -> 0 | BQ35: =IF(ISERROR(N35-0)=TRUE,0,$H35*N35) -> 0 | BR35: =IF(ISERROR(O35-0)=TRUE,0,$H35*O35) -> 0 | BS35: =IF(ISERROR(P35-0)=TRUE,0,$H35*P35) -> 0 | BT35: =IF(ISERROR(Q35-0)=TRUE,0,$H35*Q35) -> 0 | BU35: =IF(ISERROR(R35-0)=TRUE,0,$H35*R35) -> 0 | ... DM35: =IF(ISERROR(BJ35-0)=TRUE,0,$H35*BJ35) -> 0 | DN35: =I35*2 -> 296 | DO35: =IF(COUNTA(K35:AC35)>0,DN35,"") -> 296 | DP35: =IF(DO35="",IF(COUNT(AD35:AH35,AK35)>0,DN35,""),"") | DQ35: =IF(AND(DO35="",DP35=""),IF(COUNTA(AL35:BD35)>0,DN35,""),"") | DR35: =IF(DQ35="",1,2) -> 1 | DS35: =IF(AND(DR35=#REF!,BL35=#REF!),'Tiến độ'!D35,"") -> #REF! | DT35: =IF(ISERROR(ED35)=TRUE,"",ED35) | DU35: =IF(ISERROR(DT35)=TRUE,0,IF(DT35="",0,1+MAX($DU$7:DU34))) -> 0 | DV35: 29 | DW35: =IF($DV$2+DV35-1<=$DV$3,$DV$2+DV35-1,"") | DX35: =IF(DW35="","",IF(INDEX(DR:DR,DW35,0)=$DV$4,INDEX(D:D,DW35,0),"")) | ED35: #NUM!
A36: =IF(B36="","",MAX($A$7:A35)+1) | C36: Đồ án tốt nghiệp | D36: DC4CD80 | E36: 8 | G36: 480 | H36: =H35 -> 3 | I36: =I35 -> 148 | AL36: DT | AM36: DT | AN36: DT | AO36: DT | AP36: DT | AQ36: ĐA | AR36: ĐA | AS36: ĐA | AT36: ĐA | AU36: ĐA | AV36: ĐA | AW36: ĐA | AX36: ĐA | AY36: ĐA | AZ36: ĐA | BA36: ĐA | BB36: ĐA | BC36: # | BD36: # | BL36: Cầu + Đường | BN36: =IF(ISERROR(K36-0)=TRUE,0,$H36*K36) -> 0 | BO36: =IF(ISERROR(L36-0)=TRUE,0,$H36*L36) -> 0 | BP36: =IF(ISERROR(M36-0)=TRUE,0,$H36*M36) -> 0 | BQ36: =IF(ISERROR(N36-0)=TRUE,0,$H36*N36) -> 0 | BR36: =IF(ISERROR(O36-0)=TRUE,0,$H36*O36) -> 0 | BS36: =IF(ISERROR(P36-0)=TRUE,0,$H36*P36) -> 0 | BT36: =IF(ISERROR(Q36-0)=TRUE,0,$H36*Q36) -> 0 | BU36: =IF(ISERROR(R36-0)=TRUE,0,$H36*R36) -> 0 | ... DM36: =IF(ISERROR(BJ36-0)=TRUE,0,$H36*BJ36) -> 0 | DN36: =I36*15 -> 2220 | DO36: =IF(COUNTA(K36:AC36)>0,DN36,"") | DP36: =IF(DO36="",IF(COUNT(AD36:AH36,AK36)>0,DN36,""),"") | DQ36: =IF(AND(DO36="",DP36=""),IF(COUNTA(AL36:BD36)>0,DN36,""),"") -> 2220 | DR36: =IF(DQ36="",1,2) -> 2 | DS36: =IF(AND(DR36=#REF!,BL36=#REF!),'Tiến độ'!D36,"") -> #REF! | DT36: =IF(ISERROR(ED36)=TRUE,"",ED36) | DU36: =IF(ISERROR(DT36)=TRUE,0,IF(DT36="",0,1+MAX($DU$7:DU35))) -> 0 | DV36: 30 | DW36: =IF($DV$2+DV36-1<=$DV$3,$DV$2+DV36-1,"") | DX36: =IF(DW36="","",IF(INDEX(DR:DR,DW36,0)=$DV$4,INDEX(D:D,DW36,0),"")) | ED36: #NUM!
A37: =IF(B37="","",MAX($A$7:A36)+1) | C37: TỔNG TC - TỔNG TIẾT / LỚP / TUẦN | E37: =SUM(E32:E36) -> 23 | K37: =SUM(K32:K36) -> 0 | L37: =SUM(L32:L36) -> 0 | M37: =SUM(M32:M36) -> 0 | N37: =SUM(N32:N36) -> 0 | O37: =SUM(O32:O36) -> 0 | P37: =SUM(P32:P36) -> 0 | Q37: =SUM(Q32:Q36) -> 0 | R37: =SUM(R32:R36) -> 0 | ... AH37: =SUM(AH32:AH36) -> 0 | AK37: =SUM(AK32:AK36) -> 0 | AL37: =SUM(AL32:AL36) -> 0 | AM37: =SUM(AM32:AM36) -> 0 | AN37: =SUM(AN32:AN36) -> 0 | AO37: =SUM(AO32:AO36) -> 0 | AP37: =SUM(AP32:AP36) -> 0 | AQ37: =SUM(AQ32:AQ36) -> 0 | AR37: =SUM(AR32:AR36) -> 0 | ... BD37: =SUM(BD32:BD36) -> 0 | BN37: =IF(ISERROR(K37-0)=TRUE,0,$H37*K37) -> 0 | BO37: =IF(ISERROR(L37-0)=TRUE,0,$H37*L37) -> 0 | BP37: =IF(ISERROR(M37-0)=TRUE,0,$H37*M37) -> 0 | BQ37: =IF(ISERROR(N37-0)=TRUE,0,$H37*N37) -> 0 | BR37: =IF(ISERROR(O37-0)=TRUE,0,$H37*O37) -> 0 | BS37: =IF(ISERROR(P37-0)=TRUE,0,$H37*P37) -> 0 | BT37: =IF(ISERROR(Q37-0)=TRUE,0,$H37*Q37) -> 0 | BU37: =IF(ISERROR(R37-0)=TRUE,0,$H37*R37) -> 0 | ... DM37: =IF(ISERROR(BJ37-0)=TRUE,0,$H37*BJ37) -> 0 | DS37: =IF(AND(DR37=#REF!,BL37=#REF!),'Tiến độ'!D37,"") -> #REF! | DT37: =IF(ISERROR(ED37)=TRUE,"",ED37) | DU37: =IF(ISERROR(DT37)=TRUE,0,IF(DT37="",0,1+MAX($DU$7:DU36))) -> 0 | ED37: #NUM!
A38: =IF(B38="","",MAX($A$7:A37)+1) -> 7 | B38: 63OT | C38: Thực tập Bảo dưỡng kỹ thuật và SC ô tô 1 | D38: DC4OT24 | E38: 3 | G38: 135 | H38: 1 | I38: =45 -> 45 | K38: S1 | L38: S1 | M38: S1 | U38: DT | V38: DT | W38: DT | X38: DT | Y38: DT | Z38: DT | AA38: DT | AB38: DT | AC38: DT | AD38: KP | AE38: KP | AF38: KP | AG38: KP | AH38: KP | AK38: KP | BL38: Trung tâm công nghệ CK | BN38: =IF(ISERROR(K38-0)=TRUE,0,$H38*K38) -> 0 | BO38: =IF(ISERROR(L38-0)=TRUE,0,$H38*L38) -> 0 | BP38: =IF(ISERROR(M38-0)=TRUE,0,$H38*M38) -> 0 | BQ38: =IF(ISERROR(N38-0)=TRUE,0,$H38*N38) -> 0 | BR38: =IF(ISERROR(O38-0)=TRUE,0,$H38*O38) -> 0 | BS38: =IF(ISERROR(P38-0)=TRUE,0,$H38*P38) -> 0 | BT38: =IF(ISERROR(Q38-0)=TRUE,0,$H38*Q38) -> 0 | BU38: =IF(ISERROR(R38-0)=TRUE,0,$H38*R38) -> 0 | ... DM38: =IF(ISERROR(BJ38-0)=TRUE,0,$H38*BJ38) -> 0 | DN38: =45*2 -> 90 | DO38: =IF(COUNTA(K38:AC38)>0,DN38,"") -> 90 | DP38: =IF(DO38="",IF(COUNT(AD38:AH38,AK38)>0,DN38,""),"") | DQ38: =IF(AND(DO38="",DP38=""),IF(COUNTA(AL38:BD38)>0,DN38,""),"") | DR38: =IF(DQ38="",1,2) -> 1 | DS38: =IF(AND(DR38=#REF!,BL38=#REF!),'Tiến độ'!D38,"") -> #REF! | DT38: =IF(ISERROR(ED38)=TRUE,"",ED38) | DU38: =IF(ISERROR(DT38)=TRUE,0,IF(DT38="",0,1+MAX($DU$7:DU37))) -> 0 | ED38: #NUM!
A39: =IF(B39="","",MAX($A$7:A38)+1) | C39: Thực tập Bảo dưỡng kỹ thuật và SC ô tô 2 | D39: DC4OT25 | E39: 3 | G39: 135 | H39: =H38 -> 1 | I39: =I38 -> 45 | N39: S2 | O39: S2 | P39: S2 | U39: DT | V39: DT | W39: DT | X39: DT | Y39: DT | Z39: DT | AA39: DT | AB39: DT | AC39: DT | AD39: KP | AE39: KP | AF39: KP | AG39: KP | AH39: KP | AK39: KP | BL39: Trung tâm công nghệ CK | BN39: =IF(ISERROR(K39-0)=TRUE,0,$H39*K39) -> 0 | BO39: =IF(ISERROR(L39-0)=TRUE,0,$H39*L39) -> 0 | BP39: =IF(ISERROR(M39-0)=TRUE,0,$H39*M39) -> 0 | BQ39: =IF(ISERROR(N39-0)=TRUE,0,$H39*N39) -> 0 | BR39: =IF(ISERROR(O39-0)=TRUE,0,$H39*O39) -> 0 | BS39: =IF(ISERROR(P39-0)=TRUE,0,$H39*P39) -> 0 | BT39: =IF(ISERROR(Q39-0)=TRUE,0,$H39*Q39) -> 0 | BU39: =IF(ISERROR(R39-0)=TRUE,0,$H39*R39) -> 0 | ... DM39: =IF(ISERROR(BJ39-0)=TRUE,0,$H39*BJ39) -> 0 | DN39: =45*2 -> 90 | DO39: =IF(COUNTA(K39:AC39)>0,DN39,"") -> 90 | DP39: =IF(DO39="",IF(COUNT(AD39:AH39,AK39)>0,DN39,""),"") | DQ39: =IF(AND(DO39="",DP39=""),IF(COUNTA(AL39:BD39)>0,DN39,""),"") | DR39: =IF(DQ39="",1,2) -> 1 | DS39: =IF(AND(DR39=#REF!,BL39=#REF!),'Tiến độ'!D39,"") -> #REF! | DT39: =IF(ISERROR(ED39)=TRUE,"",ED39) | DU39: =IF(ISERROR(DT39)=TRUE,0,IF(DT39="",0,1+MAX($DU$7:DU38))) -> 0 | ED39: #NUM!
A40: =IF(B40="","",MAX($A$7:A39)+1) | C40: Thực tập tốt nghiệp | D40: DC4OT70 | E40: 4 | G40: 180 | H40: =H39 -> 1 | I40: =I39 -> 45 | Q40: TN | R40: TN | S40: TN | T40: TN | U40: DT | V40: DT | W40: DT | X40: DT | Y40: DT | Z40: DT | AA40: DT | AB40: DT | AC40: DT | AD40: KP | AE40: KP | AF40: KP | AG40: KP | AH40: KP | AK40: KP | BL40: Ôtô | BN40: =IF(ISERROR(K40-0)=TRUE,0,$H40*K40) -> 0 | BO40: =IF(ISERROR(L40-0)=TRUE,0,$H40*L40) -> 0 | BP40: =IF(ISERROR(M40-0)=TRUE,0,$H40*M40) -> 0 | BQ40: =IF(ISERROR(N40-0)=TRUE,0,$H40*N40) -> 0 | BR40: =IF(ISERROR(O40-0)=TRUE,0,$H40*O40) -> 0 | BS40: =IF(ISERROR(P40-0)=TRUE,0,$H40*P40) -> 0 | BT40: =IF(ISERROR(Q40-0)=TRUE,0,$H40*Q40) -> 0 | BU40: =IF(ISERROR(R40-0)=TRUE,0,$H40*R40) -> 0 | ... DM40: =IF(ISERROR(BJ40-0)=TRUE,0,$H40*BJ40) -> 0 | DN40: =I40*2 -> 90 | DO40: =IF(COUNTA(K40:AC40)>0,DN40,"") -> 90 | DP40: =IF(DO40="",IF(COUNT(AD40:AH40,AK40)>0,DN40,""),"") | DQ40: =IF(AND(DO40="",DP40=""),IF(COUNTA(AL40:BD40)>0,DN40,""),"") | DR40: =IF(DQ40="",1,2) -> 1 | DS40: =IF(AND(DR40=#REF!,BL40=#REF!),'Tiến độ'!D40,"") -> #REF! | DT40: =IF(ISERROR(ED40)=TRUE,"",ED40) | DU40: =IF(ISERROR(DT40)=TRUE,0,IF(DT40="",0,1+MAX($DU$7:DU39))) -> 0 | ED40: #NUM!
A41: =IF(B41="","",MAX($A$7:A40)+1) | C41: Đồ án tốt nghiệp | D41: DC4OT80 | E41: 8 | G41: 480 | H41: =H40 -> 1 | I41: =I40 -> 45 | AL41: DT | AM41: DT | AN41: DT | AO41: DT | AP41: DT | AQ41: ĐA | AR41: ĐA | AS41: ĐA | AT41: ĐA | AU41: ĐA | AV41: ĐA | AW41: ĐA | AX41: ĐA | AY41: ĐA | AZ41: ĐA | BA41: ĐA | BB41: ĐA | BC41: # | BD41: # | BL41: Ôtô | BN41: =IF(ISERROR(K41-0)=TRUE,0,$H41*K41) -> 0 | BO41: =IF(ISERROR(L41-0)=TRUE,0,$H41*L41) -> 0 | BP41: =IF(ISERROR(M41-0)=TRUE,0,$H41*M41) -> 0 | BQ41: =IF(ISERROR(N41-0)=TRUE,0,$H41*N41) -> 0 | BR41: =IF(ISERROR(O41-0)=TRUE,0,$H41*O41) -> 0 | BS41: =IF(ISERROR(P41-0)=TRUE,0,$H41*P41) -> 0 | BT41: =IF(ISERROR(Q41-0)=TRUE,0,$H41*Q41) -> 0 | BU41: =IF(ISERROR(R41-0)=TRUE,0,$H41*R41) -> 0 | ... DM41: =IF(ISERROR(BJ41-0)=TRUE,0,$H41*BJ41) -> 0 | DN41: =15*I41 -> 675 | DO41: =IF(COUNTA(K41:AC41)>0,DN41,"") | DP41: =IF(DO41="",IF(COUNT(AD41:AH41,AK41)>0,DN41,""),"") | DQ41: =IF(AND(DO41="",DP41=""),IF(COUNTA(AL41:BD41)>0,DN41,""),"") -> 675 | DR41: =IF(DQ41="",1,2) -> 2 | DS41: =IF(AND(DR41=#REF!,BL41=#REF!),'Tiến độ'!D41,"") -> #REF! | DT41: =IF(ISERROR(ED41)=TRUE,"",ED41) | DU41: =IF(ISERROR(DT41)=TRUE,0,IF(DT41="",0,1+MAX($DU$7:DU40))) -> 0 | ED41: #NUM!
A42: =IF(B42="","",MAX($A$7:A41)+1) | C42: TỔNG TC - TỔNG TIẾT / LỚP / TUẦN | E42: =SUM(E38:E41) -> 18 | K42: =SUM(K38:K41) -> 0 | L42: =SUM(L38:L41) -> 0 | M42: =SUM(M38:M41) -> 0 | N42: =SUM(N38:N41) -> 0 | O42: =SUM(O38:O41) -> 0 | P42: =SUM(P38:P41) -> 0 | Q42: =SUM(Q38:Q41) -> 0 | R42: =SUM(R38:R41) -> 0 | ... AH42: =SUM(AH38:AH41) -> 0 | AK42: =SUM(AK38:AK41) -> 0 | AL42: =SUM(AL38:AL41) -> 0 | AM42: =SUM(AM38:AM41) -> 0 | AN42: =SUM(AN38:AN41) -> 0 | AO42: =SUM(AO38:AO41) -> 0 | AP42: =SUM(AP38:AP41) -> 0 | AQ42: =SUM(AQ38:AQ41) -> 0 | AR42: =SUM(AR38:AR41) -> 0 | ... BD42: =SUM(BD38:BD41) -> 0 | BN42: =IF(ISERROR(K42-0)=TRUE,0,$H42*K42) -> 0 | BO42: =IF(ISERROR(L42-0)=TRUE,0,$H42*L42) -> 0 | BP42: =IF(ISERROR(M42-0)=TRUE,0,$H42*M42) -> 0 | BQ42: =IF(ISERROR(N42-0)=TRUE,0,$H42*N42) -> 0 | BR42: =IF(ISERROR(O42-0)=TRUE,0,$H42*O42) -> 0 | BS42: =IF(ISERROR(P42-0)=TRUE,0,$H42*P42) -> 0 | BT42: =IF(ISERROR(Q42-0)=TRUE,0,$H42*Q42) -> 0 | BU42: =IF(ISERROR(R42-0)=TRUE,0,$H42*R42) -> 0 | ... DM42: =IF(ISERROR(BJ42-0)=TRUE,0,$H42*BJ42) -> 0 | DS42: =IF(AND(DR42=#REF!,BL42=#REF!),'Tiến độ'!D42,"") -> #REF! | DT42: =IF(ISERROR(ED42)=TRUE,"",ED42) | DU42: =IF(ISERROR(DT42)=TRUE,0,IF(DT42="",0,1+MAX($DU$7:DU41))) -> 0 | ED42: #NUM!
A43: =IF(B43="","",MAX($A$7:A42)+1) -> 8 | B43: 63MX | C43: Thực tập Bảo dưỡng kỹ thuật và SC máy XD | D43: DC4MX23 | E43: 4 | G43: 180 | H43: 1 | I43: =13 -> 13 | M43: BM | N43: BM | O43: BM | P43: BM | U43: DT | V43: DT | W43: DT | X43: DT | Y43: DT | Z43: DT | AA43: DT | AB43: DT | AC43: DT | AD43: KP | AE43: KP | AF43: KP | AG43: KP | AH43: KP | AK43: KP | BL43: Máy xây dựng | BN43: =IF(ISERROR(K43-0)=TRUE,0,$H43*K43) -> 0 | BO43: =IF(ISERROR(L43-0)=TRUE,0,$H43*L43) -> 0 | BP43: =IF(ISERROR(M43-0)=TRUE,0,$H43*M43) -> 0 | BQ43: =IF(ISERROR(N43-0)=TRUE,0,$H43*N43) -> 0 | BR43: =IF(ISERROR(O43-0)=TRUE,0,$H43*O43) -> 0 | BS43: =IF(ISERROR(P43-0)=TRUE,0,$H43*P43) -> 0 | BT43: =IF(ISERROR(Q43-0)=TRUE,0,$H43*Q43) -> 0 | BU43: =IF(ISERROR(R43-0)=TRUE,0,$H43*R43) -> 0 | ... DM43: =IF(ISERROR(BJ43-0)=TRUE,0,$H43*BJ43) -> 0 | DN43: =I43*2 -> 26 | DO43: =IF(COUNTA(K43:AC43)>0,DN43,"") -> 26 | DP43: =IF(DO43="",IF(COUNT(AD43:AH43,AK43)>0,DN43,""),"") | DQ43: =IF(AND(DO43="",DP43=""),IF(COUNTA(AL43:BD43)>0,DN43,""),"") | DR43: =IF(DQ43="",1,2) -> 1 | DS43: =IF(AND(DR43=#REF!,BL43=#REF!),'Tiến độ'!D43,"") -> #REF! | DT43: =IF(ISERROR(ED43)=TRUE,"",ED43) | DU43: =IF(ISERROR(DT43)=TRUE,0,IF(DT43="",0,1+MAX($DU$7:DU42))) -> 0 | ED43: #NUM!
C44: Thực hành thí nghiệm thủy - khí | D44: DC4MX13 | E44: 2 | G44: 90 | H44: =H43 -> 1 | I44: =I43 -> 13 | K44: TK | L44: TK | U44: DT | V44: DT | W44: DT | X44: DT | Y44: DT | Z44: DT | AA44: DT | AB44: DT | AC44: DT | AD44: KP | AE44: KP | AF44: KP | AG44: KP | AH44: KP | BL44: Máy xây dựng | BN44: =IF(ISERROR(K44-0)=TRUE,0,$H44*K44) -> 0 | BO44: =IF(ISERROR(L44-0)=TRUE,0,$H44*L44) -> 0 | BP44: =IF(ISERROR(M44-0)=TRUE,0,$H44*M44) -> 0 | BQ44: =IF(ISERROR(N44-0)=TRUE,0,$H44*N44) -> 0 | BR44: =IF(ISERROR(O44-0)=TRUE,0,$H44*O44) -> 0 | BS44: =IF(ISERROR(P44-0)=TRUE,0,$H44*P44) -> 0 | BT44: =IF(ISERROR(Q44-0)=TRUE,0,$H44*Q44) -> 0 | BU44: =IF(ISERROR(R44-0)=TRUE,0,$H44*R44) -> 0 | ... DM44: =IF(ISERROR(BJ44-0)=TRUE,0,$H44*BJ44) -> 0 | DN44: =30*H44 -> 30 | DO44: =IF(COUNTA(K44:AC44)>0,DN44,"") -> 30 | DP44: =IF(DO44="",IF(COUNT(AD44:AH44,AK44)>0,DN44,""),"") | DQ44: =IF(AND(DO44="",DP44=""),IF(COUNTA(AL44:BD44)>0,DN44,""),"") | DR44: =IF(DQ44="",1,2) -> 1 | DS44: =IF(AND(DR44=#REF!,BL44=#REF!),'Tiến độ'!D44,"") -> #REF! | DT44: =IF(ISERROR(ED44)=TRUE,"",ED44) | DU44: =IF(ISERROR(DT44)=TRUE,0,IF(DT44="",0,1+MAX($DU$7:DU43))) -> 0 | ED44: #NUM!
A45: =IF(B45="","",MAX($A$7:A43)+1) | C45: Thực tập tốt nghiệp | D45: DC4MX70 | E45: 4 | G45: 180 | H45: =H43 -> 1 | I45: =I43 -> 13 | Q45: TN | R45: TN | S45: TN | T45: TN | U45: DT | V45: DT | W45: DT | X45: DT | Y45: DT | Z45: DT | AA45: DT | AB45: DT | AC45: DT | AD45: KP | AE45: KP | AF45: KP | AG45: KP | AH45: KP | AK45: KP | BL45: Máy xây dựng | BN45: =IF(ISERROR(K45-0)=TRUE,0,$H45*K45) -> 0 | BO45: =IF(ISERROR(L45-0)=TRUE,0,$H45*L45) -> 0 | BP45: =IF(ISERROR(M45-0)=TRUE,0,$H45*M45) -> 0 | BQ45: =IF(ISERROR(N45-0)=TRUE,0,$H45*N45) -> 0 | BR45: =IF(ISERROR(O45-0)=TRUE,0,$H45*O45) -> 0 | BS45: =IF(ISERROR(P45-0)=TRUE,0,$H45*P45) -> 0 | BT45: =IF(ISERROR(Q45-0)=TRUE,0,$H45*Q45) -> 0 | BU45: =IF(ISERROR(R45-0)=TRUE,0,$H45*R45) -> 0 | ... DM45: =IF(ISERROR(BJ45-0)=TRUE,0,$H45*BJ45) -> 0 | DN45: =I45*2 -> 26 | DO45: =IF(COUNTA(K45:AC45)>0,DN45,"") -> 26 | DP45: =IF(DO45="",IF(COUNT(AD45:AH45,AK45)>0,DN45,""),"") | DQ45: =IF(AND(DO45="",DP45=""),IF(COUNTA(AL45:BD45)>0,DN45,""),"") | DR45: =IF(DQ45="",1,2) -> 1 | DS45: =IF(AND(DR45=#REF!,BL45=#REF!),'Tiến độ'!D45,"") -> #REF! | DT45: =IF(ISERROR(ED45)=TRUE,"",ED45) | DU45: =IF(ISERROR(DT45)=TRUE,0,IF(DT45="",0,1+MAX($DU$7:DU44))) -> 0 | ED45: #NUM!
A46: =IF(B46="","",MAX($A$7:A45)+1) | C46: Đồ án tốt nghiệp | D46: DC4MX80 | E46: 8 | G46: 480 | H46: =H45 -> 1 | I46: =I45 -> 13 | AL46: DT | AM46: DT | AN46: DT | AO46: DT | AP46: DT | AQ46: ĐA | AR46: ĐA | AS46: ĐA | AT46: ĐA | AU46: ĐA | AV46: ĐA | AW46: ĐA | AX46: ĐA | AY46: ĐA | AZ46: ĐA | BA46: ĐA | BB46: ĐA | BC46: # | BD46: # | BL46: Máy xây dựng | BN46: =IF(ISERROR(K46-0)=TRUE,0,$H46*K46) -> 0 | BO46: =IF(ISERROR(L46-0)=TRUE,0,$H46*L46) -> 0 | BP46: =IF(ISERROR(M46-0)=TRUE,0,$H46*M46) -> 0 | BQ46: =IF(ISERROR(N46-0)=TRUE,0,$H46*N46) -> 0 | BR46: =IF(ISERROR(O46-0)=TRUE,0,$H46*O46) -> 0 | BS46: =IF(ISERROR(P46-0)=TRUE,0,$H46*P46) -> 0 | BT46: =IF(ISERROR(Q46-0)=TRUE,0,$H46*Q46) -> 0 | BU46: =IF(ISERROR(R46-0)=TRUE,0,$H46*R46) -> 0 | ... DM46: =IF(ISERROR(BJ46-0)=TRUE,0,$H46*BJ46) -> 0 | DN46: =15*I46 -> 195 | DO46: =IF(COUNTA(K46:AC46)>0,DN46,"") | DP46: =IF(DO46="",IF(COUNT(AD46:AH46,AK46)>0,DN46,""),"") | DQ46: =IF(AND(DO46="",DP46=""),IF(COUNTA(AL46:BD46)>0,DN46,""),"") -> 195 | DR46: =IF(DQ46="",1,2) -> 2 | DS46: =IF(AND(DR46=#REF!,BL46=#REF!),'Tiến độ'!D46,"") -> #REF! | DT46: =IF(ISERROR(ED46)=TRUE,"",ED46) | DU46: =IF(ISERROR(DT46)=TRUE,0,IF(DT46="",0,1+MAX($DU$7:DU45))) -> 0 | ED46: #NUM!
A47: =IF(B47="","",MAX($A$7:A46)+1) | C47: TỔNG TC - TỔNG TIẾT / LỚP / TUẦN | E47: =SUM(E43:E46) -> 18 | K47: =SUM(K43:K46) -> 0 | L47: =SUM(L43:L46) -> 0 | M47: =SUM(M43:M46) -> 0 | N47: =SUM(N43:N46) -> 0 | O47: =SUM(O43:O46) -> 0 | P47: =SUM(P43:P46) -> 0 | Q47: =SUM(Q43:Q46) -> 0 | R47: =SUM(R43:R46) -> 0 | ... AH47: =SUM(AH43:AH46) -> 0 | AK47: =SUM(AK43:AK46) -> 0 | AL47: =SUM(AL43:AL46) -> 0 | AM47: =SUM(AM43:AM46) -> 0 | AN47: =SUM(AN43:AN46) -> 0 | AO47: =SUM(AO43:AO46) -> 0 | AP47: =SUM(AP43:AP46) -> 0 | AQ47: =SUM(AQ43:AQ46) -> 0 | AR47: =SUM(AR43:AR46) -> 0 | ... BD47: =SUM(BD43:BD46) -> 0 | BN47: =IF(ISERROR(K47-0)=TRUE,0,$H47*K47) -> 0 | BO47: =IF(ISERROR(L47-0)=TRUE,0,$H47*L47) -> 0 | BP47: =IF(ISERROR(M47-0)=TRUE,0,$H47*M47) -> 0 | BQ47: =IF(ISERROR(N47-0)=TRUE,0,$H47*N47) -> 0 | BR47: =IF(ISERROR(O47-0)=TRUE,0,$H47*O47) -> 0 | BS47: =IF(ISERROR(P47-0)=TRUE,0,$H47*P47) -> 0 | BT47: =IF(ISERROR(Q47-0)=TRUE,0,$H47*Q47) -> 0 | BU47: =IF(ISERROR(R47-0)=TRUE,0,$H47*R47) -> 0 | ... DM47: =IF(ISERROR(BJ47-0)=TRUE,0,$H47*BJ47) -> 0 | DS47: =IF(AND(DR47=#REF!,BL47=#REF!),'Tiến độ'!D47,"") -> #REF! | DT47: =IF(ISERROR(ED47)=TRUE,"",ED47) | DU47: =IF(ISERROR(DT47)=TRUE,0,IF(DT47="",0,1+MAX($DU$7:DU46))) -> 0 | ED47: #NUM!
A48: =IF(B48="","",MAX($A$7:A47)+1) -> 9 | B48: 64CD08, 09, 10 | C48: Kỹ thuật thi công mặt đường | D48: DC3DB52 | E48: 3 | F48: 45 | H48: 3 | I48: =61+59+50 -> 170 | K48: 3 | L48: 3 | M48: 3 | N48: 3 | O48: 3 | P48: 3 | Q48: 3 | R48: 3 | S48: 3 | T48: 3 | U48: 3 | V48: 3 | W48: 3 | X48: 3 | Y48: 3 | Z48: Φ | AA48: Φ | AB48: Φ | AC48: Φ | AD48: KP | AE48: KP | AF48: KP | AG48: KP | AH48: KP | AK48: KP | BK48: Lý thuyết | BL48: Đường | BN48: =IF(ISERROR(K48-0)=TRUE,0,$H48*K48) -> 9 | BO48: =IF(ISERROR(L48-0)=TRUE,0,$H48*L48) -> 9 | BP48: =IF(ISERROR(M48-0)=TRUE,0,$H48*M48) -> 9 | BQ48: =IF(ISERROR(N48-0)=TRUE,0,$H48*N48) -> 9 | BR48: =IF(ISERROR(O48-0)=TRUE,0,$H48*O48) -> 9 | BS48: =IF(ISERROR(P48-0)=TRUE,0,$H48*P48) -> 9 | BT48: =IF(ISERROR(Q48-0)=TRUE,0,$H48*Q48) -> 9 | BU48: =IF(ISERROR(R48-0)=TRUE,0,$H48*R48) -> 9 | ... DM48: =IF(ISERROR(BJ48-0)=TRUE,0,$H48*BJ48) -> 0 | DN48: =F48*H48 -> 135 | DO48: =IF(COUNTA(K48:AC48)>0,DN48,"") -> 135 | DP48: =IF(DO48="",IF(COUNT(AD48:AH48,AK48)>0,DN48,""),"") | DQ48: =IF(AND(DO48="",DP48=""),IF(COUNTA(AL48:BD48)>0,DN48,""),"") | DR48: =IF(DQ48="",1,2) -> 1 | DS48: =IF(AND(DR48=#REF!,BL48=#REF!),'Tiến độ'!D48,"") -> #REF! | DT48: =IF(ISERROR(ED48)=TRUE,"",ED48) | DU48: =IF(ISERROR(DT48)=TRUE,0,IF(DT48="",0,1+MAX($DU$7:DU47))) -> 0 | ED48: #NUM!
A49: =IF(B49="","",MAX($A$7:A48)+1) | C49: Kỹ thuật thi công nền đường | D49: DC3DB51 | E49: 3 | F49: 45 | H49: =H48 -> 3 | I49: =I48 -> 170 | K49: 3 | L49: 3 | M49: 3 | N49: 3 | O49: 3 | P49: 3 | Q49: 3 | R49: 3 | S49: 3 | T49: 3 | U49: 3 | V49: 3 | W49: 3 | X49: 3 | Y49: 3 | Z49: Φ | AA49: Φ | AB49: Φ | AC49: Φ | AD49: KP | AE49: KP | AF49: KP | AG49: KP | AH49: KP | AK49: KP | BK49: Lý thuyết | BL49: Đường | BN49: =IF(ISERROR(K49-0)=TRUE,0,$H49*K49) -> 9 | BO49: =IF(ISERROR(L49-0)=TRUE,0,$H49*L49) -> 9 | BP49: =IF(ISERROR(M49-0)=TRUE,0,$H49*M49) -> 9 | BQ49: =IF(ISERROR(N49-0)=TRUE,0,$H49*N49) -> 9 | BR49: =IF(ISERROR(O49-0)=TRUE,0,$H49*O49) -> 9 | BS49: =IF(ISERROR(P49-0)=TRUE,0,$H49*P49) -> 9 | BT49: =IF(ISERROR(Q49-0)=TRUE,0,$H49*Q49) -> 9 | BU49: =IF(ISERROR(R49-0)=TRUE,0,$H49*R49) -> 9 | ... DM49: =IF(ISERROR(BJ49-0)=TRUE,0,$H49*BJ49) -> 0 | DN49: =F49*H49 -> 135 | DO49: =IF(COUNTA(K49:AC49)>0,DN49,"") -> 135 | DP49: =IF(DO49="",IF(COUNT(AD49:AH49,AK49)>0,DN49,""),"") | DQ49: =IF(AND(DO49="",DP49=""),IF(COUNTA(AL49:BD49)>0,DN49,""),"") | DR49: =IF(DQ49="",1,2) -> 1 | DS49: =IF(AND(DR49=#REF!,BL49=#REF!),'Tiến độ'!D49,"") -> #REF! | DT49: =IF(ISERROR(ED49)=TRUE,"",ED49) | DU49: =IF(ISERROR(DT49)=TRUE,0,IF(DT49="",0,1+MAX($DU$7:DU48))) -> 0 | ED49: #NUM!
A50: =IF(B50="","",MAX($A$7:A49)+1) | C50: Kỹ thuật thi công cầu 2 | D50: DC3CA52 | E50: 3 | F50: 45 | H50: =H49 -> 3 | I50: =I49 -> 170 | K50: 3 | L50: 3 | M50: 3 | N50: 3 | O50: 3 | P50: 3 | Q50: 3 | R50: 3 | S50: 3 | T50: 3 | U50: 3 | V50: 3 | W50: 3 | X50: 3 | Y50: 3 | Z50: Φ | AA50: Φ | AB50: Φ | AC50: Φ | AD50: KP | AE50: KP | AF50: KP | AG50: KP | AH50: KP | AK50: KP | BK50: Lý thuyết | BL50: Cầu | BN50: =IF(ISERROR(K50-0)=TRUE,0,$H50*K50) -> 9 | BO50: =IF(ISERROR(L50-0)=TRUE,0,$H50*L50) -> 9 | BP50: =IF(ISERROR(M50-0)=TRUE,0,$H50*M50) -> 9 | BQ50: =IF(ISERROR(N50-0)=TRUE,0,$H50*N50) -> 9 | BR50: =IF(ISERROR(O50-0)=TRUE,0,$H50*O50) -> 9 | BS50: =IF(ISERROR(P50-0)=TRUE,0,$H50*P50) -> 9 | BT50: =IF(ISERROR(Q50-0)=TRUE,0,$H50*Q50) -> 9 | BU50: =IF(ISERROR(R50-0)=TRUE,0,$H50*R50) -> 9 | ... DM50: =IF(ISERROR(BJ50-0)=TRUE,0,$H50*BJ50) -> 0 | DN50: =F50*H50 -> 135 | DO50: =IF(COUNTA(K50:AC50)>0,DN50,"") -> 135 | DP50: =IF(DO50="",IF(COUNT(AD50:AH50,AK50)>0,DN50,""),"") | DQ50: =IF(AND(DO50="",DP50=""),IF(COUNTA(AL50:BD50)>0,DN50,""),"") | DR50: =IF(DQ50="",1,2) -> 1 | DS50: =IF(AND(DR50=#REF!,BL50=#REF!),'Tiến độ'!D50,"") -> #REF! | DT50: =IF(ISERROR(ED50)=TRUE,"",ED50) | DU50: =IF(ISERROR(DT50)=TRUE,0,IF(DT50="",0,1+MAX($DU$7:DU49))) -> 0 | ED50: #NUM!
A51: =IF(B51="","",MAX($A$7:A50)+1) | C51: Kỹ thuật thi công cầu 1 | D51: DC3CA51 | E51: 3 | F51: 45 | H51: =H50 -> 3 | I51: =I50 -> 170 | K51: 3 | L51: 3 | M51: 3 | N51: 3 | O51: 3 | P51: 3 | Q51: 3 | R51: 3 | S51: 3 | T51: 3 | U51: 3 | V51: 3 | W51: 3 | X51: 3 | Y51: 3 | Z51: Φ | AA51: Φ | AB51: Φ | AC51: Φ | AD51: KP | AE51: KP | AF51: KP | AG51: KP | AH51: KP | AK51: KP | BK51: Lý thuyết | BL51: Cầu | BN51: =IF(ISERROR(K51-0)=TRUE,0,$H51*K51) -> 9 | BO51: =IF(ISERROR(L51-0)=TRUE,0,$H51*L51) -> 9 | BP51: =IF(ISERROR(M51-0)=TRUE,0,$H51*M51) -> 9 | BQ51: =IF(ISERROR(N51-0)=TRUE,0,$H51*N51) -> 9 | BR51: =IF(ISERROR(O51-0)=TRUE,0,$H51*O51) -> 9 | BS51: =IF(ISERROR(P51-0)=TRUE,0,$H51*P51) -> 9 | BT51: =IF(ISERROR(Q51-0)=TRUE,0,$H51*Q51) -> 9 | BU51: =IF(ISERROR(R51-0)=TRUE,0,$H51*R51) -> 9 | ... DM51: =IF(ISERROR(BJ51-0)=TRUE,0,$H51*BJ51) -> 0 | DN51: =F51*H51 -> 135 | DO51: =IF(COUNTA(K51:AC51)>0,DN51,"") -> 135 | DP51: =IF(DO51="",IF(COUNT(AD51:AH51,AK51)>0,DN51,""),"") | DQ51: =IF(AND(DO51="",DP51=""),IF(COUNTA(AL51:BD51)>0,DN51,""),"") | DR51: =IF(DQ51="",1,2) -> 1 | DS51: =IF(AND(DR51=#REF!,BL51=#REF!),'Tiến độ'!D51,"") -> #REF! | DT51: =IF(ISERROR(ED51)=TRUE,"",ED51) | DU51: =IF(ISERROR(DT51)=TRUE,0,IF(DT51="",0,1+MAX($DU$7:DU50))) -> 0 | ED51: #NUM!
A52: =IF(B52="","",MAX($A$7:A51)+1) | C52: Đồ án Thiết kế cầu | D52: DC3CA44 | E52: 2 | F52: 30 | H52: =H51 -> 3 | I52: =I51 -> 170 | K52: 2 | L52: 2 | M52: 2 | N52: 2 | O52: 2 | P52: 2 | Q52: 2 | R52: 2 | S52: 2 | T52: 2 | U52: 2 | V52: 2 | W52: 2 | X52: 2 | Y52: 2 | Z52: Φ | AA52: Φ | AB52: Φ | AC52: Φ | AD52: KP | AE52: KP | AF52: KP | AG52: KP | AH52: KP | AK52: KP | BK52: Lý thuyết | BL52: Cầu | BN52: =IF(ISERROR(K52-0)=TRUE,0,$H52*K52) -> 6 | BO52: =IF(ISERROR(L52-0)=TRUE,0,$H52*L52) -> 6 | BP52: =IF(ISERROR(M52-0)=TRUE,0,$H52*M52) -> 6 | BQ52: =IF(ISERROR(N52-0)=TRUE,0,$H52*N52) -> 6 | BR52: =IF(ISERROR(O52-0)=TRUE,0,$H52*O52) -> 6 | BS52: =IF(ISERROR(P52-0)=TRUE,0,$H52*P52) -> 6 | BT52: =IF(ISERROR(Q52-0)=TRUE,0,$H52*Q52) -> 6 | BU52: =IF(ISERROR(R52-0)=TRUE,0,$H52*R52) -> 6 | ... DM52: =IF(ISERROR(BJ52-0)=TRUE,0,$H52*BJ52) -> 0 | DN52: =I52*1 -> 170 | DO52: =IF(COUNTA(K52:AC52)>0,DN52,"") -> 170 | DP52: =IF(DO52="",IF(COUNT(AD52:AH52,AK52)>0,DN52,""),"") | DQ52: =IF(AND(DO52="",DP52=""),IF(COUNTA(AL52:BD52)>0,DN52,""),"") | DR52: =IF(DQ52="",1,2) -> 1 | DS52: =IF(AND(DR52=#REF!,BL52=#REF!),'Tiến độ'!D52,"") -> #REF! | DT52: =IF(ISERROR(ED52)=TRUE,"",ED52) | DU52: =IF(ISERROR(DT52)=TRUE,0,IF(DT52="",0,1+MAX($DU$7:DU51))) -> 0 | ED52: #NUM!
A53: =IF(B53="","",MAX($A$7:A52)+1) | C53: Đồ án Thiết kế đường | D53: DC3DB44 | E53: 2 | F53: 30 | H53: =H52 -> 3 | I53: =I52 -> 170 | K53: 2 | L53: 2 | M53: 2 | N53: 2 | O53: 2 | P53: 2 | Q53: 2 | R53: 2 | S53: 2 | T53: 2 | U53: 2 | V53: 2 | W53: 2 | X53: 2 | Y53: 2 | Z53: Φ | AA53: Φ | AB53: Φ | AC53: Φ | AD53: KP | AE53: KP | AF53: KP | AG53: KP | AH53: KP | AK53: KP | BK53: Lý thuyết | BL53: Đường | BN53: =IF(ISERROR(K53-0)=TRUE,0,$H53*K53) -> 6 | BO53: =IF(ISERROR(L53-0)=TRUE,0,$H53*L53) -> 6 | BP53: =IF(ISERROR(M53-0)=TRUE,0,$H53*M53) -> 6 | BQ53: =IF(ISERROR(N53-0)=TRUE,0,$H53*N53) -> 6 | BR53: =IF(ISERROR(O53-0)=TRUE,0,$H53*O53) -> 6 | BS53: =IF(ISERROR(P53-0)=TRUE,0,$H53*P53) -> 6 | BT53: =IF(ISERROR(Q53-0)=TRUE,0,$H53*Q53) -> 6 | BU53: =IF(ISERROR(R53-0)=TRUE,0,$H53*R53) -> 6 | ... DM53: =IF(ISERROR(BJ53-0)=TRUE,0,$H53*BJ53) -> 0 | DN53: =I53*1 -> 170 | DO53: =IF(COUNTA(K53:AC53)>0,DN53,"") -> 170 | DP53: =IF(DO53="",IF(COUNT(AD53:AH53,AK53)>0,DN53,""),"") | DQ53: =IF(AND(DO53="",DP53=""),IF(COUNTA(AL53:BD53)>0,DN53,""),"") | DR53: =IF(DQ53="",1,2) -> 1 | DS53: =IF(AND(DR53=#REF!,BL53=#REF!),'Tiến độ'!D53,"") -> #REF! | DT53: =IF(ISERROR(ED53)=TRUE,"",ED53) | DU53: =IF(ISERROR(DT53)=TRUE,0,IF(DT53="",0,1+MAX($DU$7:DU52))) -> 0 | ED53: #NUM!
A54: =IF(B54="","",MAX($A$7:A53)+1) | C54: Tin học ứng dụng | D54: DC3CD60 | E54: 2 | F54: 45 | H54: =H53 -> 3 | I54: =I53 -> 170 | K54: 3 | L54: 3 | M54: 3 | N54: 3 | O54: 3 | P54: 3 | Q54: 3 | R54: 3 | S54: 3 | T54: 3 | U54: 3 | V54: 3 | W54: 3 | X54: 3 | Y54: 3 | Z54: Φ | AA54: Φ | AB54: Φ | AC54: Φ | AD54: KP | AE54: KP | AF54: KP | AG54: KP | AH54: KP | AK54: KP | BK54: Tin ứng dụng | BL54: Tin học công trình | BN54: =IF(ISERROR(K54-0)=TRUE,0,$H54*K54) -> 9 | BO54: =IF(ISERROR(L54-0)=TRUE,0,$H54*L54) -> 9 | BP54: =IF(ISERROR(M54-0)=TRUE,0,$H54*M54) -> 9 | BQ54: =IF(ISERROR(N54-0)=TRUE,0,$H54*N54) -> 9 | BR54: =IF(ISERROR(O54-0)=TRUE,0,$H54*O54) -> 9 | BS54: =IF(ISERROR(P54-0)=TRUE,0,$H54*P54) -> 9 | BT54: =IF(ISERROR(Q54-0)=TRUE,0,$H54*Q54) -> 9 | BU54: =IF(ISERROR(R54-0)=TRUE,0,$H54*R54) -> 9 | ... DM54: =IF(ISERROR(BJ54-0)=TRUE,0,$H54*BJ54) -> 0 | DN54: =(15+30/1.5*2)*H54 -> 165 | DO54: =IF(COUNTA(K54:AC54)>0,DN54,"") -> 165 | DP54: =IF(DO54="",IF(COUNT(AD54:AH54,AK54)>0,DN54,""),"") | DQ54: =IF(AND(DO54="",DP54=""),IF(COUNTA(AL54:BD54)>0,DN54,""),"") | DR54: =IF(DQ54="",1,2) -> 1 | DS54: =IF(AND(DR54=#REF!,BL54=#REF!),'Tiến độ'!D54,"") -> #REF! | DT54: =IF(ISERROR(ED54)=TRUE,"",ED54) | DU54: =IF(ISERROR(DT54)=TRUE,0,IF(DT54="",0,1+MAX($DU$7:DU53))) -> 0 | ED54: #NUM!
A55: =IF(B55="","",MAX($A$7:A54)+1) | C55: Lý thuyết xác suất thống kê | D55: DC1CB20 | E55: 2 | F55: 30 | H55: =H54 -> 3 | I55: =45+59+47 -> 151 | J55: HỌC BÙ | AD55: 6 | AE55: 6 | AF55: 6 | AG55: 6 | AH55: 6 | AK55: Φ | BK55: Lý thuyết | BL55: Toán | BN55: =IF(ISERROR(K55-0)=TRUE,0,$H55*K55) -> 0 | BO55: =IF(ISERROR(L55-0)=TRUE,0,$H55*L55) -> 0 | BP55: =IF(ISERROR(M55-0)=TRUE,0,$H55*M55) -> 0 | BQ55: =IF(ISERROR(N55-0)=TRUE,0,$H55*N55) -> 0 | BR55: =IF(ISERROR(O55-0)=TRUE,0,$H55*O55) -> 0 | BS55: =IF(ISERROR(P55-0)=TRUE,0,$H55*P55) -> 0 | BT55: =IF(ISERROR(Q55-0)=TRUE,0,$H55*Q55) -> 0 | BU55: =IF(ISERROR(R55-0)=TRUE,0,$H55*R55) -> 0 | ... DM55: =IF(ISERROR(BJ55-0)=TRUE,0,$H55*BJ55) -> 0 | DN55: =F55*H55 -> 90 | DO55: =IF(COUNTA(K55:AC55)>0,DN55,"") | DP55: =IF(DO55="",IF(COUNT(AD55:AH55,AK55)>0,DN55,""),"") -> 90 | DQ55: =IF(AND(DO55="",DP55=""),IF(COUNTA(AL55:BD55)>0,DN55,""),"") | DR55: =IF(DQ55="",1,2) -> 1 | DS55: =IF(AND(DR55=#REF!,BL55=#REF!),'Tiến độ'!D55,"") -> #REF! | DT55: =IF(ISERROR(ED55)=TRUE,"",ED55) | DU55: =IF(ISERROR(DT55)=TRUE,0,IF(DT55="",0,1+MAX($DU$7:DU54))) -> 0 | ED55: #NUM!
A56: =IF(B56="","",MAX($A$7:A55)+1) | C56: Toán 3 | D56: DC1CB13 | E56: 4 | F56: 60 | H56: 1 | I56: =21+20+24 -> 65 | J56: HỌC BÙ | K56: 4 | L56: 4 | M56: 4 | N56: 4 | O56: 4 | P56: 4 | Q56: 4 | R56: 4 | S56: 4 | T56: 4 | U56: 4 | V56: 4 | W56: 4 | X56: 4 | Y56: 4 | Z56: Φ | AA56: Φ | AB56: Φ | AC56: Φ | AD56: KP | AE56: KP | AF56: KP | AG56: KP | AH56: KP | AK56: KP | BK56: Lý thuyết | BL56: Toán | BN56: =IF(ISERROR(K56-0)=TRUE,0,$H56*K56) -> 4 | BO56: =IF(ISERROR(L56-0)=TRUE,0,$H56*L56) -> 4 | BP56: =IF(ISERROR(M56-0)=TRUE,0,$H56*M56) -> 4 | BQ56: =IF(ISERROR(N56-0)=TRUE,0,$H56*N56) -> 4 | BR56: =IF(ISERROR(O56-0)=TRUE,0,$H56*O56) -> 4 | BS56: =IF(ISERROR(P56-0)=TRUE,0,$H56*P56) -> 4 | BT56: =IF(ISERROR(Q56-0)=TRUE,0,$H56*Q56) -> 4 | BU56: =IF(ISERROR(R56-0)=TRUE,0,$H56*R56) -> 4 | ... DM56: =IF(ISERROR(BJ56-0)=TRUE,0,$H56*BJ56) -> 0 | DN56: =F56*H56 -> 60 | DO56: =IF(COUNTA(K56:AC56)>0,DN56,"") -> 60 | DP56: =IF(DO56="",IF(COUNT(AD56:AH56,AK56)>0,DN56,""),"") | DQ56: =IF(AND(DO56="",DP56=""),IF(COUNTA(AL56:BD56)>0,DN56,""),"") | DR56: =IF(DQ56="",1,2) -> 1 | DS56: =IF(AND(DR56=#REF!,BL56=#REF!),'Tiến độ'!D56,"") -> #REF! | DT56: =IF(ISERROR(ED56)=TRUE,"",ED56) | DU56: =IF(ISERROR(DT56)=TRUE,0,IF(DT56="",0,1+MAX($DU$7:DU55))) -> 0 | ED56: #NUM!
A57: =IF(B57="","",MAX($A$7:A56)+1) | C57: Tổ chức thi công công trình xây dựng | D57: DC3CD53 | E57: 3 | F57: 45 | H57: =H55 -> 3 | I57: =I54 -> 170 | AL57: 6 | AM57: 6 | AN57: 6 | AO57: 6 | AP57: 6 | AQ57: 6 | AR57: 6 | AS57: 3 | AT57: Φ | AU57: Φ | AV57: Φ | BK57: Lý thuyết | BL57: Cầu + Đường | BN57: =IF(ISERROR(K57-0)=TRUE,0,$H57*K57) -> 0 | BO57: =IF(ISERROR(L57-0)=TRUE,0,$H57*L57) -> 0 | BP57: =IF(ISERROR(M57-0)=TRUE,0,$H57*M57) -> 0 | BQ57: =IF(ISERROR(N57-0)=TRUE,0,$H57*N57) -> 0 | BR57: =IF(ISERROR(O57-0)=TRUE,0,$H57*O57) -> 0 | BS57: =IF(ISERROR(P57-0)=TRUE,0,$H57*P57) -> 0 | BT57: =IF(ISERROR(Q57-0)=TRUE,0,$H57*Q57) -> 0 | BU57: =IF(ISERROR(R57-0)=TRUE,0,$H57*R57) -> 0 | ... DM57: =IF(ISERROR(BJ57-0)=TRUE,0,$H57*BJ57) -> 0 | DN57: =F57*H57 -> 135 | DO57: =IF(COUNTA(K57:AC57)>0,DN57,"") | DP57: =IF(DO57="",IF(COUNT(AD57:AH57,AK57)>0,DN57,""),"") | DQ57: =IF(AND(DO57="",DP57=""),IF(COUNTA(AL57:BD57)>0,DN57,""),"") -> 135 | DR57: =IF(DQ57="",1,2) -> 2 | DS57: =IF(AND(DR57=#REF!,BL57=#REF!),'Tiến độ'!D57,"") -> #REF! | DT57: =IF(ISERROR(ED57)=TRUE,"",ED57) | DU57: =IF(ISERROR(DT57)=TRUE,0,IF(DT57="",0,1+MAX($DU$7:DU56))) -> 0 | ED57: #NUM!
A58: =IF(B58="","",MAX($A$7:A57)+1) | C58: Quản lý khai thác và kiểm định đường | D58: DC3DB61 | E58: 2 | F58: 30 | H58: =H57 -> 3 | I58: =I57 -> 170 | AL58: 4 | AM58: 4 | AN58: 4 | AO58: 4 | AP58: 4 | AQ58: 4 | AR58: 4 | AS58: 2 | AT58: Φ | AU58: Φ | AV58: Φ | BK58: Lý thuyết | BL58: Đường | BN58: =IF(ISERROR(K58-0)=TRUE,0,$H58*K58) -> 0 | BO58: =IF(ISERROR(L58-0)=TRUE,0,$H58*L58) -> 0 | BP58: =IF(ISERROR(M58-0)=TRUE,0,$H58*M58) -> 0 | BQ58: =IF(ISERROR(N58-0)=TRUE,0,$H58*N58) -> 0 | BR58: =IF(ISERROR(O58-0)=TRUE,0,$H58*O58) -> 0 | BS58: =IF(ISERROR(P58-0)=TRUE,0,$H58*P58) -> 0 | BT58: =IF(ISERROR(Q58-0)=TRUE,0,$H58*Q58) -> 0 | BU58: =IF(ISERROR(R58-0)=TRUE,0,$H58*R58) -> 0 | ... DM58: =IF(ISERROR(BJ58-0)=TRUE,0,$H58*BJ58) -> 0 | DN58: =F58*H58 -> 90 | DO58: =IF(COUNTA(K58:AC58)>0,DN58,"") | DP58: =IF(DO58="",IF(COUNT(AD58:AH58,AK58)>0,DN58,""),"") | DQ58: =IF(AND(DO58="",DP58=""),IF(COUNTA(AL58:BD58)>0,DN58,""),"") -> 90 | DR58: =IF(DQ58="",1,2) -> 2 | DS58: =IF(AND(DR58=#REF!,BL58=#REF!),'Tiến độ'!D58,"") -> #REF!
A59: =IF(B59="","",MAX($A$7:A58)+1) | C59: Quản lý khai thác và kiểm định cầu | D59: DC3CA61 | E59: 2 | F59: 30 | H59: =H58 -> 3 | I59: =I58 -> 170 | AL59: 4 | AM59: 4 | AN59: 4 | AO59: 4 | AP59: 4 | AQ59: 4 | AR59: 4 | AS59: 2 | AT59: Φ | AU59: Φ | AV59: Φ | BK59: Lý thuyết | BL59: Cầu | BN59: =IF(ISERROR(K59-0)=TRUE,0,$H59*K59) -> 0 | BO59: =IF(ISERROR(L59-0)=TRUE,0,$H59*L59) -> 0 | BP59: =IF(ISERROR(M59-0)=TRUE,0,$H59*M59) -> 0 | BQ59: =IF(ISERROR(N59-0)=TRUE,0,$H59*N59) -> 0 | BR59: =IF(ISERROR(O59-0)=TRUE,0,$H59*O59) -> 0 | BS59: =IF(ISERROR(P59-0)=TRUE,0,$H59*P59) -> 0 | BT59: =IF(ISERROR(Q59-0)=TRUE,0,$H59*Q59) -> 0 | BU59: =IF(ISERROR(R59-0)=TRUE,0,$H59*R59) -> 0 | ... DM59: =IF(ISERROR(BJ59-0)=TRUE,0,$H59*BJ59) -> 0 | DN59: =F59*H59 -> 90 | DO59: =IF(COUNTA(K59:AC59)>0,DN59,"") | DP59: =IF(DO59="",IF(COUNT(AD59:AH59,AK59)>0,DN59,""),"") | DQ59: =IF(AND(DO59="",DP59=""),IF(COUNTA(AL59:BD59)>0,DN59,""),"") -> 90 | DR59: =IF(DQ59="",1,2) -> 2 | DS59: =IF(AND(DR59=#REF!,BL59=#REF!),'Tiến độ'!D59,"") -> #REF!
A60: =IF(B60="","",MAX($A$7:A59)+1) | C60: Tiếng Anh 3 | D60: DC3CD33 | E60: 3 | F60: 60 | H60: =H59 -> 3 | I60: =I59 -> 170 | AL60: 8 | AM60: 8 | AN60: 8 | AO60: 8 | AP60: 8 | AQ60: 8 | AR60: 8 | AS60: 4 | AT60: Φ | AU60: Φ | AV60: Φ | BK60: Lý thuyết | BL60: Ngoại ngữ | BN60: =IF(ISERROR(K60-0)=TRUE,0,$H60*K60) -> 0 | BO60: =IF(ISERROR(L60-0)=TRUE,0,$H60*L60) -> 0 | BP60: =IF(ISERROR(M60-0)=TRUE,0,$H60*M60) -> 0 | BQ60: =IF(ISERROR(N60-0)=TRUE,0,$H60*N60) -> 0 | BR60: =IF(ISERROR(O60-0)=TRUE,0,$H60*O60) -> 0 | BS60: =IF(ISERROR(P60-0)=TRUE,0,$H60*P60) -> 0 | BT60: =IF(ISERROR(Q60-0)=TRUE,0,$H60*Q60) -> 0 | BU60: =IF(ISERROR(R60-0)=TRUE,0,$H60*R60) -> 0 | ... DM60: =IF(ISERROR(BJ60-0)=TRUE,0,$H60*BJ60) -> 0 | DN60: =F60*H60 -> 180 | DO60: =IF(COUNTA(K60:AC60)>0,DN60,"") | DP60: =IF(DO60="",IF(COUNT(AD60:AH60,AK60)>0,DN60,""),"") | DQ60: =IF(AND(DO60="",DP60=""),IF(COUNTA(AL60:BD60)>0,DN60,""),"") -> 180 | DR60: =IF(DQ60="",1,2) -> 2 | DS60: =IF(AND(DR60=#REF!,BL60=#REF!),'Tiến độ'!D60,"") -> #REF!
A61: =IF(B61="","",MAX($A$7:A60)+1) | C61: Thực tập Thí nghiệm và kiểm định cầu, đường | D61: DC4CD22 | E61: 2 | G61: 90 | H61: =H60 -> 3 | I61: =I60 -> 170 | AL61: 12 | AM61: 12 | AN61: 12 | AO61: 12 | AP61: 12 | AQ61: 12 | AR61: 12 | AS61: 6 | AT61: Φ | AU61: Φ | AV61: Φ | BK61: PTN Kiểm định | BL61: Thí nghiệm công trinh | BN61: =IF(ISERROR(K61-0)=TRUE,0,$H61*K61) -> 0 | BO61: =IF(ISERROR(L61-0)=TRUE,0,$H61*L61) -> 0 | BP61: =IF(ISERROR(M61-0)=TRUE,0,$H61*M61) -> 0 | BQ61: =IF(ISERROR(N61-0)=TRUE,0,$H61*N61) -> 0 | BR61: =IF(ISERROR(O61-0)=TRUE,0,$H61*O61) -> 0 | BS61: =IF(ISERROR(P61-0)=TRUE,0,$H61*P61) -> 0 | BT61: =IF(ISERROR(Q61-0)=TRUE,0,$H61*Q61) -> 0 | BU61: =IF(ISERROR(R61-0)=TRUE,0,$H61*R61) -> 0 | ... DM61: =IF(ISERROR(BJ61-0)=TRUE,0,$H61*BJ61) -> 0 | DN61: =20*2*E61*H61 -> 240 | DO61: =IF(COUNTA(K61:AC61)>0,DN61,"") | DP61: =IF(DO61="",IF(COUNT(AD61:AH61,AK61)>0,DN61,""),"") | DQ61: =IF(AND(DO61="",DP61=""),IF(COUNTA(AL61:BD61)>0,DN61,""),"") -> 240 | DR61: =IF(DQ61="",1,2) -> 2 | DS61: =IF(AND(DR61=#REF!,BL61=#REF!),'Tiến độ'!D61,"") -> #REF!
A62: =IF(B62="","",MAX($A$7:A61)+1) | C62: Thực tập Kỹ thuật thi công cơ bản | D62: DC4CT13 | E62: 3 | G62: 135 | H62: =H61 -> 3 | I62: =I61 -> 170 | AW62: X | AX62: X | AY62: X | BK62: Xưởng CT | BL62: Xưởng công trình | BN62: =IF(ISERROR(K62-0)=TRUE,0,$H62*K62) -> 0 | BO62: =IF(ISERROR(L62-0)=TRUE,0,$H62*L62) -> 0 | BP62: =IF(ISERROR(M62-0)=TRUE,0,$H62*M62) -> 0 | BQ62: =IF(ISERROR(N62-0)=TRUE,0,$H62*N62) -> 0 | BR62: =IF(ISERROR(O62-0)=TRUE,0,$H62*O62) -> 0 | BS62: =IF(ISERROR(P62-0)=TRUE,0,$H62*P62) -> 0 | BT62: =IF(ISERROR(Q62-0)=TRUE,0,$H62*Q62) -> 0 | BU62: =IF(ISERROR(R62-0)=TRUE,0,$H62*R62) -> 0 | ... DM62: =IF(ISERROR(BJ62-0)=TRUE,0,$H62*BJ62) -> 0 | DN62: =45*H62*2 -> 270 | DO62: =IF(COUNTA(K62:AC62)>0,DN62,"") | DP62: =IF(DO62="",IF(COUNT(AD62:AH62,AK62)>0,DN62,""),"") | DQ62: =IF(AND(DO62="",DP62=""),IF(COUNTA(AL62:BD62)>0,DN62,""),"") -> 270 | DR62: =IF(DQ62="",1,2) -> 2 | DS62: =IF(AND(DR62=#REF!,BL62=#REF!),'Tiến độ'!D62,"") -> #REF!
A63: =IF(B63="","",MAX($A$7:A62)+1) | C63: Thực tập Khảo sát thiết kế cầu, đường | D63: DC4CD21 | E63: 5 | G63: 225 | H63: =H62 -> 3 | I63: =I62 -> 170 | AZ63: KS | BA63: KS | BB63: KS | BC63: KS | BD63: KS | BL63: Đo đạc - Khảo sát công trình | BN63: =IF(ISERROR(K63-0)=TRUE,0,$H63*K63) -> 0 | BO63: =IF(ISERROR(L63-0)=TRUE,0,$H63*L63) -> 0 | BP63: =IF(ISERROR(M63-0)=TRUE,0,$H63*M63) -> 0 | BQ63: =IF(ISERROR(N63-0)=TRUE,0,$H63*N63) -> 0 | BR63: =IF(ISERROR(O63-0)=TRUE,0,$H63*O63) -> 0 | BS63: =IF(ISERROR(P63-0)=TRUE,0,$H63*P63) -> 0 | BT63: =IF(ISERROR(Q63-0)=TRUE,0,$H63*Q63) -> 0 | BU63: =IF(ISERROR(R63-0)=TRUE,0,$H63*R63) -> 0 | ... DM63: =IF(ISERROR(BJ63-0)=TRUE,0,$H63*BJ63) -> 0 | DN63: =60*2*H63 -> 360 | DO63: =IF(COUNTA(K63:AC63)>0,DN63,"") | DP63: =IF(DO63="",IF(COUNT(AD63:AH63,AK63)>0,DN63,""),"") | DQ63: =IF(AND(DO63="",DP63=""),IF(COUNTA(AL63:BD63)>0,DN63,""),"") -> 360 | DR63: =IF(DQ63="",1,2) -> 2 | DS63: =IF(AND(DR63=#REF!,BL63=#REF!),'Tiến độ'!D63,"") -> #REF!
A64: =IF(B64="","",MAX($A$7:A63)+1) | C64: TỔNG TC - TỔNG TIẾT / LỚP / TUẦN | E64: =SUM(E48:E63) -> 44 | K64: =SUM(K48:K63) -> 23 | L64: =SUM(L48:L63) -> 23 | M64: =SUM(M48:M63) -> 23 | N64: =SUM(N48:N63) -> 23 | O64: =SUM(O48:O63) -> 23 | P64: =SUM(P48:P63) -> 23 | Q64: =SUM(Q48:Q63) -> 23 | R64: =SUM(R48:R63) -> 23 | ... AH64: =SUM(AH48:AH63) -> 6 | AK64: =SUM(AK48:AK63) -> 0 | AL64: =SUM(AL48:AL63) -> 34 | AM64: =SUM(AM48:AM63) -> 34 | AN64: =SUM(AN48:AN63) -> 34 | AO64: =SUM(AO48:AO63) -> 34 | AP64: =SUM(AP48:AP63) -> 34 | AQ64: =SUM(AQ48:AQ63) -> 34 | AR64: =SUM(AR48:AR63) -> 34 | ... BD64: =SUM(BD48:BD63) -> 0 | BN64: =IF(ISERROR(K64-0)=TRUE,0,$H64*K64) -> 0 | BO64: =IF(ISERROR(L64-0)=TRUE,0,$H64*L64) -> 0 | BP64: =IF(ISERROR(M64-0)=TRUE,0,$H64*M64) -> 0 | BQ64: =IF(ISERROR(N64-0)=TRUE,0,$H64*N64) -> 0 | BR64: =IF(ISERROR(O64-0)=TRUE,0,$H64*O64) -> 0 | BS64: =IF(ISERROR(P64-0)=TRUE,0,$H64*P64) -> 0 | BT64: =IF(ISERROR(Q64-0)=TRUE,0,$H64*Q64) -> 0 | BU64: =IF(ISERROR(R64-0)=TRUE,0,$H64*R64) -> 0 | ... DM64: =IF(ISERROR(BJ64-0)=TRUE,0,$H64*BJ64) -> 0 | DS64: =IF(AND(DR64=#REF!,BL64=#REF!),'Tiến độ'!D64,"") -> #REF!
A65: =IF(B65="","",MAX($A$7:A64)+1) -> 10 | B65: 64CD11, 12 | C65: Kỹ thuật thi công mặt đường | D65: DC3DB52 | E65: 3 | F65: 45 | H65: 2 | I65: =49+56 -> 105 | K65: 3 | L65: 3 | M65: 3 | N65: 3 | O65: 3 | P65: 3 | Q65: 3 | R65: 3 | S65: 3 | T65: 3 | U65: 3 | V65: 3 | W65: 3 | X65: 3 | Y65: 3 | Z65: Φ | AA65: Φ | AB65: Φ | AC65: Φ | AD65: KP | AE65: KP | AF65: KP | AG65: KP | AH65: KP | AK65: KP | BK65: Lý thuyết | BL65: Đường | BN65: =IF(ISERROR(K65-0)=TRUE,0,$H65*K65) -> 6 | BO65: =IF(ISERROR(L65-0)=TRUE,0,$H65*L65) -> 6 | BP65: =IF(ISERROR(M65-0)=TRUE,0,$H65*M65) -> 6 | BQ65: =IF(ISERROR(N65-0)=TRUE,0,$H65*N65) -> 6 | BR65: =IF(ISERROR(O65-0)=TRUE,0,$H65*O65) -> 6 | BS65: =IF(ISERROR(P65-0)=TRUE,0,$H65*P65) -> 6 | BT65: =IF(ISERROR(Q65-0)=TRUE,0,$H65*Q65) -> 6 | BU65: =IF(ISERROR(R65-0)=TRUE,0,$H65*R65) -> 6 | ... DM65: =IF(ISERROR(BJ65-0)=TRUE,0,$H65*BJ65) -> 0 | DN65: =F65*H65 -> 90 | DO65: =IF(COUNTA(K65:AC65)>0,DN65,"") -> 90 | DP65: =IF(DO65="",IF(COUNT(AD65:AH65,AK65)>0,DN65,""),"") | DQ65: =IF(AND(DO65="",DP65=""),IF(COUNTA(AL65:BD65)>0,DN65,""),"") | DR65: =IF(DQ65="",1,2) -> 1 | DS65: =IF(AND(DR65=#REF!,BL65=#REF!),'Tiến độ'!D65,"") -> #REF!
A66: =IF(B66="","",MAX($A$7:A65)+1) | C66: Kỹ thuật thi công nền đường | D66: DC3DB51 | E66: 3 | F66: 45 | H66: =H65 -> 2 | I66: =I65 -> 105 | K66: 3 | L66: 3 | M66: 3 | N66: 3 | O66: 3 | P66: 3 | Q66: 3 | R66: 3 | S66: 3 | T66: 3 | U66: 3 | V66: 3 | W66: 3 | X66: 3 | Y66: 3 | Z66: Φ | AA66: Φ | AB66: Φ | AC66: Φ | AD66: KP | AE66: KP | AF66: KP | AG66: KP | AH66: KP | AK66: KP | BK66: Lý thuyết | BL66: Đường | BN66: =IF(ISERROR(K66-0)=TRUE,0,$H66*K66) -> 6 | BO66: =IF(ISERROR(L66-0)=TRUE,0,$H66*L66) -> 6 | BP66: =IF(ISERROR(M66-0)=TRUE,0,$H66*M66) -> 6 | BQ66: =IF(ISERROR(N66-0)=TRUE,0,$H66*N66) -> 6 | BR66: =IF(ISERROR(O66-0)=TRUE,0,$H66*O66) -> 6 | BS66: =IF(ISERROR(P66-0)=TRUE,0,$H66*P66) -> 6 | BT66: =IF(ISERROR(Q66-0)=TRUE,0,$H66*Q66) -> 6 | BU66: =IF(ISERROR(R66-0)=TRUE,0,$H66*R66) -> 6 | ... DM66: =IF(ISERROR(BJ66-0)=TRUE,0,$H66*BJ66) -> 0 | DN66: =F66*H66 -> 90 | DO66: =IF(COUNTA(K66:AC66)>0,DN66,"") -> 90 | DP66: =IF(DO66="",IF(COUNT(AD66:AH66,AK66)>0,DN66,""),"") | DQ66: =IF(AND(DO66="",DP66=""),IF(COUNTA(AL66:BD66)>0,DN66,""),"") | DR66: =IF(DQ66="",1,2) -> 1 | DS66: =IF(AND(DR66=#REF!,BL66=#REF!),'Tiến độ'!D66,"") -> #REF!
A67: =IF(B67="","",MAX($A$7:A66)+1) | C67: Kỹ thuật thi công cầu 2 | D67: DC3CA52 | E67: 3 | F67: 45 | H67: =H66 -> 2 | I67: =I66 -> 105 | K67: 3 | L67: 3 | M67: 3 | N67: 3 | O67: 3 | P67: 3 | Q67: 3 | R67: 3 | S67: 3 | T67: 3 | U67: 3 | V67: 3 | W67: 3 | X67: 3 | Y67: 3 | Z67: Φ | AA67: Φ | AB67: Φ | AC67: Φ | AD67: KP | AE67: KP | AF67: KP | AG67: KP | AH67: KP | AK67: KP | BK67: Lý thuyết | BL67: Cầu | BN67: =IF(ISERROR(K67-0)=TRUE,0,$H67*K67) -> 6 | BO67: =IF(ISERROR(L67-0)=TRUE,0,$H67*L67) -> 6 | BP67: =IF(ISERROR(M67-0)=TRUE,0,$H67*M67) -> 6 | BQ67: =IF(ISERROR(N67-0)=TRUE,0,$H67*N67) -> 6 | BR67: =IF(ISERROR(O67-0)=TRUE,0,$H67*O67) -> 6 | BS67: =IF(ISERROR(P67-0)=TRUE,0,$H67*P67) -> 6 | BT67: =IF(ISERROR(Q67-0)=TRUE,0,$H67*Q67) -> 6 | BU67: =IF(ISERROR(R67-0)=TRUE,0,$H67*R67) -> 6 | ... DM67: =IF(ISERROR(BJ67-0)=TRUE,0,$H67*BJ67) -> 0 | DN67: =F67*H67 -> 90 | DO67: =IF(COUNTA(K67:AC67)>0,DN67,"") -> 90 | DP67: =IF(DO67="",IF(COUNT(AD67:AH67,AK67)>0,DN67,""),"") | DQ67: =IF(AND(DO67="",DP67=""),IF(COUNTA(AL67:BD67)>0,DN67,""),"") | DR67: =IF(DQ67="",1,2) -> 1 | DS67: =IF(AND(DR67=#REF!,BL67=#REF!),'Tiến độ'!D67,"") -> #REF!
A68: =IF(B68="","",MAX($A$7:A67)+1) | C68: Kỹ thuật thi công cầu 1 | D68: DC3CA51 | E68: 3 | F68: 45 | H68: =H67 -> 2 | I68: =I67 -> 105 | K68: 3 | L68: 3 | M68: 3 | N68: 3 | O68: 3 | P68: 3 | Q68: 3 | R68: 3 | S68: 3 | T68: 3 | U68: 3 | V68: 3 | W68: 3 | X68: 3 | Y68: 3 | Z68: Φ | AA68: Φ | AB68: Φ | AC68: Φ | AD68: KP | AE68: KP | AF68: KP | AG68: KP | AH68: KP | AK68: KP | BK68: Lý thuyết | BL68: Cầu | BN68: =IF(ISERROR(K68-0)=TRUE,0,$H68*K68) -> 6 | BO68: =IF(ISERROR(L68-0)=TRUE,0,$H68*L68) -> 6 | BP68: =IF(ISERROR(M68-0)=TRUE,0,$H68*M68) -> 6 | BQ68: =IF(ISERROR(N68-0)=TRUE,0,$H68*N68) -> 6 | BR68: =IF(ISERROR(O68-0)=TRUE,0,$H68*O68) -> 6 | BS68: =IF(ISERROR(P68-0)=TRUE,0,$H68*P68) -> 6 | BT68: =IF(ISERROR(Q68-0)=TRUE,0,$H68*Q68) -> 6 | BU68: =IF(ISERROR(R68-0)=TRUE,0,$H68*R68) -> 6 | ... DM68: =IF(ISERROR(BJ68-0)=TRUE,0,$H68*BJ68) -> 0 | DN68: =F68*H68 -> 90 | DO68: =IF(COUNTA(K68:AC68)>0,DN68,"") -> 90 | DP68: =IF(DO68="",IF(COUNT(AD68:AH68,AK68)>0,DN68,""),"") | DQ68: =IF(AND(DO68="",DP68=""),IF(COUNTA(AL68:BD68)>0,DN68,""),"") | DR68: =IF(DQ68="",1,2) -> 1 | DS68: =IF(AND(DR68=#REF!,BL68=#REF!),'Tiến độ'!D68,"") -> #REF!
A69: =IF(B69="","",MAX($A$7:A68)+1) | C69: Đồ án Thiết kế cầu | D69: DC3CA44 | E69: 2 | F69: 30 | H69: =H68 -> 2 | I69: =I68 -> 105 | K69: 2 | L69: 2 | M69: 2 | N69: 2 | O69: 2 | P69: 2 | Q69: 2 | R69: 2 | S69: 2 | T69: 2 | U69: 2 | V69: 2 | W69: 2 | X69: 2 | Y69: 2 | Z69: Φ | AA69: Φ | AB69: Φ | AC69: Φ | AD69: KP | AE69: KP | AF69: KP | AG69: KP | AH69: KP | AK69: KP | BK69: Lý thuyết | BL69: Cầu | BN69: =IF(ISERROR(K69-0)=TRUE,0,$H69*K69) -> 4 | BO69: =IF(ISERROR(L69-0)=TRUE,0,$H69*L69) -> 4 | BP69: =IF(ISERROR(M69-0)=TRUE,0,$H69*M69) -> 4 | BQ69: =IF(ISERROR(N69-0)=TRUE,0,$H69*N69) -> 4 | BR69: =IF(ISERROR(O69-0)=TRUE,0,$H69*O69) -> 4 | BS69: =IF(ISERROR(P69-0)=TRUE,0,$H69*P69) -> 4 | BT69: =IF(ISERROR(Q69-0)=TRUE,0,$H69*Q69) -> 4 | BU69: =IF(ISERROR(R69-0)=TRUE,0,$H69*R69) -> 4 | ... DM69: =IF(ISERROR(BJ69-0)=TRUE,0,$H69*BJ69) -> 0 | DN69: =I69*1 -> 105 | DO69: =IF(COUNTA(K69:AC69)>0,DN69,"") -> 105 | DP69: =IF(DO69="",IF(COUNT(AD69:AH69,AK69)>0,DN69,""),"") | DQ69: =IF(AND(DO69="",DP69=""),IF(COUNTA(AL69:BD69)>0,DN69,""),"") | DR69: =IF(DQ69="",1,2) -> 1 | DS69: =IF(AND(DR69=#REF!,BL69=#REF!),'Tiến độ'!D69,"") -> #REF!
A70: =IF(B70="","",MAX($A$7:A69)+1) | C70: Đồ án Thiết kế đường | D70: DC3DB44 | E70: 2 | F70: 30 | H70: =H69 -> 2 | I70: =I69 -> 105 | K70: 2 | L70: 2 | M70: 2 | N70: 2 | O70: 2 | P70: 2 | Q70: 2 | R70: 2 | S70: 2 | T70: 2 | U70: 2 | V70: 2 | W70: 2 | X70: 2 | Y70: 2 | Z70: Φ | AA70: Φ | AB70: Φ | AC70: Φ | AD70: KP | AE70: KP | AF70: KP | AG70: KP | AH70: KP | AK70: KP | BK70: Lý thuyết | BL70: Đường | BN70: =IF(ISERROR(K70-0)=TRUE,0,$H70*K70) -> 4 | BO70: =IF(ISERROR(L70-0)=TRUE,0,$H70*L70) -> 4 | BP70: =IF(ISERROR(M70-0)=TRUE,0,$H70*M70) -> 4 | BQ70: =IF(ISERROR(N70-0)=TRUE,0,$H70*N70) -> 4 | BR70: =IF(ISERROR(O70-0)=TRUE,0,$H70*O70) -> 4 | BS70: =IF(ISERROR(P70-0)=TRUE,0,$H70*P70) -> 4 | BT70: =IF(ISERROR(Q70-0)=TRUE,0,$H70*Q70) -> 4 | BU70: =IF(ISERROR(R70-0)=TRUE,0,$H70*R70) -> 4 | ... DM70: =IF(ISERROR(BJ70-0)=TRUE,0,$H70*BJ70) -> 0 | DN70: =I70*1 -> 105 | DO70: =IF(COUNTA(K70:AC70)>0,DN70,"") -> 105 | DP70: =IF(DO70="",IF(COUNT(AD70:AH70,AK70)>0,DN70,""),"") | DQ70: =IF(AND(DO70="",DP70=""),IF(COUNTA(AL70:BD70)>0,DN70,""),"") | DR70: =IF(DQ70="",1,2) -> 1 | DS70: =IF(AND(DR70=#REF!,BL70=#REF!),'Tiến độ'!D70,"") -> #REF!
A71: =IF(B71="","",MAX($A$7:A70)+1) | C71: Tin học ứng dụng | D71: DC3CD60 | E71: 2 | F71: 45 | H71: =H70 -> 2 | I71: =I70 -> 105 | K71: 3 | L71: 3 | M71: 3 | N71: 3 | O71: 3 | P71: 3 | Q71: 3 | R71: 3 | S71: 3 | T71: 3 | U71: 3 | V71: 3 | W71: 3 | X71: 3 | Y71: 3 | Z71: Φ | AA71: Φ | AB71: Φ | AC71: Φ | AD71: KP | AE71: KP | AF71: KP | AG71: KP | AH71: KP | AK71: KP | BK71: Tin ứng dụng | BL71: Tin học công trình | BN71: =IF(ISERROR(K71-0)=TRUE,0,$H71*K71) -> 6 | BO71: =IF(ISERROR(L71-0)=TRUE,0,$H71*L71) -> 6 | BP71: =IF(ISERROR(M71-0)=TRUE,0,$H71*M71) -> 6 | BQ71: =IF(ISERROR(N71-0)=TRUE,0,$H71*N71) -> 6 | BR71: =IF(ISERROR(O71-0)=TRUE,0,$H71*O71) -> 6 | BS71: =IF(ISERROR(P71-0)=TRUE,0,$H71*P71) -> 6 | BT71: =IF(ISERROR(Q71-0)=TRUE,0,$H71*Q71) -> 6 | BU71: =IF(ISERROR(R71-0)=TRUE,0,$H71*R71) -> 6 | ... DM71: =IF(ISERROR(BJ71-0)=TRUE,0,$H71*BJ71) -> 0 | DN71: =(15+30/1.5*2)*H71 -> 110 | DO71: =IF(COUNTA(K71:AC71)>0,DN71,"") -> 110 | DP71: =IF(DO71="",IF(COUNT(AD71:AH71,AK71)>0,DN71,""),"") | DQ71: =IF(AND(DO71="",DP71=""),IF(COUNTA(AL71:BD71)>0,DN71,""),"") | DR71: =IF(DQ71="",1,2) -> 1 | DS71: =IF(AND(DR71=#REF!,BL71=#REF!),'Tiến độ'!D71,"") -> #REF!
A72: =IF(B72="","",MAX($A$7:A71)+1) | C72: Lý thuyết xác suất thống kê | D72: DC1CB20 | E72: 2 | F72: 30 | H72: =H71 -> 2 | I72: =47+56 -> 103 | J72: HỌC BÙ | AD72: 6 | AE72: 6 | AF72: 6 | AG72: 6 | AH72: 6 | AK72: Φ | BK72: Lý thuyết | BL72: Toán | BN72: =IF(ISERROR(K72-0)=TRUE,0,$H72*K72) -> 0 | BO72: =IF(ISERROR(L72-0)=TRUE,0,$H72*L72) -> 0 | BP72: =IF(ISERROR(M72-0)=TRUE,0,$H72*M72) -> 0 | BQ72: =IF(ISERROR(N72-0)=TRUE,0,$H72*N72) -> 0 | BR72: =IF(ISERROR(O72-0)=TRUE,0,$H72*O72) -> 0 | BS72: =IF(ISERROR(P72-0)=TRUE,0,$H72*P72) -> 0 | BT72: =IF(ISERROR(Q72-0)=TRUE,0,$H72*Q72) -> 0 | BU72: =IF(ISERROR(R72-0)=TRUE,0,$H72*R72) -> 0 | ... DM72: =IF(ISERROR(BJ72-0)=TRUE,0,$H72*BJ72) -> 0 | DN72: =F72*H72 -> 60 | DO72: =IF(COUNTA(K72:AC72)>0,DN72,"") | DP72: =IF(DO72="",IF(COUNT(AD72:AH72,AK72)>0,DN72,""),"") -> 60 | DQ72: =IF(AND(DO72="",DP72=""),IF(COUNTA(AL72:BD72)>0,DN72,""),"") | DR72: =IF(DQ72="",1,2) -> 1 | DS72: =IF(AND(DR72=#REF!,BL72=#REF!),'Tiến độ'!D72,"") -> #REF!
A73: =IF(B73="","",MAX($A$7:A72)+1) | C73: Toán 3 | D73: DC1CB13 | E73: 4 | F73: 60 | H73: 1 | I73: =10+35 -> 45 | J73: HỌC BÙ | K73: 4 | L73: 4 | M73: 4 | N73: 4 | O73: 4 | P73: 4 | Q73: 4 | R73: 4 | S73: 4 | T73: 4 | U73: 4 | V73: 4 | W73: 4 | X73: 4 | Y73: 4 | Z73: Φ | AA73: Φ | AB73: Φ | AC73: Φ | AD73: KP | AE73: KP | AF73: KP | AG73: KP | AH73: KP | AK73: KP | BK73: Lý thuyết | BL73: Toán | BN73: =IF(ISERROR(K73-0)=TRUE,0,$H73*K73) -> 4 | BO73: =IF(ISERROR(L73-0)=TRUE,0,$H73*L73) -> 4 | BP73: =IF(ISERROR(M73-0)=TRUE,0,$H73*M73) -> 4 | BQ73: =IF(ISERROR(N73-0)=TRUE,0,$H73*N73) -> 4 | BR73: =IF(ISERROR(O73-0)=TRUE,0,$H73*O73) -> 4 | BS73: =IF(ISERROR(P73-0)=TRUE,0,$H73*P73) -> 4 | BT73: =IF(ISERROR(Q73-0)=TRUE,0,$H73*Q73) -> 4 | BU73: =IF(ISERROR(R73-0)=TRUE,0,$H73*R73) -> 4 | ... DM73: =IF(ISERROR(BJ73-0)=TRUE,0,$H73*BJ73) -> 0 | DN73: =F73*H73 -> 60 | DO73: =IF(COUNTA(K73:AC73)>0,DN73,"") -> 60 | DP73: =IF(DO73="",IF(COUNT(AD73:AH73,AK73)>0,DN73,""),"") | DQ73: =IF(AND(DO73="",DP73=""),IF(COUNTA(AL73:BD73)>0,DN73,""),"") | DR73: =IF(DQ73="",1,2) -> 1 | DS73: =IF(AND(DR73=#REF!,BL73=#REF!),'Tiến độ'!D73,"") -> #REF!
A74: =IF(B74="","",MAX($A$7:A73)+1) | C74: Tổ chức thi công công trình xây dựng | D74: DC3CD53 | E74: 3 | F74: 45 | H74: =H72 -> 2 | I74: =I71 -> 105 | AT74: 6 | AU74: 6 | AV74: 6 | AW74: 6 | AX74: 6 | AY74: 6 | AZ74: 6 | BA74: 3 | BB74: Φ | BC74: Φ | BD74: Φ | BK74: Lý thuyết | BL74: Cầu + Đường | BN74: =IF(ISERROR(K74-0)=TRUE,0,$H74*K74) -> 0 | BO74: =IF(ISERROR(L74-0)=TRUE,0,$H74*L74) -> 0 | BP74: =IF(ISERROR(M74-0)=TRUE,0,$H74*M74) -> 0 | BQ74: =IF(ISERROR(N74-0)=TRUE,0,$H74*N74) -> 0 | BR74: =IF(ISERROR(O74-0)=TRUE,0,$H74*O74) -> 0 | BS74: =IF(ISERROR(P74-0)=TRUE,0,$H74*P74) -> 0 | BT74: =IF(ISERROR(Q74-0)=TRUE,0,$H74*Q74) -> 0 | BU74: =IF(ISERROR(R74-0)=TRUE,0,$H74*R74) -> 0 | ... DM74: =IF(ISERROR(BJ74-0)=TRUE,0,$H74*BJ74) -> 0 | DN74: =F74*H74 -> 90 | DO74: =IF(COUNTA(K74:AC74)>0,DN74,"") | DP74: =IF(DO74="",IF(COUNT(AD74:AH74,AK74)>0,DN74,""),"") | DQ74: =IF(AND(DO74="",DP74=""),IF(COUNTA(AL74:BD74)>0,DN74,""),"") -> 90 | DR74: =IF(DQ74="",1,2) -> 2 | DS74: =IF(AND(DR74=#REF!,BL74=#REF!),'Tiến độ'!D74,"") -> #REF!
A75: =IF(B75="","",MAX($A$7:A74)+1) | C75: Quản lý khai thác và kiểm định đường | D75: DC3DB61 | E75: 2 | F75: 30 | H75: =H74 -> 2 | I75: =I74 -> 105 | AT75: 4 | AU75: 4 | AV75: 4 | AW75: 4 | AX75: 4 | AY75: 4 | AZ75: 4 | BA75: 2 | BB75: Φ | BC75: Φ | BD75: Φ | BK75: Lý thuyết | BL75: Đường | BN75: =IF(ISERROR(K75-0)=TRUE,0,$H75*K75) -> 0 | BO75: =IF(ISERROR(L75-0)=TRUE,0,$H75*L75) -> 0 | BP75: =IF(ISERROR(M75-0)=TRUE,0,$H75*M75) -> 0 | BQ75: =IF(ISERROR(N75-0)=TRUE,0,$H75*N75) -> 0 | BR75: =IF(ISERROR(O75-0)=TRUE,0,$H75*O75) -> 0 | BS75: =IF(ISERROR(P75-0)=TRUE,0,$H75*P75) -> 0 | BT75: =IF(ISERROR(Q75-0)=TRUE,0,$H75*Q75) -> 0 | BU75: =IF(ISERROR(R75-0)=TRUE,0,$H75*R75) -> 0 | ... DM75: =IF(ISERROR(BJ75-0)=TRUE,0,$H75*BJ75) -> 0 | DN75: =F75*H75 -> 60 | DO75: =IF(COUNTA(K75:AC75)>0,DN75,"") | DP75: =IF(DO75="",IF(COUNT(AD75:AH75,AK75)>0,DN75,""),"") | DQ75: =IF(AND(DO75="",DP75=""),IF(COUNTA(AL75:BD75)>0,DN75,""),"") -> 60 | DR75: =IF(DQ75="",1,2) -> 2 | DS75: =IF(AND(DR75=#REF!,BL75=#REF!),'Tiến độ'!D75,"") -> #REF!
A76: =IF(B76="","",MAX($A$7:A75)+1) | C76: Quản lý khai thác và kiểm định cầu | D76: DC3CA61 | E76: 2 | F76: 30 | H76: =H75 -> 2 | I76: =I75 -> 105 | AT76: 4 | AU76: 4 | AV76: 4 | AW76: 4 | AX76: 4 | AY76: 4 | AZ76: 4 | BA76: 2 | BB76: Φ | BC76: Φ | BD76: Φ | BK76: Lý thuyết | BL76: Cầu | BN76: =IF(ISERROR(K76-0)=TRUE,0,$H76*K76) -> 0 | BO76: =IF(ISERROR(L76-0)=TRUE,0,$H76*L76) -> 0 | BP76: =IF(ISERROR(M76-0)=TRUE,0,$H76*M76) -> 0 | BQ76: =IF(ISERROR(N76-0)=TRUE,0,$H76*N76) -> 0 | BR76: =IF(ISERROR(O76-0)=TRUE,0,$H76*O76) -> 0 | BS76: =IF(ISERROR(P76-0)=TRUE,0,$H76*P76) -> 0 | BT76: =IF(ISERROR(Q76-0)=TRUE,0,$H76*Q76) -> 0 | BU76: =IF(ISERROR(R76-0)=TRUE,0,$H76*R76) -> 0 | ... DM76: =IF(ISERROR(BJ76-0)=TRUE,0,$H76*BJ76) -> 0 | DN76: =F76*H76 -> 60 | DO76: =IF(COUNTA(K76:AC76)>0,DN76,"") | DP76: =IF(DO76="",IF(COUNT(AD76:AH76,AK76)>0,DN76,""),"") | DQ76: =IF(AND(DO76="",DP76=""),IF(COUNTA(AL76:BD76)>0,DN76,""),"") -> 60 | DR76: =IF(DQ76="",1,2) -> 2 | DS76: =IF(AND(DR76=#REF!,BL76=#REF!),'Tiến độ'!D76,"") -> #REF!
A77: =IF(B77="","",MAX($A$7:A76)+1) | C77: Tiếng Anh 3 | D77: DC3CD33 | E77: 3 | F77: 60 | H77: =H76 -> 2 | I77: =I76 -> 105 | AT77: 8 | AU77: 8 | AV77: 8 | AW77: 8 | AX77: 8 | AY77: 8 | AZ77: 8 | BA77: 4 | BB77: Φ | BC77: Φ | BD77: Φ | BK77: Lý thuyết | BL77: Ngoại ngữ | BN77: =IF(ISERROR(K77-0)=TRUE,0,$H77*K77) -> 0 | BO77: =IF(ISERROR(L77-0)=TRUE,0,$H77*L77) -> 0 | BP77: =IF(ISERROR(M77-0)=TRUE,0,$H77*M77) -> 0 | BQ77: =IF(ISERROR(N77-0)=TRUE,0,$H77*N77) -> 0 | BR77: =IF(ISERROR(O77-0)=TRUE,0,$H77*O77) -> 0 | BS77: =IF(ISERROR(P77-0)=TRUE,0,$H77*P77) -> 0 | BT77: =IF(ISERROR(Q77-0)=TRUE,0,$H77*Q77) -> 0 | BU77: =IF(ISERROR(R77-0)=TRUE,0,$H77*R77) -> 0 | ... DM77: =IF(ISERROR(BJ77-0)=TRUE,0,$H77*BJ77) -> 0 | DN77: =F77*H77 -> 120 | DO77: =IF(COUNTA(K77:AC77)>0,DN77,"") | DP77: =IF(DO77="",IF(COUNT(AD77:AH77,AK77)>0,DN77,""),"") | DQ77: =IF(AND(DO77="",DP77=""),IF(COUNTA(AL77:BD77)>0,DN77,""),"") -> 120 | DR77: =IF(DQ77="",1,2) -> 2 | DS77: =IF(AND(DR77=#REF!,BL77=#REF!),'Tiến độ'!D77,"") -> #REF!
A78: =IF(B78="","",MAX($A$7:A77)+1) | C78: Thực tập Thí nghiệm và kiểm định cầu, đường | D78: DC4CD22 | E78: 2 | G78: 90 | H78: =H77 -> 2 | I78: =I77 -> 105 | AT78: 12 | AU78: 12 | AV78: 12 | AW78: 12 | AX78: 12 | AY78: 12 | AZ78: 12 | BA78: 6 | BB78: Φ | BC78: Φ | BD78: Φ | BK78: PTN Kiểm định | BL78: Thí nghiệm công trinh | BN78: =IF(ISERROR(K78-0)=TRUE,0,$H78*K78) -> 0 | BO78: =IF(ISERROR(L78-0)=TRUE,0,$H78*L78) -> 0 | BP78: =IF(ISERROR(M78-0)=TRUE,0,$H78*M78) -> 0 | BQ78: =IF(ISERROR(N78-0)=TRUE,0,$H78*N78) -> 0 | BR78: =IF(ISERROR(O78-0)=TRUE,0,$H78*O78) -> 0 | BS78: =IF(ISERROR(P78-0)=TRUE,0,$H78*P78) -> 0 | BT78: =IF(ISERROR(Q78-0)=TRUE,0,$H78*Q78) -> 0 | BU78: =IF(ISERROR(R78-0)=TRUE,0,$H78*R78) -> 0 | ... DM78: =IF(ISERROR(BJ78-0)=TRUE,0,$H78*BJ78) -> 0 | DN78: =20*2*E78*H78 -> 160 | DO78: =IF(COUNTA(K78:AC78)>0,DN78,"") | DP78: =IF(DO78="",IF(COUNT(AD78:AH78,AK78)>0,DN78,""),"") | DQ78: =IF(AND(DO78="",DP78=""),IF(COUNTA(AL78:BD78)>0,DN78,""),"") -> 160 | DR78: =IF(DQ78="",1,2) -> 2 | DS78: =IF(AND(DR78=#REF!,BL78=#REF!),'Tiến độ'!D78,"") -> #REF!
A79: =IF(B79="","",MAX($A$7:A78)+1) | C79: Thực tập Kỹ thuật thi công cơ bản | D79: DC4CT13 | E79: 3 | G79: 135 | H79: =H78 -> 2 | I79: =I78 -> 105 | AQ79: X | AR79: X | AS79: X | BK79: Xưởng CT | BL79: Xưởng công trình | BN79: =IF(ISERROR(K79-0)=TRUE,0,$H79*K79) -> 0 | BO79: =IF(ISERROR(L79-0)=TRUE,0,$H79*L79) -> 0 | BP79: =IF(ISERROR(M79-0)=TRUE,0,$H79*M79) -> 0 | BQ79: =IF(ISERROR(N79-0)=TRUE,0,$H79*N79) -> 0 | BR79: =IF(ISERROR(O79-0)=TRUE,0,$H79*O79) -> 0 | BS79: =IF(ISERROR(P79-0)=TRUE,0,$H79*P79) -> 0 | BT79: =IF(ISERROR(Q79-0)=TRUE,0,$H79*Q79) -> 0 | BU79: =IF(ISERROR(R79-0)=TRUE,0,$H79*R79) -> 0 | ... DM79: =IF(ISERROR(BJ79-0)=TRUE,0,$H79*BJ79) -> 0 | DN79: =45*H79*2 -> 180 | DO79: =IF(COUNTA(K79:AC79)>0,DN79,"") | DP79: =IF(DO79="",IF(COUNT(AD79:AH79,AK79)>0,DN79,""),"") | DQ79: =IF(AND(DO79="",DP79=""),IF(COUNTA(AL79:BD79)>0,DN79,""),"") -> 180 | DR79: =IF(DQ79="",1,2) -> 2 | DS79: =IF(AND(DR79=#REF!,BL79=#REF!),'Tiến độ'!D79,"") -> #REF!
A80: =IF(B80="","",MAX($A$7:A79)+1) | C80: Thực tập Khảo sát thiết kế cầu, đường | D80: DC4CD21 | E80: 5 | G80: 225 | H80: =H79 -> 2 | I80: =I79 -> 105 | AL80: KS | AM80: KS | AN80: KS | AO80: KS | AP80: KS | BL80: Đo đạc - Khảo sát công trình | BN80: =IF(ISERROR(K80-0)=TRUE,0,$H80*K80) -> 0 | BO80: =IF(ISERROR(L80-0)=TRUE,0,$H80*L80) -> 0 | BP80: =IF(ISERROR(M80-0)=TRUE,0,$H80*M80) -> 0 | BQ80: =IF(ISERROR(N80-0)=TRUE,0,$H80*N80) -> 0 | BR80: =IF(ISERROR(O80-0)=TRUE,0,$H80*O80) -> 0 | BS80: =IF(ISERROR(P80-0)=TRUE,0,$H80*P80) -> 0 | BT80: =IF(ISERROR(Q80-0)=TRUE,0,$H80*Q80) -> 0 | BU80: =IF(ISERROR(R80-0)=TRUE,0,$H80*R80) -> 0 | ... DM80: =IF(ISERROR(BJ80-0)=TRUE,0,$H80*BJ80) -> 0 | DN80: =60*2*H80 -> 240 | DO80: =IF(COUNTA(K80:AC80)>0,DN80,"") | DP80: =IF(DO80="",IF(COUNT(AD80:AH80,AK80)>0,DN80,""),"") | DQ80: =IF(AND(DO80="",DP80=""),IF(COUNTA(AL80:BD80)>0,DN80,""),"") -> 240 | DR80: =IF(DQ80="",1,2) -> 2 | DS80: =IF(AND(DR80=#REF!,BL80=#REF!),'Tiến độ'!D80,"") -> #REF!
A81: =IF(B81="","",MAX($A$7:A80)+1) | C81: TỔNG TC - TỔNG TIẾT / LỚP / TUẦN | E81: =SUM(E65:E80) -> 44 | K81: =SUM(K65:K80) -> 23 | L81: =SUM(L65:L80) -> 23 | M81: =SUM(M65:M80) -> 23 | N81: =SUM(N65:N80) -> 23 | O81: =SUM(O65:O80) -> 23 | P81: =SUM(P65:P80) -> 23 | Q81: =SUM(Q65:Q80) -> 23 | R81: =SUM(R65:R80) -> 23 | ... AH81: =SUM(AH65:AH80) -> 6 | AK81: =SUM(AK65:AK80) -> 0 | AL81: =SUM(AL65:AL80) -> 0 | AM81: =SUM(AM65:AM80) -> 0 | AN81: =SUM(AN65:AN80) -> 0 | AO81: =SUM(AO65:AO80) -> 0 | AP81: =SUM(AP65:AP80) -> 0 | AQ81: =SUM(AQ65:AQ80) -> 0 | AR81: =SUM(AR65:AR80) -> 0 | ... BD81: =SUM(BD65:BD80) -> 0 | BN81: =IF(ISERROR(K81-0)=TRUE,0,$H81*K81) -> 0 | BO81: =IF(ISERROR(L81-0)=TRUE,0,$H81*L81) -> 0 | BP81: =IF(ISERROR(M81-0)=TRUE,0,$H81*M81) -> 0 | BQ81: =IF(ISERROR(N81-0)=TRUE,0,$H81*N81) -> 0 | BR81: =IF(ISERROR(O81-0)=TRUE,0,$H81*O81) -> 0 | BS81: =IF(ISERROR(P81-0)=TRUE,0,$H81*P81) -> 0 | BT81: =IF(ISERROR(Q81-0)=TRUE,0,$H81*Q81) -> 0 | BU81: =IF(ISERROR(R81-0)=TRUE,0,$H81*R81) -> 0 | ... DM81: =IF(ISERROR(BJ81-0)=TRUE,0,$H81*BJ81) -> 0 | DS81: =IF(AND(DR81=#REF!,BL81=#REF!),'Tiến độ'!D81,"") -> #REF!
A82: =IF(B82="","",MAX($A$7:A81)+1) -> 11 | B82: 64CS | C82: Đồ án Thiết kế đường sắt | D82: DC3DS44 | E82: 2 | F82: 30 | H82: 1 | I82: =62 -> 62 | K82: 2 | L82: 2 | M82: 2 | N82: 2 | O82: 2 | P82: 2 | Q82: 2 | R82: 2 | S82: 2 | T82: 2 | U82: 2 | V82: 2 | W82: 2 | X82: 2 | Y82: 2 | Z82: Φ | AA82: Φ | AB82: Φ | AC82: Φ | AD82: KP | AE82: KP | AF82: KP | AG82: KP | AH82: KP | AK82: KP | BK82: Lý thuyết | BL82: Đường sắt | BN82: =IF(ISERROR(K82-0)=TRUE,0,$H82*K82) -> 2 | BO82: =IF(ISERROR(L82-0)=TRUE,0,$H82*L82) -> 2 | BP82: =IF(ISERROR(M82-0)=TRUE,0,$H82*M82) -> 2 | BQ82: =IF(ISERROR(N82-0)=TRUE,0,$H82*N82) -> 2 | BR82: =IF(ISERROR(O82-0)=TRUE,0,$H82*O82) -> 2 | BS82: =IF(ISERROR(P82-0)=TRUE,0,$H82*P82) -> 2 | BT82: =IF(ISERROR(Q82-0)=TRUE,0,$H82*Q82) -> 2 | BU82: =IF(ISERROR(R82-0)=TRUE,0,$H82*R82) -> 2 | ... DM82: =IF(ISERROR(BJ82-0)=TRUE,0,$H82*BJ82) -> 0 | DN82: =I82*1 -> 62 | DO82: =IF(COUNTA(K82:AC82)>0,DN82,"") -> 62 | DP82: =IF(DO82="",IF(COUNT(AD82:AH82,AK82)>0,DN82,""),"") | DQ82: =IF(AND(DO82="",DP82=""),IF(COUNTA(AL82:BD82)>0,DN82,""),"") | DR82: =IF(DQ82="",1,2) -> 1 | DS82: =IF(AND(DR82=#REF!,BL82=#REF!),'Tiến độ'!D82,"") -> #REF!
A83: =IF(B83="","",MAX($A$7:A82)+1) | C83: Đồ án Thiết kế cầu | D83: DC3CA44 | E83: 2 | F83: 30 | H83: =H82 -> 1 | I83: =I82 -> 62 | K83: 2 | L83: 2 | M83: 2 | N83: 2 | O83: 2 | P83: 2 | Q83: 2 | R83: 2 | S83: 2 | T83: 2 | U83: 2 | V83: 2 | W83: 2 | X83: 2 | Y83: 2 | Z83: Φ | AA83: Φ | AB83: Φ | AC83: Φ | AD83: KP | AE83: KP | AF83: KP | AG83: KP | AH83: KP | AK83: KP | BK83: Lý thuyết | BL83: Cầu | BN83: =IF(ISERROR(K83-0)=TRUE,0,$H83*K83) -> 2 | BO83: =IF(ISERROR(L83-0)=TRUE,0,$H83*L83) -> 2 | BP83: =IF(ISERROR(M83-0)=TRUE,0,$H83*M83) -> 2 | BQ83: =IF(ISERROR(N83-0)=TRUE,0,$H83*N83) -> 2 | BR83: =IF(ISERROR(O83-0)=TRUE,0,$H83*O83) -> 2 | BS83: =IF(ISERROR(P83-0)=TRUE,0,$H83*P83) -> 2 | BT83: =IF(ISERROR(Q83-0)=TRUE,0,$H83*Q83) -> 2 | BU83: =IF(ISERROR(R83-0)=TRUE,0,$H83*R83) -> 2 | ... DM83: =IF(ISERROR(BJ83-0)=TRUE,0,$H83*BJ83) -> 0 | DN83: =I83*1 -> 62 | DO83: =IF(COUNTA(K83:AC83)>0,DN83,"") -> 62 | DP83: =IF(DO83="",IF(COUNT(AD83:AH83,AK83)>0,DN83,""),"") | DQ83: =IF(AND(DO83="",DP83=""),IF(COUNTA(AL83:BD83)>0,DN83,""),"") | DR83: =IF(DQ83="",1,2) -> 1 | DS83: =IF(AND(DR83=#REF!,BL83=#REF!),'Tiến độ'!D83,"") -> #REF!
A84: =IF(B84="","",MAX($A$7:A83)+1) | C84: Kỹ thuật thi công nền đường sắt | D84: DC3DS51 | E84: 3 | F84: 45 | H84: =H83 -> 1 | I84: =I83 -> 62 | K84: 3 | L84: 3 | M84: 3 | N84: 3 | O84: 3 | P84: 3 | Q84: 3 | R84: 3 | S84: 3 | T84: 3 | U84: 3 | V84: 3 | W84: 3 | X84: 3 | Y84: 3 | Z84: Φ | AA84: Φ | AB84: Φ | AC84: Φ | AD84: KP | AE84: KP | AF84: KP | AG84: KP | AH84: KP | AK84: KP | BK84: Lý thuyết | BL84: Đường sắt | BN84: =IF(ISERROR(K84-0)=TRUE,0,$H84*K84) -> 3 | BO84: =IF(ISERROR(L84-0)=TRUE,0,$H84*L84) -> 3 | BP84: =IF(ISERROR(M84-0)=TRUE,0,$H84*M84) -> 3 | BQ84: =IF(ISERROR(N84-0)=TRUE,0,$H84*N84) -> 3 | BR84: =IF(ISERROR(O84-0)=TRUE,0,$H84*O84) -> 3 | BS84: =IF(ISERROR(P84-0)=TRUE,0,$H84*P84) -> 3 | BT84: =IF(ISERROR(Q84-0)=TRUE,0,$H84*Q84) -> 3 | BU84: =IF(ISERROR(R84-0)=TRUE,0,$H84*R84) -> 3 | ... DM84: =IF(ISERROR(BJ84-0)=TRUE,0,$H84*BJ84) -> 0 | DN84: =F84*H84 -> 45 | DO84: =IF(COUNTA(K84:AC84)>0,DN84,"") -> 45 | DP84: =IF(DO84="",IF(COUNT(AD84:AH84,AK84)>0,DN84,""),"") | DQ84: =IF(AND(DO84="",DP84=""),IF(COUNTA(AL84:BD84)>0,DN84,""),"") | DR84: =IF(DQ84="",1,2) -> 1 | DS84: =IF(AND(DR84=#REF!,BL84=#REF!),'Tiến độ'!D84,"") -> #REF!
A85: =IF(B85="","",MAX($A$7:A84)+1) | C85: Kỹ thuật thi công KC tầng trên đường sắt | D85: DC3DS52 | E85: 3 | F85: 45 | H85: =H84 -> 1 | I85: =I84 -> 62 | K85: 3 | L85: 3 | M85: 3 | N85: 3 | O85: 3 | P85: 3 | Q85: 3 | R85: 3 | S85: 3 | T85: 3 | U85: 3 | V85: 3 | W85: 3 | X85: 3 | Y85: 3 | Z85: Φ | AA85: Φ | AB85: Φ | AC85: Φ | AD85: KP | AE85: KP | AF85: KP | AG85: KP | AH85: KP | AK85: KP | BK85: Lý thuyết | BL85: Đường sắt | BN85: =IF(ISERROR(K85-0)=TRUE,0,$H85*K85) -> 3 | BO85: =IF(ISERROR(L85-0)=TRUE,0,$H85*L85) -> 3 | BP85: =IF(ISERROR(M85-0)=TRUE,0,$H85*M85) -> 3 | BQ85: =IF(ISERROR(N85-0)=TRUE,0,$H85*N85) -> 3 | BR85: =IF(ISERROR(O85-0)=TRUE,0,$H85*O85) -> 3 | BS85: =IF(ISERROR(P85-0)=TRUE,0,$H85*P85) -> 3 | BT85: =IF(ISERROR(Q85-0)=TRUE,0,$H85*Q85) -> 3 | BU85: =IF(ISERROR(R85-0)=TRUE,0,$H85*R85) -> 3 | ... DM85: =IF(ISERROR(BJ85-0)=TRUE,0,$H85*BJ85) -> 0 | DN85: =F85*H85 -> 45 | DO85: =IF(COUNTA(K85:AC85)>0,DN85,"") -> 45 | DP85: =IF(DO85="",IF(COUNT(AD85:AH85,AK85)>0,DN85,""),"") | DQ85: =IF(AND(DO85="",DP85=""),IF(COUNTA(AL85:BD85)>0,DN85,""),"") | DR85: =IF(DQ85="",1,2) -> 1 | DS85: =IF(AND(DR85=#REF!,BL85=#REF!),'Tiến độ'!D85,"") -> #REF!
A86: =IF(B86="","",MAX($A$7:A85)+1) | C86: Kỹ thuật thi công cầu 2 | D86: DC3CA52 | E86: 3 | F86: 45 | H86: =H85 -> 1 | I86: =I85 -> 62 | K86: 3 | L86: 3 | M86: 3 | N86: 3 | O86: 3 | P86: 3 | Q86: 3 | R86: 3 | S86: 3 | T86: 3 | U86: 3 | V86: 3 | W86: 3 | X86: 3 | Y86: 3 | Z86: Φ | AA86: Φ | AB86: Φ | AC86: Φ | AD86: KP | AE86: KP | AF86: KP | AG86: KP | AH86: KP | AK86: KP | BK86: Lý thuyết | BL86: Cầu | BN86: =IF(ISERROR(K86-0)=TRUE,0,$H86*K86) -> 3 | BO86: =IF(ISERROR(L86-0)=TRUE,0,$H86*L86) -> 3 | BP86: =IF(ISERROR(M86-0)=TRUE,0,$H86*M86) -> 3 | BQ86: =IF(ISERROR(N86-0)=TRUE,0,$H86*N86) -> 3 | BR86: =IF(ISERROR(O86-0)=TRUE,0,$H86*O86) -> 3 | BS86: =IF(ISERROR(P86-0)=TRUE,0,$H86*P86) -> 3 | BT86: =IF(ISERROR(Q86-0)=TRUE,0,$H86*Q86) -> 3 | BU86: =IF(ISERROR(R86-0)=TRUE,0,$H86*R86) -> 3 | ... DM86: =IF(ISERROR(BJ86-0)=TRUE,0,$H86*BJ86) -> 0 | DN86: =F86*H86 -> 45 | DO86: =IF(COUNTA(K86:AC86)>0,DN86,"") -> 45 | DP86: =IF(DO86="",IF(COUNT(AD86:AH86,AK86)>0,DN86,""),"") | DQ86: =IF(AND(DO86="",DP86=""),IF(COUNTA(AL86:BD86)>0,DN86,""),"") | DR86: =IF(DQ86="",1,2) -> 1 | DS86: =IF(AND(DR86=#REF!,BL86=#REF!),'Tiến độ'!D86,"") -> #REF!
A87: =IF(B87="","",MAX($A$7:A86)+1) | C87: Kỹ thuật thi công cầu 1 | D87: DC3CA51 | E87: 3 | F87: 45 | H87: =H86 -> 1 | I87: =I86 -> 62 | K87: 3 | L87: 3 | M87: 3 | N87: 3 | O87: 3 | P87: 3 | Q87: 3 | R87: 3 | S87: 3 | T87: 3 | U87: 3 | V87: 3 | W87: 3 | X87: 3 | Y87: 3 | Z87: Φ | AA87: Φ | AB87: Φ | AC87: Φ | AD87: KP | AE87: KP | AF87: KP | AG87: KP | AH87: KP | AK87: KP | BK87: Lý thuyết | BL87: Cầu | BN87: =IF(ISERROR(K87-0)=TRUE,0,$H87*K87) -> 3 | BO87: =IF(ISERROR(L87-0)=TRUE,0,$H87*L87) -> 3 | BP87: =IF(ISERROR(M87-0)=TRUE,0,$H87*M87) -> 3 | BQ87: =IF(ISERROR(N87-0)=TRUE,0,$H87*N87) -> 3 | BR87: =IF(ISERROR(O87-0)=TRUE,0,$H87*O87) -> 3 | BS87: =IF(ISERROR(P87-0)=TRUE,0,$H87*P87) -> 3 | BT87: =IF(ISERROR(Q87-0)=TRUE,0,$H87*Q87) -> 3 | BU87: =IF(ISERROR(R87-0)=TRUE,0,$H87*R87) -> 3 | ... DM87: =IF(ISERROR(BJ87-0)=TRUE,0,$H87*BJ87) -> 0 | DN87: =F87*H87 -> 45 | DO87: =IF(COUNTA(K87:AC87)>0,DN87,"") -> 45 | DP87: =IF(DO87="",IF(COUNT(AD87:AH87,AK87)>0,DN87,""),"") | DQ87: =IF(AND(DO87="",DP87=""),IF(COUNTA(AL87:BD87)>0,DN87,""),"") | DR87: =IF(DQ87="",1,2) -> 1 | DS87: =IF(AND(DR87=#REF!,BL87=#REF!),'Tiến độ'!D87,"") -> #REF!
A88: =IF(B88="","",MAX($A$7:A87)+1) | C88: Tin học ứng dụng | D88: DC3CS60 | E88: 2 | F88: 45 | H88: =H87 -> 1 | I88: =I87 -> 62 | K88: 3 | L88: 3 | M88: 3 | N88: 3 | O88: 3 | P88: 3 | Q88: 3 | R88: 3 | S88: 3 | T88: 3 | U88: 3 | V88: 3 | W88: 3 | X88: 3 | Y88: 3 | Z88: Φ | AA88: Φ | AB88: Φ | AC88: Φ | AD88: KP | AE88: KP | AF88: KP | AG88: KP | AH88: KP | AK88: KP | BK88: Tin ứng dụng | BL88: Tin học công trình | BN88: =IF(ISERROR(K88-0)=TRUE,0,$H88*K88) -> 3 | BO88: =IF(ISERROR(L88-0)=TRUE,0,$H88*L88) -> 3 | BP88: =IF(ISERROR(M88-0)=TRUE,0,$H88*M88) -> 3 | BQ88: =IF(ISERROR(N88-0)=TRUE,0,$H88*N88) -> 3 | BR88: =IF(ISERROR(O88-0)=TRUE,0,$H88*O88) -> 3 | BS88: =IF(ISERROR(P88-0)=TRUE,0,$H88*P88) -> 3 | BT88: =IF(ISERROR(Q88-0)=TRUE,0,$H88*Q88) -> 3 | BU88: =IF(ISERROR(R88-0)=TRUE,0,$H88*R88) -> 3 | ... DM88: =IF(ISERROR(BJ88-0)=TRUE,0,$H88*BJ88) -> 0 | DN88: =(15+30/1.5*2)*H88 -> 55 | DO88: =IF(COUNTA(K88:AC88)>0,DN88,"") -> 55 | DP88: =IF(DO88="",IF(COUNT(AD88:AH88,AK88)>0,DN88,""),"") | DQ88: =IF(AND(DO88="",DP88=""),IF(COUNTA(AL88:BD88)>0,DN88,""),"") | DR88: =IF(DQ88="",1,2) -> 1 | DS88: =IF(AND(DR88=#REF!,BL88=#REF!),'Tiến độ'!D88,"") -> #REF!
A89: =IF(B89="","",MAX($A$7:A88)+1) | C89: Lý thuyết xác suất thống kê | D89: DC1CB20 | E89: 2 | F89: 30 | H89: =H88 -> 1 | I89: =I88 -> 62 | J89: HỌC BÙ | AD89: 6 | AE89: 6 | AF89: 6 | AG89: 6 | AH89: 6 | AK89: Φ | BK89: Lý thuyết | BL89: Toán | BN89: =IF(ISERROR(K89-0)=TRUE,0,$H89*K89) -> 0 | BO89: =IF(ISERROR(L89-0)=TRUE,0,$H89*L89) -> 0 | BP89: =IF(ISERROR(M89-0)=TRUE,0,$H89*M89) -> 0 | BQ89: =IF(ISERROR(N89-0)=TRUE,0,$H89*N89) -> 0 | BR89: =IF(ISERROR(O89-0)=TRUE,0,$H89*O89) -> 0 | BS89: =IF(ISERROR(P89-0)=TRUE,0,$H89*P89) -> 0 | BT89: =IF(ISERROR(Q89-0)=TRUE,0,$H89*Q89) -> 0 | BU89: =IF(ISERROR(R89-0)=TRUE,0,$H89*R89) -> 0 | ... DM89: =IF(ISERROR(BJ89-0)=TRUE,0,$H89*BJ89) -> 0 | DN89: =F89*H89 -> 30 | DO89: =IF(COUNTA(K89:AC89)>0,DN89,"") | DP89: =IF(DO89="",IF(COUNT(AD89:AH89,AK89)>0,DN89,""),"") -> 30 | DQ89: =IF(AND(DO89="",DP89=""),IF(COUNTA(AL89:BD89)>0,DN89,""),"") | DR89: =IF(DQ89="",1,2) -> 1 | DS89: =IF(AND(DR89=#REF!,BL89=#REF!),'Tiến độ'!D89,"") -> #REF!
A90: =IF(B90="","",MAX($A$7:A89)+1) | C90: Toán 3 | D90: DC1CB13 | E90: 4 | F90: 60 | H90: 1 | I90: 57 | J90: HỌC BÙ | K90: 4 | L90: 4 | M90: 4 | N90: 4 | O90: 4 | P90: 4 | Q90: 4 | R90: 4 | S90: 4 | T90: 4 | U90: 4 | V90: 4 | W90: 4 | X90: 4 | Y90: 4 | Z90: Φ | AA90: Φ | AB90: Φ | AC90: Φ | AD90: KP | AE90: KP | AF90: KP | AG90: KP | AH90: KP | AK90: KP | BK90: Lý thuyết | BL90: Toán | BN90: =IF(ISERROR(K90-0)=TRUE,0,$H90*K90) -> 4 | BO90: =IF(ISERROR(L90-0)=TRUE,0,$H90*L90) -> 4 | BP90: =IF(ISERROR(M90-0)=TRUE,0,$H90*M90) -> 4 | BQ90: =IF(ISERROR(N90-0)=TRUE,0,$H90*N90) -> 4 | BR90: =IF(ISERROR(O90-0)=TRUE,0,$H90*O90) -> 4 | BS90: =IF(ISERROR(P90-0)=TRUE,0,$H90*P90) -> 4 | BT90: =IF(ISERROR(Q90-0)=TRUE,0,$H90*Q90) -> 4 | BU90: =IF(ISERROR(R90-0)=TRUE,0,$H90*R90) -> 4 | ... DM90: =IF(ISERROR(BJ90-0)=TRUE,0,$H90*BJ90) -> 0 | DN90: =F90*H90 -> 60 | DO90: =IF(COUNTA(K90:AC90)>0,DN90,"") -> 60 | DP90: =IF(DO90="",IF(COUNT(AD90:AH90,AK90)>0,DN90,""),"") | DQ90: =IF(AND(DO90="",DP90=""),IF(COUNTA(AL90:BD90)>0,DN90,""),"") | DR90: =IF(DQ90="",1,2) -> 1 | DS90: =IF(AND(DR90=#REF!,BL90=#REF!),'Tiến độ'!D90,"") -> #REF!
A91: =IF(B91="","",MAX($A$7:A90)+1) | C91: Tổ chức thi công công trình xây dựng | D91: DC3CS53 | E91: 3 | F91: 45 | H91: =H89 -> 1 | I91: =I89 -> 62 | AT91: 6 | AU91: 6 | AV91: 6 | AW91: 6 | AX91: 6 | AY91: 6 | AZ91: 6 | BA91: 3 | BB91: Φ | BC91: Φ | BD91: Φ | BK91: Lý thuyết | BL91: Cầu + Đường sắt | BN91: =IF(ISERROR(K91-0)=TRUE,0,$H91*K91) -> 0 | BO91: =IF(ISERROR(L91-0)=TRUE,0,$H91*L91) -> 0 | BP91: =IF(ISERROR(M91-0)=TRUE,0,$H91*M91) -> 0 | BQ91: =IF(ISERROR(N91-0)=TRUE,0,$H91*N91) -> 0 | BR91: =IF(ISERROR(O91-0)=TRUE,0,$H91*O91) -> 0 | BS91: =IF(ISERROR(P91-0)=TRUE,0,$H91*P91) -> 0 | BT91: =IF(ISERROR(Q91-0)=TRUE,0,$H91*Q91) -> 0 | BU91: =IF(ISERROR(R91-0)=TRUE,0,$H91*R91) -> 0 | ... DM91: =IF(ISERROR(BJ91-0)=TRUE,0,$H91*BJ91) -> 0 | DN91: =F91*H91 -> 45 | DO91: =IF(COUNTA(K91:AC91)>0,DN91,"") | DP91: =IF(DO91="",IF(COUNT(AD91:AH91,AK91)>0,DN91,""),"") | DQ91: =IF(AND(DO91="",DP91=""),IF(COUNTA(AL91:BD91)>0,DN91,""),"") -> 45 | DR91: =IF(DQ91="",1,2) -> 2 | DS91: =IF(AND(DR91=#REF!,BL91=#REF!),'Tiến độ'!D91,"") -> #REF!
A92: =IF(B92="","",MAX($A$7:A91)+1) | C92: Quản lý khai thác và kiểm định đường sắt | D92: DC3DS61 | E92: 2 | F92: 30 | H92: =H91 -> 1 | I92: =I91 -> 62 | AT92: 4 | AU92: 4 | AV92: 4 | AW92: 4 | AX92: 4 | AY92: 4 | AZ92: 4 | BA92: 2 | BB92: Φ | BC92: Φ | BD92: Φ | BK92: Lý thuyết | BL92: Đường sắt | BN92: =IF(ISERROR(K92-0)=TRUE,0,$H92*K92) -> 0 | BO92: =IF(ISERROR(L92-0)=TRUE,0,$H92*L92) -> 0 | BP92: =IF(ISERROR(M92-0)=TRUE,0,$H92*M92) -> 0 | BQ92: =IF(ISERROR(N92-0)=TRUE,0,$H92*N92) -> 0 | BR92: =IF(ISERROR(O92-0)=TRUE,0,$H92*O92) -> 0 | BS92: =IF(ISERROR(P92-0)=TRUE,0,$H92*P92) -> 0 | BT92: =IF(ISERROR(Q92-0)=TRUE,0,$H92*Q92) -> 0 | BU92: =IF(ISERROR(R92-0)=TRUE,0,$H92*R92) -> 0 | ... DM92: =IF(ISERROR(BJ92-0)=TRUE,0,$H92*BJ92) -> 0 | DN92: =F92*H92 -> 30 | DO92: =IF(COUNTA(K92:AC92)>0,DN92,"") | DP92: =IF(DO92="",IF(COUNT(AD92:AH92,AK92)>0,DN92,""),"") | DQ92: =IF(AND(DO92="",DP92=""),IF(COUNTA(AL92:BD92)>0,DN92,""),"") -> 30 | DR92: =IF(DQ92="",1,2) -> 2 | DS92: =IF(AND(DR92=#REF!,BL92=#REF!),'Tiến độ'!D92,"") -> #REF!
A93: =IF(B93="","",MAX($A$7:A92)+1) | C93: Tiếng Anh 3 | D93: DC3DS33 | E93: 3 | F93: 60 | H93: =H92 -> 1 | I93: =I92 -> 62 | AT93: 8 | AU93: 8 | AV93: 8 | AW93: 8 | AX93: 8 | AY93: 8 | AZ93: 8 | BA93: 4 | BB93: Φ | BC93: Φ | BD93: Φ | BK93: Lý thuyết | BL93: Ngoại ngữ | BN93: =IF(ISERROR(K93-0)=TRUE,0,$H93*K93) -> 0 | BO93: =IF(ISERROR(L93-0)=TRUE,0,$H93*L93) -> 0 | BP93: =IF(ISERROR(M93-0)=TRUE,0,$H93*M93) -> 0 | BQ93: =IF(ISERROR(N93-0)=TRUE,0,$H93*N93) -> 0 | BR93: =IF(ISERROR(O93-0)=TRUE,0,$H93*O93) -> 0 | BS93: =IF(ISERROR(P93-0)=TRUE,0,$H93*P93) -> 0 | BT93: =IF(ISERROR(Q93-0)=TRUE,0,$H93*Q93) -> 0 | BU93: =IF(ISERROR(R93-0)=TRUE,0,$H93*R93) -> 0 | ... DM93: =IF(ISERROR(BJ93-0)=TRUE,0,$H93*BJ93) -> 0 | DN93: =F93*H93 -> 60 | DO93: =IF(COUNTA(K93:AC93)>0,DN93,"") | DP93: =IF(DO93="",IF(COUNT(AD93:AH93,AK93)>0,DN93,""),"") | DQ93: =IF(AND(DO93="",DP93=""),IF(COUNTA(AL93:BD93)>0,DN93,""),"") -> 60 | DR93: =IF(DQ93="",1,2) -> 2 | DS93: =IF(AND(DR93=#REF!,BL93=#REF!),'Tiến độ'!D93,"") -> #REF!
A94: =IF(B94="","",MAX($A$7:A93)+1) | C94: Quản lý khai thác và kiểm định cầu | D94: DC3CA61 | E94: 2 | F94: 30 | H94: =H93 -> 1 | I94: =I93 -> 62 | AT94: 4 | AU94: 4 | AV94: 4 | AW94: 4 | AX94: 4 | AY94: 4 | AZ94: 4 | BA94: 2 | BB94: Φ | BC94: Φ | BD94: Φ | BK94: Lý thuyết | BL94: Cầu | BN94: =IF(ISERROR(K94-0)=TRUE,0,$H94*K94) -> 0 | BO94: =IF(ISERROR(L94-0)=TRUE,0,$H94*L94) -> 0 | BP94: =IF(ISERROR(M94-0)=TRUE,0,$H94*M94) -> 0 | BQ94: =IF(ISERROR(N94-0)=TRUE,0,$H94*N94) -> 0 | BR94: =IF(ISERROR(O94-0)=TRUE,0,$H94*O94) -> 0 | BS94: =IF(ISERROR(P94-0)=TRUE,0,$H94*P94) -> 0 | BT94: =IF(ISERROR(Q94-0)=TRUE,0,$H94*Q94) -> 0 | BU94: =IF(ISERROR(R94-0)=TRUE,0,$H94*R94) -> 0 | ... DM94: =IF(ISERROR(BJ94-0)=TRUE,0,$H94*BJ94) -> 0 | DN94: =F94*H94 -> 30 | DO94: =IF(COUNTA(K94:AC94)>0,DN94,"") | DP94: =IF(DO94="",IF(COUNT(AD94:AH94,AK94)>0,DN94,""),"") | DQ94: =IF(AND(DO94="",DP94=""),IF(COUNTA(AL94:BD94)>0,DN94,""),"") -> 30 | DR94: =IF(DQ94="",1,2) -> 2 | DS94: =IF(AND(DR94=#REF!,BL94=#REF!),'Tiến độ'!D94,"") -> #REF!
A95: =IF(B95="","",MAX($A$7:A94)+1) | C95: Thực tập Thí nghiệm và kiểm định cầu, đường sắt | D95: DC4CS22 | E95: 2 | G95: 90 | H95: =H94 -> 1 | I95: =I94 -> 62 | AT95: 12 | AU95: 12 | AV95: 12 | AW95: 12 | AX95: 12 | AY95: 12 | AZ95: 12 | BA95: 6 | BB95: Φ | BC95: Φ | BD95: Φ | BK95: PTN Kiểm định | BL95: Thí nghiệm công trinh | BN95: =IF(ISERROR(K95-0)=TRUE,0,$H95*K95) -> 0 | BO95: =IF(ISERROR(L95-0)=TRUE,0,$H95*L95) -> 0 | BP95: =IF(ISERROR(M95-0)=TRUE,0,$H95*M95) -> 0 | BQ95: =IF(ISERROR(N95-0)=TRUE,0,$H95*N95) -> 0 | BR95: =IF(ISERROR(O95-0)=TRUE,0,$H95*O95) -> 0 | BS95: =IF(ISERROR(P95-0)=TRUE,0,$H95*P95) -> 0 | BT95: =IF(ISERROR(Q95-0)=TRUE,0,$H95*Q95) -> 0 | BU95: =IF(ISERROR(R95-0)=TRUE,0,$H95*R95) -> 0 | ... DM95: =IF(ISERROR(BJ95-0)=TRUE,0,$H95*BJ95) -> 0 | DN95: =20*2*E95*H95 -> 80 | DO95: =IF(COUNTA(K95:AC95)>0,DN95,"") | DP95: =IF(DO95="",IF(COUNT(AD95:AH95,AK95)>0,DN95,""),"") | DQ95: =IF(AND(DO95="",DP95=""),IF(COUNTA(AL95:BD95)>0,DN95,""),"") -> 80 | DR95: =IF(DQ95="",1,2) -> 2 | DS95: =IF(AND(DR95=#REF!,BL95=#REF!),'Tiến độ'!D95,"") -> #REF!
A96: =IF(B96="","",MAX($A$7:A95)+1) | C96: Thực tập Kỹ thuật thi công cơ bản | D96: DC4CT13 | E96: 3 | G96: 135 | H96: =H95 -> 1 | I96: =I95 -> 62 | AQ96: X | AR96: X | AS96: X | BK96: Xưởng CT | BL96: Xưởng công trình | BN96: =IF(ISERROR(K96-0)=TRUE,0,$H96*K96) -> 0 | BO96: =IF(ISERROR(L96-0)=TRUE,0,$H96*L96) -> 0 | BP96: =IF(ISERROR(M96-0)=TRUE,0,$H96*M96) -> 0 | BQ96: =IF(ISERROR(N96-0)=TRUE,0,$H96*N96) -> 0 | BR96: =IF(ISERROR(O96-0)=TRUE,0,$H96*O96) -> 0 | BS96: =IF(ISERROR(P96-0)=TRUE,0,$H96*P96) -> 0 | BT96: =IF(ISERROR(Q96-0)=TRUE,0,$H96*Q96) -> 0 | BU96: =IF(ISERROR(R96-0)=TRUE,0,$H96*R96) -> 0 | ... DM96: =IF(ISERROR(BJ96-0)=TRUE,0,$H96*BJ96) -> 0 | DN96: =45*H96*2 -> 90 | DO96: =IF(COUNTA(K96:AC96)>0,DN96,"") | DP96: =IF(DO96="",IF(COUNT(AD96:AH96,AK96)>0,DN96,""),"") | DQ96: =IF(AND(DO96="",DP96=""),IF(COUNTA(AL96:BD96)>0,DN96,""),"") -> 90 | DR96: =IF(DQ96="",1,2) -> 2 | DS96: =IF(AND(DR96=#REF!,BL96=#REF!),'Tiến độ'!D96,"") -> #REF!
A97: =IF(B97="","",MAX($A$7:A96)+1) | C97: Thực tập Khảo sát thiết kế cầu, đường sắt | D97: DC4CS21 | E97: 5 | G97: 225 | H97: =H96 -> 1 | I97: =I96 -> 62 | AL97: KS | AM97: KS | AN97: KS | AO97: KS | AP97: KS | BL97: Đo đạc - Khảo sát công trình | BN97: =IF(ISERROR(K97-0)=TRUE,0,$H97*K97) -> 0 | BO97: =IF(ISERROR(L97-0)=TRUE,0,$H97*L97) -> 0 | BP97: =IF(ISERROR(M97-0)=TRUE,0,$H97*M97) -> 0 | BQ97: =IF(ISERROR(N97-0)=TRUE,0,$H97*N97) -> 0 | BR97: =IF(ISERROR(O97-0)=TRUE,0,$H97*O97) -> 0 | BS97: =IF(ISERROR(P97-0)=TRUE,0,$H97*P97) -> 0 | BT97: =IF(ISERROR(Q97-0)=TRUE,0,$H97*Q97) -> 0 | BU97: =IF(ISERROR(R97-0)=TRUE,0,$H97*R97) -> 0 | ... DM97: =IF(ISERROR(BJ97-0)=TRUE,0,$H97*BJ97) -> 0 | DN97: =60*2*H97 -> 120 | DO97: =IF(COUNTA(K97:AC97)>0,DN97,"") | DP97: =IF(DO97="",IF(COUNT(AD97:AH97,AK97)>0,DN97,""),"") | DQ97: =IF(AND(DO97="",DP97=""),IF(COUNTA(AL97:BD97)>0,DN97,""),"") -> 120 | DR97: =IF(DQ97="",1,2) -> 2 | DS97: =IF(AND(DR97=#REF!,BL97=#REF!),'Tiến độ'!D97,"") -> #REF!
A98: =IF(B98="","",MAX($A$7:A97)+1) | C98: TỔNG TC - TỔNG TIẾT / LỚP / TUẦN | E98: =SUM(E82:E97) -> 44 | K98: =SUM(K82:K97) -> 23 | L98: =SUM(L82:L97) -> 23 | M98: =SUM(M82:M97) -> 23 | N98: =SUM(N82:N97) -> 23 | O98: =SUM(O82:O97) -> 23 | P98: =SUM(P82:P97) -> 23 | Q98: =SUM(Q82:Q97) -> 23 | R98: =SUM(R82:R97) -> 23 | ... AH98: =SUM(AH82:AH97) -> 6 | AK98: =SUM(AK82:AK97) -> 0 | AL98: =SUM(AL82:AL97) -> 0 | AM98: =SUM(AM82:AM97) -> 0 | AN98: =SUM(AN82:AN97) -> 0 | AO98: =SUM(AO82:AO97) -> 0 | AP98: =SUM(AP82:AP97) -> 0 | AQ98: =SUM(AQ82:AQ97) -> 0 | AR98: =SUM(AR82:AR97) -> 0 | ... BD98: =SUM(BD82:BD97) -> 0 | BN98: =IF(ISERROR(K98-0)=TRUE,0,$H98*K98) -> 0 | BO98: =IF(ISERROR(L98-0)=TRUE,0,$H98*L98) -> 0 | BP98: =IF(ISERROR(M98-0)=TRUE,0,$H98*M98) -> 0 | BQ98: =IF(ISERROR(N98-0)=TRUE,0,$H98*N98) -> 0 | BR98: =IF(ISERROR(O98-0)=TRUE,0,$H98*O98) -> 0 | BS98: =IF(ISERROR(P98-0)=TRUE,0,$H98*P98) -> 0 | BT98: =IF(ISERROR(Q98-0)=TRUE,0,$H98*Q98) -> 0 | BU98: =IF(ISERROR(R98-0)=TRUE,0,$H98*R98) -> 0 | ... DM98: =IF(ISERROR(BJ98-0)=TRUE,0,$H98*BJ98) -> 0 | DS98: =IF(AND(DR98=#REF!,BL98=#REF!),'Tiến độ'!D98,"") -> #REF!
A99: =IF(B99="","",MAX($A$7:A98)+1) -> 12 | B99: 64DB | C99: Quy hoạch Giao thông vận tải | D99: DC3DB71 | E99: 2 | F99: 30 | H99: 3 | I99: =58+50+46 -> 154 | K99: 4 | L99: 4 | M99: 4 | N99: 4 | O99: 4 | P99: 4 | Q99: 4 | R99: 2 | S99: Φ | T99: Φ | U99: Φ | AD99: KP | AE99: KP | AF99: KP | AG99: KP | AH99: KP | AK99: KP | BK99: Lý thuyết | BL99: Đường | BN99: =IF(ISERROR(K99-0)=TRUE,0,$H99*K99) -> 12 | BO99: =IF(ISERROR(L99-0)=TRUE,0,$H99*L99) -> 12 | BP99: =IF(ISERROR(M99-0)=TRUE,0,$H99*M99) -> 12 | BQ99: =IF(ISERROR(N99-0)=TRUE,0,$H99*N99) -> 12 | BR99: =IF(ISERROR(O99-0)=TRUE,0,$H99*O99) -> 12 | BS99: =IF(ISERROR(P99-0)=TRUE,0,$H99*P99) -> 12 | BT99: =IF(ISERROR(Q99-0)=TRUE,0,$H99*Q99) -> 12 | BU99: =IF(ISERROR(R99-0)=TRUE,0,$H99*R99) -> 6 | ... DM99: =IF(ISERROR(BJ99-0)=TRUE,0,$H99*BJ99) -> 0 | DN99: =F99*H99 -> 90 | DO99: =IF(COUNTA(K99:AC99)>0,DN99,"") -> 90 | DP99: =IF(DO99="",IF(COUNT(AD99:AH99,AK99)>0,DN99,""),"") | DQ99: =IF(AND(DO99="",DP99=""),IF(COUNTA(AL99:BD99)>0,DN99,""),"") | DR99: =IF(DQ99="",1,2) -> 1 | DS99: =IF(AND(DR99=#REF!,BL99=#REF!),'Tiến độ'!D99,"") -> #REF!
A100: =IF(B100="","",MAX($A$7:A99)+1) | C100: Kỹ thuật thi công nền đường | D100: DC3DB51 | E100: 3 | F100: 45 | H100: =H99 -> 3 | I100: =I99 -> 154 | K100: 6 | L100: 6 | M100: 6 | N100: 6 | O100: 6 | P100: 6 | Q100: 6 | R100: 3 | S100: Φ | T100: Φ | U100: Φ | AD100: KP | AE100: KP | AF100: KP | AG100: KP | AH100: KP | AK100: KP | BK100: Lý thuyết | BL100: Đường | BN100: =IF(ISERROR(K100-0)=TRUE,0,$H100*K100) -> 18 | BO100: =IF(ISERROR(L100-0)=TRUE,0,$H100*L100) -> 18 | BP100: =IF(ISERROR(M100-0)=TRUE,0,$H100*M100) -> 18 | BQ100: =IF(ISERROR(N100-0)=TRUE,0,$H100*N100) -> 18 | BR100: =IF(ISERROR(O100-0)=TRUE,0,$H100*O100) -> 18 | BS100: =IF(ISERROR(P100-0)=TRUE,0,$H100*P100) -> 18 | BT100: =IF(ISERROR(Q100-0)=TRUE,0,$H100*Q100) -> 18 | BU100: =IF(ISERROR(R100-0)=TRUE,0,$H100*R100) -> 9 | ... DM100: =IF(ISERROR(BJ100-0)=TRUE,0,$H100*BJ100) -> 0 | DN100: =F100*H100 -> 135 | DO100: =IF(COUNTA(K100:AC100)>0,DN100,"") -> 135 | DP100: =IF(DO100="",IF(COUNT(AD100:AH100,AK100)>0,DN100,""),"") | DQ100: =IF(AND(DO100="",DP100=""),IF(COUNTA(AL100:BD100)>0,DN100,""),"") | DR100: =IF(DQ100="",1,2) -> 1 | DS100: =IF(AND(DR100=#REF!,BL100=#REF!),'Tiến độ'!D100,"") -> #REF!
...

Sheet 67 đi VY
I1: 1 | J1: 2 | K1: 3 | L1: 4 | N1: CD | O1: 300 | P1: 1
I2: =SUMIF($P$1:$P$23,I1,$O$1:$O$23) -> 510 | J2: =SUMIF($P$1:$P$23,J1,$O$1:$O$23) -> 550 | K2: =SUMIF($P$1:$P$23,K1,$O$1:$O$23) -> 530 | L2: =SUMIF($P$1:$P$23,L1,$O$1:$O$23) -> 530 | N2: MO | O2: 50 | P2: 1
N3: CA | O3: 60 | P3: 1
N4: DB | O4: 100 | P4: 1
N5: CS | O5: 40 | P5: 2
N6: CC | O6: 40 | P6: 2
N7: DD | O7: 100 | P7: 2
N8: CDA | O8: 60 | P8: 2
N9: HT | O9: 80 | P9: 2
N10: DT | O10: 80 | P10: 2
N11: TM | O11: 100 | P11: 2
N12: VL | O12: 50 | P12: 2
N13: OT | O13: 200 | P13: 3
N14: MX | O14: 80 | P14: 3
... N23: KX | O23: 100 | P23: 4

Sheet SV
A2: 63DCCA3023 | B2: Cao Phan | C2: Anh | D2: 63DCCA01
A3: 63DCCA3001 | B3: Nguyễn Tiến | C3: Cường | D3: 63DCCA01
A4: 63DCCA3002 | B4: Nguyễn Thúc | C4: Định | D4: 63DCCA01
A5: 63DCCA3010 | B5: Phạm Đức | C5: Hiển | D5: 63DCCA01
A6: 63DCCA3016 | B6: Nguyễn Văn | C6: Hiếu | D6: 63DCCA01
A7: 63DCCA3007 | B7: Nguyễn Mạnh | C7: Hùng | D7: 63DCCA01
A8: 63DCCA3013 | B8: Bùi Đức | C8: Lâm | D8: 63DCCA01
A9: 63DCCA3006 | B9: Vũ Tùng | C9: Lâm | D9: 63DCCA01
A10: 63DCCA3012 | B10: Hà Văn | C10: Lượng | D10: 63DCCA01
A11: 63DCCA3028 | B11: Trần Đức | C11: Mạnh | D11: 63DCCA01
A12: 63DCCA3009 | B12: Đoàn Ngọc | C12: Minh | D12: 63DCCA01
A13: 63DCCA3026 | B13: Hồ Quang | C13: Minh | D13: 63DCCA01
... A7316: 63DCOT3064 | B7316: Hoàng Hữu | C7316: Việt | D7316: 63DCOT02
