Workbook
Name _CongCNTT: SUMIF('LICH THI'!$A:$A,'Theo Ngay'!$A1,'LICH THI'!$X:$X)
Name _CongCSKT: SUMIF('LICH THI'!$A:$A,'Theo Ngay'!$A1,'LICH THI'!$T:$T)
Name _CongKCK: SUMIF('LICH THI'!$A:$A,'Theo Ngay'!$A1,'LICH THI'!$V:$V)
Name _CongKCT: SUMIF('LICH THI'!$A:$A,'Theo Ngay'!$A1,'LICH THI'!$U:$U)
Name _CongKTVT: SUMIF('LICH THI'!$A:$A,'Theo Ngay'!$A1,'LICH THI'!$W:$W)
Name _CongKHCB: SUMIF('LICH THI'!$A:$A,'Theo Ngay'!$A1,'LICH THI'!$S:$S)
Name _CongLLCT: SUMIF('LICH THI'!$A:$A,'Theo Ngay'!$A1,'LICH THI'!$R:$R)
Name _CongSP_: SUMIF('LICH THI'!$A:$A,'Theo Ngay'!$A1,'LICH THI'!$Q:$Q)
Name _Gio: IF(SV!J1=1,"7:00",IF(SV!J1=2,"9:00",IF(SV!J1=3,"13:00",IF(SV!J1=4,"15:00",IF(SV!J1=5,"18:00","7:00")))))
Name _Gio: IF('LICH THI'!L1=1,"7:00",IF('LICH THI'!L1=2,"9:00",IF('LICH THI'!L1=3,"13:00",IF('LICH THI'!L1=4,"15:00",IF('LICH THI'!L1=5,"18:00","6:30")))))
Name _Gio_: IF('Theo Ngay'!$E1=1,"7:00",IF('Theo Ngay'!$E1=2,"9:00",IF('Theo Ngay'!$E1=3,"13:00",IF('Theo Ngay'!$E1=4,"15:00",IF('Theo Ngay'!$E1=5,"18:00","6:30")))))
Name _Loc2: VLOOKUP(De!$A1,'LICH THI'!$C:$AH,De!A$1,0)
Name _LocMaHP: IF(MID(DATA!$C1,8,1)="-",LEFT(DATA!$C1,7),IF(MID(DATA!$C1,9,1)="-",LEFT(DATA!$C1,8),LEFT(DATA!$C1,9)))
Name _LocMaHP: IF(MID('LỊCH ĐĂNG'!$C1,8,1)="-",LEFT('LỊCH ĐĂNG'!$C1,7),IF(MID('LỊCH ĐĂNG'!$C1,9,1)="-",LEFT('LỊCH ĐĂNG'!$C1,8),LEFT('LỊCH ĐĂNG'!$C1,9)))
Name _LocMaHP: IF(MID('LỊCH ĐĂNG (2)'!$C1,8,1)="-",LEFT('LỊCH ĐĂNG (2)'!$C1,7),IF(MID('LỊCH ĐĂNG (2)'!$C1,9,1)="-",LEFT('LỊCH ĐĂNG (2)'!$C1,8),LEFT('LỊCH ĐĂNG (2)'!$C1,9)))
Name _LocMaHP: IF(MID('LICH THI'!$C1,8,1)="-",LEFT('LICH THI'!$C1,7),IF(MID('LICH THI'!$C1,9,1)="-",LEFT('LICH THI'!$C1,8),LEFT('LICH THI'!$C1,9)))
Name _LocMaHP: IF(MID(Sheet3!$C1,8,1)="-",LEFT(Sheet3!$C1,7),IF(MID(Sheet3!$C1,9,1)="-",LEFT(Sheet3!$C1,8),LEFT(Sheet3!$C1,9)))
Name _Nopdiem: IF(OR('LICH THI'!XEN1="TH",'LICH THI'!XEN1="VĐ"),'LICH THI'!XEP1+2,'LICH THI'!XEP1+7)
Name _Ngay: IF('LỊCH ĐĂNG'!XFD1="","",CHOOSE(WEEKDAY('LỊCH ĐĂNG'!XFD1),"(Cnhật)","(Thứ 2)","(Thứ 3)","(Thứ 4)","(Thứ 5)","(Thứ 6)","(Thứ 7)"))
Name _Ngay: IF('LỊCH ĐĂNG (2)'!XFD1="","",CHOOSE(WEEKDAY('LỊCH ĐĂNG (2)'!XFD1),"(Cnhật)","(Thứ 2)","(Thứ 3)","(Thứ 4)","(Thứ 5)","(Thứ 6)","(Thứ 7)"))
Name _Ngay: IF('LICH THI'!XFD1="","",CHOOSE(WEEKDAY('LICH THI'!XFD1),"(Cnhật)","(Thứ 2)","(Thứ 3)","(Thứ 4)","(Thứ 5)","(Thứ 6)","(Thứ 7)"))
Name _Ngay: IF(SV!XFD1="","",CHOOSE(WEEKDAY(SV!XFD1),"(CN)","(Thứ 2)","(Thứ 3)","(Thứ 4)","(Thứ 5)","(Thứ 6)","(Thứ 7)"))
Name _Ngay_gio: SV!I1+SV!B1
Name _Ngay_gio: 'LICH THI'!K1+'LICH THI'!B1
Name _Ngay_Gio_: 'Theo Ngay'!$D1+'Theo Ngay'!$B1
Name _Ngaycham: IF(OR('LICH THI'!XEO1="TH",'LICH THI'!XEO1="VĐ"),'LICH THI'!XEQ1,IF('LICH THI'!XER1="(Thứ 6)",'LICH THI'!XEQ1+3,'LICH THI'!XEQ1+1))
Name _Ngaythi: 'LICH THI'!$L1048576+'LICH THI'!$I1+'LICH THI'!#REF!
Name _sophong: IF('LỊCH ĐĂNG'!#REF!="","",ROUNDUP('LỊCH ĐĂNG'!#REF!/'LỊCH ĐĂNG'!#REF!,0))
Name _sophong: IF('LỊCH ĐĂNG (2)'!$P1="","",ROUNDUP('LỊCH ĐĂNG (2)'!$O1/'LỊCH ĐĂNG (2)'!$P1,0))
Name _sophong: IF('LICH THI'!$P1="","",ROUNDUP('LICH THI'!$O1/'LICH THI'!$P1,0))
Name _SoSV: SUMIF('Tkê LOP'!$A:$A,'LICH THI'!$C1,'Tkê LOP'!$K:$K)
Name _stt: SoTD!A1048576+1
Name _stt: SV!A1048576+1
Name _stt: 'Theo Ngay'!A1048576+1
Name _stt: 'LICH THI'!A1048576+1
Name _stt_data: #REF!+1
Name _stt_data: #REF!+1
Name _stt_de: De!A1048576+1
Name _SV_P: IF(OR('LICH THI'!$J1="VĐ",'LICH THI'!$J1="TH"),"",'LICH THI'!$P$2)
Name _trangay: VLOOKUP('Tkê LOP'!$A1,'LICH THI'!$C:$AF,'Tkê LOP'!A$1,0)
Name Loclop: LEFT(lop,8)
Name MaBM: IF(DATA!$O1="","",VLOOKUP(DATA!$O1,Mã!$A:$C,3,0))
Name MaCC: LEFT('Tkê LOP'!$D1,7)&"-CC"&LEFT('Tkê LOP'!$N1,3)
Name MaHP: IF(OR(MID(Sheet2!$E1,8,1)="-",MID(Sheet2!$E1,8,1)="("),LEFT(Sheet2!$E1,7),IF(OR(MID(Sheet2!$E1,9,1)="-",MID(Sheet2!$E1,9,1)="("),LEFT(Sheet2!$E1,8),LEFT(Sheet2!$E1,8)))
Name MaHP: IF(OR(MID('Tkê LOP'!$D1,8,1)="-",MID('Tkê LOP'!$D1,8,1)="("),LEFT('Tkê LOP'!$D1,7),IF(OR(MID('Tkê LOP'!$D1,9,1)="-",MID('Tkê LOP'!$D1,9,1)="("),LEFT('Tkê LOP'!$D1,8),LEFT('Tkê LOP'!$D1,8)))
Name MaKhoa: IF(DATA!$P1="","",VLOOKUP(DATA!$P1,Mã!$E:$F,2,0))

Sheet SV
F1: 7 | G1: 8 | H1: 13
D2: TRƯỜNG ĐẠI HỌC CÔNG NGHỆ GTVT | G2: LỊCH THI HỌC KỲ 2 - NĂM HỌC 2014-2015
D3: PHÒNG ĐẢM BẢO CHẤT LƯỢNG ĐÀO TẠO
B4: dl65 | G4: =VLOOKUP(B4,$U$4:$V$15,2,0) -> ĐẠI HỌC LIÊN THÔNG - K65 | U4: CC | V4: CAO ĐẲNG CHÍNH QUY
D5: Ghi chú: | U5: CC64 | V5: CAO ĐẲNG CHÍNH QUY - K64
D6: + Thời gian thi: Ca 1: 7h00' - 9h00'; Ca 2: 9h00' - 11h00'; Ca 3: 13h00' - 15h00'; Ca 4: 15h00' - 17h00'; Ca5: 18h00' - 20h00' | U6: CC65 | V6: CAO ĐẲNG CHÍNH QUY - K65
D7: + Các Khoa, Bộ môn, Giảng viên, Sinh viên kiểm tra Lịch thi, nếu còn Học phần chưa có lịch thi phản ánh ngay cho Phòng Đảm bảo chất lượng đào tạo (ĐBCLĐT) để kịp thời điều chỉnh | U7: DC | V7: ĐẠI HỌC CHÍNH QUY
D8: + Các khoa gửi danh sách phân công Giảng viên coi thi, chấm thi Lần 1 về Phòng ĐBCLĐT trước ngày 20/5/2015 | U8: DC62 | V8: ĐẠI HỌC CHÍNH QUY - K62
D9: + Phòng TCKT thống kê danh sách SV chưa nộp học phí, gửi về Phòng ĐBCLĐT trước ngày 20/5/2015 | U9: DC63 | V9: ĐẠI HỌC CHÍNH QUY - K63
D10: + Sinh viên còn nợ học phí sẽ không được dự thi | U10: DC64 | V10: ĐẠI HỌC CHÍNH QUY - K64
D11: + Sinh viên không có thẻ sinh viên không được dự thi | U11: DC65 | V11: ĐẠI HỌC CHÍNH QUY - K65
D12: + Mọi vấn đề vướng mắc khác, xin liên hệ trực tiếp với Phòng ĐBCLĐT - P409-H1 (Điện thoại: 043 552 8978) | U12: DL65 | V12: ĐẠI HỌC LIÊN THÔNG - K65
U13: DV | V13: ĐẠI HỌC VỪA LÀM VỪA HỌC
C14: S T T | D14: Hệ đào tạo - Khóa | E14: Mã học phần | F14: Tên học phần | G14: Số TC | H14: Hình thức thi | I14: THI LẦN 1 | O14: THI BỔ SUNG (LẦN 2)
I15: Ngày thi | K15: Ca thi | L15: Tổng số SV | M15: Số SV/ phòng | N15: Số phòng thi | O15: Ngày thi Dự kiến từ 1/8-9/8/2015 (Trước HK mới 01 tuần) | Q15: Ca thi | R15: Số SV | S15: Số phòng thi
A17: =_Ngay_gio -> #REF! | B17: =_Gio -> #REF! | C17: ='LICH THI'!#REF! -> #REF! | D17: ='LICH THI'!#REF! -> #REF! | E17: ='LICH THI'!#REF! -> #REF! | F17: ='LICH THI'!#REF! -> #REF! | G17: ='LICH THI'!#REF! -> #REF! | H17: ='LICH THI'!#REF! -> #REF! | I17: ='LICH THI'!#REF! -> #REF! | J17: =_Ngay -> #REF! | K17: ='LICH THI'!#REF! -> #REF! | L17: ='LICH THI'!#REF! -> #REF! | M17: ='LICH THI'!#REF! -> #REF! | N17: ='LICH THI'!#REF! -> #REF! | O17: ='LICH THI'!#REF! -> #REF! | P17: =_Ngay -> #REF! | Q17: ='LICH THI'!#REF! -> #REF!
A18: =_Ngay_gio -> #REF! | B18: =_Gio -> #REF! | C18: =_stt -> #REF! | D18: ='LICH THI'!#REF! -> #REF! | E18: ='LICH THI'!#REF! -> #REF! | F18: ='LICH THI'!#REF! -> #REF! | G18: ='LICH THI'!#REF! -> #REF! | H18: ='LICH THI'!#REF! -> #REF! | I18: ='LICH THI'!#REF! -> #REF! | J18: =_Ngay -> #REF! | K18: ='LICH THI'!#REF! -> #REF! | L18: ='LICH THI'!#REF! -> #REF! | M18: ='LICH THI'!#REF! -> #REF! | N18: ='LICH THI'!#REF! -> #REF! | O18: ='LICH THI'!#REF! -> #REF! | P18: =_Ngay -> #REF! | Q18: ='LICH THI'!#REF! -> #REF!
A19: =_Ngay_gio -> #REF! | B19: =_Gio -> #REF! | C19: =_stt -> #REF! | D19: ='LICH THI'!#REF! -> #REF! | E19: ='LICH THI'!#REF! -> #REF! | F19: ='LICH THI'!#REF! -> #REF! | G19: ='LICH THI'!#REF! -> #REF! | H19: ='LICH THI'!#REF! -> #REF! | I19: ='LICH THI'!#REF! -> #REF! | J19: =_Ngay -> #REF! | K19: ='LICH THI'!#REF! -> #REF! | L19: ='LICH THI'!#REF! -> #REF! | M19: ='LICH THI'!#REF! -> #REF! | N19: ='LICH THI'!#REF! -> #REF! | O19: ='LICH THI'!#REF! -> #REF! | P19: =_Ngay -> #REF! | Q19: ='LICH THI'!#REF! -> #REF!
A20: =_Ngay_gio -> #REF! | B20: =_Gio -> #REF! | C20: =_stt -> #REF! | D20: ='LICH THI'!#REF! -> #REF! | E20: ='LICH THI'!#REF! -> #REF! | F20: ='LICH THI'!#REF! -> #REF! | G20: ='LICH THI'!#REF! -> #REF! | H20: ='LICH THI'!#REF! -> #REF! | I20: ='LICH THI'!#REF! -> #REF! | J20: =_Ngay -> #REF! | K20: ='LICH THI'!#REF! -> #REF! | L20: ='LICH THI'!#REF! -> #REF! | M20: ='LICH THI'!#REF! -> #REF! | N20: ='LICH THI'!#REF! -> #REF! | O20: ='LICH THI'!#REF! -> #REF! | P20: =_Ngay -> #REF! | Q20: ='LICH THI'!#REF! -> #REF!
A21: =_Ngay_gio -> #REF! | B21: =_Gio -> #REF! | C21: =_stt -> #REF! | D21: ='LICH THI'!#REF! -> #REF! | E21: ='LICH THI'!#REF! -> #REF! | F21: ='LICH THI'!#REF! -> #REF! | G21: ='LICH THI'!#REF! -> #REF! | H21: ='LICH THI'!#REF! -> #REF! | I21: ='LICH THI'!#REF! -> #REF! | J21: =_Ngay -> #REF! | K21: ='LICH THI'!#REF! -> #REF! | L21: ='LICH THI'!#REF! -> #REF! | M21: ='LICH THI'!#REF! -> #REF! | N21: ='LICH THI'!#REF! -> #REF! | O21: ='LICH THI'!#REF! -> #REF! | P21: =_Ngay -> #REF! | Q21: ='LICH THI'!#REF! -> #REF!
A22: =_Ngay_gio -> #REF! | B22: =_Gio -> #REF! | C22: =_stt -> #REF! | D22: ='LICH THI'!#REF! -> #REF! | E22: ='LICH THI'!#REF! -> #REF! | F22: ='LICH THI'!#REF! -> #REF! | G22: ='LICH THI'!#REF! -> #REF! | H22: ='LICH THI'!#REF! -> #REF! | I22: ='LICH THI'!#REF! -> #REF! | J22: =_Ngay -> #REF! | K22: ='LICH THI'!#REF! -> #REF! | L22: ='LICH THI'!#REF! -> #REF! | M22: ='LICH THI'!#REF! -> #REF! | N22: ='LICH THI'!#REF! -> #REF! | O22: ='LICH THI'!#REF! -> #REF! | P22: =_Ngay -> #REF! | Q22: ='LICH THI'!#REF! -> #REF!
A23: =_Ngay_gio -> #REF! | B23: =_Gio -> #REF! | C23: =_stt -> #REF! | D23: ='LICH THI'!#REF! -> #REF! | E23: ='LICH THI'!#REF! -> #REF! | F23: ='LICH THI'!#REF! -> #REF! | G23: ='LICH THI'!#REF! -> #REF! | H23: ='LICH THI'!#REF! -> #REF! | I23: ='LICH THI'!#REF! -> #REF! | J23: =_Ngay -> #REF! | K23: ='LICH THI'!#REF! -> #REF! | L23: ='LICH THI'!#REF! -> #REF! | M23: ='LICH THI'!#REF! -> #REF! | N23: ='LICH THI'!#REF! -> #REF! | O23: ='LICH THI'!#REF! -> #REF! | P23: =_Ngay -> #REF! | Q23: ='LICH THI'!#REF! -> #REF!
A24: =_Ngay_gio -> #REF! | B24: =_Gio -> #REF! | C24: =_stt -> #REF! | D24: ='LICH THI'!#REF! -> #REF! | E24: ='LICH THI'!#REF! -> #REF! | F24: ='LICH THI'!#REF! -> #REF! | G24: ='LICH THI'!#REF! -> #REF! | H24: ='LICH THI'!#REF! -> #REF! | I24: ='LICH THI'!#REF! -> #REF! | J24: =_Ngay -> #REF! | K24: ='LICH THI'!#REF! -> #REF! | L24: ='LICH THI'!#REF! -> #REF! | M24: ='LICH THI'!#REF! -> #REF! | N24: ='LICH THI'!#REF! -> #REF! | O24: ='LICH THI'!#REF! -> #REF! | P24: =_Ngay -> #REF! | Q24: ='LICH THI'!#REF! -> #REF!
A25: =_Ngay_gio -> #REF! | B25: =_Gio -> #REF! | C25: =_stt -> #REF! | D25: ='LICH THI'!#REF! -> #REF! | E25: ='LICH THI'!#REF! -> #REF! | F25: ='LICH THI'!#REF! -> #REF! | G25: ='LICH THI'!#REF! -> #REF! | H25: ='LICH THI'!#REF! -> #REF! | I25: ='LICH THI'!#REF! -> #REF! | J25: =_Ngay -> #REF! | K25: ='LICH THI'!#REF! -> #REF! | L25: ='LICH THI'!#REF! -> #REF! | M25: ='LICH THI'!#REF! -> #REF! | N25: ='LICH THI'!#REF! -> #REF! | O25: ='LICH THI'!#REF! -> #REF! | P25: =_Ngay -> #REF! | Q25: ='LICH THI'!#REF! -> #REF!
A26: =_Ngay_gio -> #REF! | B26: =_Gio -> #REF! | C26: =_stt -> #REF! | D26: ='LICH THI'!#REF! -> #REF! | E26: ='LICH THI'!#REF! -> #REF! | F26: ='LICH THI'!#REF! -> #REF! | G26: ='LICH THI'!#REF! -> #REF! | H26: ='LICH THI'!#REF! -> #REF! | I26: ='LICH THI'!#REF! -> #REF! | J26: =_Ngay -> #REF! | K26: ='LICH THI'!#REF! -> #REF! | L26: ='LICH THI'!#REF! -> #REF! | M26: ='LICH THI'!#REF! -> #REF! | N26: ='LICH THI'!#REF! -> #REF! | O26: ='LICH THI'!#REF! -> #REF! | P26: =_Ngay -> #REF! | Q26: ='LICH THI'!#REF! -> #REF!
A27: =_Ngay_gio -> #REF! | B27: =_Gio -> #REF! | C27: =_stt -> #REF! | D27: ='LICH THI'!#REF! -> #REF! | E27: ='LICH THI'!#REF! -> #REF! | F27: ='LICH THI'!#REF! -> #REF! | G27: ='LICH THI'!#REF! -> #REF! | H27: ='LICH THI'!#REF! -> #REF! | I27: ='LICH THI'!#REF! -> #REF! | J27: =_Ngay -> #REF! | K27: ='LICH THI'!#REF! -> #REF! | L27: ='LICH THI'!#REF! -> #REF! | M27: ='LICH THI'!#REF! -> #REF! | N27: ='LICH THI'!#REF! -> #REF! | O27: ='LICH THI'!#REF! -> #REF! | P27: =_Ngay -> #REF! | Q27: ='LICH THI'!#REF! -> #REF!
A28: =_Ngay_gio -> #REF! | B28: =_Gio -> #REF! | C28: =_stt -> #REF! | D28: ='LICH THI'!#REF! -> #REF! | E28: ='LICH THI'!#REF! -> #REF! | F28: ='LICH THI'!#REF! -> #REF! | G28: ='LICH THI'!#REF! -> #REF! | H28: ='LICH THI'!#REF! -> #REF! | I28: ='LICH THI'!#REF! -> #REF! | J28: =_Ngay -> #REF! | K28: ='LICH THI'!#REF! -> #REF! | L28: ='LICH THI'!#REF! -> #REF! | M28: ='LICH THI'!#REF! -> #REF! | N28: ='LICH THI'!#REF! -> #REF! | O28: ='LICH THI'!#REF! -> #REF! | P28: =_Ngay -> #REF! | Q28: ='LICH THI'!#REF! -> #REF!
A29: =_Ngay_gio -> #REF! | B29: =_Gio -> #REF! | C29: =_stt -> #REF! | D29: ='LICH THI'!#REF! -> #REF! | E29: ='LICH THI'!#REF! -> #REF! | F29: ='LICH THI'!#REF! -> #REF! | G29: ='LICH THI'!#REF! -> #REF! | H29: ='LICH THI'!#REF! -> #REF! | I29: ='LICH THI'!#REF! -> #REF! | J29: =_Ngay -> #REF! | K29: ='LICH THI'!#REF! -> #REF! | L29: ='LICH THI'!#REF! -> #REF! | M29: ='LICH THI'!#REF! -> #REF! | N29: ='LICH THI'!#REF! -> #REF! | O29: ='LICH THI'!#REF! -> #REF! | P29: =_Ngay -> #REF! | Q29: ='LICH THI'!#REF! -> #REF!
... A40: =_Ngay_gio -> #REF! | B40: =_Gio -> #REF! | C40: =_stt -> #REF! | D40: ='LICH THI'!#REF! -> #REF! | E40: ='LICH THI'!#REF! -> #REF! | F40: ='LICH THI'!#REF! -> #REF! | G40: ='LICH THI'!#REF! -> #REF! | H40: ='LICH THI'!#REF! -> #REF! | I40: ='LICH THI'!#REF! -> #REF! | J40: =_Ngay -> #REF! | K40: ='LICH THI'!#REF! -> #REF! | L40: ='LICH THI'!#REF! -> #REF! | M40: ='LICH THI'!#REF! -> #REF! | N40: ='LICH THI'!#REF! -> #REF! | O40: ='LICH THI'!#REF! -> #REF! | P40: =_Ngay -> #REF! | Q40: ='LICH THI'!#REF! -> #REF!
A41: =_Ngay_gio -> 42333.375 | B41: =_Gio -> 9:00 | C41: =_stt -> #REF! | D41: ='LICH THI'!E10 -> DCK63 | E41: ='LICH THI'!F10 -> DC3CA51 | F41: ='LICH THI'!G10 -> Kỹ thuật thi công cầu 1 | G41: ='LICH THI'!I10 -> 3 | H41: ='LICH THI'!J10 -> Viết | I41: ='LICH THI'!L10 -> 42333 | J41: =_Ngay -> (Thứ 4) | K41: ='LICH THI'!N10 -> 2 | L41: ='LICH THI'!O10 -> 50 | M41: ='LICH THI'!P10 -> 30 | N41: ='LICH THI'!Q10 -> 2 | O41: ='LICH THI'!AB10 -> 0 | P41: =_Ngay -> (Thứ 7) | Q41: ='LICH THI'!AD10 -> 0
A42: =_Ngay_gio -> #REF! | B42: =_Gio -> #REF! | C42: =_stt -> #REF! | D42: ='LICH THI'!#REF! -> #REF! | E42: ='LICH THI'!#REF! -> #REF! | F42: ='LICH THI'!#REF! -> #REF! | G42: ='LICH THI'!#REF! -> #REF! | H42: ='LICH THI'!#REF! -> #REF! | I42: ='LICH THI'!#REF! -> #REF! | J42: =_Ngay -> #REF! | K42: ='LICH THI'!#REF! -> #REF! | L42: ='LICH THI'!#REF! -> #REF! | M42: ='LICH THI'!#REF! -> #REF! | N42: ='LICH THI'!#REF! -> #REF! | O42: ='LICH THI'!#REF! -> #REF! | P42: =_Ngay -> #REF! | Q42: ='LICH THI'!#REF! -> #REF!
A43: =_Ngay_gio -> 42345.375 | B43: =_Gio -> 9:00 | C43: =_stt -> #REF! | D43: ='LICH THI'!E12 -> DCK63 | E43: ='LICH THI'!F12 -> DC3CD33A | F43: ='LICH THI'!G12 -> Tiếng Anh 4 | G43: ='LICH THI'!I12 -> 0 | H43: ='LICH THI'!J12 -> Viết | I43: ='LICH THI'!L12 -> 42345 | J43: =_Ngay -> (Thứ 2) | K43: ='LICH THI'!N12 -> 2 | L43: ='LICH THI'!O12 -> 50 | M43: ='LICH THI'!P12 -> 30 | N43: ='LICH THI'!Q12 -> 2 | O43: ='LICH THI'!AB12 -> 0 | P43: =_Ngay -> (Thứ 7) | Q43: ='LICH THI'!AD12 -> 0
A44: =_Ngay_gio -> #REF! | B44: =_Gio -> #REF! | C44: =_stt -> #REF! | D44: ='LICH THI'!#REF! -> #REF! | E44: ='LICH THI'!#REF! -> #REF! | F44: ='LICH THI'!#REF! -> #REF! | G44: ='LICH THI'!#REF! -> #REF! | H44: ='LICH THI'!#REF! -> #REF! | I44: ='LICH THI'!#REF! -> #REF! | J44: =_Ngay -> #REF! | K44: ='LICH THI'!#REF! -> #REF! | L44: ='LICH THI'!#REF! -> #REF! | M44: ='LICH THI'!#REF! -> #REF! | N44: ='LICH THI'!#REF! -> #REF! | O44: ='LICH THI'!#REF! -> #REF! | P44: =_Ngay -> #REF! | Q44: ='LICH THI'!#REF! -> #REF!
A45: =_Ngay_gio -> 42348.292 | B45: =_Gio -> 7:00 | C45: =_stt -> #REF! | D45: ='LICH THI'!E20 -> DCK63 | E45: ='LICH THI'!F20 -> DC3KV43 | F45: ='LICH THI'!G20 -> Kiểm toán báo cáo tài chính | G45: ='LICH THI'!I20 -> 3 | H45: ='LICH THI'!J20 -> Viết | I45: ='LICH THI'!L20 -> 42348 | J45: =_Ngay -> (Thứ 5) | K45: ='LICH THI'!N20 -> SA | L45: ='LICH THI'!O20 -> 40 | M45: ='LICH THI'!P20 -> 0 | N45: ='LICH THI'!Q20 -> 0 | O45: ='LICH THI'!AB20 -> 0 | P45: =_Ngay -> (Thứ 7) | Q45: ='LICH THI'!AD20 -> 0
A46: =_Ngay_gio -> #REF! | B46: =_Gio -> #REF! | C46: =_stt -> #REF! | D46: ='LICH THI'!#REF! -> #REF! | E46: ='LICH THI'!#REF! -> #REF! | F46: ='LICH THI'!#REF! -> #REF! | G46: ='LICH THI'!#REF! -> #REF! | H46: ='LICH THI'!#REF! -> #REF! | I46: ='LICH THI'!#REF! -> #REF! | J46: =_Ngay -> #REF! | K46: ='LICH THI'!#REF! -> #REF! | L46: ='LICH THI'!#REF! -> #REF! | M46: ='LICH THI'!#REF! -> #REF! | N46: ='LICH THI'!#REF! -> #REF! | O46: ='LICH THI'!#REF! -> #REF! | P46: =_Ngay -> #REF! | Q46: ='LICH THI'!#REF! -> #REF!
A47: =_Ngay_gio -> #REF! | B47: =_Gio -> #REF! | C47: =_stt -> #REF! | D47: ='LICH THI'!#REF! -> #REF! | E47: ='LICH THI'!#REF! -> #REF! | F47: ='LICH THI'!#REF! -> #REF! | G47: ='LICH THI'!#REF! -> #REF! | H47: ='LICH THI'!#REF! -> #REF! | I47: ='LICH THI'!#REF! -> #REF! | J47: =_Ngay -> #REF! | K47: ='LICH THI'!#REF! -> #REF! | L47: ='LICH THI'!#REF! -> #REF! | M47: ='LICH THI'!#REF! -> #REF! | N47: ='LICH THI'!#REF! -> #REF! | O47: ='LICH THI'!#REF! -> #REF! | P47: =_Ngay -> #REF! | Q47: ='LICH THI'!#REF! -> #REF!
A48: =_Ngay_gio -> #REF! | B48: =_Gio -> #REF! | C48: =_stt -> #REF! | D48: ='LICH THI'!#REF! -> #REF! | E48: ='LICH THI'!#REF! -> #REF! | F48: ='LICH THI'!#REF! -> #REF! | G48: ='LICH THI'!#REF! -> #REF! | H48: ='LICH THI'!#REF! -> #REF! | I48: ='LICH THI'!#REF! -> #REF! | J48: =_Ngay -> #REF! | K48: ='LICH THI'!#REF! -> #REF! | L48: ='LICH THI'!#REF! -> #REF! | M48: ='LICH THI'!#REF! -> #REF! | N48: ='LICH THI'!#REF! -> #REF! | O48: ='LICH THI'!#REF! -> #REF! | P48: =_Ngay -> #REF! | Q48: ='LICH THI'!#REF! -> #REF!
A49: =_Ngay_gio -> 42338.375 | B49: =_Gio -> 9:00 | C49: =_stt -> #REF! | D49: ='LICH THI'!E17 -> DCK63 | E49: ='LICH THI'!F17 -> DC3KV32 | F49: ='LICH THI'!G17 -> Phân tích hoạt động kinh doanh | G49: ='LICH THI'!I17 -> 3 | H49: ='LICH THI'!J17 -> 0 | I49: ='LICH THI'!L17 -> 42338 | J49: =_Ngay -> (Thứ 2) | K49: ='LICH THI'!N17 -> 2 | L49: ='LICH THI'!O17 -> 40 | M49: ='LICH THI'!P17 -> 30 | N49: ='LICH THI'!Q17 -> 2 | O49: ='LICH THI'!AB17 -> 0 | P49: =_Ngay -> (Thứ 7) | Q49: ='LICH THI'!AD17 -> 0
A50: =_Ngay_gio -> #REF! | B50: =_Gio -> #REF! | C50: =_stt -> #REF! | D50: ='LICH THI'!#REF! -> #REF! | E50: ='LICH THI'!#REF! -> #REF! | F50: ='LICH THI'!#REF! -> #REF! | G50: ='LICH THI'!#REF! -> #REF! | H50: ='LICH THI'!#REF! -> #REF! | I50: ='LICH THI'!#REF! -> #REF! | J50: =_Ngay -> #REF! | K50: ='LICH THI'!#REF! -> #REF! | L50: ='LICH THI'!#REF! -> #REF! | M50: ='LICH THI'!#REF! -> #REF! | N50: ='LICH THI'!#REF! -> #REF! | O50: ='LICH THI'!#REF! -> #REF! | P50: =_Ngay -> #REF! | Q50: ='LICH THI'!#REF! -> #REF!
A51: =_Ngay_gio -> #REF! | B51: =_Gio -> #REF! | C51: =_stt -> #REF! | D51: ='LICH THI'!#REF! -> #REF! | E51: ='LICH THI'!#REF! -> #REF! | F51: ='LICH THI'!#REF! -> #REF! | G51: ='LICH THI'!#REF! -> #REF! | H51: ='LICH THI'!#REF! -> #REF! | I51: ='LICH THI'!#REF! -> #REF! | J51: =_Ngay -> #REF! | K51: ='LICH THI'!#REF! -> #REF! | L51: ='LICH THI'!#REF! -> #REF! | M51: ='LICH THI'!#REF! -> #REF! | N51: ='LICH THI'!#REF! -> #REF! | O51: ='LICH THI'!#REF! -> #REF! | P51: =_Ngay -> #REF! | Q51: ='LICH THI'!#REF! -> #REF!
A52: =_Ngay_gio -> 42335.292 | B52: =_Gio -> 7:00 | C52: =_stt -> #REF! | D52: ='LICH THI'!E44 -> CCK64 | E52: ='LICH THI'!F44 -> CC3OT51 | F52: ='LICH THI'!G44 -> Chẩn đoán và kiểm định kỹ thuật ô tô | G52: ='LICH THI'!I44 -> 3 | H52: ='LICH THI'!J44 -> Viết | I52: ='LICH THI'!L44 -> 42335 | J52: =_Ngay -> (Thứ 6) | K52: ='LICH THI'!N44 -> 1 | L52: ='LICH THI'!O44 -> 26 | M52: ='LICH THI'!P44 -> 30 | N52: ='LICH THI'!Q44 -> 1 | O52: ='LICH THI'!AB44 -> 0 | P52: =_Ngay -> (Thứ 7) | Q52: ='LICH THI'!AD44 -> 0
A53: =_Ngay_gio -> 42338.292 | B53: =_Gio -> 7:00 | C53: =_stt -> #REF! | D53: ='LICH THI'!E45 -> CCK64 | E53: ='LICH THI'!F45 -> CC3OT52 | F53: ='LICH THI'!G45 -> Công nghệ bảo dưỡng, sửa chữa ô tô | G53: ='LICH THI'!I45 -> 3 | H53: ='LICH THI'!J45 -> Viết | I53: ='LICH THI'!L45 -> 42338 | J53: =_Ngay -> (Thứ 2) | K53: ='LICH THI'!N45 -> 1 | L53: ='LICH THI'!O45 -> 26 | M53: ='LICH THI'!P45 -> 30 | N53: ='LICH THI'!Q45 -> 1 | O53: ='LICH THI'!AB45 -> 0 | P53: =_Ngay -> (Thứ 7) | Q53: ='LICH THI'!AD45 -> 0
A54: =_Ngay_gio -> #REF! | B54: =_Gio -> #REF! | C54: =_stt -> #REF! | D54: ='LICH THI'!#REF! -> #REF! | E54: ='LICH THI'!#REF! -> #REF! | F54: ='LICH THI'!#REF! -> #REF! | G54: ='LICH THI'!#REF! -> #REF! | H54: ='LICH THI'!#REF! -> #REF! | I54: ='LICH THI'!#REF! -> #REF! | J54: =_Ngay -> #REF! | K54: ='LICH THI'!#REF! -> #REF! | L54: ='LICH THI'!#REF! -> #REF! | M54: ='LICH THI'!#REF! -> #REF! | N54: ='LICH THI'!#REF! -> #REF! | O54: ='LICH THI'!#REF! -> #REF! | P54: =_Ngay -> #REF! | Q54: ='LICH THI'!#REF! -> #REF!
A55: =_Ngay_gio -> #REF! | B55: =_Gio -> #REF! | C55: =_stt -> #REF! | D55: ='LICH THI'!#REF! -> #REF! | E55: ='LICH THI'!#REF! -> #REF! | F55: ='LICH THI'!#REF! -> #REF! | G55: ='LICH THI'!#REF! -> #REF! | H55: ='LICH THI'!#REF! -> #REF! | I55: ='LICH THI'!#REF! -> #REF! | J55: =_Ngay -> #REF! | K55: ='LICH THI'!#REF! -> #REF! | L55: ='LICH THI'!#REF! -> #REF! | M55: ='LICH THI'!#REF! -> #REF! | N55: ='LICH THI'!#REF! -> #REF! | O55: ='LICH THI'!#REF! -> #REF! | P55: =_Ngay -> #REF! | Q55: ='LICH THI'!#REF! -> #REF!
A56: =_Ngay_gio -> 42344.292 | B56: =_Gio -> 7:00 | C56: =_stt -> #REF! | D56: ='LICH THI'!E54 -> DCK64 | E56: ='LICH THI'!F54 -> DC2GT54 | F56: ='LICH THI'!G54 -> Đồ án Kết cấu bêtông cốt thép | G56: ='LICH THI'!I54 -> 1 | H56: ='LICH THI'!J54 -> VĐ | I56: ='LICH THI'!L54 -> 42344 | J56: =_Ngay -> (CN) | K56: ='LICH THI'!N54 -> SA | L56: ='LICH THI'!O54 -> 180 | M56: ='LICH THI'!P54 | N56: ='LICH THI'!Q54 | O56: ='LICH THI'!AB54 -> 0 | P56: =_Ngay -> (Thứ 7) | Q56: ='LICH THI'!AD54 -> 0
A57: =_Ngay_gio -> #REF! | B57: =_Gio -> #REF! | C57: =_stt -> #REF! | D57: ='LICH THI'!#REF! -> #REF! | E57: ='LICH THI'!#REF! -> #REF! | F57: ='LICH THI'!#REF! -> #REF! | G57: ='LICH THI'!#REF! -> #REF! | H57: ='LICH THI'!#REF! -> #REF! | I57: ='LICH THI'!#REF! -> #REF! | J57: =_Ngay -> #REF! | K57: ='LICH THI'!#REF! -> #REF! | L57: ='LICH THI'!#REF! -> #REF! | M57: ='LICH THI'!#REF! -> #REF! | N57: ='LICH THI'!#REF! -> #REF! | O57: ='LICH THI'!#REF! -> #REF! | P57: =_Ngay -> #REF! | Q57: ='LICH THI'!#REF! -> #REF!
A58: =_Ngay_gio -> #REF! | B58: =_Gio -> #REF! | C58: =_stt -> #REF! | D58: ='LICH THI'!#REF! -> #REF! | E58: ='LICH THI'!#REF! -> #REF! | F58: ='LICH THI'!#REF! -> #REF! | G58: ='LICH THI'!#REF! -> #REF! | H58: ='LICH THI'!#REF! -> #REF! | I58: ='LICH THI'!#REF! -> #REF! | J58: =_Ngay -> #REF! | K58: ='LICH THI'!#REF! -> #REF! | L58: ='LICH THI'!#REF! -> #REF! | M58: ='LICH THI'!#REF! -> #REF! | N58: ='LICH THI'!#REF! -> #REF! | O58: ='LICH THI'!#REF! -> #REF! | P58: =_Ngay -> #REF! | Q58: ='LICH THI'!#REF! -> #REF!
A59: =_Ngay_gio -> #REF! | B59: =_Gio -> #REF! | C59: =_stt -> #REF! | D59: ='LICH THI'!#REF! -> #REF! | E59: ='LICH THI'!#REF! -> #REF! | F59: ='LICH THI'!#REF! -> #REF! | G59: ='LICH THI'!#REF! -> #REF! | H59: ='LICH THI'!#REF! -> #REF! | I59: ='LICH THI'!#REF! -> #REF! | J59: =_Ngay -> #REF! | K59: ='LICH THI'!#REF! -> #REF! | L59: ='LICH THI'!#REF! -> #REF! | M59: ='LICH THI'!#REF! -> #REF! | N59: ='LICH THI'!#REF! -> #REF! | O59: ='LICH THI'!#REF! -> #REF! | P59: =_Ngay -> #REF! | Q59: ='LICH THI'!#REF! -> #REF!
A60: =_Ngay_gio -> #REF! | B60: =_Gio -> #REF! | C60: =_stt -> #REF! | D60: ='LICH THI'!#REF! -> #REF! | E60: ='LICH THI'!#REF! -> #REF! | F60: ='LICH THI'!#REF! -> #REF! | G60: ='LICH THI'!#REF! -> #REF! | H60: ='LICH THI'!#REF! -> #REF! | I60: ='LICH THI'!#REF! -> #REF! | J60: =_Ngay -> #REF! | K60: ='LICH THI'!#REF! -> #REF! | L60: ='LICH THI'!#REF! -> #REF! | M60: ='LICH THI'!#REF! -> #REF! | N60: ='LICH THI'!#REF! -> #REF! | O60: ='LICH THI'!#REF! -> #REF! | P60: =_Ngay -> #REF! | Q60: ='LICH THI'!#REF! -> #REF!
A61: =_Ngay_gio -> 42339.375 | B61: =_Gio -> 9:00 | C61: =_stt -> #REF! | D61: ='LICH THI'!E74 -> DCK64 | E61: ='LICH THI'!F74 -> DC2CK48 | F61: ='LICH THI'!G74 -> Nhiệt kỹ thuật | G61: ='LICH THI'!I74 -> 3 | H61: ='LICH THI'!J74 -> Viết | I61: ='LICH THI'!L74 -> 42339 | J61: =_Ngay -> (Thứ 3) | K61: ='LICH THI'!N74 -> 2 | L61: ='LICH THI'!O74 -> 84 | M61: ='LICH THI'!P74 -> 30 | N61: ='LICH THI'!Q74 -> 3 | O61: ='LICH THI'!AB74 -> 0 | P61: =_Ngay -> (Thứ 7) | Q61: ='LICH THI'!AD74 -> 0
A62: =_Ngay_gio -> 42352.292 | B62: =_Gio -> 7:00 | C62: =_stt -> #REF! | D62: ='LICH THI'!E75 -> DCK64 | E62: ='LICH THI'!F75 -> DC2CK52 | F62: ='LICH THI'!G75 -> Đồ án Chi tiết máy | G62: ='LICH THI'!I75 -> 1 | H62: ='LICH THI'!J75 -> VĐ | I62: ='LICH THI'!L75 -> 42352 | J62: =_Ngay -> (Thứ 2) | K62: ='LICH THI'!N75 -> SA | L62: ='LICH THI'!O75 -> 84 | M62: ='LICH THI'!P75 | N62: ='LICH THI'!Q75 | O62: ='LICH THI'!AB75 -> 0 | P62: =_Ngay -> (Thứ 7) | Q62: ='LICH THI'!AD75 -> 0
A63: =_Ngay_gio -> #REF! | B63: =_Gio -> #REF! | C63: =_stt -> #REF! | D63: ='LICH THI'!#REF! -> #REF! | E63: ='LICH THI'!#REF! -> #REF! | F63: ='LICH THI'!#REF! -> #REF! | G63: ='LICH THI'!#REF! -> #REF! | H63: ='LICH THI'!#REF! -> #REF! | I63: ='LICH THI'!L81 -> 42345 | J63: =_Ngay -> (Thứ 2) | K63: ='LICH THI'!#REF! -> #REF! | L63: ='LICH THI'!#REF! -> #REF! | M63: ='LICH THI'!#REF! -> #REF! | N63: ='LICH THI'!#REF! -> #REF! | O63: ='LICH THI'!#REF! -> #REF! | P63: =_Ngay -> #REF! | Q63: ='LICH THI'!#REF! -> #REF!
A64: =_Ngay_gio -> #REF! | B64: =_Gio -> #REF! | C64: =_stt -> #REF! | D64: ='LICH THI'!#REF! -> #REF! | E64: ='LICH THI'!#REF! -> #REF! | F64: ='LICH THI'!#REF! -> #REF! | G64: ='LICH THI'!#REF! -> #REF! | H64: ='LICH THI'!#REF! -> #REF! | I64: ='LICH THI'!#REF! -> #REF! | J64: =_Ngay -> #REF! | K64: ='LICH THI'!#REF! -> #REF! | L64: ='LICH THI'!#REF! -> #REF! | M64: ='LICH THI'!#REF! -> #REF! | N64: ='LICH THI'!#REF! -> #REF! | O64: ='LICH THI'!#REF! -> #REF! | P64: =_Ngay -> #REF! | Q64: ='LICH THI'!#REF! -> #REF!
A65: =_Ngay_gio -> #REF! | B65: =_Gio -> #REF! | C65: =_stt -> #REF! | D65: ='LICH THI'!#REF! -> #REF! | E65: ='LICH THI'!#REF! -> #REF! | F65: ='LICH THI'!#REF! -> #REF! | G65: ='LICH THI'!#REF! -> #REF! | H65: ='LICH THI'!#REF! -> #REF! | I65: ='LICH THI'!#REF! -> #REF! | J65: =_Ngay -> #REF! | K65: ='LICH THI'!#REF! -> #REF! | L65: ='LICH THI'!#REF! -> #REF! | M65: ='LICH THI'!#REF! -> #REF! | N65: ='LICH THI'!#REF! -> #REF! | O65: ='LICH THI'!#REF! -> #REF! | P65: =_Ngay -> #REF! | Q65: ='LICH THI'!#REF! -> #REF!
A66: =_Ngay_gio -> 42352.292 | B66: =_Gio -> 7:00 | C66: =_stt -> #REF! | D66: ='LICH THI'!E90 -> DCK65 | E66: ='LICH THI'!F90 -> DC2CO25 | F66: ='LICH THI'!G90 -> Sức bền vật liệu | G66: ='LICH THI'!I90 -> 4 | H66: ='LICH THI'!J90 -> VĐ | I66: ='LICH THI'!L90 -> 42352 | J66: =_Ngay -> (Thứ 2) | K66: ='LICH THI'!N90 -> SA | L66: ='LICH THI'!O90 -> 115 | M66: ='LICH THI'!P90 | N66: ='LICH THI'!Q90 | O66: ='LICH THI'!AB90 -> 0 | P66: =_Ngay -> (Thứ 7) | Q66: ='LICH THI'!AD90 -> 0
A67: =_Ngay_gio -> #REF! | B67: =_Gio -> #REF! | C67: =_stt -> #REF! | D67: ='LICH THI'!#REF! -> #REF! | E67: ='LICH THI'!#REF! -> #REF! | F67: ='LICH THI'!#REF! -> #REF! | G67: ='LICH THI'!#REF! -> #REF! | H67: ='LICH THI'!#REF! -> #REF! | I67: ='LICH THI'!#REF! -> #REF! | J67: =_Ngay -> #REF! | K67: ='LICH THI'!#REF! -> #REF! | L67: ='LICH THI'!#REF! -> #REF! | M67: ='LICH THI'!#REF! -> #REF! | N67: ='LICH THI'!#REF! -> #REF! | O67: ='LICH THI'!#REF! -> #REF! | P67: =_Ngay -> #REF! | Q67: ='LICH THI'!#REF! -> #REF!
A68: =_Ngay_gio -> #REF! | B68: =_Gio -> #REF! | C68: =_stt -> #REF! | D68: ='LICH THI'!#REF! -> #REF! | E68: ='LICH THI'!#REF! -> #REF! | F68: ='LICH THI'!#REF! -> #REF! | G68: ='LICH THI'!#REF! -> #REF! | H68: ='LICH THI'!#REF! -> #REF! | I68: ='LICH THI'!#REF! -> #REF! | J68: =_Ngay -> #REF! | K68: ='LICH THI'!#REF! -> #REF! | L68: ='LICH THI'!#REF! -> #REF! | M68: ='LICH THI'!#REF! -> #REF! | N68: ='LICH THI'!#REF! -> #REF! | O68: ='LICH THI'!#REF! -> #REF! | P68: =_Ngay -> #REF! | Q68: ='LICH THI'!#REF! -> #REF!
A69: =_Ngay_gio -> #REF! | B69: =_Gio -> #REF! | C69: =_stt -> #REF! | D69: ='LICH THI'!#REF! -> #REF! | E69: ='LICH THI'!#REF! -> #REF! | F69: ='LICH THI'!#REF! -> #REF! | G69: ='LICH THI'!#REF! -> #REF! | H69: ='LICH THI'!#REF! -> #REF! | I69: ='LICH THI'!#REF! -> #REF! | J69: =_Ngay -> #REF! | K69: ='LICH THI'!#REF! -> #REF! | L69: ='LICH THI'!#REF! -> #REF! | M69: ='LICH THI'!#REF! -> #REF! | N69: ='LICH THI'!#REF! -> #REF! | O69: ='LICH THI'!#REF! -> #REF! | P69: =_Ngay -> #REF! | Q69: ='LICH THI'!#REF! -> #REF!
A70: =_Ngay_gio -> #REF! | B70: =_Gio -> #REF! | C70: =_stt -> #REF! | D70: ='LICH THI'!#REF! -> #REF! | E70: ='LICH THI'!#REF! -> #REF! | F70: ='LICH THI'!#REF! -> #REF! | G70: ='LICH THI'!#REF! -> #REF! | H70: ='LICH THI'!#REF! -> #REF! | I70: ='LICH THI'!#REF! -> #REF! | J70: =_Ngay -> #REF! | K70: ='LICH THI'!#REF! -> #REF! | L70: ='LICH THI'!#REF! -> #REF! | M70: ='LICH THI'!#REF! -> #REF! | N70: ='LICH THI'!#REF! -> #REF! | O70: ='LICH THI'!#REF! -> #REF! | P70: =_Ngay -> #REF! | Q70: ='LICH THI'!#REF! -> #REF!
A71: =_Ngay_gio -> #REF! | B71: =_Gio -> #REF! | C71: =_stt -> #REF! | D71: ='LICH THI'!#REF! -> #REF! | E71: ='LICH THI'!#REF! -> #REF! | F71: ='LICH THI'!#REF! -> #REF! | G71: ='LICH THI'!#REF! -> #REF! | H71: ='LICH THI'!#REF! -> #REF! | I71: ='LICH THI'!#REF! -> #REF! | J71: =_Ngay -> #REF! | K71: ='LICH THI'!#REF! -> #REF! | L71: ='LICH THI'!#REF! -> #REF! | M71: ='LICH THI'!#REF! -> #REF! | N71: ='LICH THI'!#REF! -> #REF! | O71: ='LICH THI'!#REF! -> #REF! | P71: =_Ngay -> #REF! | Q71: ='LICH THI'!#REF! -> #REF!
A72: =_Ngay_gio -> #REF! | B72: =_Gio -> #REF! | C72: =_stt -> #REF! | D72: ='LICH THI'!#REF! -> #REF! | E72: ='LICH THI'!#REF! -> #REF! | F72: ='LICH THI'!#REF! -> #REF! | G72: ='LICH THI'!#REF! -> #REF! | H72: ='LICH THI'!#REF! -> #REF! | I72: ='LICH THI'!#REF! -> #REF! | J72: =_Ngay -> #REF! | K72: ='LICH THI'!#REF! -> #REF! | L72: ='LICH THI'!#REF! -> #REF! | M72: ='LICH THI'!#REF! -> #REF! | N72: ='LICH THI'!#REF! -> #REF! | O72: ='LICH THI'!#REF! -> #REF! | P72: =_Ngay -> #REF! | Q72: ='LICH THI'!#REF! -> #REF!
A73: =_Ngay_gio -> #REF! | B73: =_Gio -> #REF! | C73: =_stt -> #REF! | D73: ='LICH THI'!#REF! -> #REF! | E73: ='LICH THI'!#REF! -> #REF! | F73: ='LICH THI'!#REF! -> #REF! | G73: ='LICH THI'!#REF! -> #REF! | H73: ='LICH THI'!#REF! -> #REF! | I73: ='LICH THI'!#REF! -> #REF! | J73: =_Ngay -> #REF! | K73: ='LICH THI'!#REF! -> #REF! | L73: ='LICH THI'!#REF! -> #REF! | M73: ='LICH THI'!#REF! -> #REF! | N73: ='LICH THI'!#REF! -> #REF! | O73: ='LICH THI'!#REF! -> #REF! | P73: =_Ngay -> #REF! | Q73: ='LICH THI'!#REF! -> #REF!
A74: =_Ngay_gio -> #REF! | B74: =_Gio -> #REF! | C74: 1 | D74: ='LICH THI'!#REF! -> #REF! | E74: ='LICH THI'!#REF! -> #REF! | F74: ='LICH THI'!#REF! -> #REF! | G74: ='LICH THI'!#REF! -> #REF! | H74: ='LICH THI'!#REF! -> #REF! | I74: ='LICH THI'!#REF! -> #REF! | J74: =_Ngay -> #REF! | K74: ='LICH THI'!#REF! -> #REF! | L74: ='LICH THI'!#REF! -> #REF! | M74: ='LICH THI'!#REF! -> #REF! | N74: ='LICH THI'!#REF! -> #REF! | O74: ='LICH THI'!#REF! -> #REF! | P74: =_Ngay -> #REF! | Q74: ='LICH THI'!#REF! -> #REF!
A75: =_Ngay_gio -> #REF! | B75: =_Gio -> #REF! | C75: =_stt -> 2 | D75: ='LICH THI'!#REF! -> #REF! | E75: ='LICH THI'!#REF! -> #REF! | F75: ='LICH THI'!#REF! -> #REF! | G75: ='LICH THI'!#REF! -> #REF! | H75: ='LICH THI'!#REF! -> #REF! | I75: ='LICH THI'!#REF! -> #REF! | J75: =_Ngay -> #REF! | K75: ='LICH THI'!#REF! -> #REF! | L75: ='LICH THI'!#REF! -> #REF! | M75: ='LICH THI'!#REF! -> #REF! | N75: ='LICH THI'!#REF! -> #REF! | O75: ='LICH THI'!#REF! -> #REF! | P75: =_Ngay -> #REF! | Q75: ='LICH THI'!#REF! -> #REF!
A76: =_Ngay_gio -> #REF! | B76: =_Gio -> #REF! | C76: =_stt -> 3 | D76: ='LICH THI'!#REF! -> #REF! | E76: ='LICH THI'!#REF! -> #REF! | F76: ='LICH THI'!#REF! -> #REF! | G76: ='LICH THI'!#REF! -> #REF! | H76: ='LICH THI'!#REF! -> #REF! | I76: ='LICH THI'!#REF! -> #REF! | J76: =_Ngay -> #REF! | K76: ='LICH THI'!#REF! -> #REF! | L76: ='LICH THI'!#REF! -> #REF! | M76: ='LICH THI'!#REF! -> #REF! | N76: ='LICH THI'!#REF! -> #REF! | O76: ='LICH THI'!#REF! -> #REF! | P76: =_Ngay -> #REF! | Q76: ='LICH THI'!#REF! -> #REF!
A77: =_Ngay_gio -> #REF! | B77: =_Gio -> #REF! | C77: =_stt -> 4 | D77: ='LICH THI'!#REF! -> #REF! | E77: ='LICH THI'!#REF! -> #REF! | F77: ='LICH THI'!#REF! -> #REF! | G77: ='LICH THI'!#REF! -> #REF! | H77: ='LICH THI'!#REF! -> #REF! | I77: ='LICH THI'!#REF! -> #REF! | J77: =_Ngay -> #REF! | K77: ='LICH THI'!#REF! -> #REF! | L77: ='LICH THI'!#REF! -> #REF! | M77: ='LICH THI'!#REF! -> #REF! | N77: ='LICH THI'!#REF! -> #REF! | O77: ='LICH THI'!#REF! -> #REF! | P77: =_Ngay -> #REF! | Q77: ='LICH THI'!#REF! -> #REF!
A78: =_Ngay_gio -> #REF! | B78: =_Gio -> #REF! | C78: =_stt -> 5 | D78: ='LICH THI'!#REF! -> #REF! | E78: ='LICH THI'!#REF! -> #REF! | F78: ='LICH THI'!#REF! -> #REF! | G78: ='LICH THI'!#REF! -> #REF! | H78: ='LICH THI'!#REF! -> #REF! | I78: ='LICH THI'!#REF! -> #REF! | J78: =_Ngay -> #REF! | K78: ='LICH THI'!#REF! -> #REF! | L78: ='LICH THI'!#REF! -> #REF! | M78: ='LICH THI'!#REF! -> #REF! | N78: ='LICH THI'!#REF! -> #REF! | O78: ='LICH THI'!#REF! -> #REF! | P78: =_Ngay -> #REF! | Q78: ='LICH THI'!#REF! -> #REF!
A79: =_Ngay_gio -> #REF! | B79: =_Gio -> #REF! | C79: =_stt -> 6 | D79: ='LICH THI'!#REF! -> #REF! | E79: ='LICH THI'!#REF! -> #REF! | F79: ='LICH THI'!#REF! -> #REF! | G79: ='LICH THI'!#REF! -> #REF! | H79: ='LICH THI'!#REF! -> #REF! | I79: ='LICH THI'!#REF! -> #REF! | J79: =_Ngay -> #REF! | K79: ='LICH THI'!#REF! -> #REF! | L79: ='LICH THI'!#REF! -> #REF! | M79: ='LICH THI'!#REF! -> #REF! | N79: ='LICH THI'!#REF! -> #REF! | O79: ='LICH THI'!#REF! -> #REF! | P79: =_Ngay -> #REF! | Q79: ='LICH THI'!#REF! -> #REF!
A80: =_Ngay_gio -> #REF! | B80: =_Gio -> #REF! | C80: =_stt -> 7 | D80: ='LICH THI'!#REF! -> #REF! | E80: ='LICH THI'!#REF! -> #REF! | F80: ='LICH THI'!#REF! -> #REF! | G80: ='LICH THI'!#REF! -> #REF! | H80: ='LICH THI'!#REF! -> #REF! | I80: ='LICH THI'!#REF! -> #REF! | J80: =_Ngay -> #REF! | K80: ='LICH THI'!#REF! -> #REF! | L80: ='LICH THI'!#REF! -> #REF! | M80: ='LICH THI'!#REF! -> #REF! | N80: ='LICH THI'!#REF! -> #REF! | O80: ='LICH THI'!#REF! -> #REF! | P80: =_Ngay -> #REF! | Q80: ='LICH THI'!#REF! -> #REF!
A81: =_Ngay_gio -> #REF! | B81: =_Gio -> #REF! | C81: =_stt -> 8 | D81: ='LICH THI'!#REF! -> #REF! | E81: ='LICH THI'!#REF! -> #REF! | F81: ='LICH THI'!#REF! -> #REF! | G81: ='LICH THI'!#REF! -> #REF! | H81: ='LICH THI'!#REF! -> #REF! | I81: ='LICH THI'!#REF! -> #REF! | J81: =_Ngay -> #REF! | K81: ='LICH THI'!#REF! -> #REF! | L81: ='LICH THI'!#REF! -> #REF! | M81: ='LICH THI'!#REF! -> #REF! | N81: ='LICH THI'!#REF! -> #REF! | O81: ='LICH THI'!#REF! -> #REF! | P81: =_Ngay -> #REF! | Q81: ='LICH THI'!#REF! -> #REF!
A82: =_Ngay_gio -> #REF! | B82: =_Gio -> #REF! | C82: =_stt -> 9 | D82: ='LICH THI'!#REF! -> #REF! | E82: ='LICH THI'!#REF! -> #REF! | F82: ='LICH THI'!#REF! -> #REF! | G82: ='LICH THI'!#REF! -> #REF! | H82: ='LICH THI'!#REF! -> #REF! | I82: ='LICH THI'!#REF! -> #REF! | J82: =_Ngay -> #REF! | K82: ='LICH THI'!#REF! -> #REF! | L82: ='LICH THI'!#REF! -> #REF! | M82: ='LICH THI'!#REF! -> #REF! | N82: ='LICH THI'!#REF! -> #REF! | O82: ='LICH THI'!#REF! -> #REF! | P82: =_Ngay -> #REF! | Q82: ='LICH THI'!#REF! -> #REF!
A83: =_Ngay_gio -> #REF! | B83: =_Gio -> #REF! | C83: =_stt -> 10 | D83: ='LICH THI'!#REF! -> #REF! | E83: ='LICH THI'!#REF! -> #REF! | F83: ='LICH THI'!#REF! -> #REF! | G83: ='LICH THI'!#REF! -> #REF! | H83: ='LICH THI'!#REF! -> #REF! | I83: ='LICH THI'!#REF! -> #REF! | J83: =_Ngay -> #REF! | K83: ='LICH THI'!#REF! -> #REF! | L83: ='LICH THI'!#REF! -> #REF! | M83: ='LICH THI'!#REF! -> #REF! | N83: ='LICH THI'!#REF! -> #REF! | O83: ='LICH THI'!#REF! -> #REF! | P83: =_Ngay -> #REF! | Q83: ='LICH THI'!#REF! -> #REF!
A84: =_Ngay_gio -> #REF! | B84: =_Gio -> #REF! | C84: =_stt -> 11 | D84: ='LICH THI'!#REF! -> #REF! | E84: ='LICH THI'!#REF! -> #REF! | F84: ='LICH THI'!#REF! -> #REF! | G84: ='LICH THI'!#REF! -> #REF! | H84: ='LICH THI'!#REF! -> #REF! | I84: ='LICH THI'!#REF! -> #REF! | J84: =_Ngay -> #REF! | K84: ='LICH THI'!#REF! -> #REF! | L84: ='LICH THI'!#REF! -> #REF! | M84: ='LICH THI'!#REF! -> #REF! | N84: ='LICH THI'!#REF! -> #REF! | O84: ='LICH THI'!#REF! -> #REF! | P84: =_Ngay -> #REF! | Q84: ='LICH THI'!#REF! -> #REF!
A85: =_Ngay_gio -> #REF! | B85: =_Gio -> #REF! | C85: =_stt -> 12 | D85: ='LICH THI'!#REF! -> #REF! | E85: ='LICH THI'!#REF! -> #REF! | F85: ='LICH THI'!#REF! -> #REF! | G85: ='LICH THI'!#REF! -> #REF! | H85: ='LICH THI'!#REF! -> #REF! | I85: ='LICH THI'!#REF! -> #REF! | J85: =_Ngay -> #REF! | K85: ='LICH THI'!#REF! -> #REF! | L85: ='LICH THI'!#REF! -> #REF! | M85: ='LICH THI'!#REF! -> #REF! | N85: ='LICH THI'!#REF! -> #REF! | O85: ='LICH THI'!#REF! -> #REF! | P85: =_Ngay -> #REF! | Q85: ='LICH THI'!#REF! -> #REF!
A86: =_Ngay_gio -> #REF! | B86: =_Gio -> #REF! | C86: =_stt -> 13 | D86: ='LICH THI'!#REF! -> #REF! | E86: ='LICH THI'!#REF! -> #REF! | F86: ='LICH THI'!#REF! -> #REF! | G86: ='LICH THI'!#REF! -> #REF! | H86: ='LICH THI'!#REF! -> #REF! | I86: ='LICH THI'!#REF! -> #REF! | J86: =_Ngay -> #REF! | K86: ='LICH THI'!#REF! -> #REF! | L86: ='LICH THI'!#REF! -> #REF! | M86: ='LICH THI'!#REF! -> #REF! | N86: ='LICH THI'!#REF! -> #REF! | O86: ='LICH THI'!#REF! -> #REF! | P86: =_Ngay -> #REF! | Q86: ='LICH THI'!#REF! -> #REF!
A87: =_Ngay_gio -> 42352.292 | B87: =_Gio -> 7:00 | C87: =_stt -> 14 | D87: ='LICH THI'!E14 -> DCK63 | E87: ='LICH THI'!F14 -> DC3DB52 | F87: ='LICH THI'!G14 -> Kỹ thuật thi công mặt đường | G87: ='LICH THI'!I14 -> 3 | H87: ='LICH THI'!J14 -> VĐ | I87: ='LICH THI'!L14 -> 42352 | J87: =_Ngay -> (Thứ 2) | K87: ='LICH THI'!N14 -> SA | L87: ='LICH THI'!O14 -> 50 | M87: ='LICH THI'!P14 | N87: ='LICH THI'!Q14 | O87: ='LICH THI'!AB14 -> 0 | P87: =_Ngay -> (Thứ 7) | Q87: ='LICH THI'!AD14 -> 0
A88: =_Ngay_gio -> 42354.292 | B88: =_Gio -> 7:00 | C88: =_stt -> 15 | D88: ='LICH THI'!E15 -> DCK63 | E88: ='LICH THI'!F15 -> DC3CD60 | F88: ='LICH THI'!G15 -> Tin học ứng dụng | G88: ='LICH THI'!I15 -> 2 | H88: ='LICH THI'!J15 -> TH | I88: ='LICH THI'!L15 -> 42354 | J88: =_Ngay -> (Thứ 4) | K88: ='LICH THI'!N15 -> SA | L88: ='LICH THI'!O15 -> 50 | M88: ='LICH THI'!P15 | N88: ='LICH THI'!Q15 | O88: ='LICH THI'!AB15 -> 0 | P88: =_Ngay -> (Thứ 7) | Q88: ='LICH THI'!AD15 -> 0
A89: =_Ngay_gio -> #REF! | B89: =_Gio -> #REF! | C89: =_stt -> 16 | D89: ='LICH THI'!#REF! -> #REF! | E89: ='LICH THI'!#REF! -> #REF! | F89: ='LICH THI'!#REF! -> #REF! | G89: ='LICH THI'!#REF! -> #REF! | H89: ='LICH THI'!#REF! -> #REF! | I89: ='LICH THI'!#REF! -> #REF! | J89: =_Ngay -> #REF! | K89: ='LICH THI'!#REF! -> #REF! | L89: ='LICH THI'!#REF! -> #REF! | M89: ='LICH THI'!#REF! -> #REF! | N89: ='LICH THI'!#REF! -> #REF! | O89: ='LICH THI'!#REF! -> #REF! | P89: =_Ngay -> #REF! | Q89: ='LICH THI'!#REF! -> #REF!
A90: =_Ngay_gio -> #REF! | B90: =_Gio -> #REF! | C90: =_stt -> 17 | D90: ='LICH THI'!#REF! -> #REF! | E90: ='LICH THI'!#REF! -> #REF! | F90: ='LICH THI'!#REF! -> #REF! | G90: ='LICH THI'!#REF! -> #REF! | H90: ='LICH THI'!#REF! -> #REF! | I90: ='LICH THI'!#REF! -> #REF! | J90: =_Ngay -> #REF! | K90: ='LICH THI'!#REF! -> #REF! | L90: ='LICH THI'!#REF! -> #REF! | M90: ='LICH THI'!#REF! -> #REF! | N90: ='LICH THI'!#REF! -> #REF! | O90: ='LICH THI'!#REF! -> #REF! | P90: =_Ngay -> #REF! | Q90: ='LICH THI'!#REF! -> #REF!
A91: =_Ngay_gio -> 42354.292 | B91: =_Gio -> 7:00 | C91: =_stt -> 18 | D91: ='LICH THI'!E26 -> DCK63 | E91: ='LICH THI'!F26 -> DC2CK60 | F91: ='LICH THI'!G26 -> Tin học ứng dụng | G91: ='LICH THI'!I26 -> 2 | H91: ='LICH THI'!J26 -> VĐ | I91: ='LICH THI'!L26 -> 42354 | J91: =_Ngay -> (Thứ 4) | K91: ='LICH THI'!N26 -> SA | L91: ='LICH THI'!O26 -> 17 | M91: ='LICH THI'!P26 | N91: ='LICH THI'!Q26 | O91: ='LICH THI'!AB26 -> 0 | P91: =_Ngay -> (Thứ 7) | Q91: ='LICH THI'!AD26 -> 0
A92: =_Ngay_gio -> #REF! | B92: =_Gio -> #REF! | C92: =_stt -> 19 | D92: ='LICH THI'!#REF! -> #REF! | E92: ='LICH THI'!#REF! -> #REF! | F92: ='LICH THI'!#REF! -> #REF! | G92: ='LICH THI'!#REF! -> #REF! | H92: ='LICH THI'!#REF! -> #REF! | I92: ='LICH THI'!#REF! -> #REF! | J92: =_Ngay -> #REF! | K92: ='LICH THI'!#REF! -> #REF! | L92: ='LICH THI'!#REF! -> #REF! | M92: ='LICH THI'!#REF! -> #REF! | N92: ='LICH THI'!#REF! -> #REF! | O92: ='LICH THI'!#REF! -> #REF! | P92: =_Ngay -> #REF! | Q92: ='LICH THI'!#REF! -> #REF!
A93: =_Ngay_gio -> 42348.292 | B93: =_Gio -> 7:00 | C93: =_stt -> 20 | D93: ='LICH THI'!E47 -> CCK64 | E93: ='LICH THI'!F47 -> CC3OT36 | F93: ='LICH THI'!G47 -> Hệ thống điều hòa và thiết bị tiện nghi trên ô tô | G93: ='LICH THI'!I47 -> 2 | H93: ='LICH THI'!J47 -> Viết | I93: ='LICH THI'!L47 -> 42348 | J93: =_Ngay -> (Thứ 5) | K93: ='LICH THI'!N47 -> 1 | L93: ='LICH THI'!O47 -> 26 | M93: ='LICH THI'!P47 -> 30 | N93: ='LICH THI'!Q47 -> 1 | O93: ='LICH THI'!AB47 -> 0 | P93: =_Ngay -> (Thứ 7) | Q93: ='LICH THI'!AD47 -> 0
A94: =_Ngay_gio -> #REF! | B94: =_Gio -> #REF! | C94: =_stt -> 21 | D94: ='LICH THI'!#REF! -> #REF! | E94: ='LICH THI'!#REF! -> #REF! | F94: ='LICH THI'!#REF! -> #REF! | G94: ='LICH THI'!#REF! -> #REF! | H94: ='LICH THI'!#REF! -> #REF! | I94: ='LICH THI'!#REF! -> #REF! | J94: =_Ngay -> #REF! | K94: ='LICH THI'!#REF! -> #REF! | L94: ='LICH THI'!#REF! -> #REF! | M94: ='LICH THI'!#REF! -> #REF! | N94: ='LICH THI'!#REF! -> #REF! | O94: ='LICH THI'!#REF! -> #REF! | P94: =_Ngay -> #REF! | Q94: ='LICH THI'!#REF! -> #REF!
A95: =_Ngay_gio -> #REF! | B95: =_Gio -> #REF! | C95: =_stt -> 22 | D95: ='LICH THI'!#REF! -> #REF! | E95: ='LICH THI'!#REF! -> #REF! | F95: ='LICH THI'!#REF! -> #REF! | G95: ='LICH THI'!#REF! -> #REF! | H95: ='LICH THI'!#REF! -> #REF! | I95: ='LICH THI'!#REF! -> #REF! | J95: =_Ngay -> #REF! | K95: ='LICH THI'!#REF! -> #REF! | L95: ='LICH THI'!#REF! -> #REF! | M95: ='LICH THI'!#REF! -> #REF! | N95: ='LICH THI'!#REF! -> #REF! | O95: ='LICH THI'!#REF! -> #REF! | P95: =_Ngay -> #REF! | Q95: ='LICH THI'!#REF! -> #REF!
A96: =_Ngay_gio -> #REF! | B96: =_Gio -> #REF! | C96: =_stt -> 23 | D96: ='LICH THI'!#REF! -> #REF! | E96: ='LICH THI'!#REF! -> #REF! | F96: ='LICH THI'!#REF! -> #REF! | G96: ='LICH THI'!#REF! -> #REF! | H96: ='LICH THI'!#REF! -> #REF! | I96: ='LICH THI'!#REF! -> #REF! | J96: =_Ngay -> #REF! | K96: ='LICH THI'!#REF! -> #REF! | L96: ='LICH THI'!#REF! -> #REF! | M96: ='LICH THI'!#REF! -> #REF! | N96: ='LICH THI'!#REF! -> #REF! | O96: ='LICH THI'!#REF! -> #REF! | P96: =_Ngay -> #REF! | Q96: ='LICH THI'!#REF! -> #REF!
A97: =_Ngay_gio -> 42332.292 | B97: =_Gio -> 7:00 | C97: =_stt -> 24 | D97: ='LICH THI'!E77 -> CCK65 | E97: ='LICH THI'!F77 -> CC2GT51 | F97: ='LICH THI'!G77 -> Kết cấu thép | G97: ='LICH THI'!I77 -> 2 | H97: ='LICH THI'!J77 -> Viết | I97: ='LICH THI'!L77 -> 42332 | J97: =_Ngay -> (Thứ 3) | K97: ='LICH THI'!N77 -> 1 | L97: ='LICH THI'!O77 -> 37 | M97: ='LICH THI'!P77 -> 30 | N97: ='LICH THI'!Q77 -> 2 | O97: ='LICH THI'!AB77 -> 0 | P97: =_Ngay -> (Thứ 7) | Q97: ='LICH THI'!AD77 -> 0
A98: =_Ngay_gio -> #REF! | B98: =_Gio -> #REF! | C98: =_stt -> 25 | D98: ='LICH THI'!#REF! -> #REF! | E98: ='LICH THI'!#REF! -> #REF! | F98: ='LICH THI'!#REF! -> #REF! | G98: ='LICH THI'!#REF! -> #REF! | H98: ='LICH THI'!#REF! -> #REF! | I98: ='LICH THI'!#REF! -> #REF! | J98: =_Ngay -> #REF! | K98: ='LICH THI'!#REF! -> #REF! | L98: ='LICH THI'!#REF! -> #REF! | M98: ='LICH THI'!#REF! -> #REF! | N98: ='LICH THI'!#REF! -> #REF! | O98: ='LICH THI'!#REF! -> #REF! | P98: =_Ngay -> #REF! | Q98: ='LICH THI'!#REF! -> #REF!
A99: =_Ngay_gio -> 42345.625 | B99: =_Gio -> 15:00 | C99: =_stt -> 26 | D99: ='LICH THI'!E89 -> DCK65 | E99: ='LICH THI'!F89 -> DC2CT16 | F99: ='LICH THI'!G89 -> Trắc địa | G99: ='LICH THI'!I89 -> 3 | H99: ='LICH THI'!J89 -> Viết | I99: ='LICH THI'!L89 -> 42345 | J99: =_Ngay -> (Thứ 2) | K99: ='LICH THI'!N89 -> 4 | L99: ='LICH THI'!O89 -> 115 | M99: ='LICH THI'!P89 -> 30 | N99: ='LICH THI'!Q89 -> 4 | O99: ='LICH THI'!AB89 -> 0 | P99: =_Ngay -> (Thứ 7) | Q99: ='LICH THI'!AD89 -> 0
A100: =_Ngay_gio -> 42354.292 | B100: =_Gio -> 7:00 | C100: =_stt -> 27 | D100: ='LICH THI'!E91 -> DCK65 | E100: ='LICH THI'!F91 -> DC4CT16 | F100: ='LICH THI'!G91 -> Thực tập Thí nghiệm địa chất | G100: ='LICH THI'!I91 -> 1 | H100: ='LICH THI'!J91 -> TH | I100: ='LICH THI'!L91 -> 42354 | J100: =_Ngay -> (Thứ 4) | K100: ='LICH THI'!N91 -> SA | L100: ='LICH THI'!O91 -> 115 | M100: ='LICH THI'!P91 | N100: ='LICH THI'!Q91 | O100: ='LICH THI'!AB91 -> 0 | P100: =_Ngay -> (Thứ 7) | Q100: ='LICH THI'!AD91 -> 0
A101: =_Ngay_gio -> #REF! | B101: =_Gio -> #REF! | C101: =_stt -> 28 | D101: ='LICH THI'!#REF! -> #REF! | E101: ='LICH THI'!#REF! -> #REF! | F101: ='LICH THI'!#REF! -> #REF! | G101: ='LICH THI'!#REF! -> #REF! | H101: ='LICH THI'!#REF! -> #REF! | I101: ='LICH THI'!#REF! -> #REF! | J101: =_Ngay -> #REF! | K101: ='LICH THI'!#REF! -> #REF! | L101: ='LICH THI'!#REF! -> #REF! | M101: ='LICH THI'!#REF! -> #REF! | N101: ='LICH THI'!#REF! -> #REF! | O101: ='LICH THI'!#REF! -> #REF! | P101: =_Ngay -> #REF! | Q101: ='LICH THI'!#REF! -> #REF!
A102: =_Ngay_gio -> #REF! | B102: =_Gio -> #REF! | C102: =_stt -> 29 | D102: ='LICH THI'!#REF! -> #REF! | E102: ='LICH THI'!#REF! -> #REF! | F102: ='LICH THI'!#REF! -> #REF! | G102: ='LICH THI'!#REF! -> #REF! | H102: ='LICH THI'!#REF! -> #REF! | I102: ='LICH THI'!#REF! -> #REF! | J102: =_Ngay -> #REF! | K102: ='LICH THI'!#REF! -> #REF! | L102: ='LICH THI'!#REF! -> #REF! | M102: ='LICH THI'!#REF! -> #REF! | N102: ='LICH THI'!#REF! -> #REF! | O102: ='LICH THI'!#REF! -> #REF! | P102: =_Ngay -> #REF! | Q102: ='LICH THI'!#REF! -> #REF!
A103: =_Ngay_gio -> 42332.375 | B103: =_Gio -> 9:00 | C103: =_stt -> 30 | D103: ='LICH THI'!E102 -> DCK65 | E103: ='LICH THI'!F102 -> DC2TT21 | F103: ='LICH THI'!G102 -> Toán học rời rạc | G103: ='LICH THI'!I102 -> 3 | H103: ='LICH THI'!J102 -> Viết | I103: ='LICH THI'!L102 -> 42332 | J103: =_Ngay -> (Thứ 3) | K103: ='LICH THI'!N102 -> 2 | L103: ='LICH THI'!O102 -> 19 | M103: ='LICH THI'!P102 -> 0 | N103: ='LICH THI'!Q102 -> 0 | O103: ='LICH THI'!AB102 -> 0 | P103: =_Ngay -> (Thứ 7) | Q103: ='LICH THI'!AD102 -> 0
A104: =_Ngay_gio -> 42354.375 | B104: =_Gio -> 9:00 | C104: =_stt -> 31 | D104: ='LICH THI'!E103 -> DCK65 | E104: ='LICH THI'!F103 -> DC2HT11 | F104: ='LICH THI'!G103 -> Kiến trúc máy tính | G104: ='LICH THI'!I103 -> 3 | H104: ='LICH THI'!J103 -> Viết | I104: ='LICH THI'!L103 -> 42354 | J104: =_Ngay -> (Thứ 4) | K104: ='LICH THI'!N103 -> 2 | L104: ='LICH THI'!O103 -> 19 | M104: ='LICH THI'!P103 -> 0 | N104: ='LICH THI'!Q103 -> 0 | O104: ='LICH THI'!AB103 -> 0 | P104: =_Ngay -> (Thứ 7) | Q104: ='LICH THI'!AD103 -> 0
A105: =_Ngay_gio -> #REF! | B105: =_Gio -> #REF! | C105: 1 | D105: ='LICH THI'!#REF! -> #REF! | E105: ='LICH THI'!#REF! -> #REF! | F105: ='LICH THI'!#REF! -> #REF! | G105: ='LICH THI'!#REF! -> #REF! | H105: ='LICH THI'!#REF! -> #REF! | I105: ='LICH THI'!#REF! -> #REF! | J105: =_Ngay -> #REF! | K105: ='LICH THI'!#REF! -> #REF! | L105: ='LICH THI'!#REF! -> #REF! | M105: ='LICH THI'!#REF! -> #REF! | N105: ='LICH THI'!#REF! -> #REF! | O105: ='LICH THI'!#REF! -> #REF! | P105: =_Ngay -> #REF! | Q105: ='LICH THI'!#REF! -> #REF!
A106: =_Ngay_gio -> #REF! | B106: =_Gio -> #REF! | C106: =_stt -> 2 | D106: ='LICH THI'!#REF! -> #REF! | E106: ='LICH THI'!#REF! -> #REF! | F106: ='LICH THI'!#REF! -> #REF! | G106: ='LICH THI'!#REF! -> #REF! | H106: ='LICH THI'!#REF! -> #REF! | I106: ='LICH THI'!#REF! -> #REF! | J106: =_Ngay -> #REF! | K106: ='LICH THI'!#REF! -> #REF! | L106: ='LICH THI'!#REF! -> #REF! | M106: ='LICH THI'!#REF! -> #REF! | N106: ='LICH THI'!#REF! -> #REF! | O106: ='LICH THI'!#REF! -> #REF! | P106: =_Ngay -> #REF! | Q106: ='LICH THI'!#REF! -> #REF!
A107: =_Ngay_gio -> #REF! | B107: =_Gio -> #REF! | C107: =_stt -> 3 | D107: ='LICH THI'!#REF! -> #REF! | E107: ='LICH THI'!#REF! -> #REF! | F107: ='LICH THI'!#REF! -> #REF! | G107: ='LICH THI'!#REF! -> #REF! | H107: ='LICH THI'!#REF! -> #REF! | I107: ='LICH THI'!#REF! -> #REF! | J107: =_Ngay -> #REF! | K107: ='LICH THI'!#REF! -> #REF! | L107: ='LICH THI'!#REF! -> #REF! | M107: ='LICH THI'!#REF! -> #REF! | N107: ='LICH THI'!#REF! -> #REF! | O107: ='LICH THI'!#REF! -> #REF! | P107: =_Ngay -> #REF! | Q107: ='LICH THI'!#REF! -> #REF!
A108: =_Ngay_gio -> #REF! | B108: =_Gio -> #REF! | C108: =_stt -> 4 | D108: ='LICH THI'!#REF! -> #REF! | E108: ='LICH THI'!#REF! -> #REF! | F108: ='LICH THI'!#REF! -> #REF! | G108: ='LICH THI'!#REF! -> #REF! | H108: ='LICH THI'!#REF! -> #REF! | I108: ='LICH THI'!#REF! -> #REF! | J108: =_Ngay -> #REF! | K108: ='LICH THI'!#REF! -> #REF! | L108: ='LICH THI'!#REF! -> #REF! | M108: ='LICH THI'!#REF! -> #REF! | N108: ='LICH THI'!#REF! -> #REF! | O108: ='LICH THI'!#REF! -> #REF! | P108: =_Ngay -> #REF! | Q108: ='LICH THI'!#REF! -> #REF!
A109: =_Ngay_gio -> #REF! | B109: =_Gio -> #REF! | C109: =_stt -> 5 | D109: ='LICH THI'!#REF! -> #REF! | E109: ='LICH THI'!#REF! -> #REF! | F109: ='LICH THI'!#REF! -> #REF! | G109: ='LICH THI'!#REF! -> #REF! | H109: ='LICH THI'!#REF! -> #REF! | I109: ='LICH THI'!#REF! -> #REF! | J109: =_Ngay -> #REF! | K109: ='LICH THI'!#REF! -> #REF! | L109: ='LICH THI'!#REF! -> #REF! | M109: ='LICH THI'!#REF! -> #REF! | N109: ='LICH THI'!#REF! -> #REF! | O109: ='LICH THI'!#REF! -> #REF! | P109: =_Ngay -> #REF! | Q109: ='LICH THI'!#REF! -> #REF!
A110: =_Ngay_gio -> #REF! | B110: =_Gio -> #REF! | C110: =_stt -> 6 | D110: ='LICH THI'!#REF! -> #REF! | E110: ='LICH THI'!#REF! -> #REF! | F110: ='LICH THI'!#REF! -> #REF! | G110: ='LICH THI'!#REF! -> #REF! | H110: ='LICH THI'!#REF! -> #REF! | I110: ='LICH THI'!#REF! -> #REF! | J110: =_Ngay -> #REF! | K110: ='LICH THI'!#REF! -> #REF! | L110: ='LICH THI'!#REF! -> #REF! | M110: ='LICH THI'!#REF! -> #REF! | N110: ='LICH THI'!#REF! -> #REF! | O110: ='LICH THI'!#REF! -> #REF! | P110: =_Ngay -> #REF! | Q110: ='LICH THI'!#REF! -> #REF!
A111: =_Ngay_gio -> #REF! | B111: =_Gio -> #REF! | C111: =_stt -> 7 | D111: ='LICH THI'!#REF! -> #REF! | E111: ='LICH THI'!#REF! -> #REF! | F111: ='LICH THI'!#REF! -> #REF! | G111: ='LICH THI'!#REF! -> #REF! | H111: ='LICH THI'!#REF! -> #REF! | I111: ='LICH THI'!#REF! -> #REF! | J111: =_Ngay -> #REF! | K111: ='LICH THI'!#REF! -> #REF! | L111: ='LICH THI'!#REF! -> #REF! | M111: ='LICH THI'!#REF! -> #REF! | N111: ='LICH THI'!#REF! -> #REF! | O111: ='LICH THI'!#REF! -> #REF! | P111: =_Ngay -> #REF! | Q111: ='LICH THI'!#REF! -> #REF!
...

Sheet Sheet1
I1: DC1CB13-DLK65 | J1: =+LEFT(I1,7) -> DC1CB13 | M1: DC1CB94-DCK65 | N1: DC1CB94
I2: DL2CT27-DLK65 | J2: =+LEFT(I2,7) -> DL2CT27 | M2: DC2CB89-DCK65 | N2: DC2CB89 | Q2: DC2CT65-DCK64
B3: 65DLCD21 | C3: 57 | E3: =SUM(C3:C5) -> 163 | I3: DL2GT52-DLK65 | J3: =+LEFT(I3,7) -> DL2GT52 | M3: DC2HT26-DCK65 | N3: DC2HT26 | Q3: DC2CT65-DCK63
B4: 65DLCD22 | C4: 49 | I4: DL3DB41-DLK65 | J4: =+LEFT(I4,7) -> DL3DB41 | M4: DC3VL25-DCK65 | N4: DC3VL25 | Q4: DC3HT51-DCK64
B5: 65DLCD23 | C5: 57 | I5: DL3CA41-DLK65 | J5: =+LEFT(I5,7) -> DL3CA41 | M5: DC2DT45-DCK65 | N5: DC2DT45 | Q5: DC2DT55-DCK64
B6: 65DLCD24 | C6: 56 | E6: =+C6+C7+C8+C9+C10+C13+C15+C19+C20+C21 -> 504 | I6: DC2GT54-DLK65 | J6: =+LEFT(I6,7) -> DC2GT54 | M6: DC2DT44-DCK65 | N6: DC2DT44 | Q6: DC1CB94-DCK64
B7: 65DLCD25 | C7: 84 | I7: DC3CA44-DLK65 | J7: =+LEFT(I7,7) -> DC3CA44 | M7: DC2CT31-DCK65 | N7: DC2CT31 | Q7: DC1CB94-DCK65
B8: 65DLCD26 | C8: 58 | I8: DC3DB44-DLK65 | J8: =+LEFT(I8,7) -> DC3DB44 | M8: DC2VS67-DCK65 | N8: DC2VS67 | Q8: DC2TH33-DCK64
B9: 65DLCD27 | C9: 50 | I9: DC1CB32-DLK65 | J9: =+LEFT(I9,7) -> DC1CB32 | M9: DC2VB67-DCK65 | N9: DC2VB67 | Q9: DC2CB89-DCK65
B10: 65DLCD28 | C10: 44 | I10: DC1CB12-DLK65 | J10: =+LEFT(I10,7) -> DC1CB12 | M10: DC2KV22-DCK65 | N10: DC2KV22 | Q10: DC3DD46-DCK63
B11: 65DLDD21 | C11: 54 | E11: =+C11 -> 54 | I11: DL1CB22-DLK65 | J11: =+LEFT(I11,7) -> DL1CB22 | M11: DC2CK54-DCK65 | N11: DC2CK54 | Q11: DC2HT26-DCK65
B12: 65DLDD22 | C12: 59 | E12: =+C12 -> 59 | I12: DL2GT61-DLK65 | J12: =+LEFT(I12,7) -> DL2GT61 | M12: DC1QP01-DCK65 | N12: DC1QP01 | Q12: DC2CK57-DCK64
B13: 65DLDD23 | C13: 37 | I13: DC1CB20-DLK65 | J13: =+LEFT(I13,7) -> DC1CB20 | M13: DC1QP02-DCK65 | N13: DC1QP02 | Q13: DC2CK33-DCK64
B14: 65DLOT21 | C14: 42 | E14: =+C14 -> 42 | I14: DC3DB71-DLK65 | J14: =+LEFT(I14,7) -> DC3DB71 | M14: DC1QP03-DCK65 | N14: DC1QP03 | Q14: DC3VL25-DCK65
B15: 65DLOT22 | C15: 22 | I15: DL2DD52-DLK65 | J15: =+LEFT(I15,7) -> DL2DD52 | M15: DC1TD01-DCK65 | N15: DC1TD01 | Q15: DC3DT82-DCK64
B16: 65DLMX21 | C16: 20 | E16: =+C16 -> 20 | I16: DL2DD33-DLK65 | J16: =+LEFT(I16,7) -> DL2DD33 | M16: DC1TD02-DCK65 | N16: DC1TD02 | Q16: DC3CC47-DCK64
B17: 65DLKT21 | C17: 63 | I17: DC2DD94-DLK65 | J17: =+LEFT(I17,7) -> DC2DD94 | M17: DC1TD03-DCK65 | N17: DC1TD03 | Q17: DC2CT32-DCK64
B18: 65DLKT22 | C18: 53 | I18: DL3DD41-DLK65 | J18: =+LEFT(I18,7) -> DL3DD41 | M18: DC1TD04-DCK65 | N18: DC1TD04 | Q18: CC2CO24-CCK66
B19: 65DLKT23 | C19: =55+13 -> 68 | I19: DC2DD54-DLK65 | J19: =+LEFT(I19,7) -> DC2DD54 | M19: DC1TD05-DCK65 | N19: DC1TD05 | Q19: DC2CO24-DCK66
B20: 65DLKT24 | C20: 63 | I20: DC2DD34-DLK65 | J20: =+LEFT(I20,7) -> DC2DD34 | M20: DC2VB39-DCK65 | N20: DC2VB39 | Q20: DC2DT44-DCK65
B21: 65DLKT25 | C21: 22 | I21: DC3DD42-DLK65 | J21: =+LEFT(I21,7) -> DC3DD42 | M21: DC2CO11-DCK65 | N21: DC2CO11 | Q21: DC3DT60-DCK64
B22: 65DLQT21 | C22: 27 | I22: DC3CT55-DLK65 | J22: =+LEFT(I22,7) -> DC3CT55 | M22: DC1CB26-DCK65 | N22: DC1CB26 | Q22: DC2CT31-DCK65
B23: 65DLKX21 | C23: 57 | I23: DL3DD60-DLK65 | J23: =+LEFT(I23,7) -> DL3DD60 | M23: DC3KT22-DCK65 | N23: DC3KT22 | Q23: DC2VB32-DCK66
I24: DL2CO26-DLK65 | J24: =+LEFT(I24,7) -> DL2CO26 | M24: DC2KV64-DCK65 | N24: DC2KV64 | Q24: DC3MT37-DCK64
B25: 65DVCD21 | C25: 34 | I25: DL2CK48-DLK65 | J25: =+LEFT(I25,7) -> DL2CK48 | M25: DC2KV63-DCK65 | N25: DC2KV63 | Q25: DC2DT51-DCK64
B26: 64DVCD01 | C26: 23 | I26: DC2CK57-DLK65 | J26: =+LEFT(I26,7) -> DC2CK57 | M26: DC2KV82-DCK65 | N26: DC2KV82 | Q26: DC2VS67-DCK65
I27: DL3CK71-DLK65 | J27: =+LEFT(I27,7) -> DL3CK71 | M27: DC3KX71-DCK65 | N27: DC3KX71 | Q27: DC2VB67-DCK65
I28: DC3CK72-DLK65 | J28: =+LEFT(I28,7) -> DC3CK72 | M28: DC1TH46-DCK65 | N28: DC1TH46 | Q28: DC2KV22-DCK65
I29: DL2CK41-DLK65 | J29: =+LEFT(I29,7) -> DL2CK41 | M29: DC1TH47-DCK65 | N29: DC1TH47 | Q29: DC2CK52-DCK64
I30: DC3MX40-DLK65 | J30: =+LEFT(I30,7) -> DC3MX40 | M30: DC2DT41-DCK65 | N30: DC2DT41 | Q30: DC2DT52-DCK64
I31: DL2OT70-DLK65 | J31: =+LEFT(I31,7) -> DL2OT70 | M31: DC2DT42-DCK65 | N31: DC2DT42 | Q31: DC3KT25-DCK63
I32: DL2CO21-DLK65 | J32: =+LEFT(I32,7) -> DL2CO21 | M32: DC2DT43-DCK65 | N32: DC2DT43 | Q32: DC2GT54-DCK64
I33: DL2CO25-DLK65 | J33: =+LEFT(I33,7) -> DL2CO25 | M33: DC1CB20-DCK65 | N33: DC1CB20 | Q33: DC2DD54-DCK64
I34: DL2CO13-DLK65 | J34: =+LEFT(I34,7) -> DL2CO13 | M34: DC1TH48-DCK65 | N34: DC1TH48 | Q34: DC2OT71-DCK64
I35: DL2CK55-DLK65 | J35: =+LEFT(I35,7) -> DL2CK55 | M35: DC2GT42-DCK65 | N35: DC2GT42 | Q35: DC3MX47-DCK63
I36: DC2CK54-DLK65 | J36: =+LEFT(I36,7) -> DC2CK54 | M36: DC1CB92-DCK65 | N36: DC1CB92 | Q36: DC3MX42-DCK63
I37: DC3KV43-DLK65 | J37: =+LEFT(I37,7) -> DC3KV43 | M37: DC2TT23-DCK65 | N37: DC2TT23 | Q37: DC2GT34-DCK64
I38: DC3KT24-DLK65 | J38: =+LEFT(I38,7) -> DC3KT24 | M38: DC2KV68-DCK65 | N38: DC2KV68 | Q38: DC2CK54-DCK65
... I67: DC1CB21-DVK65 | J67: =+LEFT(I67,7) -> DC1CB21 | M67: DC2KV90-DCK65 | N67: DC2KV90 | Q67: DC2DD51-DCK64
M68: DC1CB31-DCK65 | N68: DC1CB31 | Q68: DC3KV43-DCK63
M69: DC2RB43-DCK65 | N69: DC2RB43 | Q69: DC2DT57-DCK64
M70: DC1CB32-DCK65 | N70: DC1CB32 | Q70: DC2KV64-DCK65
M71: DC1TT43-DCK65 | N71: DC1TT43 | Q71: DC2KV63-DCK65
M72: DC1CB12-DCK65 | N72: DC1CB12 | Q72: DC2KV82-DCK65
M73: DC1CB13-DCK65 | N73: DC1CB13 | Q73: CC2KV61-CCK66
M74: DC2CT16-DCK65 | N74: DC2CT16 | Q74: DC2KV61-DCK66
M75: DC2CK58-DCK65 | N75: DC2CK58 | Q75: DC3CT91-DCK64
M76: DC2DT46-DCK65 | N76: DC2DT46 | Q76: DC3CT91-DCK63
M77: DC1LL03-DCK65 | N77: DC1LL03 | Q77: DC3KX71-DCK65
M78: DC2CB94-DCK65 | N78: DC2CB94 | Q78: DC1TH47-DCK65
M79: DC2CK32-DCK65 | N79: DC2CK32 | Q79: DC2HT39-DCK64
... M81: DC2CO13-DCK65 | N81: DC2CO13 | Q81: DC3CA52-DCK63
Q82: DC3DS52-DCK63
Q83: DC3DB52-DCK63
Q84: DC3DD51-DCK63
Q85: DC3DD52-DCK63
Q86: DC2TT35-DCK64
Q87: DC2DT41-DCK65
Q88: DC2DT41-DCK66
Q89: DC2DT42-DCK65
Q90: DC2OT70-DCK64
Q91: DC1CB20-DCK65
Q92: DC1TH48-DCK65
Q93: DC3MX45-DCK63
... Q212: DC1CB11-DCK66
I213: DC2DT44-DCK65 | Q213: DC1CB12-DCK65
I214: DC1QP03-DCK65 | Q214: DC1CB13-DCK65
I215: DC2DT41-DCK65 | Q215: DC3OT31-DCK64
I216: DC2DT42-DCK65 | Q216: DC3OT31-DCK63
I217: DC4DT21-DCK65 | Q217: DC2CT16-DCK64
I218: DC4DT22-DCK65 | Q218: DC2CT16-DCK65
I219: DC1CB12-DCK65 | Q219: DC2CK58-DCK65
I220: DC1LL03-DCK65 | Q220: DC2DT46-DCK65
Q221: DC1LL03-DCK64
Q222: DC1LL03-DCK65
Q223: DC2CB94-DCK65
Q224: DC2CB94-DCK66
Q225: DC2CK32-DCK65
Q226: DC2DD35-DCK65
Q227: DC2KX36-DCK66
Q228: CC1CB21-CCK66
Q229: DC1CB21-DCK66
Q230: DC2CO13-DCK65
Q231: CC2CO15-CCK66
Q232: CC2CO14-CCK66
... Q234: DC2CO16-DCK66

Sheet Mã
A1: Phụ trách
A2: BM phụ trách | B2: Khoa phụ trách
A4: NLCN Mác - Lênin | B4: LÝ LUẬN CHÍNH TRỊ | C4: LLNL | E4: LÝ LUẬN CHÍNH TRỊ | F4: LLCT
A5: Tư tưởng Hồ Chí Minh | B5: LÝ LUẬN CHÍNH TRỊ | C5: LLTT | E5: KHOA HỌC CƠ BẢN | F5: KHCB
A6: ĐLCM của ĐCSVN | B6: LÝ LUẬN CHÍNH TRỊ | C6: LLDL | E6: CÔNG NGHỆ THÔNG TIN | F6: CNTT
A7: Giáo dục pháp luật | B7: LÝ LUẬN CHÍNH TRỊ | C7: LLPL | E7: GIÁO DỤC THỂ CHẤT | F7: GDTC
A8: Ngoại ngữ | B8: KHOA HỌC CƠ BẢN | C8: CBNN | E8: GIÁO DỤC QPAN | F8: QPAN
A9: Toán | B9: KHOA HỌC CƠ BẢN | C9: CBTO | E9: CƠ SỞ KỸ THUẬT | F9: CSKT
A10: Vật lý | B10: KHOA HỌC CƠ BẢN | C10: CBLY | E10: CÔNG TRÌNH | F10: KCT
A11: Hóa học | B11: KHOA HỌC CƠ BẢN | C11: CBHO | E11: KINH TẾ - VẬN TẢI | F11: KTVT
A12: Hệ thống thông tin | B12: CÔNG NGHỆ THÔNG TIN | C12: TTHT | E12: CƠ KHÍ | F12: KCK
A13: CÔNG NGHỆ THÔNG TIN | B13: CÔNG NGHỆ THÔNG TIN | C13: CNTT
A14: Giáo dục thể chất | B14: GIÁO DỤC THỂ CHẤT | C14: CDTC
A15: Quốc phòng - An ninh | B15: GIÁO DỤC QPAN | C15: QPAN
A16: Hình họa - Vẽ kĩ thuật | B16: CƠ SỞ KỸ THUẬT | C16: CSVE
A17: CNKT Môi trường | B17: CÔNG TRÌNH | C17: CTMO
A18: Cơ sở ngành kinh tế | B18: KINH TẾ - VẬN TẢI | C18: KVCS
A19: Khoa Cơ khí | B19: CƠ KHÍ | C19: KCK
A20: Quản trị doanh nghiệp | B20: KINH TẾ - VẬN TẢI | C20: KVQT
A21: Vận tải sắt - bộ | B21: KINH TẾ - VẬN TẢI | C21: KVSB
A22: Kinh tế xây dựng | B22: KINH TẾ - VẬN TẢI | C22: KVKX
A23: Điện - Điện tử | B23: CÔNG NGHỆ THÔNG TIN | C23: TTDT
A24: Khoa CNTT | B24: CÔNG NGHỆ THÔNG TIN | C24: CNTT
... A45: Tin học công trình | B45: CÔNG TRÌNH | C45: CTUD

Sheet DATA
A1: Mã học phần | F1: Số TT | G1: Học phần | H1: Số TC | I1: Khối lượng (tiết, giờ) | M1: THI | AB1: NGÀNH | AU1: NGÀNH
A2: ĐHCQ | B2: ĐHLT | C2: ĐTLT | D2: CĐCQ | E2: CĐLT | G2: Tên đầy đủ | I2: LT, BT | J2: TL, TH, TN | K2: TT, ĐA, BTL (h) | L2: Tự học (h) | M2: Hình thức | N2: Thời gian | O2: BM phụ trách | P2: Khoa phụ trách | T2: DCCA | U2: DCCC | V2: DCCD | W2: DCCS | X2: DCDB | Y2: DCDD | Z2: DCCDA | AA2: DCOT | AB2: DCMX | AC2: DCMT | AD2: DCDM | AE2: DCDT | AF2: DCHT | AG2: DCKT | AH2: DCQT | AI2: DCKX | AJ2: DCVB | AK2: DCVS | AL2: DCVL | AM2: CCCA | AN2: CCCC | AO2: CCCD | AP2: CCCS | AQ2: CCDB | AR2: CCDD | AS2: CCCDA | AT2: CCOT | AU2: CCMX | AV2: CCMT | AW2: CCDM | AX2: CCDT | AY2: CCTH | AZ2: CCKT | BA2: CCQT | BB2: CCKX | BC2: CCVB | BD2: CCVS | BE2: CCVL
A3: DC | B3: DL | C3: DT | D3: CC | E3: CL
A4: DC1TT90 | D4: CC1TT90 | F4: 52 | G4: Bảo vệ môi trường | H4: 2 | I4: 30 | L4: 0 | O4: Khoa CNTT | P4: CÔNG NGHỆ THÔNG TIN | Q4: =MaBM -> CNTT | R4: =MaKhoa -> CNTT | S4: =+R4&"-"&Q4 -> CNTT-CNTT | AF4: o | AY4: o
A5: DC4TH80 | F5: 738 | G5: Đồ án tốt nghiệp | H5: 8 | K5: 480 | L5: 0 | M5: VĐ | O5: Khoa CNTT | P5: CÔNG NGHỆ THÔNG TIN | Q5: =MaBM -> CNTT | R5: =MaKhoa -> CNTT | S5: =+R5&"-"&Q5 -> CNTT-CNTT | AF5: x
D6: CC4TH80 | F6: 739 | G6: Đồ án tốt nghiệp | H6: 4 | K6: 240 | L6: 0 | M6: VĐ | O6: Khoa CNTT | P6: CÔNG NGHỆ THÔNG TIN | Q6: =MaBM -> CNTT | R6: =MaKhoa -> CNTT | S6: =+R6&"-"&Q6 -> CNTT-CNTT | AY6: x
A7: DC4DT80 | B7: DC4DT80 | F7: 740 | G7: Đồ án tốt nghiệp | H7: 8 | K7: 480 | L7: 0 | M7: VĐ | O7: Khoa CNTT | P7: CÔNG NGHỆ THÔNG TIN | Q7: =MaBM -> CNTT | R7: =MaKhoa -> CNTT | S7: =+R7&"-"&Q7 -> CNTT-CNTT | AE7: x
D8: CC4DT80 | F8: 741 | G8: Đồ án tốt nghiệp | H8: 4 | K8: 240 | L8: 0 | M8: VĐ | O8: Khoa CNTT | P8: CÔNG NGHỆ THÔNG TIN | Q8: =MaBM -> CNTT | R8: =MaKhoa -> CNTT | S8: =+R8&"-"&Q8 -> CNTT-CNTT | AX8: x
A9: DC4ME80 | F9: 840 | G9: Đồ án tốt nghiệp | H9: 8 | K9: 480 | L9: 0 | M9: VĐ | O9: Khoa CNTT | P9: CÔNG NGHỆ THÔNG TIN | Q9: =MaBM -> CNTT | R9: =MaKhoa -> CNTT | S9: =+R9&"-"&Q9 -> CNTT-CNTT
A10: DC4TH70 | B10: DC4TH70 | D10: CC4TH70 | F10: 706 | G10: Thực tập tốt nghiệp | H10: 4 | K10: 180 | L10: 0 | M10: VĐ | O10: Khoa CNTT | P10: CÔNG NGHỆ THÔNG TIN | Q10: =MaBM -> CNTT | R10: =MaKhoa -> CNTT | S10: =+R10&"-"&Q10 -> CNTT-CNTT | AF10: x | AY10: x
A11: DC4DT70 | B11: DC4DT70 | D11: CC4DT70 | F11: 707 | G11: Thực tập tốt nghiệp | H11: 4 | K11: 180 | L11: 0 | M11: VĐ | O11: Khoa CNTT | P11: CÔNG NGHỆ THÔNG TIN | Q11: =MaBM -> CNTT | R11: =MaKhoa -> CNTT | S11: =+R11&"-"&Q11 -> CNTT-CNTT | AE11: x | AX11: x
A12: DC4ME70 | F12: 839 | G12: Thực tập tốt nghiệp | H12: 4 | K12: 240 | L12: 0 | M12: VĐ | O12: Khoa CNTT | P12: CÔNG NGHỆ THÔNG TIN | Q12: =MaBM -> CNTT | R12: =MaKhoa -> CNTT | S12: =+R12&"-"&Q12 -> CNTT-CNTT
A13: DC3DT64 | B13: DC3DT64 | F13: 551 | G13: An ninh mạng thông tin | H13: 3 | I13: 45 | L13: 0 | M13: Viết | N13: 60 | O13: Điện - Điện tử | P13: CÔNG NGHỆ THÔNG TIN | Q13: =MaBM -> TTDT | R13: =MaKhoa -> CNTT | S13: =+R13&"-"&Q13 -> CNTT-TTDT | AE13: x
A14: DC2DT55 | B14: DC2DT55 | F14: 206 | G14: Anten và truyền sóng | H14: 3 | I14: 45 | L14: 0 | O14: Điện - Điện tử | P14: CÔNG NGHỆ THÔNG TIN | Q14: =MaBM -> TTDT | R14: =MaKhoa -> CNTT | S14: =+R14&"-"&Q14 -> CNTT-TTDT | AE14: x
A15: DC3DT81 | B15: DC3DT81 | D15: CC3DT81 | F15: 627 | G15: Công nghệ Multimedia | H15: 2 | I15: 30 | L15: 0 | M15: Viết | N15: 60 | O15: Điện - Điện tử | P15: CÔNG NGHỆ THÔNG TIN | Q15: =MaBM -> TTDT | R15: =MaKhoa -> CNTT | S15: =+R15&"-"&Q15 -> CNTT-TTDT | AE15: o | AX15: o
A16: DC3DT82 | B16: DC3DT82 | D16: CC3DT82 | F16: 628 | G16: Công nghệ vi điện tử | H16: 2 | I16: 30 | L16: 0 | M16: Viết | N16: 60 | O16: Điện - Điện tử | P16: CÔNG NGHỆ THÔNG TIN | Q16: =MaBM -> TTDT | R16: =MaKhoa -> CNTT | S16: =+R16&"-"&Q16 -> CNTT-TTDT | AE16: o | AX16: o
A17: DC2DT45 | D17: CC2DT45 | F17: 205 | G17: Cơ sở điều khiển tự động | H17: 3 | I17: 45 | L17: 0 | M17: Viết | N17: 90 | O17: Điện - Điện tử | P17: CÔNG NGHỆ THÔNG TIN | Q17: =MaBM -> TTDT | R17: =MaKhoa -> CNTT | S17: =+R17&"-"&Q17 -> CNTT-TTDT | AE17: x | AX17: x
A18: DC2DT44 | D18: CC2DT44 | F18: 195 | G18: Cơ sở kỹ thuật đo lường | H18: 2 | I18: 15 | J18: 30 | L18: 0 | M18: Viết | N18: 60 | O18: Điện - Điện tử | P18: CÔNG NGHỆ THÔNG TIN | Q18: =MaBM -> TTDT | R18: =MaKhoa -> CNTT | S18: =+R18&"-"&Q18 -> CNTT-TTDT | AE18: x | AX18: x
A19: DC3DT60 | D19: CC3DT60 | F19: 553 | G19: Cơ sở truyền số liệu | H19: 3 | I19: 45 | L19: 0 | M19: Viết | N19: 60 | O19: Điện - Điện tử | P19: CÔNG NGHỆ THÔNG TIN | Q19: =MaBM -> TTDT | R19: =MaKhoa -> CNTT | S19: =+R19&"-"&Q19 -> CNTT-TTDT | AE19: x | AX19: x
A20: DC3ME61 | F20: 828 | G20: Điện tử công suất | H20: 3 | I20: 45 | L20: 0 | O20: Điện - Điện tử | P20: CÔNG NGHỆ THÔNG TIN | Q20: =MaBM -> TTDT | R20: =MaKhoa -> CNTT | S20: =+R20&"-"&Q20 -> CNTT-TTDT
A21: DC2DT51 | F21: 197 | G21: Điện tử số | H21: 3 | I21: 30 | J21: 30 | L21: 0 | M21: Viết | N21: 60 | O21: Điện - Điện tử | P21: CÔNG NGHỆ THÔNG TIN | Q21: =MaBM -> TTDT | R21: =MaKhoa -> CNTT | S21: =+R21&"-"&Q21 -> CNTT-TTDT | AE21: x
B22: DL2DT51 | F22: 198 | G22: Điện tử số | H22: 2 | I22: 30 | L22: 0 | M22: Viết | N22: 60 | O22: Điện - Điện tử | P22: CÔNG NGHỆ THÔNG TIN | Q22: =MaBM -> TTDT | R22: =MaKhoa -> CNTT | S22: =+R22&"-"&Q22 -> CNTT-TTDT
D23: CC2DT51 | F23: 199 | G23: Điện tử số | H23: 2 | I23: 30 | L23: 0 | M23: Viết | N23: 60 | O23: Điện - Điện tử | P23: CÔNG NGHỆ THÔNG TIN | Q23: =MaBM -> TTDT | R23: =MaKhoa -> CNTT | S23: =+R23&"-"&Q23 -> CNTT-TTDT | AX23: x
A24: DC2DT53 | F24: 201 | G24: Điện tử tương tự | H24: 4 | I24: 45 | J24: 30 | L24: 0 | M24: Viết | N24: 90 | O24: Điện - Điện tử | P24: CÔNG NGHỆ THÔNG TIN | Q24: =MaBM -> TTDT | R24: =MaKhoa -> CNTT | S24: =+R24&"-"&Q24 -> CNTT-TTDT | AE24: x
B25: DL2DT53 | F25: 202 | G25: Điện tử tương tự | H25: 2 | I25: 30 | L25: 0 | O25: Điện - Điện tử | P25: CÔNG NGHỆ THÔNG TIN | Q25: =MaBM -> TTDT | R25: =MaKhoa -> CNTT | S25: =+R25&"-"&Q25 -> CNTT-TTDT
D26: CC2DT53 | F26: 203 | G26: Điện tử tương tự | H26: 3 | I26: 30 | J26: 30 | L26: 0 | M26: Viết | N26: 60 | O26: Điện - Điện tử | P26: CÔNG NGHỆ THÔNG TIN | Q26: =MaBM -> TTDT | R26: =MaKhoa -> CNTT | S26: =+R26&"-"&Q26 -> CNTT-TTDT | AX26: x
A27: DC2DT52 | B27: DC2DT52 | F27: 200 | G27: Đồ án Điện tử số | H27: 2 | K27: 90 | L27: 0 | M27: VĐ | O27: Điện - Điện tử | P27: CÔNG NGHỆ THÔNG TIN | Q27: =MaBM -> TTDT | R27: =MaKhoa -> CNTT | S27: =+R27&"-"&Q27 -> CNTT-TTDT | AE27: x
A28: DC2DT54 | B28: DC2DT54 | F28: 204 | G28: Đồ án Điện tử tương tự | H28: 2 | K28: 90 | L28: 0 | M28: VĐ | O28: Điện - Điện tử | P28: CÔNG NGHỆ THÔNG TIN | Q28: =MaBM -> TTDT | R28: =MaKhoa -> CNTT | S28: =+R28&"-"&Q28 -> CNTT-TTDT | AE28: x
A29: DC3ME53 | F29: 832 | G29: Đồ án Hệ thống cơ điện tử | H29: 2 | K29: 90 | L29: 0 | M29: VĐ | O29: Điện - Điện tử | P29: CÔNG NGHỆ THÔNG TIN | Q29: =MaBM -> TTDT | R29: =MaKhoa -> CNTT | S29: =+R29&"-"&Q29 -> CNTT-TTDT
A30: DC3ME64 | F30: 830 | G30: Đồ án Kỹ thuật vi điều khiển | H30: 2 | K30: 90 | L30: 0 | M30: VĐ | O30: Điện - Điện tử | P30: CÔNG NGHỆ THÔNG TIN | Q30: =MaBM -> TTDT | R30: =MaKhoa -> CNTT | S30: =+R30&"-"&Q30 -> CNTT-TTDT
A31: DC3DT62 | B31: DC3DT62 | F31: 556 | G31: Đồ án Mạng viễn thông | H31: 2 | K31: 90 | L31: 0 | M31: VĐ | O31: Điện - Điện tử | P31: CÔNG NGHỆ THÔNG TIN | Q31: =MaBM -> TTDT | R31: =MaKhoa -> CNTT | S31: =+R31&"-"&Q31 -> CNTT-TTDT | AE31: x
A32: DC2CK42 | F32: 841 | G32: Động cơ điện | H32: 2 | L32: 0 | O32: Điện - Điện tử | P32: CÔNG NGHỆ THÔNG TIN | Q32: =MaBM -> TTDT | R32: =MaKhoa -> CNTT | S32: =+R32&"-"&Q32 -> CNTT-TTDT
A33: DC3DT84 | B33: DC3DT84 | D33: CC3DT84 | F33: 630 | G33: Giao tiếp máy tính và thu nhận dữ liệu | H33: 2 | I33: 30 | L33: 0 | M33: Viết | N33: 60 | O33: Điện - Điện tử | P33: CÔNG NGHỆ THÔNG TIN | Q33: =MaBM -> TTDT | R33: =MaKhoa -> CNTT | S33: =+R33&"-"&Q33 -> CNTT-TTDT | AE33: o | AX33: x
A34: DC3ME51 | F34: 831 | G34: Hệ thống cơ điện tử | H34: 3 | I34: 45 | L34: 0 | O34: Điện - Điện tử | P34: CÔNG NGHỆ THÔNG TIN | Q34: =MaBM -> TTDT | R34: =MaKhoa -> CNTT | S34: =+R34&"-"&Q34 -> CNTT-TTDT
A35: DC3ME73 | F35: 834 | G35: Hệ thống giao thông thông minh ITS | H35: 2 | I35: 30 | L35: 0 | O35: Điện - Điện tử | P35: CÔNG NGHỆ THÔNG TIN | Q35: =MaBM -> TTDT | R35: =MaKhoa -> CNTT | S35: =+R35&"-"&Q35 -> CNTT-TTDT
A36: DC3DT83 | B36: DC3DT83 | D36: CC3DT83 | F36: 629 | G36: Hệ thống nhúng | H36: 2 | I36: 30 | L36: 0 | M36: Viết | N36: 60 | O36: Điện - Điện tử | P36: CÔNG NGHỆ THÔNG TIN | Q36: =MaBM -> TTDT | R36: =MaKhoa -> CNTT | S36: =+R36&"-"&Q36 -> CNTT-TTDT | AE36: o | AX36: x
A37: DC3DT63 | B37: DC3DT63 | F37: 552 | G37: Hệ thống viễn thông | H37: 3 | I37: 45 | L37: 0 | O37: Điện - Điện tử | P37: CÔNG NGHỆ THÔNG TIN | Q37: =MaBM -> TTDT | R37: =MaKhoa -> CNTT | S37: =+R37&"-"&Q37 -> CNTT-TTDT | AE37: x
A38: DC1TH47 | B38: DC1TH47 | D38: CC1TH47 | F38: 51 | G38: Kỹ thuật điện | H38: 2 | I38: 30 | L38: 0 | M38: Viết | N38: 60 | O38: Điện - Điện tử | P38: CÔNG NGHỆ THÔNG TIN | Q38: =MaBM -> TTDT | R38: =MaKhoa -> CNTT | S38: =+R38&"-"&Q38 -> CNTT-TTDT | AE38: o | AX38: o
A39: DC1TH46 | F39: 50 | G39: Kỹ thuật điện - Điện tử | H39: 2 | I39: 15 | J39: 30 | L39: 0 | M39: Viết | N39: 60 | O39: Điện - Điện tử | P39: CÔNG NGHỆ THÔNG TIN | Q39: =MaBM -> TTDT | R39: =MaKhoa -> CNTT | S39: =+R39&"-"&Q39 -> CNTT-TTDT | AF39: o
A40: DC2CK41 | F40: 102 | G40: Kỹ thuật điện - Điện tử | H40: 4 | I40: 45 | J40: 30 | L40: 0 | M40: Viết | N40: 90 | O40: Điện - Điện tử | P40: CÔNG NGHỆ THÔNG TIN | Q40: =MaBM -> TTDT | R40: =MaKhoa -> CNTT | S40: =+R40&"-"&Q40 -> CNTT-TTDT | AA40: x | AB40: x | AC40: x | AD40: x
B41: DL2CK41 | F41: 103 | G41: Kỹ thuật điện - Điện tử | H41: 2 | I41: 30 | L41: 0 | M41: Viết | N41: 60 | O41: Điện - Điện tử | P41: CÔNG NGHỆ THÔNG TIN | Q41: =MaBM -> TTDT | R41: =MaKhoa -> CNTT | S41: =+R41&"-"&Q41 -> CNTT-TTDT
C42: DT2CK41 | D42: CC2CK41 | F42: 104 | G42: Kỹ thuật điện - Điện tử | H42: 3 | I42: 30 | J42: 30 | L42: 0 | M42: Viết | N42: 60 | O42: Điện - Điện tử | P42: CÔNG NGHỆ THÔNG TIN | Q42: =MaBM -> TTDT | R42: =MaKhoa -> CNTT | S42: =+R42&"-"&Q42 -> CNTT-TTDT | AT42: x | AU42: x | AV42: x | AW42: x
A43: DC2CT41 | B43: DC2CT41 | C43: DC2CT41 | D43: CC2CT41 | E43: CC2CT41 | F43: 216 | G43: Kỹ thuật điện công trình | H43: 2 | I43: 30 | L43: 0 | M43: Viết | N43: 60 | O43: Điện - Điện tử | P43: CÔNG NGHỆ THÔNG TIN | Q43: =MaBM -> TTDT | R43: =MaKhoa -> CNTT | S43: =+R43&"-"&Q43 -> CNTT-TTDT | T43: o | U43: o | V43: o | W43: o | X43: o | Y43: o | Z43: o | AN43: o | AO43: o | AP43: o | AR43: o
A44: DC3ME71 | F44: 836 | G44: Kỹ thuật laser | H44: 2 | I44: 30 | L44: 0 | O44: Điện - Điện tử | P44: CÔNG NGHỆ THÔNG TIN | Q44: =MaBM -> TTDT | R44: =MaKhoa -> CNTT | S44: =+R44&"-"&Q44 -> CNTT-TTDT
A45: DC2TH38 | D45: CC2TH38 | F45: 245 | G45: Kỹ thuật phần mềm ứng dụng | H45: 2 | I45: 30 | L45: 0 | M45: Viết | N45: 60 | O45: Điện - Điện tử | P45: CÔNG NGHỆ THÔNG TIN | Q45: =MaBM -> TTDT | R45: =MaKhoa -> CNTT | S45: =+R45&"-"&Q45 -> CNTT-TTDT | AE45: o | AX45: o
A46: DC2DT61 | F46: 240 | G46: Kỹ thuật số | H46: 2 | I46: 30 | J46: 30 | L46: 0 | M46: Viết | N46: 60 | O46: Điện - Điện tử | P46: CÔNG NGHỆ THÔNG TIN | Q46: =MaBM -> TTDT | R46: =MaKhoa -> CNTT | S46: =+R46&"-"&Q46 -> CNTT-TTDT | AF46: o
A47: DC3ME63 | F47: 829 | G47: Kỹ thuật vi điều khiển | H47: 3 | I47: 45 | L47: 0 | O47: Điện - Điện tử | P47: CÔNG NGHỆ THÔNG TIN | Q47: =MaBM -> TTDT | R47: =MaKhoa -> CNTT | S47: =+R47&"-"&Q47 -> CNTT-TTDT
A48: DC2DT63 | F48: 241 | G48: Kỹ thuật vi xử lý | H48: 2 | I48: 30 | J48: 30 | L48: 0 | M48: Viết | N48: 60 | O48: Điện - Điện tử | P48: CÔNG NGHỆ THÔNG TIN | Q48: =MaBM -> TTDT | R48: =MaKhoa -> CNTT | S48: =+R48&"-"&Q48 -> CNTT-TTDT | AF48: o
A49: DC2DT62 | F49: 208 | G49: Kỹ thuật vi xử lý và ứng dụng | H49: 4 | I49: 45 | J49: 30 | L49: 0 | M49: Viết | N49: 60 | O49: Điện - Điện tử | P49: CÔNG NGHỆ THÔNG TIN | Q49: =MaBM -> TTDT | R49: =MaKhoa -> CNTT | S49: =+R49&"-"&Q49 -> CNTT-TTDT | AE49: x
B50: DL2DT62 | F50: 209 | G50: Kỹ thuật vi xử lý và ứng dụng | H50: 2 | I50: 30 | L50: 0 | M50: Viết | N50: 60 | O50: Điện - Điện tử | P50: CÔNG NGHỆ THÔNG TIN | Q50: =MaBM -> TTDT | R50: =MaKhoa -> CNTT | S50: =+R50&"-"&Q50 -> CNTT-TTDT
D51: CC2DT62 | F51: 210 | G51: Kỹ thuật vi xử lý và ứng dụng | H51: 3 | I51: 30 | J51: 30 | L51: 0 | M51: Viết | N51: 60 | O51: Điện - Điện tử | P51: CÔNG NGHỆ THÔNG TIN | Q51: =MaBM -> TTDT | R51: =MaKhoa -> CNTT | S51: =+R51&"-"&Q51 -> CNTT-TTDT | AX51: x
A52: DC3OT71 | F52: 842 | G52: Lập trình PLC | H52: 3 | L52: 0 | O52: Điện - Điện tử | P52: CÔNG NGHỆ THÔNG TIN | Q52: =MaBM -> TTDT | R52: =MaKhoa -> CNTT | S52: =+R52&"-"&Q52 -> CNTT-TTDT
A53: DC2DT41 | D53: CC2DT41 | F53: 192 | G53: Linh kiện điện tử | H53: 3 | I53: 30 | J53: 30 | L53: 0 | M53: Viết | N53: 60 | O53: Điện - Điện tử | P53: CÔNG NGHỆ THÔNG TIN | Q53: =MaBM -> TTDT | R53: =MaKhoa -> CNTT | S53: =+R53&"-"&Q53 -> CNTT-TTDT | AE53: x | AX53: x
A54: DC2DT42 | D54: CC2DT42 | F54: 193 | G54: Lý thuyết mạch | H54: 3 | I54: 30 | J54: 30 | L54: 0 | M54: Viết | N54: 90 | O54: Điện - Điện tử | P54: CÔNG NGHỆ THÔNG TIN | Q54: =MaBM -> TTDT | R54: =MaKhoa -> CNTT | S54: =+R54&"-"&Q54 -> CNTT-TTDT | AE54: x | AX54: x
A55: DC2DT43 | D55: CC2DT43 | F55: 194 | G55: Lý thuyết truyền tin | H55: 3 | I55: 45 | L55: 0 | M55: Viết | N55: 60 | O55: Điện - Điện tử | P55: CÔNG NGHỆ THÔNG TIN | Q55: =MaBM -> TTDT | R55: =MaKhoa -> CNTT | S55: =+R55&"-"&Q55 -> CNTT-TTDT | AE55: x | AX55: x
A56: DC3DT61 | F56: 554 | G56: Mạng viễn thông | H56: 4 | I56: 60 | L56: 0 | O56: Điện - Điện tử | P56: CÔNG NGHỆ THÔNG TIN | Q56: =MaBM -> TTDT | R56: =MaKhoa -> CNTT | S56: =+R56&"-"&Q56 -> CNTT-TTDT | AE56: x
B57: DL3DT61 | F57: 555 | G57: Mạng viễn thông | H57: 2 | I57: 30 | L57: 0 | O57: Điện - Điện tử | P57: CÔNG NGHỆ THÔNG TIN | Q57: =MaBM -> TTDT | R57: =MaKhoa -> CNTT | S57: =+R57&"-"&Q57 -> CNTT-TTDT
D58: CC3DT61 | F58: 557 | G58: Mạng viễn thông | H58: 3 | I58: 45 | L58: 0 | O58: Điện - Điện tử | P58: CÔNG NGHỆ THÔNG TIN | Q58: =MaBM -> TTDT | R58: =MaKhoa -> CNTT | S58: =+R58&"-"&Q58 -> CNTT-TTDT | AX58: x
A59: DC1TH48 | B59: DC1TH48 | D59: CC1TH48 | F59: 53 | G59: Matlab và ứng dụng | H59: 2 | I59: 15 | J59: 30 | L59: 0 | M59: TH | O59: Điện - Điện tử | P59: CÔNG NGHỆ THÔNG TIN | Q59: =MaBM -> TTDT | R59: =MaKhoa -> CNTT | S59: =+R59&"-"&Q59 -> CNTT-TTDT | AE59: o | AX59: o
A60: DC3ME84 | F60: 833 | G60: Robot công nghiệp | H60: 2 | I60: 30 | L60: 0 | O60: Điện - Điện tử | P60: CÔNG NGHỆ THÔNG TIN | Q60: =MaBM -> TTDT | R60: =MaKhoa -> CNTT | S60: =+R60&"-"&Q60 -> CNTT-TTDT
A61: DC2DT56 | D61: CC2DT56 | F61: 207 | G61: Tín hiệu và hệ thống | H61: 2 | I61: 30 | L61: 0 | M61: Viết | N61: 60 | O61: Điện - Điện tử | P61: CÔNG NGHỆ THÔNG TIN | Q61: =MaBM -> TTDT | R61: =MaKhoa -> CNTT | S61: =+R61&"-"&Q61 -> CNTT-TTDT | AE61: x | AX61: x
A62: DC3ME74 | F62: 835 | G62: Tự động hóa quá trình sản xuất | H62: 2 | I62: 30 | L62: 0 | O62: Điện - Điện tử | P62: CÔNG NGHỆ THÔNG TIN | Q62: =MaBM -> TTDT | R62: =MaKhoa -> CNTT | S62: =+R62&"-"&Q62 -> CNTT-TTDT
A63: DC3DT73 | B63: DC3DT73 | F63: 558 | G63: Thông tin di động | H63: 3 | I63: 45 | L63: 0 | O63: Điện - Điện tử | P63: CÔNG NGHỆ THÔNG TIN | Q63: =MaBM -> TTDT | R63: =MaKhoa -> CNTT | S63: =+R63&"-"&Q63 -> CNTT-TTDT | AE63: x
A64: DC3DT74 | D64: CC3DT74 | F64: 559 | G64: Thông tin quang | H64: 3 | I64: 45 | L64: 0 | O64: Điện - Điện tử | P64: CÔNG NGHỆ THÔNG TIN | Q64: =MaBM -> TTDT | R64: =MaKhoa -> CNTT | S64: =+R64&"-"&Q64 -> CNTT-TTDT | AE64: x | AX64: x
A65: DC3DT71 | D65: CC3DT71 | F65: 549 | G65: Thông tin số | H65: 3 | I65: 45 | L65: 0 | M65: Viết | N65: 60 | O65: Điện - Điện tử | P65: CÔNG NGHỆ THÔNG TIN | Q65: =MaBM -> TTDT | R65: =MaKhoa -> CNTT | S65: =+R65&"-"&Q65 -> CNTT-TTDT | AE65: x | AX65: x
A66: DC3DT72 | D66: CC3DT72 | F66: 550 | G66: Thông tin vô tuyến | H66: 3 | I66: 45 | L66: 0 | O66: Điện - Điện tử | P66: CÔNG NGHỆ THÔNG TIN | Q66: =MaBM -> TTDT | R66: =MaKhoa -> CNTT | S66: =+R66&"-"&Q66 -> CNTT-TTDT | AE66: x | AX66: x
A67: DC4DT21 | D67: CC4DT21 | F67: 678 | G67: Thực tập Điện tử cơ bản | H67: 3 | K67: 135 | L67: 0 | M67: TH | O67: Điện - Điện tử | P67: CÔNG NGHỆ THÔNG TIN | Q67: =MaBM -> TTDT | R67: =MaKhoa -> CNTT | S67: =+R67&"-"&Q67 -> CNTT-TTDT | AE67: x | AX67: x
A68: DC4DT23 | D68: CC4DT23 | F68: 680 | G68: Thực tập Điện tử viễn thông | H68: 3 | K68: 135 | L68: 0 | M68: TH | O68: Điện - Điện tử | P68: CÔNG NGHỆ THÔNG TIN | Q68: =MaBM -> TTDT | R68: =MaKhoa -> CNTT | S68: =+R68&"-"&Q68 -> CNTT-TTDT | AE68: x | AX68: x
A69: DC4ME51 | F69: 838 | G69: Thực tập Hệ thống cơ điện tử | H69: 5 | J69: 150 | L69: 0 | M69: TH | O69: Điện - Điện tử | P69: CÔNG NGHỆ THÔNG TIN | Q69: =MaBM -> TTDT | R69: =MaKhoa -> CNTT | S69: =+R69&"-"&Q69 -> CNTT-TTDT
A70: DC4DT22 | D70: CC4DT22 | F70: 679 | G70: Thực tập Lắp ráp điện tử | H70: 2 | K70: 90 | L70: 0 | M70: TH | O70: Điện - Điện tử | P70: CÔNG NGHỆ THÔNG TIN | Q70: =MaBM -> TTDT | R70: =MaKhoa -> CNTT | S70: =+R70&"-"&Q70 -> CNTT-TTDT | AE70: x | AX70: x
A71: DC2DT46 | B71: DC2DT46 | F71: 196 | G71: Trường điện từ | H71: 3 | I71: 45 | L71: 0 | M71: Viết | N71: 90 | O71: Điện - Điện tử | P71: CÔNG NGHỆ THÔNG TIN | Q71: =MaBM -> TTDT | R71: =MaKhoa -> CNTT | S71: =+R71&"-"&Q71 -> CNTT-TTDT | AE71: x
A72: DC2DT64 | D72: CC2DT64 | F72: 211 | G72: Xử lý tín hiệu số | H72: 3 | I72: 45 | L72: 0 | M72: Viết | N72: 60 | O72: Điện - Điện tử | P72: CÔNG NGHỆ THÔNG TIN | Q72: =MaBM -> TTDT | R72: =MaKhoa -> CNTT | S72: =+R72&"-"&Q72 -> CNTT-TTDT | AE72: x | AX72: x
A73: DC3HT51 | F73: 533 | G73: An toàn và bảo mật hệ thống thông tin | H73: 2 | I73: 30 | L73: 0 | O73: Công nghệ mạng | P73: CÔNG NGHỆ THÔNG TIN | Q73: =MaBM -> TTMA | R73: =MaKhoa -> CNTT | S73: =+R73&"-"&Q73 -> CNTT-TTMA | AF73: x
D74: CC2TH80 | F74: 249 | G74: Các hệ phân tán | H74: 2 | I74: 30 | L74: 0 | O74: Công nghệ mạng | P74: CÔNG NGHỆ THÔNG TIN | Q74: =MaBM -> TTMA | R74: =MaKhoa -> CNTT | S74: =+R74&"-"&Q74 -> CNTT-TTMA | AY74: o
D75: CC3TH85 | F75: 626 | G75: Công nghệ Web và dịch vụ trực tuyến | H75: 2 | I75: 30 | L75: 0 | O75: Công nghệ mạng | P75: CÔNG NGHỆ THÔNG TIN | Q75: =MaBM -> TTMA | R75: =MaKhoa -> CNTT | S75: =+R75&"-"&Q75 -> CNTT-TTMA | AY75: o
D76: CC3TH42 | F76: 542 | G76: Công nghệ, thiết bị và thiết kế mạng | H76: 3 | I76: 30 | J76: 30 | L76: 0 | O76: Công nghệ mạng | P76: CÔNG NGHỆ THÔNG TIN | Q76: =MaBM -> TTMA | R76: =MaKhoa -> CNTT | S76: =+R76&"-"&Q76 -> CNTT-TTMA | AY76: x
A77: DC3TH24 | F77: 620 | G77: Cơ sở dữ liệu phân tán | H77: 2 | I77: 30 | L77: 0 | O77: Công nghệ mạng | P77: CÔNG NGHỆ THÔNG TIN | Q77: =MaBM -> TTMA | R77: =MaKhoa -> CNTT | S77: =+R77&"-"&Q77 -> CNTT-TTMA | AF77: o
A78: DC3HT48 | F78: 537 | G78: Đồ án Mạng máy tính | H78: 3 | K78: 135 | L78: 0 | M78: VĐ | O78: Công nghệ mạng | P78: CÔNG NGHỆ THÔNG TIN | Q78: =MaBM -> TTMA | R78: =MaKhoa -> CNTT | S78: =+R78&"-"&Q78 -> CNTT-TTMA | AF78: x
A79: DC3TH25 | F79: 622 | G79: Đồ họa ứng dụng | H79: 2 | I79: 30 | L79: 0 | O79: Công nghệ mạng | P79: CÔNG NGHỆ THÔNG TIN | Q79: =MaBM -> TTMA | R79: =MaKhoa -> CNTT | S79: =+R79&"-"&Q79 -> CNTT-TTMA | AF79: o
A80: DC3TH63 | F80: 619 | G80: Hệ điều hành Unix | H80: 2 | I80: 15 | J80: 30 | L80: 0 | O80: Công nghệ mạng | P80: CÔNG NGHỆ THÔNG TIN | Q80: =MaBM -> TTMA | R80: =MaKhoa -> CNTT | S80: =+R80&"-"&Q80 -> CNTT-TTMA | AF80: o
A81: DC2HT11 | F81: 170 | G81: Kiến trúc máy tính | H81: 3 | I81: 30 | J81: 30 | L81: 0 | M81: Viết | N81: 90 | O81: Công nghệ mạng | P81: CÔNG NGHỆ THÔNG TIN | Q81: =MaBM -> TTMA | R81: =MaKhoa -> CNTT | S81: =+R81&"-"&Q81 -> CNTT-TTMA | AF81: x
A82: DC2DT57 | D82: CC2DT57 | F82: 244 | G82: Kiến trúc máy tính | H82: 2 | I82: 30 | L82: 0 | M82: Viết | N82: 60 | O82: Công nghệ mạng | P82: CÔNG NGHỆ THÔNG TIN | Q82: =MaBM -> TTMA | R82: =MaKhoa -> CNTT | S82: =+R82&"-"&Q82 -> CNTT-TTMA | AE82: o | AX82: o
D83: CC3TH11 | F83: 540 | G83: Kỹ thuật đồ hoạ ứng dụng | H83: 3 | I83: 30 | J83: 30 | L83: 0 | O83: Công nghệ mạng | P83: CÔNG NGHỆ THÔNG TIN | Q83: =MaBM -> TTMA | R83: =MaKhoa -> CNTT | S83: =+R83&"-"&Q83 -> CNTT-TTMA | AY83: x
D84: CC3TH43 | F84: 543 | G84: Lập trình quản lý | H84: 2 | I84: 15 | J84: 30 | L84: 0 | O84: Công nghệ mạng | P84: CÔNG NGHỆ THÔNG TIN | Q84: =MaBM -> TTMA | R84: =MaKhoa -> CNTT | S84: =+R84&"-"&Q84 -> CNTT-TTMA | AY84: x
A85: DC2HT36 | F85: 179 | G85: Lập trình trên môi trường Web | H85: 3 | I85: 30 | J85: 30 | L85: 0 | O85: Công nghệ mạng | P85: CÔNG NGHỆ THÔNG TIN | Q85: =MaBM -> TTMA | R85: =MaKhoa -> CNTT | S85: =+R85&"-"&Q85 -> CNTT-TTMA | AF85: x
D86: CC3TH62 | F86: 624 | G86: Linux và phần mềm mã nguồn mở | H86: 2 | I86: 15 | J86: 30 | L86: 0 | O86: Công nghệ mạng | P86: CÔNG NGHỆ THÔNG TIN | Q86: =MaBM -> TTMA | R86: =MaKhoa -> CNTT | S86: =+R86&"-"&Q86 -> CNTT-TTMA | AY86: o
D87: CC2TH14 | F87: 189 | G87: Mạng cơ bản - Internet | H87: 3 | I87: 30 | J87: 30 | L87: 0 | O87: Công nghệ mạng | P87: CÔNG NGHỆ THÔNG TIN | Q87: =MaBM -> TTMA | R87: =MaKhoa -> CNTT | S87: =+R87&"-"&Q87 -> CNTT-TTMA | AY87: x
A88: DC2HT13 | F88: 175 | G88: Nhập môn mạng máy tính | H88: 3 | I88: 30 | J88: 30 | L88: 0 | O88: Công nghệ mạng | P88: CÔNG NGHỆ THÔNG TIN | Q88: =MaBM -> TTMA | R88: =MaKhoa -> CNTT | S88: =+R88&"-"&Q88 -> CNTT-TTMA | AF88: x
A89: DC3TT47 | D89: CC3TT47 | F89: 539 | G89: Quản trị mạng | H89: 3 | I89: 30 | J89: 30 | L89: 0 | M89: Viết | N89: 90 | O89: Công nghệ mạng | P89: CÔNG NGHỆ THÔNG TIN | Q89: =MaBM -> TTMA | R89: =MaKhoa -> CNTT | S89: =+R89&"-"&Q89 -> CNTT-TTMA | AF89: x | AY89: x
D90: CC3TH14 | F90: 547 | G90: SQL | H90: 3 | I90: 30 | J90: 30 | L90: 0 | O90: Công nghệ mạng | P90: CÔNG NGHỆ THÔNG TIN | Q90: =MaBM -> TTMA | R90: =MaKhoa -> CNTT | S90: =+R90&"-"&Q90 -> CNTT-TTMA | AY90: x
A91: DC3HT46 | F91: 538 | G91: Thiết kế mạng máy tính | H91: 3 | I91: 15 | J91: 60 | L91: 0 | M91: Viết | N91: 90 | O91: Công nghệ mạng | P91: CÔNG NGHỆ THÔNG TIN | Q91: =MaBM -> TTMA | R91: =MaKhoa -> CNTT | S91: =+R91&"-"&Q91 -> CNTT-TTMA | AF91: x
D92: CC3TH45 | F92: 623 | G92: Thiết kế mô hình trên AutoCAD | H92: 2 | I92: 15 | J92: 30 | L92: 0 | O92: Công nghệ mạng | P92: CÔNG NGHỆ THÔNG TIN | Q92: =MaBM -> TTMA | R92: =MaKhoa -> CNTT | S92: =+R92&"-"&Q92 -> CNTT-TTMA | AY92: o
D93: CC3TH41 | F93: 541 | G93: Thiết kế và lập trình Web | H93: 4 | I93: 45 | J93: 30 | L93: 0 | M93: VĐ | O93: Công nghệ mạng | P93: CÔNG NGHỆ THÔNG TIN | Q93: =MaBM -> TTMA | R93: =MaKhoa -> CNTT | S93: =+R93&"-"&Q93 -> CNTT-TTMA | AY93: x
A94: DC3HT12 | F94: 529 | G94: Trí tuệ nhân tạo | H94: 3 | I94: 45 | L94: 0 | O94: Công nghệ mạng | P94: CÔNG NGHỆ THÔNG TIN | Q94: =MaBM -> TTMA | R94: =MaKhoa -> CNTT | S94: =+R94&"-"&Q94 -> CNTT-TTMA | AF94: x
D95: CC3TH12 | F95: 545 | G95: Trí tuệ nhân tạo | H95: 2 | I95: 30 | L95: 0 | O95: Công nghệ mạng | P95: CÔNG NGHỆ THÔNG TIN | Q95: =MaBM -> TTMA | R95: =MaKhoa -> CNTT | S95: =+R95&"-"&Q95 -> CNTT-TTMA | AY95: x
D96: CC2TH75 | F96: 246 | G96: Access | H96: 2 | I96: 30 | L96: 0 | O96: Hệ thống thông tin | P96: CÔNG NGHỆ THÔNG TIN | Q96: =MaBM -> TTHT | R96: =MaKhoa -> CNTT | S96: =+R96&"-"&Q96 -> CNTT-TTHT | AY96: o
A97: DC2TH33 | F97: 242 | G97: Automat và ngôn ngữ hình thức | H97: 2 | I97: 30 | L97: 0 | O97: Hệ thống thông tin | P97: CÔNG NGHỆ THÔNG TIN | Q97: =MaBM -> TTHT | R97: =MaKhoa -> CNTT | S97: =+R97&"-"&Q97 -> CNTT-TTHT | AF97: o
A98: DC2HT26 | D98: CC2HT26 | F98: 174 | G98: Cấu trúc dữ liệu và giải thuật | H98: 4 | I98: 60 | L98: 0 | O98: Hệ thống thông tin | P98: CÔNG NGHỆ THÔNG TIN | Q98: =MaBM -> TTHT | R98: =MaKhoa -> CNTT | S98: =+R98&"-"&Q98 -> CNTT-TTHT | AF98: x | AY98: x
D99: CC2TH11 | F99: 188 | G99: Cấu trúc máy tính + hợp ngữ | H99: 2 | I99: 30 | L99: 0 | O99: Hệ thống thông tin | P99: CÔNG NGHỆ THÔNG TIN | Q99: =MaBM -> TTHT | R99: =MaKhoa -> CNTT | S99: =+R99&"-"&Q99 -> CNTT-TTHT | AY99: x
A100: DC2HT38 | F100: 181 | G100: Công nghệ phần mềm | H100: 3 | I100: 45 | L100: 0 | O100: Hệ thống thông tin | P100: CÔNG NGHỆ THÔNG TIN | Q100: =MaBM -> TTHT | R100: =MaKhoa -> CNTT | S100: =+R100&"-"&Q100 -> CNTT-TTHT | AF100: x
...

Sheet Tkê LOP
C1: STT | D1: Tên lớp học phần | E1: Học phần | F1: Bộ môn | G1: Số SV dự kiến | H1: Số SV đăng ký | I1: Số SV dự kiến đăng ký thi | J1: Số SV đăng ký thi | Q1: 9 | R1: 10 | S1: 8
A2: =Ma -> DC2CT65-DCK64 | B2: =MaHP -> DC2CT65 | C2: 1 | D2: DC2CT65-1-15 (01)_147 | E2: An toàn lao động-1-15 (01)/64DCCA01 | F2: An toàn lao động | G2: 2 | H2: Trắc lượng | I2: Khoa công trình | J2: 70 | K2: 48 | L2: 0 | M2: 0 | N2: K64DHCQ | O2: Nguyễn Thị Thanh Xuân | P2: =Loclop -> 64DCCA01 | Q2: =_trangay -> 90 | R2: =_trangay -> 42342 | S2: =_trangay -> Viết
A3: =Ma -> DC2CT65-DCK64 | B3: =MaHP -> DC2CT65 | C3: 2 | D3: DC2CT65-1-15 (01)_1D4 | E3: An toàn lao động-1-15 (01)/64DCCA02 | F3: An toàn lao động | G3: 2 | H3: Trắc lượng | I3: Khoa công trình | J3: 70 | K3: 37 | L3: 0 | M3: 0 | N3: K64DHCQ | O3: Nguyễn Thị Thanh Xuân | P3: =Loclop -> 64DCCA02 | Q3: =_trangay -> 90 | R3: =_trangay -> 42342 | S3: =_trangay -> Viết
A4: =Ma -> DC2CT65-DCK64 | B4: =MaHP -> DC2CT65 | C4: 3 | D4: DC2CT65-1-15 (01)_126 | E4: An toàn lao động-1-15 (01)/64DCCC01 | F4: An toàn lao động | G4: 2 | H4: Trắc lượng | I4: Khoa công trình | J4: 70 | K4: 36 | L4: 0 | M4: 0 | N4: K64DHCQ | O4: Nguyễn Thị Thanh Xuân | P4: =Loclop -> 64DCCC01 | Q4: =_trangay -> 90 | R4: =_trangay -> 42342 | S4: =_trangay -> Viết
A5: =Ma -> DC2CT65-DCK64 | B5: =MaHP -> DC2CT65 | C5: 4 | D5: DC2CT65-1-15 (01) | E5: An toàn lao động-1-15 (01)/64DCCD08 | F5: An toàn lao động | G5: 2 | H5: Trắc lượng | I5: Khoa công trình | J5: 70 | K5: 60 | L5: 0 | M5: 0 | N5: K64DHCQ | O5: Kiều Quang Thái | P5: =Loclop -> 64DCCD08 | Q5: =_trangay -> 90 | R5: =_trangay -> 42342 | S5: =_trangay -> Viết
A6: =Ma -> DC2CT65-DCK64 | B6: =MaHP -> DC2CT65 | C6: 5 | D6: DC2CT65-1-15 (02) | E6: An toàn lao động-1-15 (02)/64DCCD09 | F6: An toàn lao động | G6: 2 | H6: Trắc lượng | I6: Khoa công trình | J6: 70 | K6: 56 | L6: 0 | M6: 0 | N6: K64DHCQ | O6: Kiều Quang Thái | P6: =Loclop -> 64DCCD09 | Q6: =_trangay -> 90 | R6: =_trangay -> 42342 | S6: =_trangay -> Viết
A7: =Ma -> DC2CT65-DCK64 | B7: =MaHP -> DC2CT65 | C7: 6 | D7: DC2CT65-1-15 (03) | E7: An toàn lao động-1-15 (03)/64DCCD10 | F7: An toàn lao động | G7: 2 | H7: Trắc lượng | I7: Khoa công trình | J7: 70 | K7: 45 | L7: 0 | M7: 0 | N7: K64DHCQ | O7: Nguyễn Văn Đăng | P7: =Loclop -> 64DCCD10 | Q7: =_trangay -> 90 | R7: =_trangay -> 42342 | S7: =_trangay -> Viết
A8: =Ma -> DC2CT65-DCK64 | B8: =MaHP -> DC2CT65 | C8: 7 | D8: DC2CT65-1-15 (04) | E8: An toàn lao động-1-15 (04)/64DCCD11 | F8: An toàn lao động | G8: 2 | H8: Trắc lượng | I8: Khoa công trình | J8: 70 | K8: 45 | L8: 0 | M8: 0 | N8: K64DHCQ | O8: Nguyễn Thị Thanh Xuân | P8: =Loclop -> 64DCCD11 | Q8: =_trangay -> 90 | R8: =_trangay -> 42342 | S8: =_trangay -> Viết
A9: =Ma -> DC2CT65-DCK64 | B9: =MaHP -> DC2CT65 | C9: 8 | D9: DC2CT65-1-15 (05) | E9: An toàn lao động-1-15 (05)/64DCCD12 | F9: An toàn lao động | G9: 2 | H9: Trắc lượng | I9: Khoa công trình | J9: 70 | K9: 53 | L9: 0 | M9: 0 | N9: K64DHCQ | O9: Nguyễn Thị Loan | P9: =Loclop -> 64DCCD12 | Q9: =_trangay -> 90 | R9: =_trangay -> 42342 | S9: =_trangay -> Viết
A10: =Ma -> DC2CT65-DCK64 | B10: =MaHP -> DC2CT65 | C10: 9 | D10: DC2CT65-1-15 (06) | E10: An toàn lao động-1-15 (06)/64DCCS01 | F10: An toàn lao động | G10: 2 | H10: Trắc lượng | I10: Khoa công trình | J10: 70 | K10: 62 | L10: 0 | M10: 0 | N10: K64DHCQ | O10: Nguyễn Văn Đăng | P10: =Loclop -> 64DCCS01 | Q10: =_trangay -> 90 | R10: =_trangay -> 42342 | S10: =_trangay -> Viết
A11: =Ma -> DC2CT65-DCK63 | B11: =MaHP -> DC2CT65 | C11: 10 | D11: DC2CT65-1-15 (07) | E11: An toàn lao động-1-15 (07)/63DCDB01 | F11: An toàn lao động | G11: 2 | H11: Trắc lượng | I11: Khoa công trình | J11: 55 | K11: 51 | L11: 0 | M11: 0 | N11: K63DHCQ | O11: Nguyễn Trọng Tuấn | P11: =Loclop -> 63DCDB01 | Q11: =_trangay -> #N/A | R11: =_trangay -> #N/A | S11: =_trangay -> #N/A
A12: =Ma -> DC3HT51-DCK64 | B12: =MaHP -> DC3HT51 | C12: 11 | D12: DC3HT51-1-15 (01) | E12: An toàn và bảo mật hệ thống thông tin-1-15 (01)/64DCTH01 | F12: An toàn và bảo mật hệ thống thông tin | G12: 2 | H12: Cơ sở (TT) | I12: Khoa công nghệ thông tin | J12: 70 | K12: 54 | L12: 0 | M12: 0 | N12: K64DHCQ | O12: Lê Thanh Tấn | P12: =Loclop -> 64DCTH01 | Q12: =_trangay -> #N/A | R12: =_trangay -> #N/A | S12: =_trangay -> #N/A
A13: =Ma -> DC3HT51-DCK64 | B13: =MaHP -> DC3HT51 | C13: 12 | D13: DC3HT51-1-15 (01)_1C0 | E13: An toàn và bảo mật hệ thống thông tin-1-15 (01)/64DCTH02 | F13: An toàn và bảo mật hệ thống thông tin | G13: 2 | H13: Cơ sở (TT) | I13: Khoa công nghệ thông tin | J13: 70 | K13: 52 | L13: 0 | M13: 0 | N13: K64DHCQ | O13: Lê Thanh Tấn | P13: =Loclop -> 64DCTH02 | Q13: =_trangay -> #N/A | R13: =_trangay -> #N/A | S13: =_trangay -> #N/A
... A29: =Ma -> DC2TH33-DCK64 | B29: =MaHP -> DC2TH33 | C29: 28 | D29: DC2TH33-1-15 (01)_137 | E29: Automat và ngôn ngữ hình thức-1-15 (01)/64DCTH03 | F29: Automat và ngôn ngữ hình thức | G29: 2 | H29: Cơ sở (TT) | I29: Khoa công nghệ thông tin | J29: 70 | K29: 50 | L29: 0 | M29: 0 | N29: K64DHCQ | O29: Phùng Văn Ổn | P29: =Loclop -> 64DCTH03 | Q29: =_trangay -> #N/A | R29: =_trangay -> #N/A | S29: =_trangay -> #N/A
A30: =Ma -> DC2CB89-DCK65 | B30: =MaHP -> DC2CB89 | C30: 29 | D30: DC2CB89-1-15 (01) | E30: Bảo hiểm trong GTVT-1-15 (01)/65DCVS21_VB21 | F30: Bảo hiểm trong GTVT | G30: 2 | H30: Khoa kinh tế vận tải | J30: 70 | K30: 49 | L30: 0 | M30: 0 | N30: K65DHCQ | O30: Phạm Công Giang | P30: =Loclop -> 65DCVS21 | Q30: =_trangay -> #N/A | R30: =_trangay -> #N/A | S30: =_trangay -> #N/A
A31: =Ma -> DC2CB89-DCK65 | B31: =MaHP -> DC2CB89 | C31: 30 | D31: DC2CB89-1-15 (03) | E31: Bảo hiểm trong GTVT-1-15 (03)/65DCVL21 | F31: Bảo hiểm trong GTVT | G31: 2 | H31: Khoa kinh tế vận tải | J31: 34 | K31: 34 | L31: 0 | M31: 0 | N31: K65DHCQ | O31: Phạm Công Giang | P31: =Loclop -> 65DCVL21 | Q31: =_trangay -> #N/A | R31: =_trangay -> #N/A | S31: =_trangay -> #N/A
A32: =Ma -> CC3CD61-CCK64 | B32: =MaHP -> CC3CD61 | C32: 31 | D32: CC3CD61-1-15 (01) | E32: Bảo trì, khai thác và kiểm định công trình cầu đường-1-15 (01)/64CCCD05 | F32: Bảo trì, khai thác và kiểm định công trình cầu đường | G32: 3 | H32: Đường | I32: Khoa công trình | J32: 74 | K32: 73 | L32: 0 | M32: 0 | N32: K64CDCQ | O32: Vũ Thọ Hưng | P32: =Loclop -> 64CCCD05 | Q32: =_trangay -> 75 | R32: =_trangay -> 42352 | S32: =_trangay -> Viết
A33: =Ma -> CC3CD61-CCK64 | B33: =MaHP -> CC3CD61 | C33: 32 | D33: CC3CD61-1-15 (02) | E33: Bảo trì, khai thác và kiểm định công trình cầu đường-1-15 (02)/64CCCD06 | F33: Bảo trì, khai thác và kiểm định công trình cầu đường | G33: 3 | H33: Đường | I33: Khoa công trình | J33: 75 | K33: 76 | L33: 0 | M33: 0 | N33: K64CDCQ | O33: Phạm Hồng Quân | P33: =Loclop -> 64CCCD06 | Q33: =_trangay -> 75 | R33: =_trangay -> 42352 | S33: =_trangay -> Viết
A34: =Ma -> DC3DD46-DCK63 | B34: =MaHP -> DC3DD46 | C34: 33 | D34: DC3DD46-1-15 (01) | E34: Cấp thoát nước-1-15 (01)/63DCDD01 | F34: Cấp thoát nước | G34: 2 | H34: Dân dụng | I34: Khoa công trình | J34: 57 | K34: 55 | L34: 0 | M34: 0 | N34: K63DHCQ | O34: Vũ Đình Phiên | P34: =Loclop -> 63DCDD01 | Q34: =_trangay -> #N/A | R34: =_trangay -> #N/A | S34: =_trangay -> #N/A
A35: =Ma -> DC3DD46-DCK63 | B35: =MaHP -> DC3DD46 | C35: 34 | D35: DC3DD46-1-15 (02) | E35: Cấp thoát nước-1-15 (02)/63DCDD02 | F35: Cấp thoát nước | G35: 2 | H35: Dân dụng | I35: Khoa công trình | J35: 51 | K35: 48 | L35: 0 | M35: 0 | N35: K63DHCQ | O35: Vũ Thị Hương Lan | P35: =Loclop -> 63DCDD02 | Q35: =_trangay -> #N/A | R35: =_trangay -> #N/A | S35: =_trangay -> #N/A
A36: =Ma -> DC2HT26-DCK65 | B36: =MaHP -> DC2HT26 | C36: 35 | D36: DC2HT26-1-15 (01) | E36: Cấu trúc dữ liệu và giải thuật-1-15 (01)/65DCHT21 | F36: Cấu trúc dữ liệu và giải thuật | G36: 4 | H36: Cơ sở (TT) | I36: Khoa công nghệ thông tin | J36: 65 | K36: 60 | L36: 0 | M36: 0 | N36: K65DHCQ | O36: Lê Thị Hoa | P36: =Loclop -> 65DCHT21 | Q36: =_trangay -> 0 | R36: =_trangay -> 42335 | S36: =_trangay -> 0
A37: =Ma -> DC2HT26-DCK65 | B37: =MaHP -> DC2HT26 | C37: 36 | D37: DC2HT26-1-15 (02) | E37: Cấu trúc dữ liệu và giải thuật-1-15 (02)/65DCHT22 | F37: Cấu trúc dữ liệu và giải thuật | G37: 4 | H37: Cơ sở (TT) | I37: Khoa công nghệ thông tin | J37: 70 | K37: 63 | L37: 0 | M37: 0 | N37: K65DHCQ | O37: Trần Hà Thanh | P37: =Loclop -> 65DCHT22 | Q37: =_trangay -> 0 | R37: =_trangay -> 42335 | S37: =_trangay -> 0
A38: =Ma -> DC2HT26-DCK65 | B38: =MaHP -> DC2HT26 | C38: 37 | D38: DC2HT26-1-15 (03) | E38: Cấu trúc dữ liệu và giải thuật-1-15 (03)/65DCHT23 | F38: Cấu trúc dữ liệu và giải thuật | G38: 4 | H38: Cơ sở (TT) | I38: Khoa công nghệ thông tin | J38: 61 | K38: 31 | L38: 0 | M38: 0 | N38: K65DHCQ | O38: Nguyễn Thị Vân Anh | P38: =Loclop -> 65DCHT23 | Q38: =_trangay -> 0 | R38: =_trangay -> 42335 | S38: =_trangay -> 0
A39: =Ma -> CC3MX51-CCK64 | B39: =MaHP -> CC3MX51 | C39: 38 | D39: CC3MX51-1-15 (01) | E39: Chẩn đoán bảo dưỡng kỹ thuật MXD-1-15 (01)/64CCMX01 | F39: Chẩn đoán bảo dưỡng kỹ thuật MXD | G39: 3 | H39: Máy xây dựng | I39: Khoa cơ khí | J39: 23 | K39: 23 | L39: 0 | M39: 0 | N39: K64CDCQ | O39: Vũ Phi Long | P39: =Loclop -> 64CCMX01 | Q39: =_trangay -> #N/A | R39: =_trangay -> #N/A | S39: =_trangay -> #N/A
A40: =Ma -> CC3OT51-CCK64 | B40: =MaHP -> CC3OT51 | C40: 39 | D40: CC3OT51-1-15 (01) | E40: Chẩn đoán và kiểm định kỹ thuật ô tô-1-15 (01)/64CCOT02 | F40: Chẩn đoán và kiểm định kỹ thuật ô tô | G40: 3 | H40: Bộ môn ô tô | I40: Khoa cơ khí | J40: 37 | K40: 37 | L40: 0 | M40: 0 | N40: K64CDCQ | O40: Nguyễn Văn Tuân | P40: =Loclop -> 64CCOT02 | Q40: =_trangay -> 90 | R40: =_trangay -> 42335 | S40: =_trangay -> Viết
A41: =Ma -> CC3OT51-CCK64 | B41: =MaHP -> CC3OT51 | C41: 40 | D41: CC3OT51-1-15 (02) | E41: Chẩn đoán và kiểm định kỹ thuật ô tô-1-15 (02)/64CCOT03 | F41: Chẩn đoán và kiểm định kỹ thuật ô tô | G41: 3 | H41: Bộ môn ô tô | I41: Khoa cơ khí | J41: 30 | K41: 30 | L41: 0 | M41: 0 | N41: K64CDCQ | O41: Lê Quang Thắng | P41: =Loclop -> 64CCOT03 | Q41: =_trangay -> 90 | R41: =_trangay -> 42335 | S41: =_trangay -> Viết
A42: =Ma -> DC2CK57-DCK64 | B42: =MaHP -> DC2CK57 | C42: 41 | D42: DC2CK57-1-15 (02) | E42: Chi tiết máy 2-1-15 (02)/64DCOT02 | F42: Chi tiết máy 2 | G42: 2 | H42: Khoa cơ khí | J42: 70 | K42: 55 | L42: 0 | M42: 0 | N42: K64DHCQ | O42: Nguyễn Tuấn Hải | P42: =Loclop -> 64DCOT02 | Q42: =_trangay -> 90 | R42: =_trangay -> 42334 | S42: =_trangay -> Viết
A43: =Ma -> DC2CK57-DCK64 | B43: =MaHP -> DC2CK57 | C43: 42 | D43: DC2CK57-1-15 (03) | E43: Chi tiết máy 2-1-15 (03)/64DCOT03 | F43: Chi tiết máy 2 | G43: 2 | H43: Khoa cơ khí | J43: 70 | K43: 49 | L43: 0 | M43: 0 | N43: K64DHCQ | O43: Nguyễn Xuân Hành | P43: =Loclop -> 64DCOT03 | Q43: =_trangay -> 90 | R43: =_trangay -> 42334 | S43: =_trangay -> Viết
A44: =Ma -> DC2CK57-DCK64 | B44: =MaHP -> DC2CK57 | C44: 43 | D44: DC2CK57-1-15 (04) | E44: Chi tiết máy 2-1-15 (04)/64DCDM01_MT01 | F44: Chi tiết máy 2 | G44: 2 | H44: Khoa cơ khí | J44: 70 | K44: 44 | L44: 0 | M44: 0 | N44: K64DHCQ | O44: Trần Văn Hiếu | P44: =Loclop -> 64DCDM01 | Q44: =_trangay -> 90 | R44: =_trangay -> 42334 | S44: =_trangay -> Viết
A45: =Ma -> DC2CK57-DCK64 | B45: =MaHP -> DC2CK57 | C45: 44 | D45: DC2CK57-1-15 (05) | E45: Chi tiết máy 2-1-15 (05)/64DCOT04 | F45: Chi tiết máy 2 | G45: 2 | H45: Khoa cơ khí | J45: 70 | K45: 42 | L45: 0 | M45: 0 | N45: K64DHCQ | O45: Nguyễn Xuân Hành | P45: =Loclop -> 64DCOT04 | Q45: =_trangay -> 90 | R45: =_trangay -> 42334 | S45: =_trangay -> Viết
A46: =Ma -> DC2CK57-DCK64 | B46: =MaHP -> DC2CK57 | C46: 45 | D46: DC2CK57-1-15 (06) | E46: Chi tiết máy 2-1-15 (06)/64DCOT05 | F46: Chi tiết máy 2 | G46: 2 | H46: Khoa cơ khí | J46: 70 | K46: 43 | L46: 0 | M46: 0 | N46: K64DHCQ | O46: Nguyễn Thị Nam | P46: =Loclop -> 64DCOT05 | Q46: =_trangay -> 90 | R46: =_trangay -> 42334 | S46: =_trangay -> Viết
A47: =Ma -> DC2CK57-DCK64 | B47: =MaHP -> DC2CK57 | C47: 46 | D47: DC2CK57-1-15 (07) | E47: Chi tiết máy 2-1-15 (07)/64DCMX03 | F47: Chi tiết máy 2 | G47: 2 | H47: Khoa cơ khí | J47: 70 | K47: 39 | L47: 0 | M47: 0 | N47: K64DHCQ | O47: Yên Văn Thực | P47: =Loclop -> 64DCMX03 | Q47: =_trangay -> 90 | R47: =_trangay -> 42334 | S47: =_trangay -> Viết
A48: =Ma -> DC2CK57-DCK64 | B48: =MaHP -> DC2CK57 | C48: 47 | D48: DC2CK57-1-15 (08) | E48: Chi tiết máy 2-1-15 (08)/64DCMX02 | F48: Chi tiết máy 2 | G48: 2 | H48: Khoa cơ khí | J48: 70 | K48: 41 | L48: 0 | M48: 0 | N48: K64DHCQ | O48: Nguyễn Xuân Hòa | P48: =Loclop -> 64DCMX02 | Q48: =_trangay -> 90 | R48: =_trangay -> 42334 | S48: =_trangay -> Viết
A49: =Ma -> CC3OT52-CCK64 | B49: =MaHP -> CC3OT52 | C49: 48 | D49: CC3OT52-1-15 (01) | E49: Công nghệ bảo dưỡng, sửa chữa ô tô-1-15 (01)/64CCOT02 | F49: Công nghệ bảo dưỡng, sửa chữa ô tô | G49: 3 | H49: Bộ môn ô tô | I49: Khoa cơ khí | J49: 37 | K49: 37 | L49: 0 | M49: 0 | N49: K64CDCQ | O49: Vũ Quảng Đại | P49: =Loclop -> 64CCOT02 | Q49: =_trangay -> 0 | R49: =_trangay -> 42338 | S49: =_trangay -> Viết
A50: =Ma -> CC3OT52-CCK64 | B50: =MaHP -> CC3OT52 | C50: 49 | D50: CC3OT52-1-15 (02) | E50: Công nghệ bảo dưỡng, sửa chữa ô tô-1-15 (02)/64CCOT03 | F50: Công nghệ bảo dưỡng, sửa chữa ô tô | G50: 3 | H50: Bộ môn ô tô | I50: Khoa cơ khí | J50: 30 | K50: 30 | L50: 0 | M50: 0 | N50: K64CDCQ | O50: Vũ Quảng Đại | P50: =Loclop -> 64CCOT03 | Q50: =_trangay -> 0 | R50: =_trangay -> 42338 | S50: =_trangay -> Viết
A51: =Ma -> DC2CK33-DCK64 | B51: =MaHP -> DC2CK33 | C51: 50 | D51: DC2CK33-1-15 (01) | E51: Công nghệ kim loại-1-15 (01)/64DCDM01_MT01 | F51: Công nghệ kim loại | G51: 3 | H51: Bộ môn ô tô | I51: Khoa cơ khí | J51: 70 | K51: 44 | L51: 0 | M51: 0 | N51: K64DHCQ | O51: Đặng Đức Thuận | P51: =Loclop -> 64DCDM01 | Q51: =_trangay -> #N/A | R51: =_trangay -> #N/A | S51: =_trangay -> #N/A
A52: =Ma -> CC2CK33-CCK65 | B52: =MaHP -> CC2CK33 | C52: 51 | D52: CC2CK33-1-15 (01) | E52: Công nghệ kim loại-1-15 (01)/65CCOT21 | F52: Công nghệ kim loại | G52: 3 | H52: Bộ môn ô tô | I52: Khoa cơ khí | J52: 60 | K52: 59 | L52: 0 | M52: 0 | N52: K65CDCQ | O52: Nguyễn Quốc Tuấn | P52: =Loclop -> 65CCOT21 | Q52: =_trangay -> #N/A | R52: =_trangay -> #N/A | S52: =_trangay -> #N/A
A53: =Ma -> CC3OT53-CCK64 | B53: =MaHP -> CC3OT53 | C53: 52 | D53: CC3OT53-1-15 (01) | E53: Công nghệ lắp ráp ô tô-1-15 (01)/64CCOT02 | F53: Công nghệ lắp ráp ô tô | G53: 2 | H53: Bộ môn ô tô | I53: Khoa cơ khí | J53: 37 | K53: 37 | L53: 0 | M53: 0 | N53: K64CDCQ | O53: Nguyễn Công Tuấn | P53: =Loclop -> 64CCOT02 | Q53: =_trangay -> 60 | R53: =_trangay -> 42341 | S53: =_trangay -> Viết
A54: =Ma -> CC3OT53-CCK64 | B54: =MaHP -> CC3OT53 | C54: 53 | D54: CC3OT53-1-15 (02) | E54: Công nghệ lắp ráp ô tô-1-15 (02)/64CCOT03 | F54: Công nghệ lắp ráp ô tô | G54: 2 | H54: Bộ môn ô tô | I54: Khoa cơ khí | J54: 30 | K54: 30 | L54: 0 | M54: 0 | N54: K64CDCQ | O54: Lương Quý Hiệp | P54: =Loclop -> 64CCOT03 | Q54: =_trangay -> 60 | R54: =_trangay -> 42341 | S54: =_trangay -> Viết
A55: =Ma -> CC3MX52-CCK64 | B55: =MaHP -> CC3MX52 | C55: 54 | D55: CC3MX52-1-15 (01) | E55: Công nghệ sửa chữa MXD-1-15 (01)/64CCMX01 | F55: Công nghệ sửa chữa MXD | G55: 2 | H55: Máy xây dựng | I55: Khoa cơ khí | J55: 23 | K55: 23 | L55: 0 | M55: 0 | N55: K64CDCQ | O55: Vũ Phi Long | P55: =Loclop -> 64CCMX01 | Q55: =_trangay -> #N/A | R55: =_trangay -> #N/A | S55: =_trangay -> #N/A
A56: =Ma -> DC3VL25-DCK65 | B56: =MaHP -> DC3VL25 | C56: 55 | D56: DC3VL25-1-15 (01) | E56: Công nghệ vận tải 1-1-15 (01)/65DCVL21 | F56: Công nghệ vận tải 1 | G56: 3 | H56: Vận tải SẮT BỘ | I56: Khoa kinh tế vận tải | J56: 34 | K56: 34 | L56: 0 | M56: 0 | N56: K65DHCQ | O56: Hoàng Văn Lâm | P56: =Loclop -> 65DCVL21 | Q56: =_trangay -> #N/A | R56: =_trangay -> #N/A | S56: =_trangay -> #N/A
A57: =Ma -> DC3DT82-DCK64 | B57: =MaHP -> DC3DT82 | C57: 56 | D57: DC3DT82-1-15 (01) | E57: Công nghệ vi điện tử-1-15 (01)/64DCDT01 | F57: Công nghệ vi điện tử | G57: 2 | H57: Điện tử | I57: Khoa công nghệ thông tin | J57: 70 | K57: 50 | L57: 0 | M57: 0 | N57: K64DHCQ | O57: Phạm Trường Giang | P57: =Loclop -> 64DCDT01 | Q57: =_trangay -> #N/A | R57: =_trangay -> #N/A | S57: =_trangay -> #N/A
A58: =Ma -> DC3DT82-DCK64 | B58: =MaHP -> DC3DT82 | C58: 57 | D58: DC3DT82-1-15 (02) | E58: Công nghệ vi điện tử-1-15 (02)/64DCDT02 | F58: Công nghệ vi điện tử | G58: 2 | H58: Điện tử | I58: Khoa công nghệ thông tin | J58: 70 | K58: 48 | L58: 0 | M58: 0 | N58: K64DHCQ | O58: Vương Thị Hương | P58: =Loclop -> 64DCDT02 | Q58: =_trangay -> #N/A | R58: =_trangay -> #N/A | S58: =_trangay -> #N/A
A59: =Ma -> DC3DT82-DCK64 | B59: =MaHP -> DC3DT82 | C59: 58 | D59: DC3DT82-1-15 (03) | E59: Công nghệ vi điện tử-1-15 (03)/64DCDT03 | F59: Công nghệ vi điện tử | G59: 2 | H59: Điện tử | I59: Khoa công nghệ thông tin | J59: 70 | K59: 57 | L59: 0 | M59: 0 | N59: K64DHCQ | O59: Vương Thị Hương | P59: =Loclop -> 64DCDT03 | Q59: =_trangay -> #N/A | R59: =_trangay -> #N/A | S59: =_trangay -> #N/A
A60: =Ma -> DC3CC47-DCK64 | B60: =MaHP -> DC3CC47 | C60: 59 | D60: DC3CC47-1-15 (01) | E60: Công trình thủy lợi-1-15 (01)/64DCCC01 | F60: Công trình thủy lợi | G60: 2 | H60: Cầu Cảng | I60: Khoa công trình | J60: 70 | K60: 36 | L60: 0 | M60: 0 | N60: K64DHCQ | O60: Nguyễn Văn Hiền | P60: =Loclop -> 64DCCC01 | Q60: =_trangay -> #N/A | R60: =_trangay -> #N/A | S60: =_trangay -> #N/A
... A72: =Ma -> CC2CO24-CCK66 | B72: =MaHP -> CC2CO24 | C72: 71 | D72: CC2CO24-1-15 (01) | E72: Cơ kỹ thuật-1-15 (01)/66CCKX21 | F72: Cơ kỹ thuật | G72: 3 | H72: CSKT1 | I72: Tổ Cơ sở kỹ thuật | J72: 15 | K72: 15 | L72: 0 | M72: 0 | N72: K66CDCQ | O72: Bùi Tiến Tú | P72: =Loclop -> 66CCKX21 | Q72: =_trangay -> #N/A | R72: =_trangay -> #N/A | S72: =_trangay -> #N/A
A73: =LEFT(Ma,7)&T73&"-"&RIGHT(Ma,5) -> DC2CO241-DCK66 | B73: =MaHP -> DC2CO24 | C73: 72 | D73: DC2CO24-1-15 (01) | E73: Cơ kỹ thuật-1-15 (01)/66DCKX21 | F73: Cơ kỹ thuật | G73: 3 | H73: CSKT1 | I73: Tổ Cơ sở kỹ thuật | J73: 80 | K73: 63 | L73: 0 | M73: 0 | N73: K66DHCQ | O73: Nguyễn Thị Huệ | P73: =Loclop -> 66DCKX21 | Q73: =_trangay -> #N/A | R73: =_trangay -> #N/A | S73: =_trangay -> #N/A | T73: 1
A74: =LEFT(Ma,7)&T74&"-"&RIGHT(Ma,5) -> DC2CO241-DCK66 | B74: =MaHP -> DC2CO24 | C74: 73 | D74: DC2CO24-1-15 (02) | E74: Cơ kỹ thuật-1-15 (02)/66DCKX22 | F74: Cơ kỹ thuật | G74: 3 | H74: CSKT1 | I74: Tổ Cơ sở kỹ thuật | J74: 80 | K74: 63 | L74: 0 | M74: 0 | N74: K66DHCQ | O74: Đỗ Quang Chấn | P74: =Loclop -> 66DCKX22 | Q74: =_trangay -> #N/A | R74: =_trangay -> #N/A | S74: =_trangay -> #N/A | T74: 1
A75: =LEFT(Ma,7)&T75&"-"&RIGHT(Ma,5) -> DC2CO241-DCK66 | B75: =MaHP -> DC2CO24 | C75: 74 | D75: DC2CO24-1-15 (03) | E75: Cơ kỹ thuật-1-15 (03)/66DCKX23 | F75: Cơ kỹ thuật | G75: 3 | H75: CSKT1 | I75: Tổ Cơ sở kỹ thuật | J75: 80 | K75: 63 | L75: 0 | M75: 0 | N75: K66DHCQ | O75: Hoàng Quyết Chiến | P75: =Loclop -> 66DCKX23 | Q75: =_trangay -> #N/A | R75: =_trangay -> #N/A | S75: =_trangay -> #N/A | T75: 1
A76: =LEFT(Ma,7)&T76&"-"&RIGHT(Ma,5) -> DC2CO241-DCK66 | B76: =MaHP -> DC2CO24 | C76: 75 | D76: DC2CO24-1-15 (04) | E76: Cơ kỹ thuật-1-15 (04)/66DCKX24 | F76: Cơ kỹ thuật | G76: 3 | H76: CSKT1 | I76: Tổ Cơ sở kỹ thuật | J76: 60 | K76: 64 | L76: 0 | M76: 0 | N76: K66DHCQ | O76: Đoàn Lan Phương | P76: =Loclop -> 66DCKX24 | Q76: =_trangay -> #N/A | R76: =_trangay -> #N/A | S76: =_trangay -> #N/A | T76: 1
A77: =Ma -> DC2CO24-DCK66 | B77: =MaHP -> DC2CO24 | C77: 76 | D77: DC2CO24-1-15 (05) | E77: Cơ kỹ thuật-1-15 (05)/66DCVS21_66DCVB21 | F77: Cơ kỹ thuật | G77: 3 | H77: CSKT1 | I77: Tổ Cơ sở kỹ thuật | J77: 70 | K77: 87 | L77: 0 | M77: 0 | N77: K66DHCQ | O77: Bùi Gia Phi | P77: =Loclop -> 66DCVS21 | Q77: =_trangay -> #N/A | R77: =_trangay -> #N/A | S77: =_trangay -> #N/A
A78: =Ma -> DC2DT44-DCK65 | B78: =MaHP -> DC2DT44 | C78: 77 | D78: DC2DT44-1-15 (01) | E78: Cơ sở kỹ thuật đo lường-1-15 (01)/65DCDT21 | F78: Cơ sở kỹ thuật đo lường | G78: 2 | H78: Điện tử | I78: Khoa công nghệ thông tin | J78: 60 | K78: 58 | L78: 0 | M78: 0 | N78: K65DHCQ | O78: Bùi Hải Đăng | P78: =Loclop -> 65DCDT21 | Q78: =_trangay -> 60 | R78: =_trangay -> 42345 | S78: =_trangay -> Viết
A79: =Ma -> DC2DT44-DCK65 | B79: =MaHP -> DC2DT44 | C79: 78 | D79: DC2DT44-1-15 (02) | E79: Cơ sở kỹ thuật đo lường-1-15 (02)/65DCDT22 | F79: Cơ sở kỹ thuật đo lường | G79: 2 | H79: Điện tử | I79: Khoa công nghệ thông tin | J79: 57 | K79: 50 | L79: 0 | M79: 0 | N79: K65DHCQ | O79: Hoàng Thị Thúy | P79: =Loclop -> 65DCDT22 | Q79: =_trangay -> 60 | R79: =_trangay -> 42345 | S79: =_trangay -> Viết
A80: =Ma -> DC2DT44-DCK65 | B80: =MaHP -> DC2DT44 | C80: 79 | D80: DC2DT44-1-15 (03) | E80: Cơ sở kỹ thuật đo lường-1-15 (03)/65DCDT23 | F80: Cơ sở kỹ thuật đo lường | G80: 2 | H80: Điện tử | I80: Khoa công nghệ thông tin | J80: 54 | K80: 45 | L80: 0 | M80: 0 | N80: K65DHCQ | O80: Vũ Văn Linh | P80: =Loclop -> 65DCDT23 | Q80: =_trangay -> 60 | R80: =_trangay -> 42345 | S80: =_trangay -> Viết
A81: =Ma -> CC2CK59-CCK65 | B81: =MaHP -> CC2CK59 | C81: 80 | D81: CC2CK59-1-15 (01) | E81: Cơ sở thiết kế trên máy tính-1-15 (01)/65CCOT21 | F81: Cơ sở thiết kế trên máy tính | G81: 2 | H81: Bộ môn ô tô | I81: Khoa cơ khí | J81: 60 | K81: 59 | L81: 0 | M81: 0 | N81: K65CDCQ | O81: Yên Văn Thực | P81: =Loclop -> 65CCOT21 | Q81: =_trangay -> #N/A | R81: =_trangay -> #N/A | S81: =_trangay -> #N/A
A82: =Ma -> CC2CK59-CCK64 | B82: =MaHP -> CC2CK59 | C82: 81 | D82: CC2CK59-1-15 (02) | E82: Cơ sở thiết kế trên máy tính-1-15 (02)/64CCMX01 | F82: Cơ sở thiết kế trên máy tính | G82: 2 | H82: Bộ môn ô tô | I82: Khoa cơ khí | J82: 23 | K82: 23 | L82: 0 | M82: 0 | N82: K64CDCQ | O82: Yên Văn Thực | P82: =Loclop -> 64CCMX01 | Q82: =_trangay -> #N/A | R82: =_trangay -> #N/A | S82: =_trangay -> #N/A
A83: =Ma -> DC3DT60-DCK64 | B83: =MaHP -> DC3DT60 | C83: 82 | D83: DC3DT60-1-15 (01) | E83: Cơ sở truyền số liệu-1-15 (01)/64DCDT01 | F83: Cơ sở truyền số liệu | G83: 3 | H83: Điện tử | I83: Khoa công nghệ thông tin | J83: 70 | K83: 50 | L83: 0 | M83: 0 | N83: K64DHCQ | O83: Đào Mạnh Tú | P83: =Loclop -> 64DCDT01 | Q83: =_trangay -> #N/A | R83: =_trangay -> #N/A | S83: =_trangay -> #N/A
A84: =Ma -> DC3DT60-DCK64 | B84: =MaHP -> DC3DT60 | C84: 83 | D84: DC3DT60-1-15 (02) | E84: Cơ sở truyền số liệu-1-15 (02)/64DCDT02 | F84: Cơ sở truyền số liệu | G84: 3 | H84: Điện tử | I84: Khoa công nghệ thông tin | J84: 70 | K84: 48 | L84: 0 | M84: 0 | N84: K64DHCQ | O84: Đào Mạnh Tú | P84: =Loclop -> 64DCDT02 | Q84: =_trangay -> #N/A | R84: =_trangay -> #N/A | S84: =_trangay -> #N/A
A85: =Ma -> DC3DT60-DCK64 | B85: =MaHP -> DC3DT60 | C85: 84 | D85: DC3DT60-1-15 (03) | E85: Cơ sở truyền số liệu-1-15 (03)/64DCDT03 | F85: Cơ sở truyền số liệu | G85: 3 | H85: Điện tử | I85: Khoa công nghệ thông tin | J85: 70 | K85: 57 | L85: 0 | M85: 0 | N85: K64DHCQ | O85: Đỗ Quang Hưng | P85: =Loclop -> 64DCDT03 | Q85: =_trangay -> #N/A | R85: =_trangay -> #N/A | S85: =_trangay -> #N/A
A86: =Ma -> CC2CK18-CCK65 | B86: =MaHP -> CC2CK18 | C86: 85 | D86: CC2CK18-1-15 (01) | E86: Dung sai kỹ thuật đo-1-15 (01)/65CCOT21 | F86: Dung sai kỹ thuật đo | G86: 2 | H86: Bộ môn ô tô | I86: Khoa cơ khí | J86: 60 | K86: 59 | L86: 0 | M86: 0 | N86: K65CDCQ | O86: Nguyễn Công Đoàn | P86: =Loclop -> 65CCOT21 | Q86: =_trangay -> #N/A | R86: =_trangay -> #N/A | S86: =_trangay -> #N/A
A87: =Ma -> CC3CT92-CCK64 | B87: =MaHP -> CC3CT92 | C87: 86 | D87: CC3CT92-1-15 (01) | E87: Dự toán công trình-1-15 (01)/64CCCD05 | F87: Dự toán công trình | G87: 2 | H87: Đường | I87: Khoa công trình | J87: 74 | K87: 73 | L87: 0 | M87: 0 | N87: K64CDCQ | O87: Bạch Thị Diệp Phương | P87: =Loclop -> 64CCCD05 | Q87: =_trangay -> 90 | R87: =_trangay -> 42349 | S87: =_trangay -> Viết
A88: =Ma -> CC3CT92-CCK64 | B88: =MaHP -> CC3CT92 | C88: 87 | D88: CC3CT92-1-15 (02) | E88: Dự toán công trình-1-15 (02)/64CCCD06 | F88: Dự toán công trình | G88: 2 | H88: Đường | I88: Khoa công trình | J88: 75 | K88: 76 | L88: 0 | M88: 0 | N88: K64CDCQ | O88: Bạch Thị Diệp Phương | P88: =Loclop -> 64CCCD06 | Q88: =_trangay -> 90 | R88: =_trangay -> 42349 | S88: =_trangay -> Viết
A89: =Ma -> CC3CT92-CCK64 | B89: =MaHP -> CC3CT92 | C89: 88 | D89: CC3CT92-1-15 (03) | E89: Dự toán công trình-1-15 (03)/64CCDD02 | F89: Dự toán công trình | G89: 2 | H89: Đường | I89: Khoa công trình | J89: 46 | K89: 46 | L89: 0 | M89: 0 | N89: K64CDCQ | O89: Nguyễn Thu Trang | P89: =Loclop -> 64CCDD02 | Q89: =_trangay -> 90 | R89: =_trangay -> 42349 | S89: =_trangay -> Viết
A90: =Ma -> CC3KD61-CCK64 | B90: =MaHP -> CC3KD61 | C90: 89 | D90: CC3KD61-1-15 (01) | E90: Dự toán kiểm định công trình-1-15 (01)/64CCKD01 | F90: Dự toán kiểm định công trình | G90: 2 | H90: Khoa công trình | J90: 37 | K90: 36 | L90: 0 | M90: 0 | N90: K64CDCQ | O90: Nguyễn Thu Trang | P90: =Loclop -> 64CCKD01 | Q90: =_trangay -> #N/A | R90: =_trangay -> #N/A | S90: =_trangay -> #N/A
A91: =Ma -> DC2CT31-DCK65 | B91: =MaHP -> DC2CT31 | C91: 90 | D91: DC2CT31-1-15 (01) | E91: Địa chất công trình-1-15 (01)/65DCCDA1 | F91: Địa chất công trình | G91: 2 | H91: Cơ đất | I91: Khoa công trình | J91: 70 | K91: 6 | L91: 0 | M91: 0 | N91: K65DHCQ | O91: Bùi Văn Lợi | P91: =Loclop -> 65DCCDA1 | Q91: =_trangay -> 90 | R91: =_trangay -> 42338 | S91: =_trangay -> Viết
A92: =Ma -> DC2CT31-DCK65 | B92: =MaHP -> DC2CT31 | C92: 91 | D92: DC2CT31-1-15 (02) | E92: Địa chất công trình-1-15 (02)/65DCCD21 | F92: Địa chất công trình | G92: 2 | H92: Cơ đất | I92: Khoa công trình | J92: 70 | K92: 57 | L92: 0 | M92: 0 | N92: K65DHCQ | O92: Lê Văn Hiệp | P92: =Loclop -> 65DCCD21 | Q92: =_trangay -> 90 | R92: =_trangay -> 42338 | S92: =_trangay -> Viết
A93: =Ma -> DC2CT31-DCK65 | B93: =MaHP -> DC2CT31 | C93: 92 | D93: DC2CT31-1-15 (03) | E93: Địa chất công trình-1-15 (03)/65DCCD22 | F93: Địa chất công trình | G93: 2 | H93: Cơ đất | I93: Khoa công trình | J93: 70 | K93: 57 | L93: 0 | M93: 0 | N93: K65DHCQ | O93: Bùi Văn Lợi | P93: =Loclop -> 65DCCD22 | Q93: =_trangay -> 90 | R93: =_trangay -> 42338 | S93: =_trangay -> Viết
A94: =Ma -> DC2CT31-DCK65 | B94: =MaHP -> DC2CT31 | C94: 93 | D94: DC2CT31-1-15 (04) | E94: Địa chất công trình-1-15 (04)/65DCCD23 | F94: Địa chất công trình | G94: 2 | H94: Cơ đất | I94: Khoa công trình | J94: 70 | K94: 55 | L94: 0 | M94: 0 | N94: K65DHCQ | O94: Bùi Văn Lợi | P94: =Loclop -> 65DCCD23 | Q94: =_trangay -> 90 | R94: =_trangay -> 42338 | S94: =_trangay -> Viết
A95: =Ma -> DC2CT31-DCK65 | B95: =MaHP -> DC2CT31 | C95: 94 | D95: DC2CT31-1-15 (05) | E95: Địa chất công trình-1-15 (05)/65DCDD21 | F95: Địa chất công trình | G95: 2 | H95: Cơ đất | I95: Khoa công trình | J95: 56 | K95: 50 | L95: 0 | M95: 0 | N95: K65DHCQ | O95: Lê Văn Hiệp | P95: =Loclop -> 65DCDD21 | Q95: =_trangay -> 90 | R95: =_trangay -> 42338 | S95: =_trangay -> Viết
A96: =Ma -> DC2CT31-DCK65 | B96: =MaHP -> DC2CT31 | C96: 95 | D96: DC2CT31-1-15 (06) | E96: Địa chất công trình-1-15 (06)/65DCDB21 | F96: Địa chất công trình | G96: 2 | H96: Cơ đất | I96: Khoa công trình | J96: 70 | K96: 46 | L96: 0 | M96: 0 | N96: K65DHCQ | O96: Nguyễn Thị Bích Hạnh | P96: =Loclop -> 65DCDB21 | Q96: =_trangay -> 90 | R96: =_trangay -> 42338 | S96: =_trangay -> Viết
A97: =Ma -> DC2CT31-DCK65 | B97: =MaHP -> DC2CT31 | C97: 96 | D97: DC2CT31-1-15 (06)_176 | E97: Địa chất công trình-1-15 (06)/65DCDD22 | F97: Địa chất công trình | G97: 2 | H97: Cơ đất | I97: Khoa công trình | J97: 47 | K97: 39 | L97: 0 | M97: 0 | N97: K65DHCQ | O97: Lê Văn Hiệp | P97: =Loclop -> 65DCDD22 | Q97: =_trangay -> 90 | R97: =_trangay -> 42338 | S97: =_trangay -> Viết
A98: =Ma -> DC2CT31-DCK65 | B98: =MaHP -> DC2CT31 | C98: 97 | D98: DC2CT31-1-15 (07) | E98: Địa chất công trình-1-15 (07)/65DCCA21 | F98: Địa chất công trình | G98: 2 | H98: Cơ đất | I98: Khoa công trình | J98: 70 | K98: 63 | L98: 0 | M98: 0 | N98: K65DHCQ | O98: Nguyễn Chí Kiên | P98: =Loclop -> 65DCCA21 | Q98: =_trangay -> 90 | R98: =_trangay -> 42338 | S98: =_trangay -> Viết
A99: =Ma -> DC2CT31-DCK65 | B99: =MaHP -> DC2CT31 | C99: 98 | D99: DC2CT31-1-15 (08) | E99: Địa chất công trình-1-15 (08)/65DCCS21_CC21 | F99: Địa chất công trình | G99: 2 | H99: Cơ đất | I99: Khoa công trình | J99: 70 | K99: 43 | L99: 0 | M99: 0 | N99: K65DHCQ | O99: Nguyễn Chí Kiên | P99: =Loclop -> 65DCCS21 | Q99: =_trangay -> 90 | R99: =_trangay -> 42338 | S99: =_trangay -> Viết
A100: =Ma -> DC2CT31-DCK65 | B100: =MaHP -> DC2CT31 | C100: 99 | D100: DC2CT31-1-15 (10) | E100: Địa chất công trình-1-15 (10)/65DCDB22 | F100: Địa chất công trình | G100: 2 | H100: Cơ đất | I100: Khoa công trình | J100: 70 | K100: 41 | L100: 0 | M100: 0 | N100: K65DHCQ | O100: Nguyễn Thị Bích Hạnh | P100: =Loclop -> 65DCDB22 | Q100: =_trangay -> 90 | R100: =_trangay -> 42338 | S100: =_trangay -> Viết
A101: =Ma -> DC2CT31-DCK65 | B101: =MaHP -> DC2CT31 | C101: 100 | D101: DC2CT31-1-15 (11) | E101: Địa chất công trình-1-15 (11)/65DCDB23 | F101: Địa chất công trình | G101: 2 | H101: Cơ đất | I101: Khoa công trình | J101: 70 | K101: 41 | L101: 0 | M101: 0 | N101: K65DHCQ | O101: Nguyễn Thị Bích Hạnh | P101: =Loclop -> 65DCDB23 | Q101: =_trangay -> 90 | R101: =_trangay -> 42338 | S101: =_trangay -> Viết
A102: =Ma -> DC2VB32-DCK66 | B102: =MaHP -> DC2VB32 | C102: 101 | D102: DC2VB32-1-15 (01) | E102: Địa lý vận tải-1-15 (01)/66DCVL21 | F102: Địa lý vận tải | G102: 2 | H102: Vận tải SẮT BỘ | I102: Khoa kinh tế vận tải | J102: 80 | K102: 55 | L102: 0 | M102: 0 | N102: K66DHCQ | O102: Nguyễn Thị Dung | P102: =Loclop -> 66DCVL21 | Q102: =_trangay -> #N/A | R102: =_trangay -> #N/A | S102: =_trangay -> #N/A
... A110: =Ma -> DC2VB67-DCK65 | B110: =MaHP -> DC2VB67 | C110: 109 | D110: DC2VB67-1-15 (01) | E110: Định mức kinh tế kỹ thuật vận tải ô tô-1-15 (01)/65DCVB21 | F110: Định mức kinh tế kỹ thuật vận tải ô tô | G110: 3 | H110: Vận tải SẮT BỘ | I110: Khoa kinh tế vận tải | J110: 38 | K110: 35 | L110: 0 | M110: 0 | N110: K65DHCQ | O110: Nguyễn Thị Dung | P110: =Loclop -> 65DCVB21 | Q110: =_trangay -> #N/A | R110: =_trangay -> #N/A | S110: =_trangay -> #N/A
A111: =Ma -> DC2KV22-DCK65 | B111: =MaHP -> DC2KV22 | C111: 110 | D111: DC2KV22-1-15 (01) | E111: Định mức kinh tế kỹ thuật-1-15 (01)/65DCVL21 | F111: Định mức kinh tế kỹ thuật | G111: 3 | H111: Khoa kinh tế vận tải | J111: 34 | K111: 34 | L111: 0 | M111: 0 | N111: K65DHCQ | O111: Nguyễn Thị Trang | P111: =Loclop -> 65DCVL21 | Q111: =_trangay -> #N/A | R111: =_trangay -> #N/A | S111: =_trangay -> #N/A
A112: =Ma -> DC2CK52-DCK64 | B112: =MaHP -> DC2CK52 | C112: 111 | D112: DC2CK52-1-15 (02) | E112: Đồ án Chi tiết máy-1-15 (02)/64DCMX03 | F112: Đồ án Chi tiết máy | G112: 1 | H112: Bộ môn ô tô | I112: Khoa cơ khí | J112: 70 | K112: 37 | L112: 0 | M112: 0 | N112: K64DHCQ | O112: Yên Văn Thực | P112: =Loclop -> 64DCMX03 | Q112: =_trangay -> 0 | R112: =_trangay -> 42352 | S112: =_trangay -> VĐ
A113: =Ma -> DC2CK52-DCK64 | B113: =MaHP -> DC2CK52 | C113: 112 | D113: DC2CK52-1-15 (03) | E113: Đồ án Chi tiết máy-1-15 (03)/64DCMX02 | F113: Đồ án Chi tiết máy | G113: 1 | H113: Bộ môn ô tô | I113: Khoa cơ khí | J113: 70 | K113: 41 | L113: 0 | M113: 0 | N113: K64DHCQ | O113: Nguyễn Xuân Hòa | P113: =Loclop -> 64DCMX02 | Q113: =_trangay -> 0 | R113: =_trangay -> 42352 | S113: =_trangay -> VĐ
A114: =Ma -> DC2CK52-DCK64 | B114: =MaHP -> DC2CK52 | C114: 113 | D114: DC2CK52-1-15 (04) | E114: Đồ án Chi tiết máy-1-15 (04)/64DCDM01_MT01 | F114: Đồ án Chi tiết máy | G114: 1 | H114: Bộ môn ô tô | I114: Khoa cơ khí | J114: 70 | K114: 24 | L114: 0 | M114: 0 | N114: K64DHCQ | O114: Trần Văn Hiếu | P114: =Loclop -> 64DCDM01 | Q114: =_trangay -> 0 | R114: =_trangay -> 42352 | S114: =_trangay -> VĐ
A115: =Ma -> DC2CK52-DCK64 | B115: =MaHP -> DC2CK52 | C115: 114 | D115: DC2CK52-1-15 (05) | E115: Đồ án Chi tiết máy-1-15 (05)/64DCOT02 | F115: Đồ án Chi tiết máy | G115: 1 | H115: Bộ môn ô tô | I115: Khoa cơ khí | J115: 70 | K115: 54 | L115: 0 | M115: 0 | N115: K64DHCQ | O115: Nguyễn Tuấn Hải | P115: =Loclop -> 64DCOT02 | Q115: =_trangay -> 0 | R115: =_trangay -> 42352 | S115: =_trangay -> VĐ
A116: =Ma -> DC2CK52-DCK64 | B116: =MaHP -> DC2CK52 | C116: 115 | D116: DC2CK52-1-15 (06) | E116: Đồ án Chi tiết máy-1-15 (06)/64DCOT03 | F116: Đồ án Chi tiết máy | G116: 1 | H116: Bộ môn ô tô | I116: Khoa cơ khí | J116: 70 | K116: 48 | L116: 0 | M116: 0 | N116: K64DHCQ | O116: Nguyễn Xuân Hành | P116: =Loclop -> 64DCOT03 | Q116: =_trangay -> 0 | R116: =_trangay -> 42352 | S116: =_trangay -> VĐ
A117: =Ma -> DC2CK52-DCK64 | B117: =MaHP -> DC2CK52 | C117: 116 | D117: DC2CK52-1-15 (07) | E117: Đồ án Chi tiết máy-1-15 (07)/64DCOT04 | F117: Đồ án Chi tiết máy | G117: 1 | H117: Bộ môn ô tô | I117: Khoa cơ khí | J117: 70 | K117: 42 | L117: 0 | M117: 0 | N117: K64DHCQ | O117: Nguyễn Xuân Hành | P117: =Loclop -> 64DCOT04 | Q117: =_trangay -> 0 | R117: =_trangay -> 42352 | S117: =_trangay -> VĐ
A118: =Ma -> DC2CK52-DCK64 | B118: =MaHP -> DC2CK52 | C118: 117 | D118: DC2CK52-1-15 (08) | E118: Đồ án Chi tiết máy-1-15 (08)/64DCOT05 | F118: Đồ án Chi tiết máy | G118: 1 | H118: Bộ môn ô tô | I118: Khoa cơ khí | J118: 70 | K118: 42 | L118: 0 | M118: 0 | N118: K64DHCQ | O118: Nguyễn Thị Nam | P118: =Loclop -> 64DCOT05 | Q118: =_trangay -> 0 | R118: =_trangay -> 42352 | S118: =_trangay -> VĐ
A119: =Ma -> CC3MX48-CCK64 | B119: =MaHP -> CC3MX48 | C119: 118 | D119: CC3MX48-1-15 (01) | E119: Đồ án Công nghệ sửa chữa MXD-1-15 (01)/64CCMX01 | F119: Đồ án Công nghệ sửa chữa MXD | G119: 1 | H119: Máy xây dựng | I119: Khoa cơ khí | J119: 23 | K119: 23 | L119: 0 | M119: 0 | N119: K64CDCQ | O119: Vũ Phi Long | P119: =Loclop -> 64CCMX01 | Q119: =_trangay -> #N/A | R119: =_trangay -> #N/A | S119: =_trangay -> #N/A
A120: =Ma -> DC2DT52-DCK64 | B120: =MaHP -> DC2DT52 | C120: 119 | D120: DC2DT52-1-15 (01) | E120: Đồ án Điện tử số-1-15 (01)/64DCDT01 | F120: Đồ án Điện tử số | G120: 2 | H120: Điện tử | I120: Khoa công nghệ thông tin | J120: 70 | K120: 50 | L120: 0 | M120: 0 | N120: K64DHCQ | O120: Phạm Trường Giang | P120: =Loclop -> 64DCDT01 | Q120: =_trangay -> #N/A | R120: =_trangay -> #N/A | S120: =_trangay -> #N/A
A121: =Ma -> DC2DT52-DCK64 | B121: =MaHP -> DC2DT52 | C121: 120 | D121: DC2DT52-1-15 (02) | E121: Đồ án Điện tử số-1-15 (02)/64DCDT02 | F121: Đồ án Điện tử số | G121: 2 | H121: Điện tử | I121: Khoa công nghệ thông tin | J121: 70 | K121: 48 | L121: 0 | M121: 0 | N121: K64DHCQ | O121: Phạm Trường Giang | P121: =Loclop -> 64DCDT02 | Q121: =_trangay -> #N/A | R121: =_trangay -> #N/A | S121: =_trangay -> #N/A
A122: =Ma -> DC2DT52-DCK64 | B122: =MaHP -> DC2DT52 | C122: 121 | D122: DC2DT52-1-15 (03) | E122: Đồ án Điện tử số-1-15 (03)/64DCDT03 | F122: Đồ án Điện tử số | G122: 2 | H122: Điện tử | I122: Khoa công nghệ thông tin | J122: 70 | K122: 57 | L122: 0 | M122: 0 | N122: K64DHCQ | O122: Đỗ Quang Hưng | P122: =Loclop -> 64DCDT03 | Q122: =_trangay -> #N/A | R122: =_trangay -> #N/A | S122: =_trangay -> #N/A
A123: =Ma -> DC3KT25-DCK63 | B123: =MaHP -> DC3KT25 | C123: 122 | D123: DC3KT25-1-15 (01) | E123: Đồ án kế toán-1-15 (01)/63DCKT04 | F123: Đồ án kế toán | G123: 2 | H123: Kế toán - kiểm toán | I123: Khoa kinh tế vận tải | J123: 63 | K123: 61 | L123: 0 | M123: 0 | N123: K63DHCQ | O123: Đặng Thị Huế | P123: =Loclop -> 63DCKT04 | Q123: =_trangay -> 0 | R123: =_trangay -> 42341 | S123: =_trangay -> VĐ
... A150: =Ma -> DC3MX47-DCK63 | B150: =MaHP -> DC3MX47 | C150: 149 | D150: DC3MX47-1-15 (01) | E150: Đồ án Máy làm đất-1-15 (01)/63DCMX01 | F150: Đồ án Máy làm đất | G150: 1 | H150: Máy xây dựng | I150: Khoa cơ khí | J150: 13 | K150: 12 | L150: 0 | M150: 0 | N150: K63DHCQ | O150: Phạm Như Nam | P150: =Loclop -> 63DCMX01 | Q150: =_trangay -> #N/A | R150: =_trangay -> #N/A | S150: =_trangay -> #N/A
A151: =Ma -> DC3MX42-DCK63 | B151: =MaHP -> DC3MX42 | C151: 150 | D151: DC3MX42-1-15 (01) | E151: Đồ án Máy xây dựng chuyên dùng-1-15 (01)/63DCMX01 | F151: Đồ án Máy xây dựng chuyên dùng | G151: 2 | H151: Máy xây dựng | I151: Khoa cơ khí | J151: 13 | K151: 12 | L151: 0 | M151: 0 | N151: K63DHCQ | P151: =Loclop -> 63DCMX01 | Q151: =_trangay -> #N/A | R151: =_trangay -> #N/A | S151: =_trangay -> #N/A
A152: =Ma -> DC2GT34-DCK64 | B152: =MaHP -> DC2GT34 | C152: 151 | D152: DC2GT34-1-15 (01) | E152: Đồ án nền và móng-1-15 (01)/64DCCD08 | F152: Đồ án nền và móng | G152: 1 | H152: Cơ đất | I152: Khoa công trình | J152: 70 | K152: 60 | L152: 0 | M152: 0 | N152: K64DHCQ | O152: Lê Văn Hiệp | P152: =Loclop -> 64DCCD08 | Q152: =_trangay -> 0 | R152: =_trangay -> 42351 | S152: =_trangay -> VĐ
A153: =Ma -> DC2GT34-DCK64 | B153: =MaHP -> DC2GT34 | C153: 152 | D153: DC2GT34-1-15 (02) | E153: Đồ án nền và móng-1-15 (02)/64DCCD09 | F153: Đồ án nền và móng | G153: 1 | H153: Cơ đất | I153: Khoa công trình | J153: 70 | K153: 56 | L153: 0 | M153: 0 | N153: K64DHCQ | O153: Nguyễn Chí Kiên | P153: =Loclop -> 64DCCD09 | Q153: =_trangay -> 0 | R153: =_trangay -> 42351 | S153: =_trangay -> VĐ
A154: =Ma -> DC2GT34-DCK64 | B154: =MaHP -> DC2GT34 | C154: 153 | D154: DC2GT34-1-15 (03) | E154: Đồ án nền và móng-1-15 (03)/64DCCD10 | F154: Đồ án nền và móng | G154: 1 | H154: Cơ đất | I154: Khoa công trình | J154: 70 | K154: 45 | L154: 0 | M154: 0 | N154: K64DHCQ | O154: Ngô Thị Thanh Hương | P154: =Loclop -> 64DCCD10 | Q154: =_trangay -> 0 | R154: =_trangay -> 42351 | S154: =_trangay -> VĐ
A155: =Ma -> DC2GT34-DCK64 | B155: =MaHP -> DC2GT34 | C155: 154 | D155: DC2GT34-1-15 (04) | E155: Đồ án nền và móng-1-15 (04)/64DCCD11 | F155: Đồ án nền và móng | G155: 1 | H155: Cơ đất | I155: Khoa công trình | J155: 70 | K155: 44 | L155: 0 | M155: 0 | N155: K64DHCQ | O155: Ngô Quốc Trinh | P155: =Loclop -> 64DCCD11 | Q155: =_trangay -> 0 | R155: =_trangay -> 42351 | S155: =_trangay -> VĐ
A156: =Ma -> DC2GT34-DCK64 | B156: =MaHP -> DC2GT34 | C156: 155 | D156: DC2GT34-1-15 (05) | E156: Đồ án nền và móng-1-15 (05)/64DCCD12 | F156: Đồ án nền và móng | G156: 1 | H156: Cơ đất | I156: Khoa công trình | J156: 70 | K156: 53 | L156: 0 | M156: 0 | N156: K64DHCQ | O156: Nguyễn Thị Bích Hạnh | P156: =Loclop -> 64DCCD12 | Q156: =_trangay -> 0 | R156: =_trangay -> 42351 | S156: =_trangay -> VĐ
A157: =Ma -> DC2GT34-DCK64 | B157: =MaHP -> DC2GT34 | C157: 156 | D157: DC2GT34-1-15 (06) | E157: Đồ án nền và móng-1-15 (06)/64DCCS01 | F157: Đồ án nền và móng | G157: 1 | H157: Cơ đất | I157: Khoa công trình | J157: 70 | K157: 62 | L157: 0 | M157: 0 | N157: K64DHCQ | O157: Lê Văn Hiệp | P157: =Loclop -> 64DCCS01 | Q157: =_trangay -> 0 | R157: =_trangay -> 42351 | S157: =_trangay -> VĐ
A158: =Ma -> CC2CK54-CCK65 | B158: =MaHP -> CC2CK54 | C158: 157 | D158: CC2CK54-1-15 (01) | E158: Đồ án Nguyên lý máy-1-15 (01)/65CCOT21 | F158: Đồ án Nguyên lý máy | G158: 1 | H158: Bộ môn ô tô | I158: Khoa cơ khí | J158: 60 | K158: 59 | L158: 0 | M158: 0 | N158: K65CDCQ | O158: Nguyễn Xuân Hành | P158: =Loclop -> 65CCOT21 | Q158: =_trangay -> #N/A | R158: =_trangay -> #N/A | S158: =_trangay -> #N/A
A159: =Ma -> DC2CK54-DCK65 | B159: =MaHP -> DC2CK54 | C159: 158 | D159: DC2CK54-1-15 (02) | E159: Đồ án Nguyên lý máy-1-15 (02)/65DCDM21_MT21 | F159: Đồ án Nguyên lý máy | G159: 1 | H159: Bộ môn ô tô | I159: Khoa cơ khí | J159: 25 | K159: 37 | L159: 0 | M159: 0 | N159: K65DHCQ | O159: Yên Văn Thực | P159: =Loclop -> 65DCDM21 | Q159: =_trangay -> #N/A | R159: =_trangay -> #N/A | S159: =_trangay -> #N/A
...

Sheet SoTD
A2: SỔ THEO DÕI NỘP BẢNG ĐIỂM CHUYÊN CẦN + QUÁ TRÌNH
A3: HỌC KỲ 2 - NĂM HỌC 2014-2015
A4: STT | B4: Tên lớp học phần | C4: Bộ môn | D4: Số SV | E4: Khoá | F4: Giảng viên | G4: Bảng điểm QT | H4: Ghi chú
A6: =_stt -> 1
A7: =_stt -> 2
A8: =_stt -> 3
A9: =_stt -> 4
A10: =_stt -> 5
A11: =_stt -> 6
A12: =_stt -> 7
A13: =_stt -> 8
A14: =_stt -> 9
A15: =_stt -> 10
A16: =_stt -> 11
A17: =_stt -> 12
... A25: =_stt -> 20
A26: 1
A27: =_stt -> 2
A28: =_stt -> 3
A29: =_stt -> 4
A30: =_stt -> 5
A31: =_stt -> 6
A32: =_stt -> 7
A33: =_stt -> 8
A34: =_stt -> 9
A35: =_stt -> 10
A36: =_stt -> 11
A37: =_stt -> 12
A38: =_stt -> 13
... A633: =_stt -> 608

Sheet LICH THI
G1: 7 | I1: 8 | J1: 13 | K1: 14 | R1: =R3-R2 -> 52 | S1: =S3-S2 -> 38 | T1: =T3-T2 -> 8 | U1: =U3-U2 -> 142 | V1: =V3-V2 -> 48 | W1: =W3-W2 -> 74 | X1: =X3-X2 -> 14 | AG1: 17 | AH1: 18 | AL1: 20 | AM1: =+AL1+1 -> 21 | AN1: =+AM1+1 -> 22 | AO1: =+AN1+1 -> 23 | AP1: =+AO1+1 -> 24 | AQ1: =+AP1+1 -> 25 | AR1: =+AQ1+1 -> 26 | AS1: =+AR1+1 -> 27 | AT1: =+AS1+1 -> 28 | ... BD1: =+BC1+1 -> 38 | BE1: 39 | BF1: =+BE1+1 -> 40 | BG1: =+BF1+1 -> 41 | BH1: =+BG1+1 -> 42 | BI1: =+BH1+1 -> 43 | BJ1: =+BI1+1 -> 44 | BK1: =+BJ1+1 -> 45 | BL1: =+BK1+1 -> 46 | BM1: =+BL1+1 -> 47 | ... BW1: =+BV1+1 -> 57
A2: _Ngay_gio | B2: _Gio | D2: _stt | G2: _Loc | I2: _Loc | M2: _Ngay | P2: 30 | Q2: _sophong | R2: =SUM(R9:R145) -> 0 | S2: =SUM(S9:S145) -> 0 | T2: =SUM(T9:T145) -> 0 | U2: =SUM(U9:U145) -> 0 | V2: =SUM(V9:V145) -> 0 | W2: =SUM(W9:W145) -> 0 | X2: =SUM(X9:X145) -> 0 | Y2: =SUM(R2:X2) -> 0 | Z2: _Ngaycham | AA2: _Nopdiem | AC2: _Ngay
R3: =SUMIF($AH$8:$AH$145,R9,$Q$8:$Q$145)*2 -> 52 | S3: =SUMIF($AH$8:$AH$145,S9,$Q$8:$Q$145)*2 -> 38 | T3: =SUMIF($AH$8:$AH$145,T9,$Q$8:$Q$145)*2 -> 8 | U3: =SUMIF($AH$8:$AH$145,U9,$Q$8:$Q$145)*2 -> 142 | V3: =SUMIF($AH$8:$AH$145,V9,$Q$8:$Q$145)*2 -> 48 | W3: =SUMIF($AH$8:$AH$145,W9,$Q$8:$Q$145)*2 -> 74 | X3: =SUMIF($AH$8:$AH$145,X9,$Q$8:$Q$145)*2 -> 14 | Y3: =SUM(R3:X3) -> 376
E4: TRƯỜNG ĐẠI HỌC CÔNG NGHỆ GTVT | H4: LỊCH THI HỌC KỲ 1 - NĂM HỌC 2015-2016
E5: PHÒNG ĐÀO TẠO
A6: 42156
A7: 42174 | C7: NHẬP DỮ LIỆU CỘT NÀY | D7: S T T | E7: Hệ đào tạo - Khóa | F7: Mã học phần | G7: Tên học phần | I7: Số TC | J7: Hình thức thi | K7: Thời gian thi | L7: THI LẦN 1 | R7: KẾ HOẠCH COI, CHẤM THI LẦN 1 | AB7: DỰ KIẾN THI BỔ SUNG (LẦN 2)
A8: 42181 | L8: Ngày thi | N8: Ca thi | O8: Tổng số SV | P8: Số SV/phg | Q8: Số phòng | R8: Phân công GV coi thi | Z8: Thời gian
R9: LLCT | S9: KHCB | T9: CSKT | U9: KCT | V9: KCK | W9: KTVT | X9: CNTT | Y9: Tổng | Z9: Bắt đầu chấm thi | AA9: Nộp bảng điểm | AB9: Ngày thi dự kiến | AD9: Ca thi | AE9: Số SV | AF9: Số phòng thi | AK9: TN | AL9: DCCA | AM9: DCCC | AN9: DCCD | AO9: DCCS | AP9: DCDB | AQ9: DCDD | AR9: DCCDA | AS9: DCOT | AT9: DCMX | AU9: DCMT | AV9: DCDM | AW9: DTDT | AX9: DCHT | AY9: DCKT | AZ9: DCQT | BA9: DCKX | BB9: DCVB | BC9: DCVS | BD9: DCVL | BE9: CCCA | BF9: CCCC | BG9: CCCD | BH9: CCCS | BI9: CCDB | BJ9: CCDD | BK9: CCCDA | BL9: CCOT | BM9: CCMX | BN9: CCMT | BO9: CCDM | BP9: CCDT | BQ9: CCTH | BR9: CCKT | BS9: CCQT | BT9: CCKX | BU9: CCVB | BV9: CCVS | BW9: CCVL
A10: =_Ngay_gio -> 90.270833 | B10: =_Gio -> 6:30 | C10: DC3CA51-DCK63 | D10: =_stt -> 1 | E10: =_LocHe -> DCK63 | F10: =_LocMaHP -> DC3CA51 | G10: =_Loc -> Kỹ thuật thi công cầu 1 | H10: 63DCCD | I10: =_Loc -> 3 | J10: =_Loc -> Viết | K10: =_Loc -> 90 | L10: 42333 | M10: =_Ngay -> (Thứ 4) | N10: 2 | O10: 50 | P10: =_SV_P -> 30 | Q10: =_sophong -> 2 | Y10: =SUM(R10:X10) -> 0 | Z10: =_Ngaycham -> 42334 | AA10: =_Nopdiem -> 42340 | AC10: =_Ngay | AG10: =_Loc -> CTCA | AH10: =_Loc -> KCT | AI10: =Y10-2*Q10 -> -4 | AJ10: =+O10/P10 -> 1.6666667 | AL10: =_Loc -> x | AM10: =_Loc -> 0 | AN10: =_Loc -> x | AO10: =_Loc -> x | AP10: =_Loc -> 0 | AQ10: =_Loc -> 0 | AR10: =_Loc -> x | AS10: =_Loc -> 0 | ... BD10: =_Loc -> 0
A11: =_Ngay_gio -> 90.270833 | B11: =_Gio -> 6:30 | C11: DC3CA52-DCK63 | D11: =_stt -> 2 | E11: =_LocHe -> DCK63 | F11: =_LocMaHP -> DC3CA52 | G11: =_Loc -> Kỹ thuật thi công cầu 2 | H11: 63DCCD | I11: =_Loc -> 3 | J11: =_Loc -> Viết | K11: =_Loc -> 90 | L11: 42335 | M11: =_Ngay -> (Thứ 6) | N11: 2 | O11: 50 | P11: =_SV_P -> 30 | Q11: =_sophong -> 2 | Y11: =SUM(R11:X11) -> 0 | Z11: =_Ngaycham -> 42338 | AA11: =_Nopdiem -> 42342 | AC11: =_Ngay | AG11: =_Loc -> CTCA | AH11: =_Loc -> KCT | AI11: =Y11-2*Q11 -> -4 | AJ11: =+O11/P11 -> 1.6666667 | AL11: =_Loc -> x | AM11: =_Loc -> 0 | AN11: =_Loc -> x | AO11: =_Loc -> x | AP11: =_Loc -> 0 | AQ11: =_Loc -> 0 | AR11: =_Loc -> x | AS11: =_Loc -> 0 | ... BD11: =_Loc -> 0
A12: =_Ngay_gio -> 0.27083333 | B12: =_Gio -> 6:30 | C12: DC3CD33A-DCK63 | D12: =_stt -> 3 | E12: =_LocHe -> DCK63 | F12: =_LocMaHP -> DC3CD33A | G12: =_Loc -> Tiếng Anh 4 | H12: 63DCCD | I12: =_Loc -> 0 | J12: =_Loc -> Viết | K12: =_Loc -> 0 | L12: 42345 | M12: =_Ngay -> (Thứ 2) | N12: 2 | O12: 50 | P12: =_SV_P -> 30 | Q12: =_sophong -> 2 | Y12: =SUM(R12:X12) -> 0 | Z12: =_Ngaycham -> 42346 | AA12: =_Nopdiem -> 42352 | AC12: =_Ngay | AG12: =_Loc -> 0 | AH12: =_Loc -> 0 | AI12: =Y12-2*Q12 -> -4 | AJ12: =+O12/P12 -> 1.6666667 | AL12: =_Loc -> 0 | AM12: =_Loc -> 0 | AN12: =_Loc -> 0 | AO12: =_Loc -> 0 | AP12: =_Loc -> 0 | AQ12: =_Loc -> 0 | AR12: =_Loc -> 0 | AS12: =_Loc -> 0 | ... BW12: =_Loc -> 0
A13: =_Ngay_gio -> 90.270833 | B13: =_Gio -> 6:30 | C13: DC3CT55-DCK63 | D13: =_stt -> 4 | E13: =_LocHe -> DCK63 | F13: =_LocMaHP -> DC3CT55 | G13: =_Loc -> Quản lý dự án đầu tư xây dựng công trình | H13: 63DCCD | I13: =_Loc -> 3 | J13: =_Loc -> Viết | K13: =_Loc -> 90 | L13: 42348 | M13: =_Ngay -> (Thứ 5) | N13: 4 | O13: 50 | P13: =_SV_P -> 30 | Q13: =_sophong -> 2 | Y13: =SUM(R13:X13) -> 0 | Z13: =_Ngaycham -> 42349 | AA13: =_Nopdiem -> 42355 | AC13: =_Ngay | AG13: =_Loc -> CTMO | AH13: =_Loc -> KCT | AI13: =Y13-2*Q13 -> -4 | AJ13: =+O13/P13 -> 1.6666667 | AL13: =_Loc -> x | AM13: =_Loc -> x | AN13: =_Loc -> x | AO13: =_Loc -> x | AP13: =_Loc -> x | AQ13: =_Loc -> x | AR13: =_Loc -> x | AS13: =_Loc -> 0 | ... BW13: =_Loc -> 0
A14: =_Ngay_gio -> 0.27083333 | B14: =_Gio -> 6:30 | C14: DC3DB52-DCK63 | D14: =_stt -> 5 | E14: =_LocHe -> DCK63 | F14: =_LocMaHP -> DC3DB52 | G14: =_Loc -> Kỹ thuật thi công mặt đường | H14: 63DCCD | I14: =_Loc -> 3 | J14: =_Loc -> VĐ | K14: =_Loc -> 0 | L14: 42352 | M14: =_Ngay -> (Thứ 2) | N14: SA | O14: 50 | P14: =_SV_P | Q14: =_sophong | Y14: =SUM(R14:X14) -> 0 | Z14: =_Ngaycham -> 42352 | AA14: =_Nopdiem -> 42354 | AC14: =_Ngay | AG14: =_Loc -> CTDB | AH14: =_Loc -> KCT | AI14: =Y14-2*Q14 -> #VALUE! | AJ14: =+O14/P14 -> #VALUE! | AL14: =_Loc -> 0 | AM14: =_Loc -> 0 | AN14: =_Loc -> x | AO14: =_Loc -> 0 | AP14: =_Loc -> x | AQ14: =_Loc -> 0 | AR14: =_Loc -> x | AS14: =_Loc -> 0 | ... BW14: =_Loc -> 0
A15: =_Ngay_gio -> 0.27083333 | B15: =_Gio -> 6:30 | C15: DC3CD60-DCK63 | D15: =_stt -> 6 | E15: =_LocHe -> DCK63 | F15: =_LocMaHP -> DC3CD60 | G15: =_Loc -> Tin học ứng dụng | H15: 63DCCD | I15: =_Loc -> 2 | J15: =_Loc -> TH | K15: =_Loc -> 0 | L15: 42354 | M15: =_Ngay -> (Thứ 4) | N15: SA | O15: 50 | P15: =_SV_P | Q15: =_sophong | Y15: =SUM(R15:X15) -> 0 | Z15: =_Ngaycham -> 42354 | AA15: =_Nopdiem -> 42356 | AC15: =_Ngay | AG15: =_Loc -> CTUD | AH15: =_Loc -> KCT | AI15: =Y15-2*Q15 -> #VALUE! | AJ15: =+O15/P15 -> #VALUE! | AL15: =_Loc -> 0 | AM15: =_Loc -> 0 | AN15: =_Loc -> o | AO15: =_Loc -> 0 | AP15: =_Loc -> 0 | AQ15: =_Loc -> 0 | AR15: =_Loc -> x | AS15: =_Loc -> 0 | ... BW15: =_Loc -> 0
A16: =_Ngay_gio -> 0.27083333 | B16: =_Gio -> 6:30 | C16: DC2KV73 -DCK63 | D16: =_stt -> 7 | E16: =_LocHe -> DCK63 | F16: DC3QT51 | G16: =_Loc -> Quản trị doanh nghiệp | H16: 63DCKT | I16: =_Loc -> 3 | J16: =_Loc -> 0 | K16: =_Loc -> 0 | L16: 42333 | M16: =_Ngay -> (Thứ 4) | N16: 2 | O16: 40 | Z16: =_Ngaycham -> 42334 | AA16: =_Nopdiem -> 42340
A17: =_Ngay_gio -> 0.27083333 | B17: =_Gio -> 6:30 | C17: DC3KV32-DCK63 | D17: =_stt -> 8 | E17: =_LocHe -> DCK63 | F17: =_LocMaHP -> DC3KV32 | G17: =_Loc -> Phân tích hoạt động kinh doanh | H17: 63DCKT | I17: =_Loc -> 3 | J17: =_Loc -> 0 | K17: =_Loc -> 0 | L17: 42338 | M17: =_Ngay -> (Thứ 2) | N17: 2 | O17: 40 | P17: =_SV_P -> 30 | Q17: =_sophong -> 2 | Y17: =SUM(R17:X17) -> 0 | Z17: =_Ngaycham -> 42339 | AA17: =_Nopdiem -> 42345 | AC17: =_Ngay | AG17: =_Loc -> KVQT | AH17: =_Loc -> KTVT | AI17: =Y17-2*Q17 -> -4 | AJ17: =+O17/P17 -> 1.3333333 | AL17: =_Loc -> 0 | AM17: =_Loc -> 0 | AN17: =_Loc -> 0 | AO17: =_Loc -> 0 | AP17: =_Loc -> 0 | AQ17: =_Loc -> 0 | AR17: =_Loc -> 0 | AS17: =_Loc -> 0 | ... BD17: =_Loc -> 0
A18: =_Ngay_gio -> 0.27083333 | B18: =_Gio -> 6:30 | C18: DC3KT25-DCK63 | D18: =_stt -> 9 | E18: =_LocHe -> DCK63 | F18: =_LocMaHP -> DC3KT25 | G18: =_Loc -> Đồ án Kế toán | H18: 63DCKT | I18: =_Loc -> 2 | J18: =_Loc -> VĐ | K18: =_Loc -> 0 | L18: 42341 | M18: =_Ngay -> (Thứ 5) | N18: SA | O18: 40 | P18: =_SV_P | Q18: =_sophong | Y18: =SUM(R18:X18) -> 0 | Z18: =_Ngaycham -> 42341 | AA18: =_Nopdiem -> 42343 | AC18: =_Ngay | AG18: =_Loc -> KVKK | AH18: =_Loc -> KTVT | AI18: =Y18-2*Q18 -> #VALUE! | AJ18: =+O18/P18 -> #VALUE! | AL18: =_Loc -> 0 | AM18: =_Loc -> 0 | AN18: =_Loc -> 0 | AO18: =_Loc -> 0 | AP18: =_Loc -> 0 | AQ18: =_Loc -> 0 | AR18: =_Loc -> 0 | AS18: =_Loc -> 0 | ... BD18: =_Loc -> 0
A19: =_Ngay_gio -> 90.270833 | B19: =_Gio -> 6:30 | C19: DC1LL04 -DCK63 | D19: =_stt -> 10 | E19: =_LocHe -> DCK63 | F19: DC1LL04 | G19: =_Loc -> Đường lối cách mạng của Đảng cộng sản Việt Nam | H19: 63DCKT | I19: =_Loc -> 3 | J19: =_Loc -> Viết | K19: =_Loc -> 90 | L19: 42345 | M19: =_Ngay -> (Thứ 2) | N19: 2 | O19: 40 | Z19: =_Ngaycham -> 42346 | AA19: =_Nopdiem -> 42352
A20: =_Ngay_gio -> 90.270833 | B20: =_Gio -> 6:30 | C20: DC3KV43-DCK63 | D20: =_stt -> 11 | E20: =_LocHe -> DCK63 | F20: =_LocMaHP -> DC3KV43 | G20: =_Loc -> Kiểm toán báo cáo tài chính | H20: 63DCKT | I20: =_Loc -> 3 | J20: =_Loc -> Viết | K20: =_Loc -> 90 | L20: 42348 | M20: =_Ngay -> (Thứ 5) | N20: SA | O20: 40 | Y20: =SUM(R20:X20) -> 0 | Z20: =_Ngaycham -> 42349 | AA20: =_Nopdiem -> 42355 | AC20: =_Ngay | AG20: =_Loc -> KVKK | AH20: =_Loc -> KTVT | AI20: =Y20-2*Q20 -> 0 | AJ20: =+O20/P20 -> #DIV/0! | AL20: =_Loc -> 0 | AM20: =_Loc -> 0 | AN20: =_Loc -> 0 | AO20: =_Loc -> 0 | AP20: =_Loc -> 0 | AQ20: =_Loc -> 0 | AR20: =_Loc -> 0 | AS20: =_Loc -> 0 | ... BD20: =_Loc -> 0
A21: =_Ngay_gio -> 0.27083333 | B21: =_Gio -> 6:30 | C21: DC3KT60-DCK63 | D21: =_stt -> 12 | E21: =_LocHe -> DCK63 | F21: =_LocMaHP -> DC3KT60 | G21: =_Loc -> Tin học kế toán | H21: 63DCKT | I21: =_Loc -> 2 | J21: =_Loc -> VĐ | K21: =_Loc -> 0 | L21: 42352 | M21: =_Ngay -> (Thứ 2) | N21: SA | O21: 40 | P21: =_SV_P | Q21: =_sophong | Y21: =SUM(R21:X21) -> 0 | Z21: =_Ngaycham -> 42352 | AA21: =_Nopdiem -> 42354 | AC21: =_Ngay | AG21: =_Loc -> KVKK | AH21: =_Loc -> KTVT | AI21: =Y21-2*Q21 -> #VALUE! | AJ21: =+O21/P21 -> #VALUE! | AL21: =_Loc -> 0 | AM21: =_Loc -> 0 | AN21: =_Loc -> 0 | AO21: =_Loc -> 0 | AP21: =_Loc -> 0 | AQ21: =_Loc -> 0 | AR21: =_Loc -> 0 | AS21: =_Loc -> 0 | ... BW21: =_Loc -> 0
D22: =_stt -> 13 | E22: DCK63 | F22: DC4QT22 | G22: =_Loc -> Thực tập nghiệp vụ quản trị 2 | H22: 63DCKT | I22: =_Loc -> 4 | J22: =_Loc -> TH | K22: =_Loc -> 0 | L22: 42356 | M22: =_Ngay -> (Thứ 6) | N22: SA | O22: 40 | Z22: =_Ngaycham -> 42356 | AA22: =_Nopdiem -> 42358
A23: =_Ngay_gio -> 90.270833 | B23: =_Gio -> 6:30 | C23: DC3OT31-DCK63 | D23: =_stt -> 14 | E23: =_LocHe -> DCK63 | F23: =_LocMaHP -> DC3OT31 | G23: =_Loc -> Trang bị điện và các thiết bị điều khiển tự động trên ô tô | H23: 63DCOT | I23: =_Loc -> 4 | J23: =_Loc -> Viết | K23: =_Loc -> 90 | L23: 42334 | M23: =_Ngay -> (Thứ 5) | N23: 1 | O23: 17 | P23: =_SV_P -> 30 | Q23: =_sophong -> 1 | Y23: =SUM(R23:X23) -> 0 | Z23: =_Ngaycham -> 42335 | AA23: =_Nopdiem -> 42341 | AC23: =_Ngay | AG23: =_Loc -> CKOT | AH23: =_Loc -> KCK | AI23: =Y23-2*Q23 -> -2 | AJ23: =+O23/P23 -> 0.56666667 | AL23: =_Loc -> 0 | AM23: =_Loc -> 0 | AN23: =_Loc -> 0 | AO23: =_Loc -> 0 | AP23: =_Loc -> 0 | AQ23: =_Loc -> 0 | AR23: =_Loc -> 0 | AS23: =_Loc -> x | ... BW23: =_Loc -> 0
A24: =_Ngay_gio -> 60.270833 | B24: =_Gio -> 6:30 | C24: DC3OT54-DCK63 | D24: =_stt -> 15 | E24: =_LocHe -> DCK63 | F24: =_LocMaHP -> DC3OT54 | G24: =_Loc -> Thí nghiệm ôtô | H24: 63DCOT | I24: =_Loc -> 2 | J24: =_Loc -> Viết | K24: =_Loc -> 60 | L24: 42338 | M24: =_Ngay -> (Thứ 2) | N24: 2 | O24: 17 | P24: =_SV_P -> 30 | Q24: =_sophong -> 1 | Y24: =SUM(R24:X24) -> 0 | Z24: =_Ngaycham -> 42339 | AA24: =_Nopdiem -> 42345 | AC24: =_Ngay | AG24: =_Loc -> CKOT | AH24: =_Loc -> KCK | AI24: =Y24-2*Q24 -> -2 | AJ24: =+O24/P24 -> 0.56666667 | AL24: =_Loc -> 0 | AM24: =_Loc -> 0 | AN24: =_Loc -> 0 | AO24: =_Loc -> 0 | AP24: =_Loc -> 0 | AQ24: =_Loc -> 0 | AR24: =_Loc -> 0 | AS24: =_Loc -> x | ... BW24: =_Loc -> 0
D25: =_stt -> 16 | E25: DCK63 | F25: DC4OT21 | G25: =_Loc -> Thực tập Cấu tạo ô tô 1 | H25: 63DCOT | I25: =_Loc -> 3 | J25: =_Loc -> TH | K25: =_Loc -> 0 | L25: 42348 | M25: =_Ngay -> (Thứ 5) | N25: SA | O25: 17 | Z25: =_Ngaycham -> 42348 | AA25: =_Nopdiem -> 42350
A26: =_Ngay_gio -> 0.27083333 | B26: =_Gio -> 6:30 | C26: DC2CK60-DCK63 | D26: =_stt -> 17 | E26: =_LocHe -> DCK63 | F26: =_LocMaHP -> DC2CK60 | G26: =_Loc -> Tin học ứng dụng | H26: 63DCOT | I26: =_Loc -> 2 | J26: =_Loc -> VĐ | K26: =_Loc -> 0 | L26: 42354 | M26: =_Ngay -> (Thứ 4) | N26: SA | O26: 17 | P26: =_SV_P | Q26: =_sophong | Y26: =SUM(R26:X26) -> 0 | Z26: =_Ngaycham -> 42354 | AA26: =_Nopdiem -> 42356 | AC26: =_Ngay | AG26: =_Loc -> KCK | AH26: =_Loc -> KCK | AI26: =Y26-2*Q26 -> #VALUE! | AJ26: =+O26/P26 -> #VALUE! | AL26: =_Loc -> 0 | AM26: =_Loc -> 0 | AN26: =_Loc -> 0 | AO26: =_Loc -> 0 | AP26: =_Loc -> 0 | AQ26: =_Loc -> 0 | AR26: =_Loc -> 0 | AS26: =_Loc -> o | ... BW26: =_Loc -> 0
D27: =_stt -> 18 | E27: DCK63 | F27: DC4CK11 | G27: =_Loc -> Thực tập Nhập môn cơ khí | H27: 63DCOT | I27: =_Loc -> 4 | J27: =_Loc -> TH | K27: =_Loc -> 0 | L27: 42359 | M27: =_Ngay -> (Thứ 2) | N27: SA | O27: 17 | Z27: =_Ngaycham -> 42359 | AA27: =_Nopdiem -> 42361
A28: =_Ngay_gio -> 0.27083333 | B28: =_Gio -> 6:30 | C28: CC3CD60-CCK64 | D28: =_stt -> 19 | E28: CCK64 | F28: CC3CD60 | G28: =_Loc -> Tin học ứng dụng | H28: 64CCCD | I28: =_Loc -> 2 | J28: =_Loc -> TH | K28: =_Loc -> 0 | L28: 42332 | M28: =_Ngay -> (Thứ 3) | N28: SA | O28: 75 | Z28: =_Ngaycham -> 42332 | AA28: =_Nopdiem -> 42334
A29: =_Ngay_gio -> 90.270833 | B29: =_Gio -> 6:30 | C29: CC3CA51-CCK64 | D29: =_stt -> 20 | E29: =_LocHe -> CCK64 | F29: =_LocMaHP -> CC3CA51 | G29: =_Loc -> Kỹ thuật thi công cầu 1 | H29: 64CCCD | I29: =_Loc -> 2 | J29: =_Loc -> Viết | K29: =_Loc -> 90 | L29: 42335 | M29: =_Ngay -> (Thứ 6) | N29: 1 | O29: 75 | P29: =_SV_P -> 30 | Q29: =_sophong -> 3 | Y29: =SUM(R29:X29) -> 0 | Z29: =_Ngaycham -> 42338 | AA29: =_Nopdiem -> 42342 | AC29: =_Ngay | AG29: =_Loc -> CTCA | AH29: =_Loc -> KCT | AI29: =Y29-2*Q29 -> -6 | AJ29: =+O29/P29 -> 2.5 | AL29: =_Loc -> 0 | AM29: =_Loc -> 0 | AN29: =_Loc -> 0 | AO29: =_Loc -> 0 | AP29: =_Loc -> 0 | AQ29: =_Loc -> 0 | AR29: =_Loc -> 0 | AS29: =_Loc -> 0 | ... BD29: =_Loc -> 0
A30: =_Ngay_gio -> 90.270833 | B30: =_Gio -> 6:30 | C30: CC3CA52-CCK64 | D30: =_stt -> 21 | E30: =_LocHe -> CCK64 | F30: =_LocMaHP -> CC3CA52 | G30: =_Loc -> Kỹ thuật thi công cầu 2 | H30: 64CCCD | I30: =_Loc -> 2 | J30: =_Loc -> Viết | K30: =_Loc -> 90 | L30: 42339 | M30: =_Ngay -> (Thứ 3) | N30: 1 | O30: 75 | P30: =_SV_P -> 30 | Q30: =_sophong -> 3 | Y30: =SUM(R30:X30) -> 0 | Z30: =_Ngaycham -> 42340 | AA30: =_Nopdiem -> 42346 | AC30: =_Ngay | AG30: =_Loc -> CTCA | AH30: =_Loc -> KCT | AI30: =Y30-2*Q30 -> -6 | AJ30: =+O30/P30 -> 2.5 | AL30: =_Loc -> 0 | AM30: =_Loc -> 0 | AN30: =_Loc -> 0 | AO30: =_Loc -> 0 | AP30: =_Loc -> 0 | AQ30: =_Loc -> 0 | AR30: =_Loc -> 0 | AS30: =_Loc -> 0 | ... BW30: =_Loc -> 0
A31: =_Ngay_gio -> 90.270833 | B31: =_Gio -> 6:30 | C31: CC3CD53-CCK64 | D31: =_stt -> 22 | E31: =_LocHe -> CCK64 | F31: =_LocMaHP -> CC3CD53 | G31: =_Loc -> Tổ chức thi công công trình xây dựng | H31: 64CCCD | I31: =_Loc -> 3 | J31: =_Loc -> Viết | K31: =_Loc -> 90 | L31: 42342 | M31: =_Ngay -> (Thứ 6) | N31: 1 | O31: 75 | P31: =_SV_P -> 30 | Q31: =_sophong -> 3 | Y31: =SUM(R31:X31) -> 0 | Z31: =_Ngaycham -> 42345 | AA31: =_Nopdiem -> 42349 | AC31: =_Ngay | AG31: =_Loc -> CTDB | AH31: =_Loc -> KCT | AI31: =Y31-2*Q31 -> -6 | AJ31: =+O31/P31 -> 2.5 | AL31: =_Loc -> 0 | AM31: =_Loc -> 0 | AN31: =_Loc -> 0 | AO31: =_Loc -> 0 | AP31: =_Loc -> 0 | AQ31: =_Loc -> 0 | AR31: =_Loc -> 0 | AS31: =_Loc -> 0 | ... BW31: =_Loc -> 0
A32: =_Ngay_gio -> 60.270833 | B32: =_Gio -> 6:30 | C32: CC3CD33-CCK64 | D32: =_stt -> 23 | E32: =_LocHe -> CCK64 | F32: =_LocMaHP -> CC3CD33 | G32: =_Loc -> Tiếng Anh 3 | H32: 64CCCD | I32: =_Loc -> 3 | J32: =_Loc -> Viết | K32: =_Loc -> 60 | L32: 42345 | M32: =_Ngay -> (Thứ 2) | N32: 1 | O32: 75 | P32: =_SV_P -> 30 | Q32: =_sophong -> 3 | Y32: =SUM(R32:X32) -> 0 | Z32: =_Ngaycham -> 42346 | AA32: =_Nopdiem -> 42352 | AC32: =_Ngay | AG32: =_Loc -> CBNN | AH32: =_Loc -> KHCB | AI32: =Y32-2*Q32 -> -6 | AJ32: =+O32/P32 -> 2.5 | AL32: =_Loc -> 0 | AM32: =_Loc -> 0 | AN32: =_Loc -> x | AO32: =_Loc -> 0 | AP32: =_Loc -> 0 | AQ32: =_Loc -> 0 | AR32: =_Loc -> x | AS32: =_Loc -> 0 | ... BW32: =_Loc -> 0
A33: =_Ngay_gio -> 90.270833 | B33: =_Gio -> 6:30 | C33: CC3CT92-CCK64 | D33: =_stt -> 24 | E33: =_LocHe -> CCK64 | F33: =_LocMaHP -> CC3CT92 | G33: =_Loc -> Dự toán công trình | H33: 64CCCD | I33: =_Loc -> 2 | J33: =_Loc -> Viết | K33: =_Loc -> 90 | L33: 42349 | M33: =_Ngay -> (Thứ 6) | N33: 1 | O33: 75 | P33: =_SV_P -> 30 | Q33: =_sophong -> 3 | Y33: =SUM(R33:X33) -> 0 | Z33: =_Ngaycham -> 42352 | AA33: =_Nopdiem -> 42356 | AC33: =_Ngay | AG33: =_Loc -> CTDB | AH33: =_Loc -> KCT | AI33: =Y33-2*Q33 -> -6 | AJ33: =+O33/P33 -> 2.5 | AL33: =_Loc -> o | AM33: =_Loc -> o | AN33: =_Loc -> o | AO33: =_Loc -> o | AP33: =_Loc -> o | AQ33: =_Loc -> o | AR33: =_Loc -> o | AS33: =_Loc -> 0 | ... BW33: =_Loc -> 0
A34: =_Ngay_gio -> 75.270833 | B34: =_Gio -> 6:30 | C34: CC3CD61-CCK64 | D34: =_stt -> 25 | E34: =_LocHe -> CCK64 | F34: =_LocMaHP -> CC3CD61 | G34: =_Loc -> Bảo trì, khai thác và kiểm định công trình cầu đường | H34: 64CCCD | I34: =_Loc -> 3 | J34: =_Loc -> Viết | K34: =_Loc -> 75 | L34: 42352 | M34: =_Ngay -> (Thứ 2) | N34: 1 | O34: 75 | P34: =_SV_P -> 30 | Q34: =_sophong -> 3 | Y34: =SUM(R34:X34) -> 0 | Z34: =_Ngaycham -> 42353 | AA34: =_Nopdiem -> 42359 | AC34: =_Ngay | AG34: =_Loc -> CTDB | AH34: =_Loc -> KCT | AI34: =Y34-2*Q34 -> -6 | AJ34: =+O34/P34 -> 2.5 | AL34: =_Loc -> 0 | AM34: =_Loc -> 0 | AN34: =_Loc -> 0 | AO34: =_Loc -> 0 | AP34: =_Loc -> 0 | AQ34: =_Loc -> 0 | AR34: =_Loc -> 0 | AS34: =_Loc -> 0 | ... BW34: =_Loc -> 0
A35: =_Ngay_gio -> 0.27083333 | B35: =_Gio -> 6:30 | C35: CC3CD54-CCK64 | D35: =_stt -> 26 | E35: =_LocHe -> CCK64 | F35: =_LocMaHP -> CC3CD54 | G35: =_Loc -> Đồ án Tổ chức thi công và thi công công trình xây dựng | H35: 64CCCD | I35: =_Loc -> 1 | J35: =_Loc -> VĐ | K35: =_Loc -> 0 | L35: 42354 | M35: =_Ngay -> (Thứ 4) | N35: SA | O35: 75 | P35: =_SV_P | Q35: =_sophong | Y35: =SUM(R35:X35) -> 0 | Z35: =_Ngaycham -> 42354 | AA35: =_Nopdiem -> 42356 | AC35: =_Ngay | AG35: =_Loc -> CTDB | AH35: =_Loc -> KCT | AI35: =Y35-2*Q35 -> #VALUE! | AJ35: =+O35/P35 -> #VALUE! | AL35: =_Loc -> 0 | AM35: =_Loc -> 0 | AN35: =_Loc -> 0 | AO35: =_Loc -> 0 | AP35: =_Loc -> 0 | AQ35: =_Loc -> 0 | AR35: =_Loc -> 0 | AS35: =_Loc -> 0 | ... BW35: =_Loc -> 0
D36: =_stt -> 27 | E36: CCK64 | F36: CC4CD22 | G36: =_Loc -> Thực tập Thí nghiệm và kiểm định cầu, đường | H36: 64CCCD | I36: =_Loc -> 2 | J36: =_Loc -> TH | L36: 42356 | M36: =_Ngay -> (Thứ 6) | N36: SA | O36: 75 | Z36: =_Ngaycham -> 42356 | AA36: =_Nopdiem -> 42358
A37: =_Ngay_gio -> 90.270833 | B37: =_Gio -> 6:30 | C37: CC3KT26-CCK64 | D37: =_stt -> 28 | E37: CCK64 | F37: CC3KT26 | G37: =_Loc -> Kế toán quản trị | H37: 64CCKT | I37: =_Loc -> 3 | J37: =_Loc -> Viết | K37: =_Loc -> 90 | L37: 42332 | M37: =_Ngay -> (Thứ 3) | N37: 1 | O37: 15 | P37: 15 | Z37: =_Ngaycham -> 42333 | AA37: =_Nopdiem -> 42339
A38: =_Ngay_gio -> 75.270833 | B38: =_Gio -> 6:30 | C38: CC3KT27-CCK64 | D38: =_stt -> 29 | E38: CCK64 | F38: CC3KT27 | G38: =_Loc -> Kế toán thuế | H38: 64CCKT | I38: =_Loc -> 2 | J38: =_Loc -> Viết | K38: =_Loc -> 75 | L38: 42335 | M38: =_Ngay -> (Thứ 6) | N38: 1 | O38: 15 | P38: 15 | Z38: =_Ngaycham -> 42338 | AA38: =_Nopdiem -> 42342
A39: =_Ngay_gio -> 90.270833 | B39: =_Gio -> 6:30 | C39: CC2KV81-CCK64 | D39: =_stt -> 30 | E39: CCK64 | F39: CC2KV81 | G39: =_Loc -> Kiểm toán căn bản | H39: 64CCKT | I39: =_Loc -> 3 | J39: =_Loc -> Viết | K39: =_Loc -> 90 | L39: 42338 | M39: =_Ngay -> (Thứ 2) | N39: 1 | O39: 15 | P39: 15 | Z39: =_Ngaycham -> 42339 | AA39: =_Nopdiem -> 42345
A40: =_Ngay_gio -> 0.27083333 | B40: =_Gio -> 6:30 | C40: CC3KT60-CCK64 | D40: =_stt -> 31 | E40: CCK64 | F40: CC3KT60 | G40: =_Loc -> Tin học kế toán | H40: 64CCKT | I40: =_Loc -> 2 | J40: =_Loc -> VĐ | K40: =_Loc -> 0 | L40: 42342 | M40: =_Ngay -> (Thứ 6) | O40: 15 | Z40: =_Ngaycham -> 42342 | AA40: =_Nopdiem -> 42344
A41: =_Ngay_gio -> 0.27083333 | B41: =_Gio -> 6:30 | C41: CC3KT27-CCK64 | D41: =_stt -> 32 | E41: CCK64 | F41: CC3KV32 | G41: =_Loc -> Phân tích hoạt động kinh doanh | H41: 64CCKT | I41: =_Loc -> 3 | J41: =_Loc -> 0 | K41: =_Loc -> 0 | L41: 42348 | M41: =_Ngay -> (Thứ 5) | N41: 1 | O41: 15 | P41: 15 | Z41: =_Ngaycham -> 42349 | AA41: =_Nopdiem -> 42355
D42: =_stt -> 33 | E42: CCK64 | F42: CC4KT22 | G42: =_Loc -> Thực hành nghiệp vụ kế toán 2 | H42: 64CCKT | I42: =_Loc -> 4 | J42: =_Loc -> TH | K42: =_Loc -> 0 | L42: 42353 | M42: =_Ngay -> (Thứ 3) | O42: 15 | Z42: =_Ngaycham -> 42353 | AA42: =_Nopdiem -> 42355
A43: =_Ngay_gio -> 90.270833 | B43: =_Gio -> 6:30 | C43: CC3CK21-CCK64 | D43: =_stt -> 34 | E43: =_LocHe -> CCK64 | F43: =_LocMaHP -> CC3CK21 | G43: =_Loc -> Nhiên liệu và vật liệu bôi trơn | H43: 64CCOT | I43: =_Loc -> 2 | J43: =_Loc -> Viết | K43: =_Loc -> 90 | L43: 42332 | M43: =_Ngay -> (Thứ 3) | N43: 1 | O43: 26 | P43: =_SV_P -> 30 | Q43: =_sophong -> 1 | Y43: =SUM(R43:X43) -> 0 | Z43: =_Ngaycham -> 42333 | AA43: =_Nopdiem -> 42339 | AC43: =_Ngay | AG43: =_Loc -> KCK | AH43: =_Loc -> KCK | AI43: =Y43-2*Q43 -> -2 | AJ43: =+O43/P43 -> 0.86666667 | AL43: =_Loc -> 0 | AM43: =_Loc -> 0 | AN43: =_Loc -> 0 | AO43: =_Loc -> 0 | AP43: =_Loc -> 0 | AQ43: =_Loc -> 0 | AR43: =_Loc -> 0 | AS43: =_Loc -> o | ... BD43: =_Loc -> 0
A44: =_Ngay_gio -> 90.270833 | B44: =_Gio -> 6:30 | C44: CC3OT51-CCK64 | D44: =_stt -> 35 | E44: =_LocHe -> CCK64 | F44: =_LocMaHP -> CC3OT51 | G44: =_Loc -> Chẩn đoán và kiểm định kỹ thuật ô tô | H44: 64CCOT | I44: =_Loc -> 3 | J44: =_Loc -> Viết | K44: =_Loc -> 90 | L44: 42335 | M44: =_Ngay -> (Thứ 6) | N44: 1 | O44: 26 | P44: =_SV_P -> 30 | Q44: =_sophong -> 1 | Y44: =SUM(R44:X44) -> 0 | Z44: =_Ngaycham -> 42338 | AA44: =_Nopdiem -> 42342 | AC44: =_Ngay | AG44: =_Loc -> CKOT | AH44: =_Loc -> KCK | AI44: =Y44-2*Q44 -> -2 | AJ44: =+O44/P44 -> 0.86666667 | AL44: =_Loc -> 0 | AM44: =_Loc -> 0 | AN44: =_Loc -> 0 | AO44: =_Loc -> 0 | AP44: =_Loc -> 0 | AQ44: =_Loc -> 0 | AR44: =_Loc -> 0 | AS44: =_Loc -> x | ... BD44: =_Loc -> 0
A45: =_Ngay_gio -> 0.27083333 | B45: =_Gio -> 6:30 | C45: CC3OT52-CCK64 | D45: =_stt -> 36 | E45: =_LocHe -> CCK64 | F45: =_LocMaHP -> CC3OT52 | G45: =_Loc -> Công nghệ bảo dưỡng, sửa chữa ô tô | H45: 64CCOT | I45: =_Loc -> 3 | J45: =_Loc -> Viết | K45: =_Loc -> 0 | L45: 42338 | M45: =_Ngay -> (Thứ 2) | N45: 1 | O45: 26 | P45: =_SV_P -> 30 | Q45: =_sophong -> 1 | Y45: =SUM(R45:X45) -> 0 | Z45: =_Ngaycham -> 42339 | AA45: =_Nopdiem -> 42345 | AC45: =_Ngay | AG45: =_Loc -> CKOT | AH45: =_Loc -> KCK | AI45: =Y45-2*Q45 -> -2 | AJ45: =+O45/P45 -> 0.86666667 | AL45: =_Loc -> 0 | AM45: =_Loc -> 0 | AN45: =_Loc -> 0 | AO45: =_Loc -> 0 | AP45: =_Loc -> 0 | AQ45: =_Loc -> 0 | AR45: =_Loc -> 0 | AS45: =_Loc -> 0 | ... BW45: =_Loc -> 0
A46: =_Ngay_gio -> 60.270833 | B46: =_Gio -> 6:30 | C46: CC3OT53-CCK64 | D46: =_stt -> 37 | E46: =_LocHe -> CCK64 | F46: =_LocMaHP -> CC3OT53 | G46: =_Loc -> Công nghệ lắp ráp ô tô | H46: 64CCOT | I46: =_Loc -> 2 | J46: =_Loc -> Viết | K46: =_Loc -> 60 | L46: 42341 | M46: =_Ngay -> (Thứ 5) | N46: 1 | O46: 26 | P46: =_SV_P -> 30 | Q46: =_sophong -> 1 | Y46: =SUM(R46:X46) -> 0 | Z46: =_Ngaycham -> 42342 | AA46: =_Nopdiem -> 42348 | AC46: =_Ngay | AG46: =_Loc -> CKOT | AH46: =_Loc -> KCK | AI46: =Y46-2*Q46 -> -2 | AJ46: =+O46/P46 -> 0.86666667 | AL46: =_Loc -> 0 | AM46: =_Loc -> 0 | AN46: =_Loc -> 0 | AO46: =_Loc -> 0 | AP46: =_Loc -> 0 | AQ46: =_Loc -> 0 | AR46: =_Loc -> 0 | AS46: =_Loc -> x | ... BD46: =_Loc -> 0
A47: =_Ngay_gio -> 60.270833 | B47: =_Gio -> 6:30 | C47: CC3OT36-CCK64 | D47: =_stt -> 38 | E47: =_LocHe -> CCK64 | F47: =_LocMaHP -> CC3OT36 | G47: =_Loc -> Hệ thống điều hòa và thiết bị tiện nghi trên ô tô | H47: 64CCOT | I47: =_Loc -> 2 | J47: =_Loc -> Viết | K47: =_Loc -> 60 | L47: 42348 | M47: =_Ngay -> (Thứ 5) | N47: 1 | O47: 26 | P47: =_SV_P -> 30 | Q47: =_sophong -> 1 | Y47: =SUM(R47:X47) -> 0 | Z47: =_Ngaycham -> 42349 | AA47: =_Nopdiem -> 42355 | AC47: =_Ngay | AG47: =_Loc -> CKOT | AH47: =_Loc -> KCK | AI47: =Y47-2*Q47 -> -2 | AJ47: =+O47/P47 -> 0.86666667 | AL47: =_Loc -> 0 | AM47: =_Loc -> 0 | AN47: =_Loc -> 0 | AO47: =_Loc -> 0 | AP47: =_Loc -> 0 | AQ47: =_Loc -> 0 | AR47: =_Loc -> 0 | AS47: =_Loc -> o | ... BD47: =_Loc -> 0
D48: =_stt -> 39 | E48: CCK64 | F48: CC4OT21 | G48: =_Loc -> Thực tập Cấu tạo ô tô 1 | H48: 64CCOT | I48: =_Loc -> 3 | J48: =_Loc -> TH | K48: =_Loc -> 0 | L48: 42352 | M48: =_Ngay -> (Thứ 2) | O48: 26 | Z48: =_Ngaycham -> 42352 | AA48: =_Nopdiem -> 42354
D49: =_stt -> 40 | E49: CCK64 | F49: CC4OT22 | G49: =_Loc -> Thực tập Cấu tạo ô tô 2 | H49: 64CCOT | I49: =_Loc -> 3 | J49: =_Loc -> TH | K49: =_Loc -> 0 | L49: 42356 | M49: =_Ngay -> (Thứ 6) | O49: 26 | Z49: =_Ngaycham -> 42356 | AA49: =_Nopdiem -> 42358
A50: =_Ngay_gio -> 90.270833 | B50: =_Gio -> 6:30 | C50: DC1LL04-DCK64 | D50: =_stt -> 41 | E50: =_LocHe -> DCK64 | F50: =_LocMaHP -> DC1LL04 | G50: =_Loc -> Đường lối cách mạng của Đảng cộng sản Việt Nam | H50: 64DCCD, OT,KT | I50: =_Loc -> 3 | J50: =_Loc -> Viết | K50: =_Loc -> 90 | L50: 42332 | M50: =_Ngay -> (Thứ 3) | N50: 3 | O50: 280 | P50: =_SV_P -> 30 | Q50: =_sophong -> 10 | Y50: =SUM(R50:X50) -> 0 | Z50: =_Ngaycham -> 42333 | AA50: =_Nopdiem -> 42339 | AC50: =_Ngay | AG50: =_Loc -> LLDL | AH50: =_Loc -> LLCT | AI50: =Y50-2*Q50 -> -20 | AJ50: =+O50/P50 -> 9.3333333 | AL50: =_Loc -> x | AM50: =_Loc -> x | AN50: =_Loc -> x | AO50: =_Loc -> x | AP50: =_Loc -> x | AQ50: =_Loc -> x | AR50: =_Loc -> x | AS50: =_Loc -> x | ... BD50: =_Loc -> x
A51: =_Ngay_gio -> 90.270833 | B51: =_Gio -> 6:30 | C51: DC2GT52-DCK64 | D51: =_stt -> 42 | E51: =_LocHe -> DCK64 | F51: =_LocMaHP -> DC2GT52 | G51: =_Loc -> Kết cấu bêtông cốt thép | H51: 64DCCD | I51: =_Loc -> 3 | J51: =_Loc -> Viết | K51: =_Loc -> 90 | L51: 42335 | M51: =_Ngay -> (Thứ 6) | N51: 3 | O51: 180 | P51: =_SV_P -> 30 | Q51: =_sophong -> 6 | Y51: =SUM(R51:X51) -> 0 | Z51: =_Ngaycham -> 42338 | AA51: =_Nopdiem -> 42342 | AC51: =_Ngay | AG51: =_Loc -> CTKC | AH51: =_Loc -> KCT | AI51: =Y51-2*Q51 -> -12 | AJ51: =+O51/P51 -> 6 | AL51: =_Loc -> x | AM51: =_Loc -> x | AN51: =_Loc -> x | AO51: =_Loc -> x | AP51: =_Loc -> x | AQ51: =_Loc -> 0 | AR51: =_Loc -> x | AS51: =_Loc -> 0 | ... BD51: =_Loc -> 0
A52: =_Ngay_gio -> 75.270833 | B52: =_Gio -> 6:30 | C52: DC2GT51-DCK64 | D52: =_stt -> 43 | E52: =_LocHe -> DCK64 | F52: =_LocMaHP -> DC2GT51 | G52: =_Loc -> Kết cấu thép | H52: 64DCCD | I52: =_Loc -> 2 | J52: =_Loc -> Viết | K52: =_Loc -> 75 | L52: 42339 | M52: =_Ngay -> (Thứ 3) | N52: 3 | O52: 180 | P52: =_SV_P -> 30 | Q52: =_sophong -> 6 | Y52: =SUM(R52:X52) -> 0 | Z52: =_Ngaycham -> 42340 | AA52: =_Nopdiem -> 42346 | AC52: =_Ngay | AG52: =_Loc -> CTKC | AH52: =_Loc -> KCT | AI52: =Y52-2*Q52 -> -12 | AJ52: =+O52/P52 -> 6 | AL52: =_Loc -> x | AM52: =_Loc -> x | AN52: =_Loc -> x | AO52: =_Loc -> x | AP52: =_Loc -> x | AQ52: =_Loc -> 0 | AR52: =_Loc -> x | AS52: =_Loc -> 0 | ... BW52: =_Loc -> 0
A53: =_Ngay_gio -> 90.270833 | B53: =_Gio -> 6:30 | C53: DC2CT65-DCK64 | D53: =_stt -> 44 | E53: =_LocHe -> DCK64 | F53: =_LocMaHP -> DC2CT65 | G53: =_Loc -> An toàn lao động | H53: 64DCCD | I53: =_Loc -> 2 | J53: =_Loc -> Viết | K53: =_Loc -> 90 | L53: 42342 | M53: =_Ngay -> (Thứ 6) | N53: 3 | O53: 180 | P53: =_SV_P -> 30 | Q53: =_sophong -> 6 | Y53: =SUM(R53:X53) -> 0 | Z53: =_Ngaycham -> 42345 | AA53: =_Nopdiem -> 42349 | AC53: =_Ngay | AG53: =_Loc -> CTKS | AH53: =_Loc -> KCT | AI53: =Y53-2*Q53 -> -12 | AJ53: =+O53/P53 -> 6 | AL53: =_Loc -> o | AM53: =_Loc -> o | AN53: =_Loc -> o | AO53: =_Loc -> o | AP53: =_Loc -> o | AQ53: =_Loc -> x | AR53: =_Loc -> o | AS53: =_Loc -> 0 | ... BW53: =_Loc -> 0
A54: =_Ngay_gio -> 0.27083333 | B54: =_Gio -> 6:30 | C54: DC2GT54-DCK64 | D54: =_stt -> 45 | E54: =_LocHe -> DCK64 | F54: =_LocMaHP -> DC2GT54 | G54: =_Loc -> Đồ án Kết cấu bêtông cốt thép | H54: 64DCCD | I54: =_Loc -> 1 | J54: =_Loc -> VĐ | K54: =_Loc -> 0 | L54: 42344 | M54: =_Ngay -> (Cnhật) | N54: SA | O54: 180 | P54: =_SV_P | Q54: =_sophong | Y54: =SUM(R54:X54) -> 0 | Z54: =_Ngaycham -> 42344 | AA54: =_Nopdiem -> 42346 | AC54: =_Ngay | AG54: =_Loc -> CTKC | AH54: =_Loc -> KCT | AI54: =Y54-2*Q54 -> #VALUE! | AJ54: =+O54/P54 -> #VALUE! | AL54: =_Loc -> x | AM54: =_Loc -> x | AN54: =_Loc -> x | AO54: =_Loc -> x | AP54: =_Loc -> x | AQ54: =_Loc -> 0 | AR54: =_Loc -> x | AS54: =_Loc -> 0 | ... BD54: =_Loc -> 0
A55: =_Ngay_gio -> 0.27083333 | B55: =_Gio -> 6:30 | C55: DC2GT33-DCK64 | D55: =_stt -> 46 | E55: =_LocHe -> DCK64 | F55: =_LocMaHP -> DC2GT33 | G55: =_Loc -> Nền và móng | H55: 64DCCD | I55: =_Loc -> 3 | J55: =_Loc -> 0 | K55: =_Loc -> 0 | L55: 42348 | M55: =_Ngay -> (Thứ 5) | N55: 3 | O55: 180 | P55: =_SV_P -> 30 | Q55: =_sophong -> 6 | Y55: =SUM(R55:X55) -> 0 | Z55: =_Ngaycham -> 42349 | AA55: =_Nopdiem -> 42355 | AC55: =_Ngay | AG55: =_Loc -> CTDK | AH55: =_Loc -> KCT | AI55: =Y55-2*Q55 -> -12 | AJ55: =+O55/P55 -> 6 | AL55: =_Loc -> x | AM55: =_Loc -> x | AN55: =_Loc -> x | AO55: =_Loc -> x | AP55: =_Loc -> x | AQ55: =_Loc -> 0 | AR55: =_Loc -> x | AS55: =_Loc -> 0 | ... BW55: =_Loc -> 0
A56: =_Ngay_gio -> 0.27083333 | B56: =_Gio -> 6:30 | C56: DC2GT34-DCK64 | D56: =_stt -> 47 | E56: =_LocHe -> DCK64 | F56: =_LocMaHP -> DC2GT34 | G56: =_Loc -> Đồ án Nền và móng | H56: 64DCCD | I56: =_Loc -> 1 | J56: =_Loc -> VĐ | K56: =_Loc -> 0 | L56: 42351 | M56: =_Ngay -> (Cnhật) | N56: CH | O56: 180 | P56: =_SV_P | Q56: =_sophong | Y56: =SUM(R56:X56) -> 0 | Z56: =_Ngaycham -> 42351 | AA56: =_Nopdiem -> 42353 | AC56: =_Ngay | AG56: =_Loc -> CTDK | AH56: =_Loc -> KCT | AI56: =Y56-2*Q56 -> #VALUE! | AJ56: =+O56/P56 -> #VALUE! | AL56: =_Loc -> x | AM56: =_Loc -> x | AN56: =_Loc -> x | AO56: =_Loc -> x | AP56: =_Loc -> x | AQ56: =_Loc -> 0 | AR56: =_Loc -> x | AS56: =_Loc -> 0 | ... BD56: =_Loc -> 0
A57: =_Ngay_gio -> 90.270833 | B57: =_Gio -> 6:30 | C57: DC2GT61-DCK64 | D57: =_stt -> 48 | E57: =_LocHe -> DCK64 | F57: =_LocMaHP -> DC2GT61 | G57: =_Loc -> Thủy lực - Thủy văn công trình | H57: 64DCCD | I57: =_Loc -> 4 | J57: =_Loc -> Viết | K57: =_Loc -> 90 | L57: 42356 | M57: =_Ngay -> (Thứ 6) | N57: 3 | O57: 180 | P57: =_SV_P -> 30 | Q57: =_sophong -> 6 | Y57: =SUM(R57:X57) -> 0 | Z57: =_Ngaycham -> 42359 | AA57: =_Nopdiem -> 42363 | AC57: =_Ngay | AG57: =_Loc -> CTMO | AH57: =_Loc -> KCT | AI57: =Y57-2*Q57 -> -12 | AJ57: =+O57/P57 -> 6 | AL57: =_Loc -> x | AM57: =_Loc -> 0 | AN57: =_Loc -> x | AO57: =_Loc -> x | AP57: =_Loc -> x | AQ57: =_Loc -> 0 | AR57: =_Loc -> x | AS57: =_Loc -> 0 | ... BW57: =_Loc -> 0
A58: =_Ngay_gio -> 90.270833 | B58: =_Gio -> 6:30 | C58: DC1LL03-DCK64 | D58: =_stt -> 49 | E58: =_LocHe -> DCK64 | F58: =_LocMaHP -> DC1LL03 | G58: =_Loc -> Tư tưởng Hồ Chí Minh | H58: 64DCDD | I58: =_Loc -> 2 | J58: =_Loc -> Viết | K58: =_Loc -> 90 | L58: 42333 | M58: =_Ngay -> (Thứ 4) | N58: 3 | O58: 58 | P58: =_SV_P -> 30 | Q58: =_sophong -> 2 | Y58: =SUM(R58:X58) -> 0 | Z58: =_Ngaycham -> 42334 | AA58: =_Nopdiem -> 42340 | AC58: =_Ngay | AG58: =_Loc -> LLTT | AH58: =_Loc -> LLCT | AI58: =Y58-2*Q58 -> -4 | AJ58: =+O58/P58 -> 1.9333333 | AL58: =_Loc -> x | AM58: =_Loc -> x | AN58: =_Loc -> x | AO58: =_Loc -> x | AP58: =_Loc -> x | AQ58: =_Loc -> x | AR58: =_Loc -> x | AS58: =_Loc -> x | ... BW58: =_Loc -> 0
D59: =_stt -> 50 | E59: DCK64 | F59: DC3DD46 | G59: =_Loc -> Cấp thoát nước | H59: 64DCDD | I59: =_Loc -> 2 | J59: =_Loc -> Viết | K59: =_Loc -> 90 | L59: 42332 | M59: =_Ngay -> (Thứ 3) | N59: 2 | O59: 58 | Z59: =_Ngaycham -> 42333 | AA59: =_Nopdiem -> 42339
A60: =_Ngay_gio -> 75.270833 | B60: =_Gio -> 6:30 | C60: DC2DD51-DCK64 | D60: =_stt -> 51 | E60: =_LocHe -> DCK64 | F60: =_LocMaHP -> DC2DD51 | G60: =_Loc -> Kết cấu thép | H60: 64DCDD | I60: =_Loc -> 2 | J60: =_Loc -> Viết | K60: =_Loc -> 75 | L60: 42338 | M60: =_Ngay -> (Thứ 2) | N60: 3 | O60: 58 | P60: =_SV_P -> 30 | Q60: =_sophong -> 2 | Y60: =SUM(R60:X60) -> 0 | Z60: =_Ngaycham -> 42339 | AA60: =_Nopdiem -> 42345 | AC60: =_Ngay | AG60: =_Loc -> CTKC | AH60: =_Loc -> KCT | AI60: =Y60-2*Q60 -> -4 | AJ60: =+O60/P60 -> 1.9333333 | AL60: =_Loc -> 0 | AM60: =_Loc -> 0 | AN60: =_Loc -> 0 | AO60: =_Loc -> 0 | AP60: =_Loc -> 0 | AQ60: =_Loc -> x | AR60: =_Loc -> 0 | AS60: =_Loc -> 0 | ... BW60: =_Loc -> 0
A61: =_Ngay_gio -> 90.270833 | B61: =_Gio -> 6:30 | C61: DC2DD52-DCK64 | D61: =_stt -> 52 | E61: =_LocHe -> DCK64 | F61: =_LocMaHP -> DC2DD52 | G61: =_Loc -> Kết cấu bêtông cốt thép | H61: 64DCDD | I61: =_Loc -> 3 | J61: =_Loc -> Viết | K61: =_Loc -> 90 | L61: 42341 | M61: =_Ngay -> (Thứ 5) | N61: 3 | O61: 58 | P61: =_SV_P -> 30 | Q61: =_sophong -> 2 | Y61: =SUM(R61:X61) -> 0 | Z61: =_Ngaycham -> 42342 | AA61: =_Nopdiem -> 42348 | AC61: =_Ngay | AG61: =_Loc -> CTKC | AH61: =_Loc -> KCT | AI61: =Y61-2*Q61 -> -4 | AJ61: =+O61/P61 -> 1.9333333 | AL61: =_Loc -> 0 | AM61: =_Loc -> 0 | AN61: =_Loc -> 0 | AO61: =_Loc -> 0 | AP61: =_Loc -> 0 | AQ61: =_Loc -> x | AR61: =_Loc -> 0 | AS61: =_Loc -> 0 | ... BD61: =_Loc -> 0
A62: =_Ngay_gio -> 90.270833 | B62: =_Gio -> 6:30 | C62: DC3DD41-DCK64 | D62: =_stt -> 53 | E62: DCK64 | F62: DC3DD41 | G62: Kiến trúc dân dụng và công nghiệp | H62: 64DCDD | I62: =_Loc -> 4 | J62: =_Loc -> Viết | K62: =_Loc -> 90 | L62: 42346 | M62: =_Ngay -> (Thứ 3) | N62: 2 | O62: 58 | Z62: =_Ngaycham -> 42347 | AA62: =_Nopdiem -> 42353
A63: =_Ngay_gio -> 60.270833 | B63: =_Gio -> 6:30 | C63: DC2DD53-DCK64 | D63: =_stt -> 54 | E63: DCK64 | F63: DC2DD53 | G63: Kết cấu gạch, đá và gỗ | H63: 64DCDD | I63: =_Loc -> 2 | J63: =_Loc -> Viết | K63: =_Loc -> 60 | L63: 42349 | M63: =_Ngay -> (Thứ 6) | N63: 2 | O63: 58 | Z63: =_Ngaycham -> 42352 | AA63: =_Nopdiem -> 42356
A64: =_Ngay_gio -> 0.27083333 | B64: =_Gio -> 6:30 | C64: DC2DD54-DCK64 | D64: =_stt -> 55 | E64: =_LocHe -> DCK64 | F64: =_LocMaHP -> DC2DD54 | G64: =_Loc -> Đồ án Kết cấu bêtông cốt thép | H64: 64DCDD | I64: =_Loc -> 1 | J64: =_Loc -> VĐ | K64: =_Loc -> 0 | L64: 42355 | M64: =_Ngay -> (Thứ 5) | N64: SA | O64: 58 | P64: =_SV_P | Q64: =_sophong | Y64: =SUM(R64:X64) -> 0 | Z64: =_Ngaycham -> 42355 | AA64: =_Nopdiem -> 42357 | AC64: =_Ngay | AG64: =_Loc -> CTKC | AH64: =_Loc -> KCT | AI64: =Y64-2*Q64 -> #VALUE! | AJ64: =+O64/P64 -> #VALUE! | AL64: =_Loc -> 0 | AM64: =_Loc -> 0 | AN64: =_Loc -> 0 | AO64: =_Loc -> 0 | AP64: =_Loc -> 0 | AQ64: =_Loc -> x | AR64: =_Loc -> 0 | AS64: =_Loc -> 0 | ... BD64: =_Loc -> 0
D65: =_stt -> 56 | E65: DCK64 | F65: DC3DD42 | G65: =_Loc -> Đồ án Kiến trúc dân dụng và công nghiệp | H65: 64DCDD | I65: =_Loc -> 2 | J65: =_Loc -> VĐ | K65: =_Loc -> 0 | L65: 42358 | M65: =_Ngay -> (Cnhật) | N65: SA | O65: 58 | Z65: =_Ngaycham -> 42358 | AA65: =_Nopdiem -> 42360
A66: =_Ngay_gio -> 0.27083333 | B66: =_Gio -> 6:30 | C66: DC3QT64-DCK64 | D66: =_stt -> 57 | E66: =_LocHe -> DCK64 | F66: =_LocMaHP -> DC3QT64 | G66: =_Loc -> Quản trị tài chính doanh nghiệp | H66: 64DCKT | I66: =_Loc -> 3 | J66: =_Loc -> 0 | K66: =_Loc -> 0 | L66: 42335 | M66: =_Ngay -> (Thứ 6) | N66: 3 | O66: 110 | P66: =_SV_P -> 30 | Q66: =_sophong -> 4 | Y66: =SUM(R66:X66) -> 0 | Z66: =_Ngaycham -> 42338 | AA66: =_Nopdiem -> 42342 | AC66: =_Ngay | AG66: =_Loc -> KVQT | AH66: =_Loc -> KTVT | AI66: =Y66-2*Q66 -> -8 | AJ66: =+O66/P66 -> 3.6666667 | AL66: =_Loc -> 0 | AM66: =_Loc -> 0 | AN66: =_Loc -> 0 | AO66: =_Loc -> 0 | AP66: =_Loc -> 0 | AQ66: =_Loc -> 0 | AR66: =_Loc -> 0 | AS66: =_Loc -> 0 | ... BD66: =_Loc -> 0
A67: =_Ngay_gio -> 90.270833 | B67: =_Gio -> 6:30 | C67: DC3KT26-DCK64 | D67: =_stt -> 58 | E67: =_LocHe -> DCK64 | F67: =_LocMaHP -> DC3KT26 | G67: =_Loc -> Kế toán quản trị | H67: 64DCKT | I67: =_Loc -> 3 | J67: =_Loc -> Viết | K67: =_Loc -> 90 | L67: 42340 | M67: =_Ngay -> (Thứ 4) | N67: 3 | O67: 110 | P67: =_SV_P -> 30 | Q67: =_sophong -> 4 | Y67: =SUM(R67:X67) -> 0 | Z67: =_Ngaycham -> 42341 | AA67: =_Nopdiem -> 42347 | AC67: =_Ngay | AG67: =_Loc -> KVKK | AH67: =_Loc -> KTVT | AI67: =Y67-2*Q67 -> -8 | AJ67: =+O67/P67 -> 3.6666667 | AL67: =_Loc -> 0 | AM67: =_Loc -> 0 | AN67: =_Loc -> 0 | AO67: =_Loc -> 0 | AP67: =_Loc -> 0 | AQ67: =_Loc -> 0 | AR67: =_Loc -> 0 | AS67: =_Loc -> 0 | ... BW67: =_Loc -> 0
A68: =_Ngay_gio -> 90.270833 | B68: =_Gio -> 6:30 | C68: DC3KV49-DCK64 | D68: =_stt -> 59 | E68: =_LocHe -> DCK64 | F68: =_LocMaHP -> DC3KV49 | G68: =_Loc -> Thuế | H68: 64DCKT | I68: =_Loc -> 2 | J68: =_Loc -> Viết | K68: =_Loc -> 90 | L68: 42342 | M68: =_Ngay -> (Thứ 6) | N68: 3 | O68: 110 | P68: =_SV_P -> 30 | Q68: =_sophong -> 4 | Y68: =SUM(R68:X68) -> 0 | Z68: =_Ngaycham -> 42345 | AA68: =_Nopdiem -> 42349 | AC68: =_Ngay | AG68: =_Loc -> KVTN | AH68: =_Loc -> KTVT | AI68: =Y68-2*Q68 -> -8 | AJ68: =+O68/P68 -> 3.6666667 | AL68: =_Loc -> 0 | AM68: =_Loc -> 0 | AN68: =_Loc -> 0 | AO68: =_Loc -> 0 | AP68: =_Loc -> 0 | AQ68: =_Loc -> 0 | AR68: =_Loc -> 0 | AS68: =_Loc -> 0 | ... BD68: =_Loc -> 0
A69: =_Ngay_gio -> 0.27083333 | B69: =_Gio -> 6:30 | C69: DC2KV90-DCK64 | D69: =_stt -> 60 | E69: =_LocHe -> DCK64 | F69: =_LocMaHP -> DC2KV90 | G69: =_Loc -> Thương mại điện tử | H69: 64DCKT | I69: =_Loc -> 2 | J69: =_Loc -> Viết | K69: =_Loc -> 0 | L69: 42345 | M69: =_Ngay -> (Thứ 2) | N69: 3 | O69: 110 | P69: =_SV_P -> 30 | Q69: =_sophong -> 4 | Y69: =SUM(R69:X69) -> 0 | Z69: =_Ngaycham -> 42346 | AA69: =_Nopdiem -> 42352 | AC69: =_Ngay | AG69: =_Loc -> KVQT | AH69: =_Loc -> KTVT | AI69: =Y69-2*Q69 -> -8 | AJ69: =+O69/P69 -> 3.6666667 | AL69: =_Loc -> 0 | AM69: =_Loc -> 0 | AN69: =_Loc -> 0 | AO69: =_Loc -> 0 | AP69: =_Loc -> 0 | AQ69: =_Loc -> 0 | AR69: =_Loc -> 0 | AS69: =_Loc -> 0 | ... BD69: =_Loc -> x
A70: =_Ngay_gio -> 0.27083333 | B70: =_Gio -> 6:30 | C70: DC2KV77-DCK64 | D70: =_stt -> 61 | E70: =_LocHe -> DCK64 | F70: =_LocMaHP -> DC2KV77 | G70: =_Loc -> Pháp luật kinh tế | H70: 64DCKT | I70: =_Loc -> 3 | J70: =_Loc -> 0 | K70: =_Loc -> 0 | L70: 42348 | M70: =_Ngay -> (Thứ 5) | N70: 3 | O70: 110 | P70: =_SV_P -> 30 | Q70: =_sophong -> 4 | Y70: =SUM(R70:X70) -> 0 | Z70: =_Ngaycham -> 42349 | AA70: =_Nopdiem -> 42355 | AC70: =_Ngay | AG70: =_Loc -> KVCS | AH70: =_Loc -> KTVT | AI70: =Y70-2*Q70 -> -8 | AJ70: =+O70/P70 -> 3.6666667 | AL70: =_Loc -> 0 | AM70: =_Loc -> 0 | AN70: =_Loc -> 0 | AO70: =_Loc -> 0 | AP70: =_Loc -> 0 | AQ70: =_Loc -> 0 | AR70: =_Loc -> 0 | AS70: =_Loc -> 0 | ... BD70: =_Loc -> 0
A71: =_Ngay_gio -> 60.270833 | B71: =_Gio -> 6:30 | C71: DC3KT33-DCK64 | D71: =_stt -> 62 | E71: =_LocHe -> DCK64 | F71: =_LocMaHP -> DC3KT33 | G71: =_Loc -> Tiếng Anh 3 | H71: 64DCKT | I71: =_Loc -> 3 | J71: =_Loc -> Viết | K71: =_Loc -> 60 | L71: 42352 | M71: =_Ngay -> (Thứ 2) | N71: 2 | O71: 110 | P71: =_SV_P -> 30 | Q71: =_sophong -> 4 | Y71: =SUM(R71:X71) -> 0 | Z71: =_Ngaycham -> 42353 | AA71: =_Nopdiem -> 42359 | AC71: =_Ngay | AG71: =_Loc -> CBNN | AH71: =_Loc -> KHCB | AI71: =Y71-2*Q71 -> -8 | AJ71: =+O71/P71 -> 3.6666667 | AL71: =_Loc -> 0 | AM71: =_Loc -> 0 | AN71: =_Loc -> 0 | AO71: =_Loc -> 0 | AP71: =_Loc -> 0 | AQ71: =_Loc -> 0 | AR71: =_Loc -> 0 | AS71: =_Loc -> 0 | ... BW71: =_Loc -> 0
A72: =_Ngay_gio -> 90.270833 | B72: =_Gio -> 6:30 | C72: DC2CK57-DCK64 | D72: =_stt -> 63 | E72: =_LocHe -> DCK64 | F72: =_LocMaHP -> DC2CK57 | G72: =_Loc -> Chi tiết máy 2 | H72: 64DCOT | I72: =_Loc -> 2 | J72: =_Loc -> Viết | K72: =_Loc -> 90 | L72: 42334 | M72: =_Ngay -> (Thứ 5) | N72: 1 | O72: 84 | P72: =_SV_P -> 30 | Q72: =_sophong -> 3 | Y72: =SUM(R72:X72) -> 0 | Z72: =_Ngaycham -> 42335 | AA72: =_Nopdiem -> 42341 | AC72: =_Ngay | AG72: =_Loc -> KCK | AH72: =_Loc -> KCK | AI72: =Y72-2*Q72 -> -6 | AJ72: =+O72/P72 -> 2.8 | AL72: =_Loc -> 0 | AM72: =_Loc -> 0 | AN72: =_Loc -> 0 | AO72: =_Loc -> 0 | AP72: =_Loc -> 0 | AQ72: =_Loc -> 0 | AR72: =_Loc -> 0 | AS72: =_Loc -> x | ... BW72: =_Loc -> 0
A73: =_Ngay_gio -> 90.270833 | B73: =_Gio -> 6:30 | C73: DC2CK41-DCK64 | D73: =_stt -> 64 | E73: DCK64 | F73: DC2CK41 | G73: =_Loc -> Kỹ thuật điện - Điện tử | H73: 64DCOT | I73: =_Loc -> 4 | J73: =_Loc -> Viết | K73: =_Loc -> 90 | L73: 42338 | M73: =_Ngay -> (Thứ 2) | N73: 2 | O73: 84 | Z73: =_Ngaycham -> 42339 | AA73: =_Nopdiem -> 42345
A74: =_Ngay_gio -> 90.270833 | B74: =_Gio -> 6:30 | C74: DC2CK48-DCK64 | D74: =_stt -> 65 | E74: =_LocHe -> DCK64 | F74: =_LocMaHP -> DC2CK48 | G74: =_Loc -> Nhiệt kỹ thuật | H74: 64DCOT | I74: =_Loc -> 3 | J74: =_Loc -> Viết | K74: =_Loc -> 90 | L74: 42339 | M74: =_Ngay -> (Thứ 3) | N74: 2 | O74: 84 | P74: =_SV_P -> 30 | Q74: =_sophong -> 3 | Y74: =SUM(R74:X74) -> 0 | Z74: =_Ngaycham -> 42340 | AA74: =_Nopdiem -> 42346 | AC74: =_Ngay | AG74: =_Loc -> KCK | AH74: =_Loc -> KCK | AI74: =Y74-2*Q74 -> -6 | AJ74: =+O74/P74 -> 2.8 | AL74: =_Loc -> 0 | AM74: =_Loc -> 0 | AN74: =_Loc -> 0 | AO74: =_Loc -> 0 | AP74: =_Loc -> 0 | AQ74: =_Loc -> 0 | AR74: =_Loc -> 0 | AS74: =_Loc -> x | ... BD74: =_Loc -> 0
A75: =_Ngay_gio -> 0.27083333 | B75: =_Gio -> 6:30 | C75: DC2CK52-DCK64 | D75: =_stt -> 66 | E75: =_LocHe -> DCK64 | F75: =_LocMaHP -> DC2CK52 | G75: =_Loc -> Đồ án Chi tiết máy | H75: 64DCOT | I75: =_Loc -> 1 | J75: =_Loc -> VĐ | K75: =_Loc -> 0 | L75: 42352 | M75: =_Ngay -> (Thứ 2) | N75: SA | O75: 84 | P75: =_SV_P | Q75: =_sophong | Y75: =SUM(R75:X75) -> 0 | Z75: =_Ngaycham -> 42352 | AA75: =_Nopdiem -> 42354 | AC75: =_Ngay | AG75: =_Loc -> KCK | AH75: =_Loc -> KCK | AI75: =Y75-2*Q75 -> #VALUE! | AJ75: =+O75/P75 -> #VALUE! | AL75: =_Loc -> 0 | AM75: =_Loc -> 0 | AN75: =_Loc -> 0 | AO75: =_Loc -> 0 | AP75: =_Loc -> 0 | AQ75: =_Loc -> 0 | AR75: =_Loc -> 0 | AS75: =_Loc -> x | ... BW75: =_Loc -> 0
D76: =_stt -> 67 | E76: DCK64 | F76: DC4CK11 | G76: =_Loc -> Thực tập Nhập môn cơ khí | H76: 64DCOT | I76: =_Loc -> 4 | J76: =_Loc -> TH | K76: =_Loc -> 0 | L76: 42356 | M76: =_Ngay -> (Thứ 6) | N76: SA | O76: 84 | Z76: =_Ngaycham -> 42356 | AA76: =_Nopdiem -> 42358
A77: =_Ngay_gio -> 75.270833 | B77: =_Gio -> 6:30 | C77: CC2GT51-CCK65 | D77: =_stt -> 68 | E77: =_LocHe -> CCK65 | F77: =_LocMaHP -> CC2GT51 | G77: =_Loc -> Kết cấu thép | H77: 65CCCD | I77: =_Loc -> 2 | J77: =_Loc -> Viết | K77: =_Loc -> 75 | L77: 42332 | M77: =_Ngay -> (Thứ 3) | N77: 1 | O77: 37 | P77: 30 | Q77: =_sophong -> 2 | Y77: =SUM(R77:X77) -> 0 | Z77: =_Ngaycham -> 42333 | AA77: =_Nopdiem -> 42339 | AC77: =_Ngay | AG77: =_Loc -> CTKC | AH77: =_Loc -> KCT | AI77: =Y77-2*Q77 -> -4 | AJ77: =+O77/P77 -> 1.2333333 | AL77: =_Loc -> x | AM77: =_Loc -> x | AN77: =_Loc -> x | AO77: =_Loc -> x | AP77: =_Loc -> x | AQ77: =_Loc -> 0 | AR77: =_Loc -> x | AS77: =_Loc -> 0 | ... BW77: =_Loc -> 0
A78: =_Ngay_gio -> 75.270833 | B78: =_Gio -> 6:30 | C78: CC1LL03-CCK65 | D78: =_stt -> 69 | E78: =_LocHe -> CCK65 | F78: =_LocMaHP -> CC1LL03 | G78: =_Loc -> Tư tưởng Hồ Chí Minh | H78: 65CCCD | I78: =_Loc -> 2 | J78: =_Loc -> Viết | K78: =_Loc -> 75 | L78: 42335 | M78: =_Ngay -> (Thứ 6) | N78: 1 | O78: 37 | P78: 30 | Q78: =_sophong -> 2 | Y78: =SUM(R78:X78) -> 0 | Z78: =_Ngaycham -> 42338 | AA78: =_Nopdiem -> 42342 | AC78: =_Ngay | AG78: =_Loc -> LLTT | AH78: =_Loc -> LLCT | AI78: =Y78-2*Q78 -> -4 | AJ78: =+O78/P78 -> 1.2333333 | AL78: =_Loc -> 0 | AM78: =_Loc -> 0 | AN78: =_Loc -> 0 | AO78: =_Loc -> 0 | AP78: =_Loc -> 0 | AQ78: =_Loc -> 0 | AR78: =_Loc -> 0 | AS78: =_Loc -> 0 | ... BW78: =_Loc -> 0
A79: =_Ngay_gio -> 90.270833 | B79: =_Gio -> 6:30 | C79: CC2GT52-CCK65 | D79: =_stt -> 70 | E79: =_LocHe -> CCK65 | F79: =_LocMaHP -> CC2GT52 | G79: =_Loc -> Kết cấu bêtông cốt thép | H79: 65CCCD | I79: =_Loc -> 2 | J79: =_Loc -> Viết | K79: =_Loc -> 90 | L79: 42338 | M79: =_Ngay -> (Thứ 2) | N79: 1 | O79: 37 | P79: =_SV_P -> 30 | Q79: =_sophong -> 2 | Y79: =SUM(R79:X79) -> 0 | Z79: =_Ngaycham -> 42339 | AA79: =_Nopdiem -> 42345 | AC79: =_Ngay | AG79: =_Loc -> CTKC | AH79: =_Loc -> KCT | AI79: =Y79-2*Q79 -> -4 | AJ79: =+O79/P79 -> 1.2333333 | AL79: =_Loc -> 0 | AM79: =_Loc -> 0 | AN79: =_Loc -> 0 | AO79: =_Loc -> 0 | AP79: =_Loc -> 0 | AQ79: =_Loc -> 0 | AR79: =_Loc -> 0 | AS79: =_Loc -> 0 | ... BD79: =_Loc -> 0
A80: =_Ngay_gio -> 90.270833 | B80: =_Gio -> 6:30 | C80: CC2GT42-CCK65 | D80: =_stt -> 71 | E80: =_LocHe -> CCK65 | F80: =_LocMaHP -> CC2GT42 | G80: =_Loc -> Máy xây dựng | H80: 65CCCD | I80: =_Loc -> 2 | J80: =_Loc -> Viết | K80: =_Loc -> 90 | L80: 42340 | M80: =_Ngay -> (Thứ 4) | N80: 1 | O80: 37 | P80: =_SV_P -> 30 | Q80: =_sophong -> 2 | Y80: =SUM(R80:X80) -> 0 | Z80: =_Ngaycham -> 42341 | AA80: =_Nopdiem -> 42347 | AC80: =_Ngay | AG80: =_Loc -> CKMX | AH80: =_Loc -> KCK | AI80: =Y80-2*Q80 -> -4 | AJ80: =+O80/P80 -> 1.2333333 | AL80: =_Loc -> x | AM80: =_Loc -> x | AN80: =_Loc -> x | AO80: =_Loc -> x | AP80: =_Loc -> x | AQ80: =_Loc -> 0 | AR80: =_Loc -> x | AS80: =_Loc -> 0 | ... BD80: =_Loc -> 0
A81: =_Ngay_gio -> 90.270833 | B81: =_Gio -> 6:30 | C81: CC2CT32-CCK65 | D81: =_stt -> 72 | E81: =_LocHe -> CCK65 | F81: =_LocMaHP -> CC2CT32 | G81: =_Loc -> Cơ học đất | H81: 65CCCD | I81: =_Loc -> 3 | J81: =_Loc -> Viết | K81: =_Loc -> 90 | L81: 42345 | M81: =_Ngay -> (Thứ 2) | N81: 1 | O81: 37 | P81: =_SV_P -> 30 | Q81: =_sophong -> 2 | Y81: =SUM(R81:X81) -> 0 | Z81: =_Ngaycham -> 42346 | AA81: =_Nopdiem -> 42352 | AC81: =_Ngay | AG81: =_Loc -> CTDK | AH81: =_Loc -> KCT | AI81: =Y81-2*Q81 -> -4 | AJ81: =+O81/P81 -> 1.2333333 | AL81: =_Loc -> x | AM81: =_Loc -> x | AN81: =_Loc -> x | AO81: =_Loc -> x | AP81: =_Loc -> x | AQ81: =_Loc -> x | AR81: =_Loc -> x | AS81: =_Loc -> 0 | ... BD81: =_Loc -> 0
A82: =_Ngay_gio -> 0.27083333 | B82: =_Gio -> 6:30 | C82: CC2GT54-CCK65 | D82: =_stt -> 73 | E82: =_LocHe -> CCK65 | F82: =_LocMaHP -> CC2GT54 | G82: =_Loc -> Đồ án Kết cấu bêtông cốt thép | H82: 65CCCD | I82: =_Loc -> 1 | J82: =_Loc -> VĐ | K82: =_Loc -> 0 | L82: 42348 | M82: =_Ngay -> (Thứ 5) | N82: SA | O82: 37 | Q82: =_sophong | Y82: =SUM(R82:X82) -> 0 | Z82: =_Ngaycham -> 42348 | AA82: =_Nopdiem -> 42350 | AC82: =_Ngay | AG82: =_Loc -> CTKC | AH82: =_Loc -> KCT | AI82: =Y82-2*Q82 -> #VALUE! | AJ82: =+O82/P82 -> #DIV/0! | AL82: =_Loc -> x | AM82: =_Loc -> x | AN82: =_Loc -> x | AO82: =_Loc -> x | AP82: =_Loc -> x | AQ82: =_Loc -> 0 | AR82: =_Loc -> x | AS82: =_Loc -> 0 | ... BD82: =_Loc -> 0
A83: =_Ngay_gio -> 0.27083333 | B83: =_Gio -> 6:30 | C83: CC3DB44-CCK65 | D83: =_stt -> 74 | E83: =_LocHe -> CCK65 | F83: =_LocMaHP -> CC3DB44 | G83: =_Loc -> Đồ án Thiết kế đường | H83: 65CCCD | I83: =_Loc -> 1 | J83: =_Loc -> VĐ | K83: =_Loc -> 0 | L83: 42350 | M83: =_Ngay -> (Thứ 7) | N83: SA | O83: 37 | Q83: =_sophong | Y83: =SUM(R83:X83) -> 0 | Z83: =_Ngaycham -> 42350 | AA83: =_Nopdiem -> 42352 | AC83: =_Ngay | AG83: =_Loc -> CTDB | AH83: =_Loc -> KCT | AI83: =Y83-2*Q83 -> #VALUE! | AJ83: =+O83/P83 -> #DIV/0! | AL83: =_Loc -> 0 | AM83: =_Loc -> 0 | AN83: =_Loc -> 0 | AO83: =_Loc -> 0 | AP83: =_Loc -> 0 | AQ83: =_Loc -> 0 | AR83: =_Loc -> 0 | AS83: =_Loc -> 0 | ... BW83: =_Loc -> 0
A84: =_Ngay_gio -> 0.27083333 | B84: =_Gio -> 6:30 | C84: CC3DB41-CCK65 | D84: =_stt -> 75 | E84: =_LocHe -> CCK65 | F84: =_LocMaHP -> CC3DB41 | G84: =_Loc -> Thiết kế đường | H84: 65CCCD | I84: =_Loc -> 3 | J84: =_Loc -> VĐ | K84: =_Loc -> 0 | L84: 42354 | M84: =_Ngay -> (Thứ 4) | N84: SA | O84: 37 | Q84: =_sophong | Y84: =SUM(R84:X84) -> 0 | Z84: =_Ngaycham -> 42354 | AA84: =_Nopdiem -> 42356 | AC84: =_Ngay | AG84: =_Loc -> CTDB | AH84: =_Loc -> KCT | AI84: =Y84-2*Q84 -> #VALUE! | AJ84: =+O84/P84 -> #DIV/0! | AL84: =_Loc -> 0 | AM84: =_Loc -> 0 | AN84: =_Loc -> 0 | AO84: =_Loc -> 0 | AP84: =_Loc -> 0 | AQ84: =_Loc -> 0 | AR84: =_Loc -> 0 | AS84: =_Loc -> 0 | ... BW84: =_Loc -> 0
D85: =_stt -> 76 | E85: CCK65 | F85: CC4CT17 | G85: =_Loc -> Thực tập Thí nghiệm cơ học đất | H85: 65CCCD | I85: =_Loc -> 1 | J85: =_Loc -> TH | L85: 42356 | M85: =_Ngay -> (Thứ 6) | N85: SA | O85: 37 | Z85: =_Ngaycham -> 42356 | AA85: =_Nopdiem -> 42358
A86: =_Ngay_gio -> 0.27083333 | B86: =_Gio -> 6:30 | C86: CC3CD60-CCK65 | D86: =_stt -> 77 | E86: =_LocHe -> CCK65 | F86: CC1TT42 | G86: =_Loc -> Tin học đại cương | H86: 65CCCD | I86: =_Loc -> 3 | J86: =_Loc -> TH | K86: =_Loc -> 0 | L86: 42359 | M86: =_Ngay -> (Thứ 2) | N86: SA | O86: 37 | Z86: =_Ngaycham -> 42359 | AA86: =_Nopdiem -> 42361
D87: =_stt -> 78 | E87: CCK65 | F87: CC4CT13 | G87: =_Loc -> Thực tập Kỹ thuật thi công cơ bản | H87: 65CCCD | I87: =_Loc -> 3 | J87: =_Loc -> TH | L87: 42363 | M87: =_Ngay -> (Thứ 6) | N87: SA | O87: 37 | Z87: =_Ngaycham -> 42363 | AA87: =_Nopdiem -> 42365
A88: =_Ngay_gio -> 90.270833 | B88: =_Gio -> 6:30 | C88: DC2CT31-DCK65 | D88: =_stt -> 79 | E88: =_LocHe -> DCK65 | F88: =_LocMaHP -> DC2CT31 | G88: =_Loc -> Địa chất công trình | H88: 65DCCD, DD | I88: =_Loc -> 2 | J88: =_Loc -> Viết | K88: =_Loc -> 90 | L88: 42338 | M88: =_Ngay -> (Thứ 2) | N88: 4 | O88: 115 | P88: =_SV_P -> 30 | Q88: =_sophong -> 4 | Y88: =SUM(R88:X88) -> 0 | Z88: =_Ngaycham -> 42339 | AA88: =_Nopdiem -> 42345 | AC88: =_Ngay | AG88: =_Loc -> CTDK | AH88: =_Loc -> KCT | AI88: =Y88-2*Q88 -> -8 | AJ88: =+O88/P88 -> 3.8333333 | AL88: =_Loc -> x | AM88: =_Loc -> x | AN88: =_Loc -> x | AO88: =_Loc -> x | AP88: =_Loc -> x | AQ88: =_Loc -> x | AR88: =_Loc -> x | AS88: =_Loc -> 0 | ... BW88: =_Loc -> 0
A89: =_Ngay_gio -> 60.270833 | B89: =_Gio -> 6:30 | C89: DC2CT16-DCK65 | D89: =_stt -> 80 | E89: =_LocHe -> DCK65 | F89: =_LocMaHP -> DC2CT16 | G89: =_Loc -> Trắc địa | H89: 65DCCD, DD | I89: =_Loc -> 3 | J89: =_Loc -> Viết | K89: =_Loc -> 60 | L89: 42345 | M89: =_Ngay -> (Thứ 2) | N89: 4 | O89: 115 | P89: =_SV_P -> 30 | Q89: =_sophong -> 4 | Y89: =SUM(R89:X89) -> 0 | Z89: =_Ngaycham -> 42346 | AA89: =_Nopdiem -> 42352 | AC89: =_Ngay | AG89: =_Loc -> CTKS | AH89: =_Loc -> KCT | AI89: =Y89-2*Q89 -> -8 | AJ89: =+O89/P89 -> 3.8333333 | AL89: =_Loc -> x | AM89: =_Loc -> x | AN89: =_Loc -> x | AO89: =_Loc -> x | AP89: =_Loc -> x | AQ89: =_Loc -> x | AR89: =_Loc -> x | AS89: =_Loc -> 0 | ... BW89: =_Loc -> 0
A90: =_Ngay_gio -> 0.27083333 | B90: =_Gio -> 6:30 | C90: DC2CO25-DCK65 | D90: =_stt -> 81 | E90: =_LocHe -> DCK65 | F90: =_LocMaHP -> DC2CO25 | G90: =_Loc -> Sức bền vật liệu | H90: 65DCCD, DD | I90: =_Loc -> 4 | J90: =_Loc -> VĐ | K90: =_Loc -> 0 | L90: 42352 | M90: =_Ngay -> (Thứ 2) | N90: SA | O90: 115 | P90: =_SV_P | Q90: =_sophong | Y90: =SUM(R90:X90) -> 0 | Z90: =_Ngaycham -> 42352 | AA90: =_Nopdiem -> 42354 | AC90: =_Ngay | AG90: =_Loc -> CSCO | AH90: =_Loc -> CSKT | AI90: =Y90-2*Q90 -> #VALUE! | AJ90: =+O90/P90 -> #VALUE! | AL90: =_Loc -> x | AM90: =_Loc -> x | AN90: =_Loc -> x | AO90: =_Loc -> x | AP90: =_Loc -> x | AQ90: =_Loc -> x | AR90: =_Loc -> x | AS90: =_Loc -> 0 | ... BD90: =_Loc -> 0
A91: =_Ngay_gio -> 0.27083333 | B91: =_Gio -> 6:30 | C91: DC4CT16-DCK65 | D91: =_stt -> 82 | E91: =_LocHe -> DCK65 | F91: =_LocMaHP -> DC4CT16 | G91: =_Loc -> Thực tập Thí nghiệm địa chất | H91: 65DCCD, DD | I91: =_Loc -> 1 | J91: =_Loc -> TH | K91: =_Loc -> 0 | L91: 42354 | M91: =_Ngay -> (Thứ 4) | N91: SA | O91: 115 | P91: =_SV_P | Q91: =_sophong | Y91: =SUM(R91:X91) -> 0 | Z91: =_Ngaycham -> 42354 | AA91: =_Nopdiem -> 42356 | AC91: =_Ngay | AG91: =_Loc -> CTDK | AH91: =_Loc -> KCT | AI91: =Y91-2*Q91 -> #VALUE! | AJ91: =+O91/P91 -> #VALUE! | AL91: =_Loc -> x | AM91: =_Loc -> x | AN91: =_Loc -> x | AO91: =_Loc -> x | AP91: =_Loc -> x | AQ91: =_Loc -> x | AR91: =_Loc -> x | AS91: =_Loc -> 0 | ... BW91: =_Loc -> 0
A92: =_Ngay_gio -> 0.27083333 | B92: =_Gio -> 6:30 | C92: DC4CT11-DCK65 | D92: =_stt -> 83 | E92: =_LocHe -> DCK65 | F92: =_LocMaHP -> DC4CT11 | G92: =_Loc -> Thực hành trắc địa | H92: 65DCCD, DD | I92: =_Loc -> 2 | J92: =_Loc -> VĐ | K92: =_Loc -> 0 | L92: 42356 | M92: =_Ngay -> (Thứ 6) | N92: SA | O92: 115 | P92: =_SV_P | Q92: =_sophong | Y92: =SUM(R92:X92) -> 0 | Z92: =_Ngaycham -> 42356 | AA92: =_Nopdiem -> 42358 | AC92: =_Ngay | AG92: =_Loc -> CTKS | AH92: =_Loc -> KCT | AI92: =Y92-2*Q92 -> #VALUE! | AJ92: =+O92/P92 -> #VALUE! | AL92: =_Loc -> x | AM92: =_Loc -> x | AN92: =_Loc -> x | AO92: =_Loc -> x | AP92: =_Loc -> x | AQ92: =_Loc -> x | AR92: =_Loc -> x | AS92: =_Loc -> 0 | ... BD92: =_Loc -> 0
A93: =_Ngay_gio -> 90.270833 | B93: =_Gio -> 6:30 | C93: DC1LL03-DCK65 | D93: =_stt -> 84 | E93: =_LocHe -> DCK65 | F93: =_LocMaHP -> DC1LL03 | G93: =_Loc -> Tư tưởng Hồ Chí Minh | H93: 65DCCD, DD, OT, MX | I93: =_Loc -> 2 | J93: =_Loc -> Viết | K93: =_Loc -> 90 | L93: 42335 | M93: =_Ngay -> (Thứ 6) | N93: 4 | O93: 235 | P93: =_SV_P -> 30 | Q93: =_sophong -> 8 | Y93: =SUM(R93:X93) -> 0 | Z93: =_Ngaycham -> 42338 | AA93: =_Nopdiem -> 42342 | AC93: =_Ngay | AG93: =_Loc -> LLTT | AH93: =_Loc -> LLCT | AI93: =Y93-2*Q93 -> -16 | AJ93: =+O93/P93 -> 7.8333333 | AL93: =_Loc -> x | AM93: =_Loc -> x | AN93: =_Loc -> x | AO93: =_Loc -> x | AP93: =_Loc -> x | AQ93: =_Loc -> x | AR93: =_Loc -> x | AS93: =_Loc -> x | ... BW93: =_Loc -> 0
A94: =_Ngay_gio -> 60.270833 | B94: =_Gio -> 6:30 | C94: DC1CB32-DCK65 | D94: =_stt -> 85 | E94: =_LocHe -> DCK65 | F94: =_LocMaHP -> DC1CB32 | G94: =_Loc -> Tiếng Anh 2 | H94: 65DCCD, DD, OT, MX | I94: =_Loc -> 4 | J94: =_Loc -> Viết | K94: =_Loc -> 60 | L94: 42342 | M94: =_Ngay -> (Thứ 6) | N94: 4 | O94: 235 | P94: =_SV_P -> 30 | Q94: =_sophong -> 8 | Y94: =SUM(R94:X94) -> 0 | Z94: =_Ngaycham -> 42345 | AA94: =_Nopdiem -> 42349 | AC94: =_Ngay | AG94: =_Loc -> CBNN | AH94: =_Loc -> KHCB | AI94: =Y94-2*Q94 -> -16 | AJ94: =+O94/P94 -> 7.8333333 | AL94: =_Loc -> x | AM94: =_Loc -> x | AN94: =_Loc -> x | AO94: =_Loc -> x | AP94: =_Loc -> x | AQ94: =_Loc -> x | AR94: =_Loc -> x | AS94: =_Loc -> x | ... BW94: =_Loc -> 0
A95: =_Ngay_gio -> 90.270833 | B95: =_Gio -> 6:30 | C95: DC2DT45 -DCK65 | D95: =_stt -> 86 | E95: DCK65 | F95: DC2DT45 | G95: Cơ sở điều khiển tự động | H95: 65DCDT | I95: =_Loc -> 3 | J95: =_Loc -> Viết | K95: =_Loc -> 90 | L95: 42335 | M95: =_Ngay -> (Thứ 6) | N95: 2 | O95: 22 | Z95: =_Ngaycham -> 42338 | AA95: =_Nopdiem -> 42342
A96: =_Ngay_gio -> 60.270833 | B96: =_Gio -> 6:30 | C96: DC2DT43 -DCK65 | D96: =_stt -> 87 | E96: DCK65 | F96: DC2DT43 | G96: Lý thuyết truyền tin | H96: 65DCDT | I96: =_Loc -> 3 | J96: =_Loc -> Viết | K96: =_Loc -> 60 | L96: 42352 | M96: =_Ngay -> (Thứ 2) | N96: 2 | O96: 22 | Z96: =_Ngaycham -> 42353 | AA96: =_Nopdiem -> 42359
A97: =_Ngay_gio -> 60.270833 | B97: =_Gio -> 6:30 | C97: DC2DT41-DCK65 | D97: =_stt -> 88 | E97: =_LocHe -> DCK65 | F97: =_LocMaHP -> DC2DT41 | G97: =_Loc -> Linh kiện điện tử | H97: 65DCDT | I97: =_Loc -> 3 | J97: =_Loc -> Viết | K97: =_Loc -> 60 | L97: 42342 | M97: =_Ngay -> (Thứ 6) | N97: 1 | O97: 22 | P97: =_SV_P -> 30 | Q97: =_sophong -> 1 | Y97: =SUM(R97:X97) -> 0 | Z97: =_Ngaycham -> 42345 | AA97: =_Nopdiem -> 42349 | AC97: =_Ngay | AG97: =_Loc -> TTDT | AH97: =_Loc -> CNTT | AI97: =Y97-2*Q97 -> -2 | AJ97: =+O97/P97 -> 0.73333333 | AL97: =_Loc -> 0 | AM97: =_Loc -> 0 | AN97: =_Loc -> 0 | AO97: =_Loc -> 0 | AP97: =_Loc -> 0 | AQ97: =_Loc -> 0 | AR97: =_Loc -> 0 | AS97: =_Loc -> 0 | ... BD97: =_Loc -> 0
A98: =_Ngay_gio -> 60.270833 | B98: =_Gio -> 6:30 | C98: DC2DT44-DCK65 | D98: =_stt -> 89 | E98: =_LocHe -> DCK65 | F98: =_LocMaHP -> DC2DT44 | G98: =_Loc -> Cơ sở kỹ thuật đo lường | H98: 65DCDT | I98: =_Loc -> 2 | J98: =_Loc -> Viết | K98: =_Loc -> 60 | L98: 42345 | M98: =_Ngay -> (Thứ 2) | N98: 4 | O98: 22 | P98: =_SV_P -> 30 | Q98: =_sophong -> 1 | Y98: =SUM(R98:X98) -> 0 | Z98: =_Ngaycham -> 42346 | AA98: =_Nopdiem -> 42352 | AC98: =_Ngay | AG98: =_Loc -> TTDT | AH98: =_Loc -> CNTT | AI98: =Y98-2*Q98 -> -2 | AJ98: =+O98/P98 -> 0.73333333 | AL98: =_Loc -> 0 | AM98: =_Loc -> 0 | AN98: =_Loc -> 0 | AO98: =_Loc -> 0 | AP98: =_Loc -> 0 | AQ98: =_Loc -> 0 | AR98: =_Loc -> 0 | AS98: =_Loc -> 0 | ... BD98: =_Loc -> 0
A99: =_Ngay_gio -> 90.270833 | B99: =_Gio -> 6:30 | C99: DC2DT42-DCK65 | D99: =_stt -> 90 | E99: =_LocHe -> DCK65 | F99: =_LocMaHP -> DC2DT42 | G99: =_Loc -> Lý thuyết mạch | H99: 65DCDT | I99: =_Loc -> 3 | J99: =_Loc -> Viết | K99: =_Loc -> 90 | L99: 42349 | M99: =_Ngay -> (Thứ 6) | N99: 1 | O99: 22 | P99: =_SV_P -> 30 | Q99: =_sophong -> 1 | Y99: =SUM(R99:X99) -> 0 | Z99: =_Ngaycham -> 42352 | AA99: =_Nopdiem -> 42356 | AC99: =_Ngay | AG99: =_Loc -> TTDT | AH99: =_Loc -> CNTT | AI99: =Y99-2*Q99 -> -2 | AJ99: =+O99/P99 -> 0.73333333 | AL99: =_Loc -> 0 | AM99: =_Loc -> 0 | AN99: =_Loc -> 0 | AO99: =_Loc -> 0 | AP99: =_Loc -> 0 | AQ99: =_Loc -> 0 | AR99: =_Loc -> 0 | AS99: =_Loc -> 0 | ... BD99: =_Loc -> 0
A100: =_Ngay_gio -> 60.270833 | B100: =_Gio -> 6:30 | C100: DC1TH47-DCK65 | D100: =_stt -> 91 | E100: =_LocHe -> DCK65 | F100: =_LocMaHP -> DC1TH47 | G100: =_Loc -> Kỹ thuật điện | H100: 65DCDT | I100: =_Loc -> 2 | J100: =_Loc -> Viết | K100: =_Loc -> 60 | L100: 42354 | M100: =_Ngay -> (Thứ 4) | N100: 2 | O100: 22 | P100: =_SV_P -> 30 | Q100: =_sophong -> 1 | Y100: =SUM(R100:X100) -> 0 | Z100: =_Ngaycham -> 42355 | AA100: =_Nopdiem -> 42361 | AC100: =_Ngay | AG100: =_Loc -> TTDT | AH100: =_Loc -> CNTT | AI100: =Y100-2*Q100 -> -2 | AJ100: =+O100/P100 -> 0.73333333 | AL100: =_Loc -> 0 | AM100: =_Loc -> 0 | AN100: =_Loc -> 0 | AO100: =_Loc -> 0 | AP100: =_Loc -> 0 | AQ100: =_Loc -> 0 | AR100: =_Loc -> 0 | AS100: =_Loc -> 0 | ... BD100: =_Loc -> 0
...

Sheet Theo Ngay
C2: STT | D2: Ngày | E2: Ca | F2: Số phòng | G2: LLCT | H2: KHCB | I2: CSKT | J2: KCT | K2: KCK | L2: KTVT | M2: CNTT | N2: Tổng
A3: =_Ngay_Gio_ -> 42332.292 | B3: =_Gio_ -> 7:00 | C3: 1 | D3: =MIN('LICH THI'!L:L) -> 42332 | E3: 1 | F3: =_CongSP_ -> 0 | G3: =_CongLLCT -> 0 | H3: =_CongKHCB -> 0 | I3: =_CongCSKT -> 0 | J3: =_CongKCT -> 0 | K3: =_CongKCK -> 0 | L3: =_CongKTVT -> 0 | M3: =_CongCNTT -> 0 | N3: =SUMIF('LICH THI'!$A:$A,'Theo Ngay'!$A3,'LICH THI'!Y:Y) -> 0 | P3: =SUMIF('LICH THI'!$A:$A,'Theo Ngay'!$A3,'LICH THI'!O:O) -> 0
A4: =_Ngay_Gio_ -> 42332.375 | B4: =_Gio_ -> 9:00 | C4: =_stt -> 2 | D4: =D3 -> 42332 | E4: 2 | F4: =_CongSP_ -> 0 | G4: =_CongLLCT -> 0 | H4: =_CongKHCB -> 0 | I4: =_CongCSKT -> 0 | J4: =_CongKCT -> 0 | K4: =_CongKCK -> 0 | L4: =_CongKTVT -> 0 | M4: =_CongCNTT -> 0 | N4: =SUMIF('LICH THI'!$A:$A,'Theo Ngay'!$A4,'LICH THI'!Y:Y) -> 0 | P4: =SUMIF('LICH THI'!$A:$A,'Theo Ngay'!$A4,'LICH THI'!O:O) -> 0
A5: =_Ngay_Gio_ -> 42332.542 | B5: =_Gio_ -> 13:00 | C5: =_stt -> 3 | D5: =D4 -> 42332 | E5: 3 | F5: =_CongSP_ -> 0 | G5: =_CongLLCT -> 0 | H5: =_CongKHCB -> 0 | I5: =_CongCSKT -> 0 | J5: =_CongKCT -> 0 | K5: =_CongKCK -> 0 | L5: =_CongKTVT -> 0 | M5: =_CongCNTT -> 0 | N5: =SUMIF('LICH THI'!$A:$A,'Theo Ngay'!$A5,'LICH THI'!Y:Y) -> 0 | P5: =SUMIF('LICH THI'!$A:$A,'Theo Ngay'!$A5,'LICH THI'!O:O) -> 0
A6: =_Ngay_Gio_ -> 42332.625 | B6: =_Gio_ -> 15:00 | C6: =_stt -> 4 | D6: =D5 -> 42332 | E6: 4 | F6: =_CongSP_ -> 0 | G6: =_CongLLCT -> 0 | H6: =_CongKHCB -> 0 | I6: =_CongCSKT -> 0 | J6: =_CongKCT -> 0 | K6: =_CongKCK -> 0 | L6: =_CongKTVT -> 0 | M6: =_CongCNTT -> 0 | N6: =SUMIF('LICH THI'!$A:$A,'Theo Ngay'!$A6,'LICH THI'!Y:Y) -> 0 | P6: =SUMIF('LICH THI'!$A:$A,'Theo Ngay'!$A6,'LICH THI'!O:O) -> 0
A7: =_Ngay_Gio_ -> 42332.75 | B7: =_Gio_ -> 18:00 | C7: =_stt -> 5 | D7: =D6 -> 42332 | E7: 5 | F7: =_CongSP_ -> 0 | G7: =_CongLLCT -> 0 | H7: =_CongKHCB -> 0 | I7: =_CongCSKT -> 0 | J7: =_CongKCT -> 0 | K7: =_CongKCK -> 0 | L7: =_CongKTVT -> 0 | M7: =_CongCNTT -> 0 | N7: =SUMIF('LICH THI'!$A:$A,'Theo Ngay'!$A7,'LICH THI'!Y:Y) -> 0 | P7: =SUMIF('LICH THI'!$A:$A,'Theo Ngay'!$A7,'LICH THI'!O:O) -> 0
A8: =_Ngay_Gio_ -> 42333.292 | B8: =_Gio_ -> 7:00 | C8: =_stt -> 6 | D8: =+D3+1 -> 42333 | E8: 1 | F8: =_CongSP_ -> 0 | G8: =_CongLLCT -> 0 | H8: =_CongKHCB -> 0 | I8: =_CongCSKT -> 0 | J8: =_CongKCT -> 0 | K8: =_CongKCK -> 0 | L8: =_CongKTVT -> 0 | M8: =_CongCNTT -> 0 | N8: =SUMIF('LICH THI'!$A:$A,'Theo Ngay'!$A8,'LICH THI'!Y:Y) -> 0 | P8: =SUMIF('LICH THI'!$A:$A,'Theo Ngay'!$A8,'LICH THI'!O:O) -> 0
A9: =_Ngay_Gio_ -> 42333.375 | B9: =_Gio_ -> 9:00 | C9: =_stt -> 7 | D9: =D8 -> 42333 | E9: 2 | F9: =_CongSP_ -> 0 | G9: =_CongLLCT -> 0 | H9: =_CongKHCB -> 0 | I9: =_CongCSKT -> 0 | J9: =_CongKCT -> 0 | K9: =_CongKCK -> 0 | L9: =_CongKTVT -> 0 | M9: =_CongCNTT -> 0 | N9: =SUMIF('LICH THI'!$A:$A,'Theo Ngay'!$A9,'LICH THI'!Y:Y) -> 0 | P9: =SUMIF('LICH THI'!$A:$A,'Theo Ngay'!$A9,'LICH THI'!O:O) -> 0
A10: =_Ngay_Gio_ -> 42333.542 | B10: =_Gio_ -> 13:00 | C10: =_stt -> 8 | D10: =D9 -> 42333 | E10: 3 | F10: =_CongSP_ -> 0 | G10: =_CongLLCT -> 0 | H10: =_CongKHCB -> 0 | I10: =_CongCSKT -> 0 | J10: =_CongKCT -> 0 | K10: =_CongKCK -> 0 | L10: =_CongKTVT -> 0 | M10: =_CongCNTT -> 0 | N10: =SUMIF('LICH THI'!$A:$A,'Theo Ngay'!$A10,'LICH THI'!Y:Y) -> 0 | P10: =SUMIF('LICH THI'!$A:$A,'Theo Ngay'!$A10,'LICH THI'!O:O) -> 0
A11: =_Ngay_Gio_ -> 42333.625 | B11: =_Gio_ -> 15:00 | C11: =_stt -> 9 | D11: =D10 -> 42333 | E11: 4 | F11: =_CongSP_ -> 0 | G11: =_CongLLCT -> 0 | H11: =_CongKHCB -> 0 | I11: =_CongCSKT -> 0 | J11: =_CongKCT -> 0 | K11: =_CongKCK -> 0 | L11: =_CongKTVT -> 0 | M11: =_CongCNTT -> 0 | N11: =SUMIF('LICH THI'!$A:$A,'Theo Ngay'!$A11,'LICH THI'!Y:Y) -> 0 | P11: =SUMIF('LICH THI'!$A:$A,'Theo Ngay'!$A11,'LICH THI'!O:O) -> 0
A12: =_Ngay_Gio_ -> 42333.75 | B12: =_Gio_ -> 18:00 | C12: =_stt -> 10 | D12: =D11 -> 42333 | E12: 5 | F12: =_CongSP_ -> 0 | G12: =_CongLLCT -> 0 | H12: =_CongKHCB -> 0 | I12: =_CongCSKT -> 0 | J12: =_CongKCT -> 0 | K12: =_CongKCK -> 0 | L12: =_CongKTVT -> 0 | M12: =_CongCNTT -> 0 | N12: =SUMIF('LICH THI'!$A:$A,'Theo Ngay'!$A12,'LICH THI'!Y:Y) -> 0 | P12: =SUMIF('LICH THI'!$A:$A,'Theo Ngay'!$A12,'LICH THI'!O:O) -> 0
A13: =_Ngay_Gio_ -> 42334.292 | B13: =_Gio_ -> 7:00 | C13: =_stt -> 11 | D13: =+D8+1 -> 42334 | E13: 1 | F13: =_CongSP_ -> 0 | G13: =_CongLLCT -> 0 | H13: =_CongKHCB -> 0 | I13: =_CongCSKT -> 0 | J13: =_CongKCT -> 0 | K13: =_CongKCK -> 0 | L13: =_CongKTVT -> 0 | M13: =_CongCNTT -> 0 | N13: =SUMIF('LICH THI'!$A:$A,'Theo Ngay'!$A13,'LICH THI'!Y:Y) -> 0 | P13: =SUMIF('LICH THI'!$A:$A,'Theo Ngay'!$A13,'LICH THI'!O:O) -> 0
A14: =_Ngay_Gio_ -> 42334.375 | B14: =_Gio_ -> 9:00 | C14: =_stt -> 12 | D14: =D13 -> 42334 | E14: 2 | F14: =_CongSP_ -> 0 | G14: =_CongLLCT -> 0 | H14: =_CongKHCB -> 0 | I14: =_CongCSKT -> 0 | J14: =_CongKCT -> 0 | K14: =_CongKCK -> 0 | L14: =_CongKTVT -> 0 | M14: =_CongCNTT -> 0 | N14: =SUMIF('LICH THI'!$A:$A,'Theo Ngay'!$A14,'LICH THI'!Y:Y) -> 0 | P14: =SUMIF('LICH THI'!$A:$A,'Theo Ngay'!$A14,'LICH THI'!O:O) -> 0
A15: =_Ngay_Gio_ -> 42334.542 | B15: =_Gio_ -> 13:00 | C15: =_stt -> 13 | D15: =D14 -> 42334 | E15: 3 | F15: =_CongSP_ -> 0 | G15: =_CongLLCT -> 0 | H15: =_CongKHCB -> 0 | I15: =_CongCSKT -> 0 | J15: =_CongKCT -> 0 | K15: =_CongKCK -> 0 | L15: =_CongKTVT -> 0 | M15: =_CongCNTT -> 0 | N15: =SUMIF('LICH THI'!$A:$A,'Theo Ngay'!$A15,'LICH THI'!Y:Y) -> 0 | P15: =SUMIF('LICH THI'!$A:$A,'Theo Ngay'!$A15,'LICH THI'!O:O) -> 0
A16: =_Ngay_Gio_ -> 42334.625 | B16: =_Gio_ -> 15:00 | C16: =_stt -> 14 | D16: =D15 -> 42334 | E16: 4 | F16: =_CongSP_ -> 0 | G16: =_CongLLCT -> 0 | H16: =_CongKHCB -> 0 | I16: =_CongCSKT -> 0 | J16: =_CongKCT -> 0 | K16: =_CongKCK -> 0 | L16: =_CongKTVT -> 0 | M16: =_CongCNTT -> 0 | N16: =SUMIF('LICH THI'!$A:$A,'Theo Ngay'!$A16,'LICH THI'!Y:Y) -> 0 | P16: =SUMIF('LICH THI'!$A:$A,'Theo Ngay'!$A16,'LICH THI'!O:O) -> 0
A17: =_Ngay_Gio_ -> 42334.75 | B17: =_Gio_ -> 18:00 | C17: =_stt -> 15 | D17: =D16 -> 42334 | E17: 5 | F17: =_CongSP_ -> 0 | G17: =_CongLLCT -> 0 | H17: =_CongKHCB -> 0 | I17: =_CongCSKT -> 0 | J17: =_CongKCT -> 0 | K17: =_CongKCK -> 0 | L17: =_CongKTVT -> 0 | M17: =_CongCNTT -> 0 | N17: =SUMIF('LICH THI'!$A:$A,'Theo Ngay'!$A17,'LICH THI'!Y:Y) -> 0 | P17: =SUMIF('LICH THI'!$A:$A,'Theo Ngay'!$A17,'LICH THI'!O:O) -> 0
A18: =_Ngay_Gio_ -> 42335.292 | B18: =_Gio_ -> 7:00 | C18: =_stt -> 16 | D18: =+D13+1 -> 42335 | E18: 1 | F18: =_CongSP_ -> 0 | G18: =_CongLLCT -> 0 | H18: =_CongKHCB -> 0 | I18: =_CongCSKT -> 0 | J18: =_CongKCT -> 0 | K18: =_CongKCK -> 0 | L18: =_CongKTVT -> 0 | M18: =_CongCNTT -> 0 | N18: =SUMIF('LICH THI'!$A:$A,'Theo Ngay'!$A18,'LICH THI'!Y:Y) -> 0 | P18: =SUMIF('LICH THI'!$A:$A,'Theo Ngay'!$A18,'LICH THI'!O:O) -> 0
A19: =_Ngay_Gio_ -> 42335.375 | B19: =_Gio_ -> 9:00 | C19: =_stt -> 17 | D19: =D18 -> 42335 | E19: 2 | F19: =_CongSP_ -> 0 | G19: =_CongLLCT -> 0 | H19: =_CongKHCB -> 0 | I19: =_CongCSKT -> 0 | J19: =_CongKCT -> 0 | K19: =_CongKCK -> 0 | L19: =_CongKTVT -> 0 | M19: =_CongCNTT -> 0 | N19: =SUMIF('LICH THI'!$A:$A,'Theo Ngay'!$A19,'LICH THI'!Y:Y) -> 0 | P19: =SUMIF('LICH THI'!$A:$A,'Theo Ngay'!$A19,'LICH THI'!O:O) -> 0
A20: =_Ngay_Gio_ -> 42335.542 | B20: =_Gio_ -> 13:00 | C20: =_stt -> 18 | D20: =D19 -> 42335 | E20: 3 | F20: =_CongSP_ -> 0 | G20: =_CongLLCT -> 0 | H20: =_CongKHCB -> 0 | I20: =_CongCSKT -> 0 | J20: =_CongKCT -> 0 | K20: =_CongKCK -> 0 | L20: =_CongKTVT -> 0 | M20: =_CongCNTT -> 0 | N20: =SUMIF('LICH THI'!$A:$A,'Theo Ngay'!$A20,'LICH THI'!Y:Y) -> 0 | P20: =SUMIF('LICH THI'!$A:$A,'Theo Ngay'!$A20,'LICH THI'!O:O) -> 0
A21: =_Ngay_Gio_ -> 42335.625 | B21: =_Gio_ -> 15:00 | C21: =_stt -> 19 | D21: =D20 -> 42335 | E21: 4 | F21: =_CongSP_ -> 0 | G21: =_CongLLCT -> 0 | H21: =_CongKHCB -> 0 | I21: =_CongCSKT -> 0 | J21: =_CongKCT -> 0 | K21: =_CongKCK -> 0 | L21: =_CongKTVT -> 0 | M21: =_CongCNTT -> 0 | N21: =SUMIF('LICH THI'!$A:$A,'Theo Ngay'!$A21,'LICH THI'!Y:Y) -> 0 | P21: =SUMIF('LICH THI'!$A:$A,'Theo Ngay'!$A21,'LICH THI'!O:O) -> 0
A22: =_Ngay_Gio_ -> 42335.75 | B22: =_Gio_ -> 18:00 | C22: =_stt -> 20 | D22: =D21 -> 42335 | E22: 5 | F22: =_CongSP_ -> 0 | G22: =_CongLLCT -> 0 | H22: =_CongKHCB -> 0 | I22: =_CongCSKT -> 0 | J22: =_CongKCT -> 0 | K22: =_CongKCK -> 0 | L22: =_CongKTVT -> 0 | M22: =_CongCNTT -> 0 | N22: =SUMIF('LICH THI'!$A:$A,'Theo Ngay'!$A22,'LICH THI'!Y:Y) -> 0 | P22: =SUMIF('LICH THI'!$A:$A,'Theo Ngay'!$A22,'LICH THI'!O:O) -> 0
A23: =_Ngay_Gio_ -> 42336.292 | B23: =_Gio_ -> 7:00 | C23: =_stt -> 21 | D23: =+D18+1 -> 42336 | E23: 1 | F23: =_CongSP_ -> 0 | G23: =_CongLLCT -> 0 | H23: =_CongKHCB -> 0 | I23: =_CongCSKT -> 0 | J23: =_CongKCT -> 0 | K23: =_CongKCK -> 0 | L23: =_CongKTVT -> 0 | M23: =_CongCNTT -> 0 | N23: =SUMIF('LICH THI'!$A:$A,'Theo Ngay'!$A23,'LICH THI'!Y:Y) -> 0 | P23: =SUMIF('LICH THI'!$A:$A,'Theo Ngay'!$A23,'LICH THI'!O:O) -> 0
A24: =_Ngay_Gio_ -> 42336.375 | B24: =_Gio_ -> 9:00 | C24: =_stt -> 22 | D24: =D23 -> 42336 | E24: 2 | F24: =_CongSP_ -> 0 | G24: =_CongLLCT -> 0 | H24: =_CongKHCB -> 0 | I24: =_CongCSKT -> 0 | J24: =_CongKCT -> 0 | K24: =_CongKCK -> 0 | L24: =_CongKTVT -> 0 | M24: =_CongCNTT -> 0 | N24: =SUMIF('LICH THI'!$A:$A,'Theo Ngay'!$A24,'LICH THI'!Y:Y) -> 0 | P24: =SUMIF('LICH THI'!$A:$A,'Theo Ngay'!$A24,'LICH THI'!O:O) -> 0
A25: =_Ngay_Gio_ -> 42336.542 | B25: =_Gio_ -> 13:00 | C25: =_stt -> 23 | D25: =D24 -> 42336 | E25: 3 | F25: =_CongSP_ -> 0 | G25: =_CongLLCT -> 0 | H25: =_CongKHCB -> 0 | I25: =_CongCSKT -> 0 | J25: =_CongKCT -> 0 | K25: =_CongKCK -> 0 | L25: =_CongKTVT -> 0 | M25: =_CongCNTT -> 0 | N25: =SUMIF('LICH THI'!$A:$A,'Theo Ngay'!$A25,'LICH THI'!Y:Y) -> 0 | P25: =SUMIF('LICH THI'!$A:$A,'Theo Ngay'!$A25,'LICH THI'!O:O) -> 0
A26: =_Ngay_Gio_ -> 42336.625 | B26: =_Gio_ -> 15:00 | C26: =_stt -> 24 | D26: =D25 -> 42336 | E26: 4 | F26: =_CongSP_ -> 0 | G26: =_CongLLCT -> 0 | H26: =_CongKHCB -> 0 | I26: =_CongCSKT -> 0 | J26: =_CongKCT -> 0 | K26: =_CongKCK -> 0 | L26: =_CongKTVT -> 0 | M26: =_CongCNTT -> 0 | N26: =SUMIF('LICH THI'!$A:$A,'Theo Ngay'!$A26,'LICH THI'!Y:Y) -> 0 | P26: =SUMIF('LICH THI'!$A:$A,'Theo Ngay'!$A26,'LICH THI'!O:O) -> 0
A27: =_Ngay_Gio_ -> 42336.75 | B27: =_Gio_ -> 18:00 | C27: =_stt -> 25 | D27: =D26 -> 42336 | E27: 5 | F27: =_CongSP_ -> 0 | G27: =_CongLLCT -> 0 | H27: =_CongKHCB -> 0 | I27: =_CongCSKT -> 0 | J27: =_CongKCT -> 0 | K27: =_CongKCK -> 0 | L27: =_CongKTVT -> 0 | M27: =_CongCNTT -> 0 | N27: =SUMIF('LICH THI'!$A:$A,'Theo Ngay'!$A27,'LICH THI'!Y:Y) -> 0 | P27: =SUMIF('LICH THI'!$A:$A,'Theo Ngay'!$A27,'LICH THI'!O:O) -> 0
A28: =_Ngay_Gio_ -> 42337.292 | B28: =_Gio_ -> 7:00 | C28: =_stt -> 26 | D28: =+D23+1 -> 42337 | E28: 1 | F28: =_CongSP_ -> 0 | G28: =_CongLLCT -> 0 | H28: =_CongKHCB -> 0 | I28: =_CongCSKT -> 0 | J28: =_CongKCT -> 0 | K28: =_CongKCK -> 0 | L28: =_CongKTVT -> 0 | M28: =_CongCNTT -> 0 | N28: =SUMIF('LICH THI'!$A:$A,'Theo Ngay'!$A28,'LICH THI'!Y:Y) -> 0 | P28: =SUMIF('LICH THI'!$A:$A,'Theo Ngay'!$A28,'LICH THI'!O:O) -> 0
A29: =_Ngay_Gio_ -> 42337.375 | B29: =_Gio_ -> 9:00 | C29: =_stt -> 27 | D29: =D28 -> 42337 | E29: 2 | F29: =_CongSP_ -> 0 | G29: =_CongLLCT -> 0 | H29: =_CongKHCB -> 0 | I29: =_CongCSKT -> 0 | J29: =_CongKCT -> 0 | K29: =_CongKCK -> 0 | L29: =_CongKTVT -> 0 | M29: =_CongCNTT -> 0 | N29: =SUMIF('LICH THI'!$A:$A,'Theo Ngay'!$A29,'LICH THI'!Y:Y) -> 0 | P29: =SUMIF('LICH THI'!$A:$A,'Theo Ngay'!$A29,'LICH THI'!O:O) -> 0
A30: =_Ngay_Gio_ -> 42337.542 | B30: =_Gio_ -> 13:00 | C30: =_stt -> 28 | D30: =D29 -> 42337 | E30: 3 | F30: =_CongSP_ -> 0 | G30: =_CongLLCT -> 0 | H30: =_CongKHCB -> 0 | I30: =_CongCSKT -> 0 | J30: =_CongKCT -> 0 | K30: =_CongKCK -> 0 | L30: =_CongKTVT -> 0 | M30: =_CongCNTT -> 0 | N30: =SUMIF('LICH THI'!$A:$A,'Theo Ngay'!$A30,'LICH THI'!Y:Y) -> 0 | P30: =SUMIF('LICH THI'!$A:$A,'Theo Ngay'!$A30,'LICH THI'!O:O) -> 0
A31: =_Ngay_Gio_ -> 42337.625 | B31: =_Gio_ -> 15:00 | C31: =_stt -> 29 | D31: =D30 -> 42337 | E31: 4 | F31: =_CongSP_ -> 0 | G31: =_CongLLCT -> 0 | H31: =_CongKHCB -> 0 | I31: =_CongCSKT -> 0 | J31: =_CongKCT -> 0 | K31: =_CongKCK -> 0 | L31: =_CongKTVT -> 0 | M31: =_CongCNTT -> 0 | N31: =SUMIF('LICH THI'!$A:$A,'Theo Ngay'!$A31,'LICH THI'!Y:Y) -> 0 | P31: =SUMIF('LICH THI'!$A:$A,'Theo Ngay'!$A31,'LICH THI'!O:O) -> 0
A32: =_Ngay_Gio_ -> 42337.75 | B32: =_Gio_ -> 18:00 | C32: =_stt -> 30 | D32: =D31 -> 42337 | E32: 5 | F32: =_CongSP_ -> 0 | G32: =_CongLLCT -> 0 | H32: =_CongKHCB -> 0 | I32: =_CongCSKT -> 0 | J32: =_CongKCT -> 0 | K32: =_CongKCK -> 0 | L32: =_CongKTVT -> 0 | M32: =_CongCNTT -> 0 | N32: =SUMIF('LICH THI'!$A:$A,'Theo Ngay'!$A32,'LICH THI'!Y:Y) -> 0 | P32: =SUMIF('LICH THI'!$A:$A,'Theo Ngay'!$A32,'LICH THI'!O:O) -> 0
A33: =_Ngay_Gio_ -> 42338.292 | B33: =_Gio_ -> 7:00 | C33: =_stt -> 31 | D33: =+D28+1 -> 42338 | E33: 1 | F33: =_CongSP_ -> 0 | G33: =_CongLLCT -> 0 | H33: =_CongKHCB -> 0 | I33: =_CongCSKT -> 0 | J33: =_CongKCT -> 0 | K33: =_CongKCK -> 0 | L33: =_CongKTVT -> 0 | M33: =_CongCNTT -> 0 | N33: =SUMIF('LICH THI'!$A:$A,'Theo Ngay'!$A33,'LICH THI'!Y:Y) -> 0 | P33: =SUMIF('LICH THI'!$A:$A,'Theo Ngay'!$A33,'LICH THI'!O:O) -> 0
A34: =_Ngay_Gio_ -> 42338.375 | B34: =_Gio_ -> 9:00 | C34: =_stt -> 32 | D34: =D33 -> 42338 | E34: 2 | F34: =_CongSP_ -> 0 | G34: =_CongLLCT -> 0 | H34: =_CongKHCB -> 0 | I34: =_CongCSKT -> 0 | J34: =_CongKCT -> 0 | K34: =_CongKCK -> 0 | L34: =_CongKTVT -> 0 | M34: =_CongCNTT -> 0 | N34: =SUMIF('LICH THI'!$A:$A,'Theo Ngay'!$A34,'LICH THI'!Y:Y) -> 0 | P34: =SUMIF('LICH THI'!$A:$A,'Theo Ngay'!$A34,'LICH THI'!O:O) -> 0
A35: =_Ngay_Gio_ -> 42338.542 | B35: =_Gio_ -> 13:00 | C35: =_stt -> 33 | D35: =D34 -> 42338 | E35: 3 | F35: =_CongSP_ -> 0 | G35: =_CongLLCT -> 0 | H35: =_CongKHCB -> 0 | I35: =_CongCSKT -> 0 | J35: =_CongKCT -> 0 | K35: =_CongKCK -> 0 | L35: =_CongKTVT -> 0 | M35: =_CongCNTT -> 0 | N35: =SUMIF('LICH THI'!$A:$A,'Theo Ngay'!$A35,'LICH THI'!Y:Y) -> 0 | P35: =SUMIF('LICH THI'!$A:$A,'Theo Ngay'!$A35,'LICH THI'!O:O) -> 0
A36: =_Ngay_Gio_ -> 42338.625 | B36: =_Gio_ -> 15:00 | C36: =_stt -> 34 | D36: =D35 -> 42338 | E36: 4 | F36: =_CongSP_ -> 0 | G36: =_CongLLCT -> 0 | H36: =_CongKHCB -> 0 | I36: =_CongCSKT -> 0 | J36: =_CongKCT -> 0 | K36: =_CongKCK -> 0 | L36: =_CongKTVT -> 0 | M36: =_CongCNTT -> 0 | N36: =SUMIF('LICH THI'!$A:$A,'Theo Ngay'!$A36,'LICH THI'!Y:Y) -> 0 | P36: =SUMIF('LICH THI'!$A:$A,'Theo Ngay'!$A36,'LICH THI'!O:O) -> 0
A37: =_Ngay_Gio_ -> 42338.75 | B37: =_Gio_ -> 18:00 | C37: =_stt -> 35 | D37: =D36 -> 42338 | E37: 5 | F37: =_CongSP_ -> 0 | G37: =_CongLLCT -> 0 | H37: =_CongKHCB -> 0 | I37: =_CongCSKT -> 0 | J37: =_CongKCT -> 0 | K37: =_CongKCK -> 0 | L37: =_CongKTVT -> 0 | M37: =_CongCNTT -> 0 | N37: =SUMIF('LICH THI'!$A:$A,'Theo Ngay'!$A37,'LICH THI'!Y:Y) -> 0 | P37: =SUMIF('LICH THI'!$A:$A,'Theo Ngay'!$A37,'LICH THI'!O:O) -> 0
A38: =_Ngay_Gio_ -> 42339.292 | B38: =_Gio_ -> 7:00 | C38: =_stt -> 36 | D38: =+D33+1 -> 42339 | E38: 1 | F38: =_CongSP_ -> 0 | G38: =_CongLLCT -> 0 | H38: =_CongKHCB -> 0 | I38: =_CongCSKT -> 0 | J38: =_CongKCT -> 0 | K38: =_CongKCK -> 0 | L38: =_CongKTVT -> 0 | M38: =_CongCNTT -> 0 | N38: =SUMIF('LICH THI'!$A:$A,'Theo Ngay'!$A38,'LICH THI'!Y:Y) -> 0 | P38: =SUMIF('LICH THI'!$A:$A,'Theo Ngay'!$A38,'LICH THI'!O:O) -> 0
A39: =_Ngay_Gio_ -> 42339.375 | B39: =_Gio_ -> 9:00 | C39: =_stt -> 37 | D39: =D38 -> 42339 | E39: 2 | F39: =_CongSP_ -> 0 | G39: =_CongLLCT -> 0 | H39: =_CongKHCB -> 0 | I39: =_CongCSKT -> 0 | J39: =_CongKCT -> 0 | K39: =_CongKCK -> 0 | L39: =_CongKTVT -> 0 | M39: =_CongCNTT -> 0 | N39: =SUMIF('LICH THI'!$A:$A,'Theo Ngay'!$A39,'LICH THI'!Y:Y) -> 0 | P39: =SUMIF('LICH THI'!$A:$A,'Theo Ngay'!$A39,'LICH THI'!O:O) -> 0
A40: =_Ngay_Gio_ -> 42339.542 | B40: =_Gio_ -> 13:00 | C40: =_stt -> 38 | D40: =D39 -> 42339 | E40: 3 | F40: =_CongSP_ -> 0 | G40: =_CongLLCT -> 0 | H40: =_CongKHCB -> 0 | I40: =_CongCSKT -> 0 | J40: =_CongKCT -> 0 | K40: =_CongKCK -> 0 | L40: =_CongKTVT -> 0 | M40: =_CongCNTT -> 0 | N40: =SUMIF('LICH THI'!$A:$A,'Theo Ngay'!$A40,'LICH THI'!Y:Y) -> 0 | P40: =SUMIF('LICH THI'!$A:$A,'Theo Ngay'!$A40,'LICH THI'!O:O) -> 0
A41: =_Ngay_Gio_ -> 42339.625 | B41: =_Gio_ -> 15:00 | C41: =_stt -> 39 | D41: =D40 -> 42339 | E41: 4 | F41: =_CongSP_ -> 0 | G41: =_CongLLCT -> 0 | H41: =_CongKHCB -> 0 | I41: =_CongCSKT -> 0 | J41: =_CongKCT -> 0 | K41: =_CongKCK -> 0 | L41: =_CongKTVT -> 0 | M41: =_CongCNTT -> 0 | N41: =SUMIF('LICH THI'!$A:$A,'Theo Ngay'!$A41,'LICH THI'!Y:Y) -> 0 | P41: =SUMIF('LICH THI'!$A:$A,'Theo Ngay'!$A41,'LICH THI'!O:O) -> 0
A42: =_Ngay_Gio_ -> 42339.75 | B42: =_Gio_ -> 18:00 | C42: =_stt -> 40 | D42: =D41 -> 42339 | E42: 5 | F42: =_CongSP_ -> 0 | G42: =_CongLLCT -> 0 | H42: =_CongKHCB -> 0 | I42: =_CongCSKT -> 0 | J42: =_CongKCT -> 0 | K42: =_CongKCK -> 0 | L42: =_CongKTVT -> 0 | M42: =_CongCNTT -> 0 | N42: =SUMIF('LICH THI'!$A:$A,'Theo Ngay'!$A42,'LICH THI'!Y:Y) -> 0 | P42: =SUMIF('LICH THI'!$A:$A,'Theo Ngay'!$A42,'LICH THI'!O:O) -> 0
A43: =_Ngay_Gio_ -> 42340.292 | B43: =_Gio_ -> 7:00 | C43: =_stt -> 41 | D43: =+D38+1 -> 42340 | E43: 1 | F43: =_CongSP_ -> 0 | G43: =_CongLLCT -> 0 | H43: =_CongKHCB -> 0 | I43: =_CongCSKT -> 0 | J43: =_CongKCT -> 0 | K43: =_CongKCK -> 0 | L43: =_CongKTVT -> 0 | M43: =_CongCNTT -> 0 | N43: =SUMIF('LICH THI'!$A:$A,'Theo Ngay'!$A43,'LICH THI'!Y:Y) -> 0 | P43: =SUMIF('LICH THI'!$A:$A,'Theo Ngay'!$A43,'LICH THI'!O:O) -> 0
A44: =_Ngay_Gio_ -> 42340.375 | B44: =_Gio_ -> 9:00 | C44: =_stt -> 42 | D44: =D43 -> 42340 | E44: 2 | F44: =_CongSP_ -> 0 | G44: =_CongLLCT -> 0 | H44: =_CongKHCB -> 0 | I44: =_CongCSKT -> 0 | J44: =_CongKCT -> 0 | K44: =_CongKCK -> 0 | L44: =_CongKTVT -> 0 | M44: =_CongCNTT -> 0 | N44: =SUMIF('LICH THI'!$A:$A,'Theo Ngay'!$A44,'LICH THI'!Y:Y) -> 0 | P44: =SUMIF('LICH THI'!$A:$A,'Theo Ngay'!$A44,'LICH THI'!O:O) -> 0
A45: =_Ngay_Gio_ -> 42340.542 | B45: =_Gio_ -> 13:00 | C45: =_stt -> 43 | D45: =D44 -> 42340 | E45: 3 | F45: =_CongSP_ -> 0 | G45: =_CongLLCT -> 0 | H45: =_CongKHCB -> 0 | I45: =_CongCSKT -> 0 | J45: =_CongKCT -> 0 | K45: =_CongKCK -> 0 | L45: =_CongKTVT -> 0 | M45: =_CongCNTT -> 0 | N45: =SUMIF('LICH THI'!$A:$A,'Theo Ngay'!$A45,'LICH THI'!Y:Y) -> 0 | P45: =SUMIF('LICH THI'!$A:$A,'Theo Ngay'!$A45,'LICH THI'!O:O) -> 0
A46: =_Ngay_Gio_ -> 42340.625 | B46: =_Gio_ -> 15:00 | C46: =_stt -> 44 | D46: =D45 -> 42340 | E46: 4 | F46: =_CongSP_ -> 0 | G46: =_CongLLCT -> 0 | H46: =_CongKHCB -> 0 | I46: =_CongCSKT -> 0 | J46: =_CongKCT -> 0 | K46: =_CongKCK -> 0 | L46: =_CongKTVT -> 0 | M46: =_CongCNTT -> 0 | N46: =SUMIF('LICH THI'!$A:$A,'Theo Ngay'!$A46,'LICH THI'!Y:Y) -> 0 | P46: =SUMIF('LICH THI'!$A:$A,'Theo Ngay'!$A46,'LICH THI'!O:O) -> 0
A47: =_Ngay_Gio_ -> 42340.75 | B47: =_Gio_ -> 18:00 | C47: =_stt -> 45 | D47: =D46 -> 42340 | E47: 5 | F47: =_CongSP_ -> 0 | G47: =_CongLLCT -> 0 | H47: =_CongKHCB -> 0 | I47: =_CongCSKT -> 0 | J47: =_CongKCT -> 0 | K47: =_CongKCK -> 0 | L47: =_CongKTVT -> 0 | M47: =_CongCNTT -> 0 | N47: =SUMIF('LICH THI'!$A:$A,'Theo Ngay'!$A47,'LICH THI'!Y:Y) -> 0 | P47: =SUMIF('LICH THI'!$A:$A,'Theo Ngay'!$A47,'LICH THI'!O:O) -> 0
A48: =_Ngay_Gio_ -> 42341.292 | B48: =_Gio_ -> 7:00 | C48: =_stt -> 46 | D48: =+D43+1 -> 42341 | E48: 1 | F48: =_CongSP_ -> 0 | G48: =_CongLLCT -> 0 | H48: =_CongKHCB -> 0 | I48: =_CongCSKT -> 0 | J48: =_CongKCT -> 0 | K48: =_CongKCK -> 0 | L48: =_CongKTVT -> 0 | M48: =_CongCNTT -> 0 | N48: =SUMIF('LICH THI'!$A:$A,'Theo Ngay'!$A48,'LICH THI'!Y:Y) -> 0 | P48: =SUMIF('LICH THI'!$A:$A,'Theo Ngay'!$A48,'LICH THI'!O:O) -> 0
A49: =_Ngay_Gio_ -> 42341.375 | B49: =_Gio_ -> 9:00 | C49: =_stt -> 47 | D49: =D48 -> 42341 | E49: 2 | F49: =_CongSP_ -> 0 | G49: =_CongLLCT -> 0 | H49: =_CongKHCB -> 0 | I49: =_CongCSKT -> 0 | J49: =_CongKCT -> 0 | K49: =_CongKCK -> 0 | L49: =_CongKTVT -> 0 | M49: =_CongCNTT -> 0 | N49: =SUMIF('LICH THI'!$A:$A,'Theo Ngay'!$A49,'LICH THI'!Y:Y) -> 0 | P49: =SUMIF('LICH THI'!$A:$A,'Theo Ngay'!$A49,'LICH THI'!O:O) -> 0
A50: =_Ngay_Gio_ -> 42341.542 | B50: =_Gio_ -> 13:00 | C50: =_stt -> 48 | D50: =D49 -> 42341 | E50: 3 | F50: =_CongSP_ -> 0 | G50: =_CongLLCT -> 0 | H50: =_CongKHCB -> 0 | I50: =_CongCSKT -> 0 | J50: =_CongKCT -> 0 | K50: =_CongKCK -> 0 | L50: =_CongKTVT -> 0 | M50: =_CongCNTT -> 0 | N50: =SUMIF('LICH THI'!$A:$A,'Theo Ngay'!$A50,'LICH THI'!Y:Y) -> 0 | P50: =SUMIF('LICH THI'!$A:$A,'Theo Ngay'!$A50,'LICH THI'!O:O) -> 0
A51: =_Ngay_Gio_ -> 42341.625 | B51: =_Gio_ -> 15:00 | C51: =_stt -> 49 | D51: =D50 -> 42341 | E51: 4 | F51: =_CongSP_ -> 0 | G51: =_CongLLCT -> 0 | H51: =_CongKHCB -> 0 | I51: =_CongCSKT -> 0 | J51: =_CongKCT -> 0 | K51: =_CongKCK -> 0 | L51: =_CongKTVT -> 0 | M51: =_CongCNTT -> 0 | N51: =SUMIF('LICH THI'!$A:$A,'Theo Ngay'!$A51,'LICH THI'!Y:Y) -> 0 | P51: =SUMIF('LICH THI'!$A:$A,'Theo Ngay'!$A51,'LICH THI'!O:O) -> 0
A52: =_Ngay_Gio_ -> 42341.75 | B52: =_Gio_ -> 18:00 | C52: =_stt -> 50 | D52: =D51 -> 42341 | E52: 5 | F52: =_CongSP_ -> 0 | G52: =_CongLLCT -> 0 | H52: =_CongKHCB -> 0 | I52: =_CongCSKT -> 0 | J52: =_CongKCT -> 0 | K52: =_CongKCK -> 0 | L52: =_CongKTVT -> 0 | M52: =_CongCNTT -> 0 | N52: =SUMIF('LICH THI'!$A:$A,'Theo Ngay'!$A52,'LICH THI'!Y:Y) -> 0 | P52: =SUMIF('LICH THI'!$A:$A,'Theo Ngay'!$A52,'LICH THI'!O:O) -> 0
