Workbook
Name _CongCNTT: SUMIF('LICH THI'!$A:$A,'Theo Ngay'!$A1,'LICH THI'!$X:$X)
Name _CongCSKT: SUMIF('LICH THI'!$A:$A,'Theo Ngay'!$A1,'LICH THI'!$T:$T)
Name _CongKCK: SUMIF('LICH THI'!$A:$A,'Theo Ngay'!$A1,'LICH THI'!$V:$V)
Name _CongKCT: SUMIF('LICH THI'!$A:$A,'Theo Ngay'!$A1,'LICH THI'!$U:$U)
Name _CongKTVT: SUMIF('LICH THI'!$A:$A,'Theo Ngay'!$A1,'LICH THI'!$W:$W)
Name _CongKHCB: SUMIF('LICH THI'!$A:$A,'Theo Ngay'!$A1,'LICH THI'!$S:$S)
Name _CongLLCT: SUMIF('LICH THI'!$A:$A,'Theo Ngay'!$A1,'LICH THI'!$R:$R)
Name _CongSP_: SUMIF('LICH THI'!$A:$A,'Theo Ngay'!$A1,'LICH THI'!$Q:$Q)
Name _Gio: IF(SV!J1=1,"7:00",IF(SV!J1=2,"9:00",IF(SV!J1=3,"13:00",IF(SV!J1=4,"15:00",IF(SV!J1=5,"18:00","7:00")))))
Name _Gio: IF('LICH THI'!L1=1,"7:00",IF('LICH THI'!L1=2,"9:00",IF('LICH THI'!L1=3,"13:00",IF('LICH THI'!L1=4,"15:00",IF('LICH THI'!L1=5,"18:00","6:30")))))
Name _Gio_: IF('Theo Ngay'!$E1=1,"7:00",IF('Theo Ngay'!$E1=2,"9:00",IF('Theo Ngay'!$E1=3,"13:00",IF('Theo Ngay'!$E1=4,"15:00",IF('Theo Ngay'!$E1=5,"18:00","6:30")))))
Name _Loc2: VLOOKUP(De!$A1,'LICH THI'!$C:$AH,De!A$1,0)
Name _LocMaHP: IF(MID(DATA!$C1,8,1)="-",LEFT(DATA!$C1,7),IF(MID(DATA!$C1,9,1)="-",LEFT(DATA!$C1,8),LEFT(DATA!$C1,9)))
Name _LocMaHP: IF(MID('LỊCH ĐĂNG'!$C1,8,1)="-",LEFT('LỊCH ĐĂNG'!$C1,7),IF(MID('LỊCH ĐĂNG'!$C1,9,1)="-",LEFT('LỊCH ĐĂNG'!$C1,8),LEFT('LỊCH ĐĂNG'!$C1,9)))
Name _LocMaHP: IF(MID('LỊCH ĐĂNG (2)'!$C1,8,1)="-",LEFT('LỊCH ĐĂNG (2)'!$C1,7),IF(MID('LỊCH ĐĂNG (2)'!$C1,9,1)="-",LEFT('LỊCH ĐĂNG (2)'!$C1,8),LEFT('LỊCH ĐĂNG (2)'!$C1,9)))
Name _LocMaHP: IF(MID('LICH THI'!$C1,8,1)="-",LEFT('LICH THI'!$C1,7),IF(MID('LICH THI'!$C1,9,1)="-",LEFT('LICH THI'!$C1,8),LEFT('LICH THI'!$C1,9)))
Name _LocMaHP: IF(MID(Sheet3!$C1,8,1)="-",LEFT(Sheet3!$C1,7),IF(MID(Sheet3!$C1,9,1)="-",LEFT(Sheet3!$C1,8),LEFT(Sheet3!$C1,9)))
Name _Nopdiem: IF(OR('LICH THI'!XEN1="TH",'LICH THI'!XEN1="VĐ"),'LICH THI'!XEP1+2,'LICH THI'!XEP1+7)
Name _Ngay: IF('LỊCH ĐĂNG'!XFD1="","",CHOOSE(WEEKDAY('LỊCH ĐĂNG'!XFD1),"(Cnhật)","(Thứ 2)","(Thứ 3)","(Thứ 4)","(Thứ 5)","(Thứ 6)","(Thứ 7)"))
Name _Ngay: IF('LỊCH ĐĂNG (2)'!XFD1="","",CHOOSE(WEEKDAY('LỊCH ĐĂNG (2)'!XFD1),"(Cnhật)","(Thứ 2)","(Thứ 3)","(Thứ 4)","(Thứ 5)","(Thứ 6)","(Thứ 7)"))
Name _Ngay: IF('LICH THI'!XFD1="","",CHOOSE(WEEKDAY('LICH THI'!XFD1),"(Cnhật)","(Thứ 2)","(Thứ 3)","(Thứ 4)","(Thứ 5)","(Thứ 6)","(Thứ 7)"))
Name _Ngay: IF(SV!XFD1="","",CHOOSE(WEEKDAY(SV!XFD1),"(CN)","(Thứ 2)","(Thứ 3)","(Thứ 4)","(Thứ 5)","(Thứ 6)","(Thứ 7)"))
Name _Ngay_gio: SV!I1+SV!B1
Name _Ngay_gio: 'LICH THI'!K1+'LICH THI'!B1
Name _Ngay_Gio_: 'Theo Ngay'!$D1+'Theo Ngay'!$B1
Name _Ngaycham: IF(OR('LICH THI'!XEO1="TH",'LICH THI'!XEO1="VĐ"),'LICH THI'!XEQ1,IF('LICH THI'!XER1="(Thứ 6)",'LICH THI'!XEQ1+3,'LICH THI'!XEQ1+1))
Name _Ngaythi: 'LICH THI'!$L1048576+'LICH THI'!$I1+'LICH THI'!#REF!
Name _sophong: IF('LỊCH ĐĂNG'!#REF!="","",ROUNDUP('LỊCH ĐĂNG'!#REF!/'LỊCH ĐĂNG'!#REF!,0))
Name _sophong: IF('LỊCH ĐĂNG (2)'!$P1="","",ROUNDUP('LỊCH ĐĂNG (2)'!$O1/'LỊCH ĐĂNG (2)'!$P1,0))
Name _sophong: IF('LICH THI'!$P1="","",ROUNDUP('LICH THI'!$O1/'LICH THI'!$P1,0))
Name _SoSV: SUMIF('Tkê LOP'!$A:$A,'LICH THI'!$C1,'Tkê LOP'!$K:$K)
Name _stt: SoTD!A1048576+1
Name _stt: SV!A1048576+1
Name _stt: 'Theo Ngay'!A1048576+1
Name _stt: 'LICH THI'!A1048576+1
Name _stt_data: #REF!+1
Name _stt_data: #REF!+1
Name _stt_de: De!A1048576+1
Name _SV_P: IF(OR('LICH THI'!$J1="VĐ",'LICH THI'!$J1="TH"),"",'LICH THI'!$P$2)
Name _trangay: VLOOKUP('Tkê LOP'!$A1,'LICH THI'!$C:$AF,'Tkê LOP'!A$1,0)
Name Loclop: LEFT(lop,8)
Name MaBM: IF(DATA!$O1="","",VLOOKUP(DATA!$O1,Mã!$A:$C,3,0))
Name MaCC: LEFT('Tkê LOP'!$D1,7)&"-CC"&LEFT('Tkê LOP'!$N1,3)
Name MaHP: IF(OR(MID(Sheet2!$E1,8,1)="-",MID(Sheet2!$E1,8,1)="("),LEFT(Sheet2!$E1,7),IF(OR(MID(Sheet2!$E1,9,1)="-",MID(Sheet2!$E1,9,1)="("),LEFT(Sheet2!$E1,8),LEFT(Sheet2!$E1,8)))
Name MaHP: IF(OR(MID('Tkê LOP'!$D1,8,1)="-",MID('Tkê LOP'!$D1,8,1)="("),LEFT('Tkê LOP'!$D1,7),IF(OR(MID('Tkê LOP'!$D1,9,1)="-",MID('Tkê LOP'!$D1,9,1)="("),LEFT('Tkê LOP'!$D1,8),LEFT('Tkê LOP'!$D1,8)))
Name MaKhoa: IF(DATA!$P1="","",VLOOKUP(DATA!$P1,Mã!$E:$F,2,0))

Sheet SV
F1: 7 | G1: 8 | H1: 13
D2: TRƯỜNG ĐẠI HỌC CÔNG NGHỆ GTVT | G2: LỊCH THI HỌC KỲ 2 - NĂM HỌC 2014-2015
D3: PHÒNG ĐẢM BẢO CHẤT LƯỢNG ĐÀO TẠO
B4: dl65 | G4: =VLOOKUP(B4,$U$4:$V$15,2,0) -> ĐẠI HỌC LIÊN THÔNG - K65 | U4: CC | V4: CAO ĐẲNG CHÍNH QUY
D5: Ghi chú: | U5: CC64 | V5: CAO ĐẲNG CHÍNH QUY - K64
D6: + Thời gian thi: Ca 1: 7h00' - 9h00'; Ca 2: 9h00' - 11h00'; Ca 3: 13h00' - 15h00'; Ca 4: 15h00' - 17h00'; Ca5: 18h00' - 20h00' | U6: CC65 | V6: CAO ĐẲNG CHÍNH QUY - K65
D7: + Các Khoa, Bộ môn, Giảng viên, Sinh viên kiểm tra Lịch thi, nếu còn Học phần chưa có lịch thi phản ánh ngay cho Phòng Đảm bảo chất lượng đào tạo (ĐBCLĐT) để kịp thời điều chỉnh | U7: DC | V7: ĐẠI HỌC CHÍNH QUY
D8: + Các khoa gửi danh sách phân công Giảng viên coi thi, chấm thi Lần 1 về Phòng ĐBCLĐT trước ngày 20/5/2015 | U8: DC62 | V8: ĐẠI HỌC CHÍNH QUY - K62
D9: + Phòng TCKT thống kê danh sách SV chưa nộp học phí, gửi về Phòng ĐBCLĐT trước ngày 20/5/2015 | U9: DC63 | V9: ĐẠI HỌC CHÍNH QUY - K63
D10: + Sinh viên còn nợ học phí sẽ không được dự thi | U10: DC64 | V10: ĐẠI HỌC CHÍNH QUY - K64
D11: + Sinh viên không có thẻ sinh viên không được dự thi | U11: DC65 | V11: ĐẠI HỌC CHÍNH QUY - K65
D12: + Mọi vấn đề vướng mắc khác, xin liên hệ trực tiếp với Phòng ĐBCLĐT - P409-H1 (Điện thoại: 043 552 8978) | U12: DL65 | V12: ĐẠI HỌC LIÊN THÔNG - K65
U13: DV | V13: ĐẠI HỌC VỪA LÀM VỪA HỌC
C14: S T T | D14: Hệ đào tạo - Khóa | E14: Mã học phần | F14: Tên học phần | G14: Số TC | H14: Hình thức thi | I14: THI LẦN 1 | O14: THI BỔ SUNG (LẦN 2)
I15: Ngày thi | K15: Ca thi | L15: Tổng số SV | M15: Số SV/ phòng | N15: Số phòng thi | O15: Ngày thi Dự kiến từ 1/8-9/8/2015 (Trước HK mới 01 tuần) | Q15: Ca thi | R15: Số SV | S15: Số phòng thi
A17: =_Ngay_gio -> #REF! | B17: =_Gio -> #REF! | C17: ='LICH THI'!#REF! -> #REF! | D17: ='LICH THI'!#REF! -> #REF! | E17: ='LICH THI'!#REF! -> #REF! | F17: ='LICH THI'!#REF! -> #REF! | G17: ='LICH THI'!#REF! -> #REF! | H17: ='LICH THI'!#REF! -> #REF! | I17: ='LICH THI'!#REF! -> #REF! | J17: =_Ngay -> #REF! | K17: ='LICH THI'!#REF! -> #REF! | L17: ='LICH THI'!#REF! -> #REF! | M17: ='LICH THI'!#REF! -> #REF! | N17: ='LICH THI'!#REF! -> #REF! | O17: ='LICH THI'!#REF! -> #REF! | P17: =_Ngay -> #REF! | Q17: ='LICH THI'!#REF! -> #REF!
A18: =_Ngay_gio -> #REF! | B18: =_Gio -> #REF! | C18: =_stt -> #REF! | D18: ='LICH THI'!#REF! -> #REF! | E18: ='LICH THI'!#REF! -> #REF! | F18: ='LICH THI'!#REF! -> #REF! | G18: ='LICH THI'!#REF! -> #REF! | H18: ='LICH THI'!#REF! -> #REF! | I18: ='LICH THI'!#REF! -> #REF! | J18: =_Ngay -> #REF! | K18: ='LICH THI'!#REF! -> #REF! | L18: ='LICH THI'!#REF! -> #REF! | M18: ='LICH THI'!#REF! -> #REF! | N18: ='LICH THI'!#REF! -> #REF! | O18: ='LICH THI'!#REF! -> #REF! | P18: =_Ngay -> #REF! | Q18: ='LICH THI'!#REF! -> #REF!
A19: =_Ngay_gio -> #REF! | B19: =_Gio -> #REF! | C19: =_stt -> #REF! | D19: ='LICH THI'!#REF! -> #REF! | E19: ='LICH THI'!#REF! -> #REF! | F19: ='LICH THI'!#REF! -> #REF! | G19: ='LICH THI'!#REF! -> #REF! | H19: ='LICH THI'!#REF! -> #REF! | I19: ='LICH THI'!#REF! -> #REF! | J19: =_Ngay -> #REF! | K19: ='LICH THI'!#REF! -> #REF! | L19: ='LICH THI'!#REF! -> #REF! | M19: ='LICH THI'!#REF! -> #REF! | N19: ='LICH THI'!#REF! -> #REF! | O19: ='LICH THI'!#REF! -> #REF! | P19: =_Ngay -> #REF! | Q19: ='LICH THI'!#REF! -> #REF!
A20: =_Ngay_gio -> #REF! | B20: =_Gio -> #REF! | C20: =_stt -> #REF! | D20: ='LICH THI'!#REF! -> #REF! | E20: ='LICH THI'!#REF! -> #REF! | F20: ='LICH THI'!#REF! -> #REF! | G20: ='LICH THI'!#REF! -> #REF! | H20: ='LICH THI'!#REF! -> #REF! | I20: ='LICH THI'!#REF! -> #REF! | J20: =_Ngay -> #REF! | K20: ='LICH THI'!#REF! -> #REF! | L20: ='LICH THI'!#REF! -> #REF! | M20: ='LICH THI'!#REF! -> #REF! | N20: ='LICH THI'!#REF! -> #REF! | O20: ='LICH THI'!#REF! -> #REF! | P20: =_Ngay -> #REF! | Q20: ='LICH THI'!#REF! -> #REF!
A21: =_Ngay_gio -> #REF! | B21: =_Gio -> #REF! | C21: =_stt -> #REF! | D21: ='LICH THI'!#REF! -> #REF! | E21: ='LICH THI'!#REF! -> #REF! | F21: ='LICH THI'!#REF! -> #REF! | G21: ='LICH THI'!#REF! -> #REF! | H21: ='LICH THI'!#REF! -> #REF! | I21: ='LICH THI'!#REF! -> #REF! | J21: =_Ngay -> #REF! | K21: ='LICH THI'!#REF! -> #REF! | L21: ='LICH THI'!#REF! -> #REF! | M21: ='LICH THI'!#REF! -> #REF! | N21: ='LICH THI'!#REF! -> #REF! | O21: ='LICH THI'!#REF! -> #REF! | P21: =_Ngay -> #REF! | Q21: ='LICH THI'!#REF! -> #REF!
A22: =_Ngay_gio -> #REF! | B22: =_Gio -> #REF! | C22: =_stt -> #REF! | D22: ='LICH THI'!#REF! -> #REF! | E22: ='LICH THI'!#REF! -> #REF! | F22: ='LICH THI'!#REF! -> #REF! | G22: ='LICH THI'!#REF! -> #REF! | H22: ='LICH THI'!#REF! -> #REF! | I22: ='LICH THI'!#REF! -> #REF! | J22: =_Ngay -> #REF! | K22: ='LICH THI'!#REF! -> #REF! | L22: ='LICH THI'!#REF! -> #REF! | M22: ='LICH THI'!#REF! -> #REF! | N22: ='LICH THI'!#REF! -> #REF! | O22: ='LICH THI'!#REF! -> #REF! | P22: =_Ngay -> #REF! | Q22: ='LICH THI'!#REF! -> #REF!
A23: =_Ngay_gio -> #REF! | B23: =_Gio -> #REF! | C23: =_stt -> #REF! | D23: ='LICH THI'!#REF! -> #REF! | E23: ='LICH THI'!#REF! -> #REF! | F23: ='LICH THI'!#REF! -> #REF! | G23: ='LICH THI'!#REF! -> #REF! | H23: ='LICH THI'!#REF! -> #REF! | I23: ='LICH THI'!#REF! -> #REF! | J23: =_Ngay -> #REF! | K23: ='LICH THI'!#REF! -> #REF! | L23: ='LICH THI'!#REF! -> #REF! | M23: ='LICH THI'!#REF! -> #REF! | N23: ='LICH THI'!#REF! -> #REF! | O23: ='LICH THI'!#REF! -> #REF! | P23: =_Ngay -> #REF! | Q23: ='LICH THI'!#REF! -> #REF!
A24: =_Ngay_gio -> #REF! | B24: =_Gio -> #REF! | C24: =_stt -> #REF! | D24: ='LICH THI'!#REF! -> #REF! | E24: ='LICH THI'!#REF! -> #REF! | F24: ='LICH THI'!#REF! -> #REF! | G24: ='LICH THI'!#REF! -> #REF! | H24: ='LICH THI'!#REF! -> #REF! | I24: ='LICH THI'!#REF! -> #REF! | J24: =_Ngay -> #REF! | K24: ='LICH THI'!#REF! -> #REF! | L24: ='LICH THI'!#REF! -> #REF! | M24: ='LICH THI'!#REF! -> #REF! | N24: ='LICH THI'!#REF! -> #REF! | O24: ='LICH THI'!#REF! -> #REF! | P24: =_Ngay -> #REF! | Q24: ='LICH THI'!#REF! -> #REF!
A25: =_Ngay_gio -> #REF! | B25: =_Gio -> #REF! | C25: =_stt -> #REF! | D25: ='LICH THI'!#REF! -> #REF! | E25: ='LICH THI'!#REF! -> #REF! | F25: ='LICH THI'!#REF! -> #REF! | G25: ='LICH THI'!#REF! -> #REF! | H25: ='LICH THI'!#REF! -> #REF! | I25: ='LICH THI'!#REF! -> #REF! | J25: =_Ngay -> #REF! | K25: ='LICH THI'!#REF! -> #REF! | L25: ='LICH THI'!#REF! -> #REF! | M25: ='LICH THI'!#REF! -> #REF! | N25: ='LICH THI'!#REF! -> #REF! | O25: ='LICH THI'!#REF! -> #REF! | P25: =_Ngay -> #REF! | Q25: ='LICH THI'!#REF! -> #REF!
A26: =_Ngay_gio -> #REF! | B26: =_Gio -> #REF! | C26: =_stt -> #REF! | D26: ='LICH THI'!#REF! -> #REF! | E26: ='LICH THI'!#REF! -> #REF! | F26: ='LICH THI'!#REF! -> #REF! | G26: ='LICH THI'!#REF! -> #REF! | H26: ='LICH THI'!#REF! -> #REF! | I26: ='LICH THI'!#REF! -> #REF! | J26: =_Ngay -> #REF! | K26: ='LICH THI'!#REF! -> #REF! | L26: ='LICH THI'!#REF! -> #REF! | M26: ='LICH THI'!#REF! -> #REF! | N26: ='LICH THI'!#REF! -> #REF! | O26: ='LICH THI'!#REF! -> #REF! | P26: =_Ngay -> #REF! | Q26: ='LICH THI'!#REF! -> #REF!
A27: =_Ngay_gio -> #REF! | B27: =_Gio -> #REF! | C27: =_stt -> #REF! | D27: ='LICH THI'!#REF! -> #REF! | E27: ='LICH THI'!#REF! -> #REF! | F27: ='LICH THI'!#REF! -> #REF! | G27: ='LICH THI'!#REF! -> #REF! | H27: ='LICH THI'!#REF! -> #REF! | I27: ='LICH THI'!#REF! -> #REF! | J27: =_Ngay -> #REF! | K27: ='LICH THI'!#REF! -> #REF! | L27: ='LICH THI'!#REF! -> #REF! | M27: ='LICH THI'!#REF! -> #REF! | N27: ='LICH THI'!#REF! -> #REF! | O27: ='LICH THI'!#REF! -> #REF! | P27: =_Ngay -> #REF! | Q27: ='LICH THI'!#REF! -> #REF!
A28: =_Ngay_gio -> #REF! | B28: =_Gio -> #REF! | C28: =_stt -> #REF! | D28: ='LICH THI'!#REF! -> #REF! | E28: ='LICH THI'!#REF! -> #REF! | F28: ='LICH THI'!#REF! -> #REF! | G28: ='LICH THI'!#REF! -> #REF! | H28: ='LICH THI'!#REF! -> #REF! | I28: ='LICH THI'!#REF! -> #REF! | J28: =_Ngay -> #REF! | K28: ='LICH THI'!#REF! -> #REF! | L28: ='LICH THI'!#REF! -> #REF! | M28: ='LICH THI'!#REF! -> #REF! | N28: ='LICH THI'!#REF! -> #REF! | O28: ='LICH THI'!#REF! -> #REF! | P28: =_Ngay -> #REF! | Q28: ='LICH THI'!#REF! -> #REF!
A29: =_Ngay_gio -> #REF! | B29: =_Gio -> #REF! | C29: =_stt -> #REF! | D29: ='LICH THI'!#REF! -> #REF! | E29: ='LICH THI'!#REF! -> #REF! | F29: ='LICH THI'!#REF! -> #REF! | G29: ='LICH THI'!#REF! -> #REF! | H29: ='LICH THI'!#REF! -> #REF! | I29: ='LICH THI'!#REF! -> #REF! | J29: =_Ngay -> #REF! | K29: ='LICH THI'!#REF! -> #REF! | L29: ='LICH THI'!#REF! -> #REF! | M29: ='LICH THI'!#REF! -> #REF! | N29: ='LICH THI'!#REF! -> #REF! | O29: ='LICH THI'!#REF! -> #REF! | P29: =_Ngay -> #REF! | Q29: ='LICH THI'!#REF! -> #REF!
... A40: =_Ngay_gio -> #REF! | B40: =_Gio -> #REF! | C40: =_stt -> #REF! | D40: ='LICH THI'!#REF! -> #REF! | E40: ='LICH THI'!#REF! -> #REF! | F40: ='LICH THI'!#REF! -> #REF! | G40: ='LICH THI'!#REF! -> #REF! | H40: ='LICH THI'!#REF! -> #REF! | I40: ='LICH THI'!#REF! -> #REF! | J40: =_Ngay -> #REF! | K40: ='LICH THI'!#REF! -> #REF! | L40: ='LICH THI'!#REF! -> #REF! | M40: ='LICH THI'!#REF! -> #REF! | N40: ='LICH THI'!#REF! -> #REF! | O40: ='LICH THI'!#REF! -> #REF! | P40: =_Ngay -> #REF! | Q40: ='LICH THI'!#REF! -> #REF!
A41: =_Ngay_gio -> 42333.375 | B41: =_Gio -> 9:00 | C41: =_stt -> #REF! | D41: ='LICH THI'!E10 -> DCK63 | E41: ='LICH THI'!F10 -> DC3CA51 | F41: ='LICH THI'!G10 -> Kỹ thuật thi công cầu 1 | G41: ='LICH THI'!I10 -> 3 | H41: ='LICH THI'!J10 -> Viết | I41: ='LICH THI'!L10 -> 42333 | J41: =_Ngay -> (Thứ 4) | K41: ='LICH THI'!N10 -> 2 | L41: ='LICH THI'!O10 -> 50 | M41: ='LICH THI'!P10 -> 30 | N41: ='LICH THI'!Q10 -> 2 | O41: ='LICH THI'!AB10 -> 0 | P41: =_Ngay -> (Thứ 7) | Q41: ='LICH THI'!AD10 -> 0
A42: =_Ngay_gio -> #REF! | B42: =_Gio -> #REF! | C42: =_stt -> #REF! | D42: ='LICH THI'!#REF! -> #REF! | E42: ='LICH THI'!#REF! -> #REF! | F42: ='LICH THI'!#REF! -> #REF! | G42: ='LICH THI'!#REF! -> #REF! | H42: ='LICH THI'!#REF! -> #REF! | I42: ='LICH THI'!#REF! -> #REF! | J42: =_Ngay -> #REF! | K42: ='LICH THI'!#REF! -> #REF! | L42: ='LICH THI'!#REF! -> #REF! | M42: ='LICH THI'!#REF! -> #REF! | N42: ='LICH THI'!#REF! -> #REF! | O42: ='LICH THI'!#REF! -> #REF! | P42: =_Ngay -> #REF! | Q42: ='LICH THI'!#REF! -> #REF!
A43: =_Ngay_gio -> 42345.375 | B43: =_Gio -> 9:00 | C43: =_stt -> #REF! | D43: ='LICH THI'!E12 -> DCK63 | E43: ='LICH THI'!F12 -> DC3CD33A | F43: ='LICH THI'!G12 -> Tiếng Anh 4 | G43: ='LICH THI'!I12 -> 0 | H43: ='LICH THI'!J12 -> Viết | I43: ='LICH THI'!L12 -> 42345 | J43: =_Ngay -> (Thứ 2) | K43: ='LICH THI'!N12 -> 2 | L43: ='LICH THI'!O12 -> 50 | M43: ='LICH THI'!P12 -> 30 | N43: ='LICH THI'!Q12 -> 2 | O43: ='LICH THI'!AB12 -> 0 | P43: =_Ngay -> (Thứ 7) | Q43: ='LICH THI'!AD12 -> 0
A44: =_Ngay_gio -> #REF! | B44: =_Gio -> #REF! | C44: =_stt -> #REF! | D44: ='LICH THI'!#REF! -> #REF! | E44: ='LICH THI'!#REF! -> #REF! | F44: ='LICH THI'!#REF! -> #REF! | G44: ='LICH THI'!#REF! -> #REF! | H44: ='LICH THI'!#REF! -> #REF! | I44: ='LICH THI'!#REF! -> #REF! | J44: =_Ngay -> #REF! | K44: ='LICH THI'!#REF! -> #REF! | L44: ='LICH THI'!#REF! -> #REF! | M44: ='LICH THI'!#REF! -> #REF! | N44: ='LICH THI'!#REF! -> #REF! | O44: ='LICH THI'!#REF! -> #REF! | P44: =_Ngay -> #REF! | Q44: ='LICH THI'!#REF! -> #REF!
A45: =_Ngay_gio -> 42348.292 | B45: =_Gio -> 7:00 | C45: =_stt -> #REF! | D45: ='LICH THI'!E20 -> DCK63 | E45: ='LICH THI'!F20 -> DC3KV43 | F45: ='LICH THI'!G20 -> Kiểm toán báo cáo tài chính | G45: ='LICH THI'!I20 -> 3 | H45: ='LICH THI'!J20 -> Viết | I45: ='LICH THI'!L20 -> 42348 | J45: =_Ngay -> (Thứ 5) | K45: ='LICH THI'!N20 -> SA | L45: ='LICH THI'!O20 -> 40 | M45: ='LICH THI'!P20 -> 0 | N45: ='LICH THI'!Q20 -> 0 | O45: ='LICH THI'!AB20 -> 0 | P45: =_Ngay -> (Thứ 7) | Q45: ='LICH THI'!AD20 -> 0
A46: =_Ngay_gio -> #REF! | B46: =_Gio -> #REF! | C46: =_stt -> #REF! | D46: ='LICH THI'!#REF! -> #REF! | E46: ='LICH THI'!#REF! -> #REF! | F46: ='LICH THI'!#REF! -> #REF! | G46: ='LICH THI'!#REF! -> #REF! | H46: ='LICH THI'!#REF! -> #REF! | I46: ='LICH THI'!#REF! -> #REF! | J46: =_Ngay -> #REF! | K46: ='LICH THI'!#REF! -> #REF! | L46: ='LICH THI'!#REF! -> #REF! | M46: ='LICH THI'!#REF! -> #REF! | N46: ='LICH THI'!#REF! -> #REF! | O46: ='LICH THI'!#REF! -> #REF! | P46: =_Ngay -> #REF! | Q46: ='LICH THI'!#REF! -> #REF!
A47: =_Ngay_gio -> #REF! | B47: =_Gio -> #REF! | C47: =_stt -> #REF! | D47: ='LICH THI'!#REF! -> #REF! | E47: ='LICH THI'!#REF! -> #REF! | F47: ='LICH THI'!#REF! -> #REF! | G47: ='LICH THI'!#REF! -> #REF! | H47: ='LICH THI'!#REF! -> #REF! | I47: ='LICH THI'!#REF! -> #REF! | J47: =_Ngay -> #REF! | K47: ='LICH THI'!#REF! -> #REF! | L47: ='LICH THI'!#REF! -> #REF! | M47: ='LICH THI'!#REF! -> #REF! | N47: ='LICH THI'!#REF! -> #REF! | O47: ='LICH THI'!#REF! -> #REF! | P47: =_Ngay -> #REF! | Q47: ='LICH THI'!#REF! -> #REF!
A48: =_Ngay_gio -> #REF! | B48: =_Gio -> #REF! | C48: =_stt -> #REF! | D48: ='LICH THI'!#REF! -> #REF! | E48: ='LICH THI'!#REF! -> #REF! | F48: ='LICH THI'!#REF! -> #REF! | G48: ='LICH THI'!#REF! -> #REF! | H48: ='LICH THI'!#REF! -> #REF! | I48: ='LICH THI'!#REF! -> #REF! | J48: =_Ngay -> #REF! | K48: ='LICH THI'!#REF! -> #REF! | L48: ='LICH THI'!#REF! -> #REF! | M48: ='LICH THI'!#REF! -> #REF! | N48: ='LICH THI'!#REF! -> #REF! | O48: ='LICH THI'!#REF! -> #REF! | P48: =_Ngay -> #REF! | Q48: ='LICH THI'!#REF! -> #REF!
A49: =_Ngay_gio -> 42338.375 | B49: =_Gio -> 9:00 | C49: =_stt -> #REF! | D49: ='LICH THI'!E17 -> DCK63 | E49: ='LICH THI'!F17 -> DC3KV32 | F49: ='LICH THI'!G17 -> Phân tích hoạt động kinh doanh | G49: ='LICH THI'!I17 -> 3 | H49: ='LICH THI'!J17 -> 0 | I49: ='LICH THI'!L17 -> 42338 | J49: =_Ngay -> (Thứ 2) | K49: ='LICH THI'!N17 -> 2 | L49: ='LICH THI'!O17 -> 40 | M49: ='LICH THI'!P17 -> 30 | N49: ='LICH THI'!Q17 -> 2 | O49: ='LICH THI'!AB17 -> 0 | P49: =_Ngay -> (Thứ 7) | Q49: ='LICH THI'!AD17 -> 0
A50: =_Ngay_gio -> #REF! | B50: =_Gio -> #REF! | C50: =_stt -> #REF! | D50: ='LICH THI'!#REF! -> #REF! | E50: ='LICH THI'!#REF! -> #REF! | F50: ='LICH THI'!#REF! -> #REF! | G50: ='LICH THI'!#REF! -> #REF! | H50: ='LICH THI'!#REF! -> #REF! | I50: ='LICH THI'!#REF! -> #REF! | J50: =_Ngay -> #REF! | K50: ='LICH THI'!#REF! -> #REF! | L50: ='LICH THI'!#REF! -> #REF! | M50: ='LICH THI'!#REF! -> #REF! | N50: ='LICH THI'!#REF! -> #REF! | O50: ='LICH THI'!#REF! -> #REF! | P50: =_Ngay -> #REF! | Q50: ='LICH THI'!#REF! -> #REF!
A51: =_Ngay_gio -> #REF! | B51: =_Gio -> #REF! | C51: =_stt -> #REF! | D51: ='LICH THI'!#REF! -> #REF! | E51: ='LICH THI'!#REF! -> #REF! | F51: ='LICH THI'!#REF! -> #REF! | G51: ='LICH THI'!#REF! -> #REF! | H51: ='LICH THI'!#REF! -> #REF! | I51: ='LICH THI'!#REF! -> #REF! | J51: =_Ngay -> #REF! | K51: ='LICH THI'!#REF! -> #REF! | L51: ='LICH THI'!#REF! -> #REF! | M51: ='LICH THI'!#REF! -> #REF! | N51: ='LICH THI'!#REF! -> #REF! | O51: ='LICH THI'!#REF! -> #REF! | P51: =_Ngay -> #REF! | Q51: ='LICH THI'!#REF! -> #REF!
...

Sheet Sheet1
I1: DC1CB13-DLK65 | J1: =+LEFT(I1,7) -> DC1CB13 | M1: DC1CB94-DCK65 | N1: DC1CB94
I2: DL2CT27-DLK65 | J2: =+LEFT(I2,7) -> DL2CT27 | M2: DC2CB89-DCK65 | N2: DC2CB89 | Q2: DC2CT65-DCK64
B3: 65DLCD21 | C3: 57 | E3: =SUM(C3:C5) -> 163 | I3: DL2GT52-DLK65 | J3: =+LEFT(I3,7) -> DL2GT52 | M3: DC2HT26-DCK65 | N3: DC2HT26 | Q3: DC2CT65-DCK63
B4: 65DLCD22 | C4: 49 | I4: DL3DB41-DLK65 | J4: =+LEFT(I4,7) -> DL3DB41 | M4: DC3VL25-DCK65 | N4: DC3VL25 | Q4: DC3HT51-DCK64
B5: 65DLCD23 | C5: 57 | I5: DL3CA41-DLK65 | J5: =+LEFT(I5,7) -> DL3CA41 | M5: DC2DT45-DCK65 | N5: DC2DT45 | Q5: DC2DT55-DCK64
B6: 65DLCD24 | C6: 56 | E6: =+C6+C7+C8+C9+C10+C13+C15+C19+C20+C21 -> 504 | I6: DC2GT54-DLK65 | J6: =+LEFT(I6,7) -> DC2GT54 | M6: DC2DT44-DCK65 | N6: DC2DT44 | Q6: DC1CB94-DCK64
B7: 65DLCD25 | C7: 84 | I7: DC3CA44-DLK65 | J7: =+LEFT(I7,7) -> DC3CA44 | M7: DC2CT31-DCK65 | N7: DC2CT31 | Q7: DC1CB94-DCK65
B8: 65DLCD26 | C8: 58 | I8: DC3DB44-DLK65 | J8: =+LEFT(I8,7) -> DC3DB44 | M8: DC2VS67-DCK65 | N8: DC2VS67 | Q8: DC2TH33-DCK64
B9: 65DLCD27 | C9: 50 | I9: DC1CB32-DLK65 | J9: =+LEFT(I9,7) -> DC1CB32 | M9: DC2VB67-DCK65 | N9: DC2VB67 | Q9: DC2CB89-DCK65
B10: 65DLCD28 | C10: 44 | I10: DC1CB12-DLK65 | J10: =+LEFT(I10,7) -> DC1CB12 | M10: DC2KV22-DCK65 | N10: DC2KV22 | Q10: DC3DD46-DCK63
B11: 65DLDD21 | C11: 54 | E11: =+C11 -> 54 | I11: DL1CB22-DLK65 | J11: =+LEFT(I11,7) -> DL1CB22 | M11: DC2CK54-DCK65 | N11: DC2CK54 | Q11: DC2HT26-DCK65
B12: 65DLDD22 | C12: 59 | E12: =+C12 -> 59 | I12: DL2GT61-DLK65 | J12: =+LEFT(I12,7) -> DL2GT61 | M12: DC1QP01-DCK65 | N12: DC1QP01 | Q12: DC2CK57-DCK64
B13: 65DLDD23 | C13: 37 | I13: DC1CB20-DLK65 | J13: =+LEFT(I13,7) -> DC1CB20 | M13: DC1QP02-DCK65 | N13: DC1QP02 | Q13: DC2CK33-DCK64
B14: 65DLOT21 | C14: 42 | E14: =+C14 -> 42 | I14: DC3DB71-DLK65 | J14: =+LEFT(I14,7) -> DC3DB71 | M14: DC1QP03-DCK65 | N14: DC1QP03 | Q14: DC3VL25-DCK65
B15: 65DLOT22 | C15: 22 | I15: DL2DD52-DLK65 | J15: =+LEFT(I15,7) -> DL2DD52 | M15: DC1TD01-DCK65 | N15: DC1TD01 | Q15: DC3DT82-DCK64
B16: 65DLMX21 | C16: 20 | E16: =+C16 -> 20 | I16: DL2DD33-DLK65 | J16: =+LEFT(I16,7) -> DL2DD33 | M16: DC1TD02-DCK65 | N16: DC1TD02 | Q16: DC3CC47-DCK64
B17: 65DLKT21 | C17: 63 | I17: DC2DD94-DLK65 | J17: =+LEFT(I17,7) -> DC2DD94 | M17: DC1TD03-DCK65 | N17: DC1TD03 | Q17: DC2CT32-DCK64
B18: 65DLKT22 | C18: 53 | I18: DL3DD41-DLK65 | J18: =+LEFT(I18,7) -> DL3DD41 | M18: DC1TD04-DCK65 | N18: DC1TD04 | Q18: CC2CO24-CCK66
B19: 65DLKT23 | C19: =55+13 -> 68 | I19: DC2DD54-DLK65 | J19: =+LEFT(I19,7) -> DC2DD54 | M19: DC1TD05-DCK65 | N19: DC1TD05 | Q19: DC2CO24-DCK66
B20: 65DLKT24 | C20: 63 | I20: DC2DD34-DLK65 | J20: =+LEFT(I20,7) -> DC2DD34 | M20: DC2VB39-DCK65 | N20: DC2VB39 | Q20: DC2DT44-DCK65
B21: 65DLKT25 | C21: 22 | I21: DC3DD42-DLK65 | J21: =+LEFT(I21,7) -> DC3DD42 | M21: DC2CO11-DCK65 | N21: DC2CO11 | Q21: DC3DT60-DCK64
B22: 65DLQT21 | C22: 27 | I22: DC3CT55-DLK65 | J22: =+LEFT(I22,7) -> DC3CT55 | M22: DC1CB26-DCK65 | N22: DC1CB26 | Q22: DC2CT31-DCK65
B23: 65DLKX21 | C23: 57 | I23: DL3DD60-DLK65 | J23: =+LEFT(I23,7) -> DL3DD60 | M23: DC3KT22-DCK65 | N23: DC3KT22 | Q23: DC2VB32-DCK66
I24: DL2CO26-DLK65 | J24: =+LEFT(I24,7) -> DL2CO26 | M24: DC2KV64-DCK65 | N24: DC2KV64 | Q24: DC3MT37-DCK64
B25: 65DVCD21 | C25: 34 | I25: DL2CK48-DLK65 | J25: =+LEFT(I25,7) -> DL2CK48 | M25: DC2KV63-DCK65 | N25: DC2KV63 | Q25: DC2DT51-DCK64
B26: 64DVCD01 | C26: 23 | I26: DC2CK57-DLK65 | J26: =+LEFT(I26,7) -> DC2CK57 | M26: DC2KV82-DCK65 | N26: DC2KV82 | Q26: DC2VS67-DCK65
I27: DL3CK71-DLK65 | J27: =+LEFT(I27,7) -> DL3CK71 | M27: DC3KX71-DCK65 | N27: DC3KX71 | Q27: DC2VB67-DCK65
I28: DC3CK72-DLK65 | J28: =+LEFT(I28,7) -> DC3CK72 | M28: DC1TH46-DCK65 | N28: DC1TH46 | Q28: DC2KV22-DCK65
I29: DL2CK41-DLK65 | J29: =+LEFT(I29,7) -> DL2CK41 | M29: DC1TH47-DCK65 | N29: DC1TH47 | Q29: DC2CK52-DCK64
I30: DC3MX40-DLK65 | J30: =+LEFT(I30,7) -> DC3MX40 | M30: DC2DT41-DCK65 | N30: DC2DT41 | Q30: DC2DT52-DCK64
I31: DL2OT70-DLK65 | J31: =+LEFT(I31,7) -> DL2OT70 | M31: DC2DT42-DCK65 | N31: DC2DT42 | Q31: DC3KT25-DCK63
I32: DL2CO21-DLK65 | J32: =+LEFT(I32,7) -> DL2CO21 | M32: DC2DT43-DCK65 | N32: DC2DT43 | Q32: DC2GT54-DCK64
I33: DL2CO25-DLK65 | J33: =+LEFT(I33,7) -> DL2CO25 | M33: DC1CB20-DCK65 | N33: DC1CB20 | Q33: DC2DD54-DCK64
I34: DL2CO13-DLK65 | J34: =+LEFT(I34,7) -> DL2CO13 | M34: DC1TH48-DCK65 | N34: DC1TH48 | Q34: DC2OT71-DCK64
I35: DL2CK55-DLK65 | J35: =+LEFT(I35,7) -> DL2CK55 | M35: DC2GT42-DCK65 | N35: DC2GT42 | Q35: DC3MX47-DCK63
I36: DC2CK54-DLK65 | J36: =+LEFT(I36,7) -> DC2CK54 | M36: DC1CB92-DCK65 | N36: DC1CB92 | Q36: DC3MX42-DCK63
I37: DC3KV43-DLK65 | J37: =+LEFT(I37,7) -> DC3KV43 | M37: DC2TT23-DCK65 | N37: DC2TT23 | Q37: DC2GT34-DCK64
I38: DC3KT24-DLK65 | J38: =+LEFT(I38,7) -> DC3KT24 | M38: DC2KV68-DCK65 | N38: DC2KV68 | Q38: DC2CK54-DCK65
... I67: DC1CB21-DVK65 | J67: =+LEFT(I67,7) -> DC1CB21 | M67: DC2KV90-DCK65 | N67: DC2KV90 | Q67: DC2DD51-DCK64
M68: DC1CB31-DCK65 | N68: DC1CB31 | Q68: DC3KV43-DCK63
...

Sheet Mã
A1: Phụ trách
A2: BM phụ trách | B2: Khoa phụ trách
A4: NLCN Mác - Lênin | B4: LÝ LUẬN CHÍNH TRỊ | C4: LLNL | E4: LÝ LUẬN CHÍNH TRỊ | F4: LLCT
A5: Tư tưởng Hồ Chí Minh | B5: LÝ LUẬN CHÍNH TRỊ | C5: LLTT | E5: KHOA HỌC CƠ BẢN | F5: KHCB
A6: ĐLCM của ĐCSVN | B6: LÝ LUẬN CHÍNH TRỊ | C6: LLDL | E6: CÔNG NGHỆ THÔNG TIN | F6: CNTT
A7: Giáo dục pháp luật | B7: LÝ LUẬN CHÍNH TRỊ | C7: LLPL | E7: GIÁO DỤC THỂ CHẤT | F7: GDTC
A8: Ngoại ngữ | B8: KHOA HỌC CƠ BẢN | C8: CBNN | E8: GIÁO DỤC QPAN | F8: QPAN
A9: Toán | B9: KHOA HỌC CƠ BẢN | C9: CBTO | E9: CƠ SỞ KỸ THUẬT | F9: CSKT
A10: Vật lý | B10: KHOA HỌC CƠ BẢN | C10: CBLY | E10: CÔNG TRÌNH | F10: KCT
A11: Hóa học | B11: KHOA HỌC CƠ BẢN | C11: CBHO | E11: KINH TẾ - VẬN TẢI | F11: KTVT
A12: Hệ thống thông tin | B12: CÔNG NGHỆ THÔNG TIN | C12: TTHT | E12: CƠ KHÍ | F12: KCK
A13: CÔNG NGHỆ THÔNG TIN | B13: CÔNG NGHỆ THÔNG TIN | C13: CNTT
A14: Giáo dục thể chất | B14: GIÁO DỤC THỂ CHẤT | C14: CDTC
A15: Quốc phòng - An ninh | B15: GIÁO DỤC QPAN | C15: QPAN
A16: Hình họa - Vẽ kĩ thuật | B16: CƠ SỞ KỸ THUẬT | C16: CSVE
A17: CNKT Môi trường | B17: CÔNG TRÌNH | C17: CTMO
A18: Cơ sở ngành kinh tế | B18: KINH TẾ - VẬN TẢI | C18: KVCS
A19: Khoa Cơ khí | B19: CƠ KHÍ | C19: KCK
A20: Quản trị doanh nghiệp | B20: KINH TẾ - VẬN TẢI | C20: KVQT
A21: Vận tải sắt - bộ | B21: KINH TẾ - VẬN TẢI | C21: KVSB
A22: Kinh tế xây dựng | B22: KINH TẾ - VẬN TẢI | C22: KVKX
A23: Điện - Điện tử | B23: CÔNG NGHỆ THÔNG TIN | C23: TTDT
A24: Khoa CNTT | B24: CÔNG NGHỆ THÔNG TIN | C24: CNTT
... A45: Tin học công trình | B45: CÔNG TRÌNH | C45: CTUD

Sheet DATA
A1: Mã học phần | F1: Số TT | G1: Học phần | H1: Số TC | I1: Khối lượng (tiết, giờ) | M1: THI | AB1: NGÀNH | AU1: NGÀNH
A2: ĐHCQ | B2: ĐHLT | C2: ĐTLT | D2: CĐCQ | E2: CĐLT | G2: Tên đầy đủ | I2: LT, BT | J2: TL, TH, TN | K2: TT, ĐA, BTL (h) | L2: Tự học (h) | M2: Hình thức | N2: Thời gian | O2: BM phụ trách | P2: Khoa phụ trách | T2: DCCA | U2: DCCC | V2: DCCD | W2: DCCS | X2: DCDB | Y2: DCDD | Z2: DCCDA | AA2: DCOT | AB2: DCMX | AC2: DCMT | AD2: DCDM | AE2: DCDT | AF2: DCHT | AG2: DCKT | AH2: DCQT | AI2: DCKX | AJ2: DCVB | AK2: DCVS | AL2: DCVL | AM2: CCCA | AN2: CCCC | AO2: CCCD | AP2: CCCS | AQ2: CCDB | AR2: CCDD | AS2: CCCDA | AT2: CCOT | AU2: CCMX | AV2: CCMT | AW2: CCDM | AX2: CCDT | AY2: CCTH | AZ2: CCKT | BA2: CCQT | BB2: CCKX | BC2: CCVB | BD2: CCVS | BE2: CCVL
A3: DC | B3: DL | C3: DT | D3: CC | E3: CL
A4: DC1TT90 | D4: CC1TT90 | F4: 52 | G4: Bảo vệ môi trường | H4: 2 | I4: 30 | L4: 0 | O4: Khoa CNTT | P4: CÔNG NGHỆ THÔNG TIN | Q4: =MaBM -> CNTT | R4: =MaKhoa -> CNTT | S4: =+R4&"-"&Q4 -> CNTT-CNTT | AF4: o | AY4: o
A5: DC4TH80 | F5: 738 | G5: Đồ án tốt nghiệp | H5: 8 | K5: 480 | L5: 0 | M5: VĐ | O5: Khoa CNTT | P5: CÔNG NGHỆ THÔNG TIN | Q5: =MaBM -> CNTT | R5: =MaKhoa -> CNTT | S5: =+R5&"-"&Q5 -> CNTT-CNTT | AF5: x
D6: CC4TH80 | F6: 739 | G6: Đồ án tốt nghiệp | H6: 4 | K6: 240 | L6: 0 | M6: VĐ | O6: Khoa CNTT | P6: CÔNG NGHỆ THÔNG TIN | Q6: =MaBM -> CNTT | R6: =MaKhoa -> CNTT | S6: =+R6&"-"&Q6 -> CNTT-CNTT | AY6: x
A7: DC4DT80 | B7: DC4DT80 | F7: 740 | G7: Đồ án tốt nghiệp | H7: 8 | K7: 480 | L7: 0 | M7: VĐ | O7: Khoa CNTT | P7: CÔNG NGHỆ THÔNG TIN | Q7: =MaBM -> CNTT | R7: =MaKhoa -> CNTT | S7: =+R7&"-"&Q7 -> CNTT-CNTT | AE7: x
D8: CC4DT80 | F8: 741 | G8: Đồ án tốt nghiệp | H8: 4 | K8: 240 | L8: 0 | M8: VĐ | O8: Khoa CNTT | P8: CÔNG NGHỆ THÔNG TIN | Q8: =MaBM -> CNTT | R8: =MaKhoa -> CNTT | S8: =+R8&"-"&Q8 -> CNTT-CNTT | AX8: x
A9: DC4ME80 | F9: 840 | G9: Đồ án tốt nghiệp | H9: 8 | K9: 480 | L9: 0 | M9: VĐ | O9: Khoa CNTT | P9: CÔNG NGHỆ THÔNG TIN | Q9: =MaBM -> CNTT | R9: =MaKhoa -> CNTT | S9: =+R9&"-"&Q9 -> CNTT-CNTT
A10: DC4TH70 | B10: DC4TH70 | D10: CC4TH70 | F10: 706 | G10: Thực tập tốt nghiệp | H10: 4 | K10: 180 | L10: 0 | M10: VĐ | O10: Khoa CNTT | P10: CÔNG NGHỆ THÔNG TIN | Q10: =MaBM -> CNTT | R10: =MaKhoa -> CNTT | S10: =+R10&"-"&Q10 -> CNTT-CNTT | AF10: x | AY10: x
A11: DC4DT70 | B11: DC4DT70 | D11: CC4DT70 | F11: 707 | G11: Thực tập tốt nghiệp | H11: 4 | K11: 180 | L11: 0 | M11: VĐ | O11: Khoa CNTT | P11: CÔNG NGHỆ THÔNG TIN | Q11: =MaBM -> CNTT | R11: =MaKhoa -> CNTT | S11: =+R11&"-"&Q11 -> CNTT-CNTT | AE11: x | AX11: x
A12: DC4ME70 | F12: 839 | G12: Thực tập tốt nghiệp | H12: 4 | K12: 240 | L12: 0 | M12: VĐ | O12: Khoa CNTT | P12: CÔNG NGHỆ THÔNG TIN | Q12: =MaBM -> CNTT | R12: =MaKhoa -> CNTT | S12: =+R12&"-"&Q12 -> CNTT-CNTT
A13: DC3DT64 | B13: DC3DT64 | F13: 551 | G13: An ninh mạng thông tin | H13: 3 | I13: 45 | L13: 0 | M13: Viết | N13: 60 | O13: Điện - Điện tử | P13: CÔNG NGHỆ THÔNG TIN | Q13: =MaBM -> TTDT | R13: =MaKhoa -> CNTT | S13: =+R13&"-"&Q13 -> CNTT-TTDT | AE13: x
A14: DC2DT55 | B14: DC2DT55 | F14: 206 | G14: Anten và truyền sóng | H14: 3 | I14: 45 | L14: 0 | O14: Điện - Điện tử | P14: CÔNG NGHỆ THÔNG TIN | Q14: =MaBM -> TTDT | R14: =MaKhoa -> CNTT | S14: =+R14&"-"&Q14 -> CNTT-TTDT | AE14: x
A15: DC3DT81 | B15: DC3DT81 | D15: CC3DT81 | F15: 627 | G15: Công nghệ Multimedia | H15: 2 | I15: 30 | L15: 0 | M15: Viết | N15: 60 | O15: Điện - Điện tử | P15: CÔNG NGHỆ THÔNG TIN | Q15: =MaBM -> TTDT | R15: =MaKhoa -> CNTT | S15: =+R15&"-"&Q15 -> CNTT-TTDT | AE15: o | AX15: o
A16: DC3DT82 | B16: DC3DT82 | D16: CC3DT82 | F16: 628 | G16: Công nghệ vi điện tử | H16: 2 | I16: 30 | L16: 0 | M16: Viết | N16: 60 | O16: Điện - Điện tử | P16: CÔNG NGHỆ THÔNG TIN | Q16: =MaBM -> TTDT | R16: =MaKhoa -> CNTT | S16: =+R16&"-"&Q16 -> CNTT-TTDT | AE16: o | AX16: o
A17: DC2DT45 | D17: CC2DT45 | F17: 205 | G17: Cơ sở điều khiển tự động | H17: 3 | I17: 45 | L17: 0 | M17: Viết | N17: 90 | O17: Điện - Điện tử | P17: CÔNG NGHỆ THÔNG TIN | Q17: =MaBM -> TTDT | R17: =MaKhoa -> CNTT | S17: =+R17&"-"&Q17 -> CNTT-TTDT | AE17: x | AX17: x
A18: DC2DT44 | D18: CC2DT44 | F18: 195 | G18: Cơ sở kỹ thuật đo lường | H18: 2 | I18: 15 | J18: 30 | L18: 0 | M18: Viết | N18: 60 | O18: Điện - Điện tử | P18: CÔNG NGHỆ THÔNG TIN | Q18: =MaBM -> TTDT | R18: =MaKhoa -> CNTT | S18: =+R18&"-"&Q18 -> CNTT-TTDT | AE18: x | AX18: x
A19: DC3DT60 | D19: CC3DT60 | F19: 553 | G19: Cơ sở truyền số liệu | H19: 3 | I19: 45 | L19: 0 | M19: Viết | N19: 60 | O19: Điện - Điện tử | P19: CÔNG NGHỆ THÔNG TIN | Q19: =MaBM -> TTDT | R19: =MaKhoa -> CNTT | S19: =+R19&"-"&Q19 -> CNTT-TTDT | AE19: x | AX19: x
A20: DC3ME61 | F20: 828 | G20: Điện tử công suất | H20: 3 | I20: 45 | L20: 0 | O20: Điện - Điện tử | P20: CÔNG NGHỆ THÔNG TIN | Q20: =MaBM -> TTDT | R20: =MaKhoa -> CNTT | S20: =+R20&"-"&Q20 -> CNTT-TTDT
A21: DC2DT51 | F21: 197 | G21: Điện tử số | H21: 3 | I21: 30 | J21: 30 | L21: 0 | M21: Viết | N21: 60 | O21: Điện - Điện tử | P21: CÔNG NGHỆ THÔNG TIN | Q21: =MaBM -> TTDT | R21: =MaKhoa -> CNTT | S21: =+R21&"-"&Q21 -> CNTT-TTDT | AE21: x
B22: DL2DT51 | F22: 198 | G22: Điện tử số | H22: 2 | I22: 30 | L22: 0 | M22: Viết | N22: 60 | O22: Điện - Điện tử | P22: CÔNG NGHỆ THÔNG TIN | Q22: =MaBM -> TTDT | R22: =MaKhoa -> CNTT | S22: =+R22&"-"&Q22 -> CNTT-TTDT
D23: CC2DT51 | F23: 199 | G23: Điện tử số | H23: 2 | I23: 30 | L23: 0 | M23: Viết | N23: 60 | O23: Điện - Điện tử | P23: CÔNG NGHỆ THÔNG TIN | Q23: =MaBM -> TTDT | R23: =MaKhoa -> CNTT | S23: =+R23&"-"&Q23 -> CNTT-TTDT | AX23: x
A24: DC2DT53 | F24: 201 | G24: Điện tử tương tự | H24: 4 | I24: 45 | J24: 30 | L24: 0 | M24: Viết | N24: 90 | O24: Điện - Điện tử | P24: CÔNG NGHỆ THÔNG TIN | Q24: =MaBM -> TTDT | R24: =MaKhoa -> CNTT | S24: =+R24&"-"&Q24 -> CNTT-TTDT | AE24: x
B25: DL2DT53 | F25: 202 | G25: Điện tử tương tự | H25: 2 | I25: 30 | L25: 0 | O25: Điện - Điện tử | P25: CÔNG NGHỆ THÔNG TIN | Q25: =MaBM -> TTDT | R25: =MaKhoa -> CNTT | S25: =+R25&"-"&Q25 -> CNTT-TTDT
D26: CC2DT53 | F26: 203 | G26: Điện tử tương tự | H26: 3 | I26: 30 | J26: 30 | L26: 0 | M26: Viết | N26: 60 | O26: Điện - Điện tử | P26: CÔNG NGHỆ THÔNG TIN | Q26: =MaBM -> TTDT | R26: =MaKhoa -> CNTT | S26: =+R26&"-"&Q26 -> CNTT-TTDT | AX26: x
A27: DC2DT52 | B27: DC2DT52 | F27: 200 | G27: Đồ án Điện tử số | H27: 2 | K27: 90 | L27: 0 | M27: VĐ | O27: Điện - Điện tử | P27: CÔNG NGHỆ THÔNG TIN | Q27: =MaBM -> TTDT | R27: =MaKhoa -> CNTT | S27: =+R27&"-"&Q27 -> CNTT-TTDT | AE27: x
A28: DC2DT54 | B28: DC2DT54 | F28: 204 | G28: Đồ án Điện tử tương tự | H28: 2 | K28: 90 | L28: 0 | M28: VĐ | O28: Điện - Điện tử | P28: CÔNG NGHỆ THÔNG TIN | Q28: =MaBM -> TTDT | R28: =MaKhoa -> CNTT | S28: =+R28&"-"&Q28 -> CNTT-TTDT | AE28: x
A29: DC3ME53 | F29: 832 | G29: Đồ án Hệ thống cơ điện tử | H29: 2 | K29: 90 | L29: 0 | M29: VĐ | O29: Điện - Điện tử | P29: CÔNG NGHỆ THÔNG TIN | Q29: =MaBM -> TTDT | R29: =MaKhoa -> CNTT | S29: =+R29&"-"&Q29 -> CNTT-TTDT
A30: DC3ME64 | F30: 830 | G30: Đồ án Kỹ thuật vi điều khiển | H30: 2 | K30: 90 | L30: 0 | M30: VĐ | O30: Điện - Điện tử | P30: CÔNG NGHỆ THÔNG TIN | Q30: =MaBM -> TTDT | R30: =MaKhoa -> CNTT | S30: =+R30&"-"&Q30 -> CNTT-TTDT
A31: DC3DT62 | B31: DC3DT62 | F31: 556 | G31: Đồ án Mạng viễn thông | H31: 2 | K31: 90 | L31: 0 | M31: VĐ | O31: Điện - Điện tử | P31: CÔNG NGHỆ THÔNG TIN | Q31: =MaBM -> TTDT | R31: =MaKhoa -> CNTT | S31: =+R31&"-"&Q31 -> CNTT-TTDT | AE31: x
A32: DC2CK42 | F32: 841 | G32: Động cơ điện | H32: 2 | L32: 0 | O32: Điện - Điện tử | P32: CÔNG NGHỆ THÔNG TIN | Q32: =MaBM -> TTDT | R32: =MaKhoa -> CNTT | S32: =+R32&"-"&Q32 -> CNTT-TTDT
A33: DC3DT84 | B33: DC3DT84 | D33: CC3DT84 | F33: 630 | G33: Giao tiếp máy tính và thu nhận dữ liệu | H33: 2 | I33: 30 | L33: 0 | M33: Viết | N33: 60 | O33: Điện - Điện tử | P33: CÔNG NGHỆ THÔNG TIN | Q33: =MaBM -> TTDT | R33: =MaKhoa -> CNTT | S33: =+R33&"-"&Q33 -> CNTT-TTDT | AE33: o | AX33: x
A34: DC3ME51 | F34: 831 | G34: Hệ thống cơ điện tử | H34: 3 | I34: 45 | L34: 0 | O34: Điện - Điện tử | P34: CÔNG NGHỆ THÔNG TIN | Q34: =MaBM -> TTDT | R34: =MaKhoa -> CNTT | S34: =+R34&"-"&Q34 -> CNTT-TTDT
A35: DC3ME73 | F35: 834 | G35: Hệ thống giao thông thông minh ITS | H35: 2 | I35: 30 | L35: 0 | O35: Điện - Điện tử | P35: CÔNG NGHỆ THÔNG TIN | Q35: =MaBM -> TTDT | R35: =MaKhoa -> CNTT | S35: =+R35&"-"&Q35 -> CNTT-TTDT
A36: DC3DT83 | B36: DC3DT83 | D36: CC3DT83 | F36: 629 | G36: Hệ thống nhúng | H36: 2 | I36: 30 | L36: 0 | M36: Viết | N36: 60 | O36: Điện - Điện tử | P36: CÔNG NGHỆ THÔNG TIN | Q36: =MaBM -> TTDT | R36: =MaKhoa -> CNTT | S36: =+R36&"-"&Q36 -> CNTT-TTDT | AE36: o | AX36: x
A37: DC3DT63 | B37: DC3DT63 | F37: 552 | G37: Hệ thống viễn thông | H37: 3 | I37: 45 | L37: 0 | O37: Điện - Điện tử | P37: CÔNG NGHỆ THÔNG TIN | Q37: =MaBM -> TTDT | R37: =MaKhoa -> CNTT | S37: =+R37&"-"&Q37 -> CNTT-TTDT | AE37: x
A38: DC1TH47 | B38: DC1TH47 | D38: CC1TH47 | F38: 51 | G38: Kỹ thuật điện | H38: 2 | I38: 30 | L38: 0 | M38: Viết | N38: 60 | O38: Điện - Điện tử | P38: CÔNG NGHỆ THÔNG TIN | Q38: =MaBM -> TTDT | R38: =MaKhoa -> CNTT | S38: =+R38&"-"&Q38 -> CNTT-TTDT | AE38: o | AX38: o
A39: DC1TH46 | F39: 50 | G39: Kỹ thuật điện - Điện tử | H39: 2 | I39: 15 | J39: 30 | L39: 0 | M39: Viết | N39: 60 | O39: Điện - Điện tử | P39: CÔNG NGHỆ THÔNG TIN | Q39: =MaBM -> TTDT | R39: =MaKhoa -> CNTT | S39: =+R39&"-"&Q39 -> CNTT-TTDT | AF39: o
A40: DC2CK41 | F40: 102 | G40: Kỹ thuật điện - Điện tử | H40: 4 | I40: 45 | J40: 30 | L40: 0 | M40: Viết | N40: 90 | O40: Điện - Điện tử | P40: CÔNG NGHỆ THÔNG TIN | Q40: =MaBM -> TTDT | R40: =MaKhoa -> CNTT | S40: =+R40&"-"&Q40 -> CNTT-TTDT | AA40: x | AB40: x | AC40: x | AD40: x
...

Sheet Tkê LOP
C1: STT | D1: Tên lớp học phần | E1: Học phần | F1: Bộ môn | G1: Số SV dự kiến | H1: Số SV đăng ký | I1: Số SV dự kiến đăng ký thi | J1: Số SV đăng ký thi | Q1: 9 | R1: 10 | S1: 8
A2: =Ma -> DC2CT65-DCK64 | B2: =MaHP -> DC2CT65 | C2: 1 | D2: DC2CT65-1-15 (01)_147 | E2: An toàn lao động-1-15 (01)/64DCCA01 | F2: An toàn lao động | G2: 2 | H2: Trắc lượng | I2: Khoa công trình | J2: 70 | K2: 48 | L2: 0 | M2: 0 | N2: K64DHCQ | O2: Nguyễn Thị Thanh Xuân | P2: =Loclop -> 64DCCA01 | Q2: =_trangay -> 90 | R2: =_trangay -> 42342 | S2: =_trangay -> Viết
A3: =Ma -> DC2CT65-DCK64 | B3: =MaHP -> DC2CT65 | C3: 2 | D3: DC2CT65-1-15 (01)_1D4 | E3: An toàn lao động-1-15 (01)/64DCCA02 | F3: An toàn lao động | G3: 2 | H3: Trắc lượng | I3: Khoa công trình | J3: 70 | K3: 37 | L3: 0 | M3: 0 | N3: K64DHCQ | O3: Nguyễn Thị Thanh Xuân | P3: =Loclop -> 64DCCA02 | Q3: =_trangay -> 90 | R3: =_trangay -> 42342 | S3: =_trangay -> Viết
A4: =Ma -> DC2CT65-DCK64 | B4: =MaHP -> DC2CT65 | C4: 3 | D4: DC2CT65-1-15 (01)_126 | E4: An toàn lao động-1-15 (01)/64DCCC01 | F4: An toàn lao động | G4: 2 | H4: Trắc lượng | I4: Khoa công trình | J4: 70 | K4: 36 | L4: 0 | M4: 0 | N4: K64DHCQ | O4: Nguyễn Thị Thanh Xuân | P4: =Loclop -> 64DCCC01 | Q4: =_trangay -> 90 | R4: =_trangay -> 42342 | S4: =_trangay -> Viết
A5: =Ma -> DC2CT65-DCK64 | B5: =MaHP -> DC2CT65 | C5: 4 | D5: DC2CT65-1-15 (01) | E5: An toàn lao động-1-15 (01)/64DCCD08 | F5: An toàn lao động | G5: 2 | H5: Trắc lượng | I5: Khoa công trình | J5: 70 | K5: 60 | L5: 0 | M5: 0 | N5: K64DHCQ | O5: Kiều Quang Thái | P5: =Loclop -> 64DCCD08 | Q5: =_trangay -> 90 | R5: =_trangay -> 42342 | S5: =_trangay -> Viết
A6: =Ma -> DC2CT65-DCK64 | B6: =MaHP -> DC2CT65 | C6: 5 | D6: DC2CT65-1-15 (02) | E6: An toàn lao động-1-15 (02)/64DCCD09 | F6: An toàn lao động | G6: 2 | H6: Trắc lượng | I6: Khoa công trình | J6: 70 | K6: 56 | L6: 0 | M6: 0 | N6: K64DHCQ | O6: Kiều Quang Thái | P6: =Loclop -> 64DCCD09 | Q6: =_trangay -> 90 | R6: =_trangay -> 42342 | S6: =_trangay -> Viết
A7: =Ma -> DC2CT65-DCK64 | B7: =MaHP -> DC2CT65 | C7: 6 | D7: DC2CT65-1-15 (03) | E7: An toàn lao động-1-15 (03)/64DCCD10 | F7: An toàn lao động | G7: 2 | H7: Trắc lượng | I7: Khoa công trình | J7: 70 | K7: 45 | L7: 0 | M7: 0 | N7: K64DHCQ | O7: Nguyễn Văn Đăng | P7: =Loclop -> 64DCCD10 | Q7: =_trangay -> 90 | R7: =_trangay -> 42342 | S7: =_trangay -> Viết
A8: =Ma -> DC2CT65-DCK64 | B8: =MaHP -> DC2CT65 | C8: 7 | D8: DC2CT65-1-15 (04) | E8: An toàn lao động-1-15 (04)/64DCCD11 | F8: An toàn lao động | G8: 2 | H8: Trắc lượng | I8: Khoa công trình | J8: 70 | K8: 45 | L8: 0 | M8: 0 | N8: K64DHCQ | O8: Nguyễn Thị Thanh Xuân | P8: =Loclop -> 64DCCD11 | Q8: =_trangay -> 90 | R8: =_trangay -> 42342 | S8: =_trangay -> Viết
A9: =Ma -> DC2CT65-DCK64 | B9: =MaHP -> DC2CT65 | C9: 8 | D9: DC2CT65-1-15 (05) | E9: An toàn lao động-1-15 (05)/64DCCD12 | F9: An toàn lao động | G9: 2 | H9: Trắc lượng | I9: Khoa công trình | J9: 70 | K9: 53 | L9: 0 | M9: 0 | N9: K64DHCQ | O9: Nguyễn Thị Loan | P9: =Loclop -> 64DCCD12 | Q9: =_trangay -> 90 | R9: =_trangay -> 42342 | S9: =_trangay -> Viết
A10: =Ma -> DC2CT65-DCK64 | B10: =MaHP -> DC2CT65 | C10: 9 | D10: DC2CT65-1-15 (06) | E10: An toàn lao động-1-15 (06)/64DCCS01 | F10: An toàn lao động | G10: 2 | H10: Trắc lượng | I10: Khoa công trình | J10: 70 | K10: 62 | L10: 0 | M10: 0 | N10: K64DHCQ | O10: Nguyễn Văn Đăng | P10: =Loclop -> 64DCCS01 | Q10: =_trangay -> 90 | R10: =_trangay -> 42342 | S10: =_trangay -> Viết
A11: =Ma -> DC2CT65-DCK63 | B11: =MaHP -> DC2CT65 | C11: 10 | D11: DC2CT65-1-15 (07) | E11: An toàn lao động-1-15 (07)/63DCDB01 | F11: An toàn lao động | G11: 2 | H11: Trắc lượng | I11: Khoa công trình | J11: 55 | K11: 51 | L11: 0 | M11: 0 | N11: K63DHCQ | O11: Nguyễn Trọng Tuấn | P11: =Loclop -> 63DCDB01 | Q11: =_trangay -> #N/A | R11: =_trangay -> #N/A | S11: =_trangay -> #N/A
A12: =Ma -> DC3HT51-DCK64 | B12: =MaHP -> DC3HT51 | C12: 11 | D12: DC3HT51-1-15 (01) | E12: An toàn và bảo mật hệ thống thông tin-1-15 (01)/64DCTH01 | F12: An toàn và bảo mật hệ thống thông tin | G12: 2 | H12: Cơ sở (TT) | I12: Khoa công nghệ thông tin | J12: 70 | K12: 54 | L12: 0 | M12: 0 | N12: K64DHCQ | O12: Lê Thanh Tấn | P12: =Loclop -> 64DCTH01 | Q12: =_trangay -> #N/A | R12: =_trangay -> #N/A | S12: =_trangay -> #N/A
A13: =Ma -> DC3HT51-DCK64 | B13: =MaHP -> DC3HT51 | C13: 12 | D13: DC3HT51-1-15 (01)_1C0 | E13: An toàn và bảo mật hệ thống thông tin-1-15 (01)/64DCTH02 | F13: An toàn và bảo mật hệ thống thông tin | G13: 2 | H13: Cơ sở (TT) | I13: Khoa công nghệ thông tin | J13: 70 | K13: 52 | L13: 0 | M13: 0 | N13: K64DHCQ | O13: Lê Thanh Tấn | P13: =Loclop -> 64DCTH02 | Q13: =_trangay -> #N/A | R13: =_trangay -> #N/A | S13: =_trangay -> #N/A
... A29: =Ma -> DC2TH33-DCK64 | B29: =MaHP -> DC2TH33 | C29: 28 | D29: DC2TH33-1-15 (01)_137 | E29: Automat và ngôn ngữ hình thức-1-15 (01)/64DCTH03 | F29: Automat và ngôn ngữ hình thức | G29: 2 | H29: Cơ sở (TT) | I29: Khoa công nghệ thông tin | J29: 70 | K29: 50 | L29: 0 | M29: 0 | N29: K64DHCQ | O29: Phùng Văn Ổn | P29: =Loclop -> 64DCTH03 | Q29: =_trangay -> #N/A | R29: =_trangay -> #N/A | S29: =_trangay -> #N/A
A30: =Ma -> DC2CB89-DCK65 | B30: =MaHP -> DC2CB89 | C30: 29 | D30: DC2CB89-1-15 (01) | E30: Bảo hiểm trong GTVT-1-15 (01)/65DCVS21_VB21 | F30: Bảo hiểm trong GTVT | G30: 2 | H30: Khoa kinh tế vận tải | J30: 70 | K30: 49 | L30: 0 | M30: 0 | N30: K65DHCQ | O30: Phạm Công Giang | P30: =Loclop -> 65DCVS21 | Q30: =_trangay -> #N/A | R30: =_trangay -> #N/A | S30: =_trangay -> #N/A
A31: =Ma -> DC2CB89-DCK65 | B31: =MaHP -> DC2CB89 | C31: 30 | D31: DC2CB89-1-15 (03) | E31: Bảo hiểm trong GTVT-1-15 (03)/65DCVL21 | F31: Bảo hiểm trong GTVT | G31: 2 | H31: Khoa kinh tế vận tải | J31: 34 | K31: 34 | L31: 0 | M31: 0 | N31: K65DHCQ | O31: Phạm Công Giang | P31: =Loclop -> 65DCVL21 | Q31: =_trangay -> #N/A | R31: =_trangay -> #N/A | S31: =_trangay -> #N/A
A32: =Ma -> CC3CD61-CCK64 | B32: =MaHP -> CC3CD61 | C32: 31 | D32: CC3CD61-1-15 (01) | E32: Bảo trì, khai thác và kiểm định công trình cầu đường-1-15 (01)/64CCCD05 | F32: Bảo trì, khai thác và kiểm định công trình cầu đường | G32: 3 | H32: Đường | I32: Khoa công trình | J32: 74 | K32: 73 | L32: 0 | M32: 0 | N32: K64CDCQ | O32: Vũ Thọ Hưng | P32: =Loclop -> 64CCCD05 | Q32: =_trangay -> 75 | R32: =_trangay -> 42352 | S32: =_trangay -> Viết
A33: =Ma -> CC3CD61-CCK64 | B33: =MaHP -> CC3CD61 | C33: 32 | D33: CC3CD61-1-15 (02) | E33: Bảo trì, khai thác và kiểm định công trình cầu đường-1-15 (02)/64CCCD06 | F33: Bảo trì, khai thác và kiểm định công trình cầu đường | G33: 3 | H33: Đường | I33: Khoa công trình | J33: 75 | K33: 76 | L33: 0 | M33: 0 | N33: K64CDCQ | O33: Phạm Hồng Quân | P33: =Loclop -> 64CCCD06 | Q33: =_trangay -> 75 | R33: =_trangay -> 42352 | S33: =_trangay -> Viết
A34: =Ma -> DC3DD46-DCK63 | B34: =MaHP -> DC3DD46 | C34: 33 | D34: DC3DD46-1-15 (01) | E34: Cấp thoát nước-1-15 (01)/63DCDD01 | F34: Cấp thoát nước | G34: 2 | H34: Dân dụng | I34: Khoa công trình | J34: 57 | K34: 55 | L34: 0 | M34: 0 | N34: K63DHCQ | O34: Vũ Đình Phiên | P34: =Loclop -> 63DCDD01 | Q34: =_trangay -> #N/A | R34: =_trangay -> #N/A | S34: =_trangay -> #N/A
A35: =Ma -> DC3DD46-DCK63 | B35: =MaHP -> DC3DD46 | C35: 34 | D35: DC3DD46-1-15 (02) | E35: Cấp thoát nước-1-15 (02)/63DCDD02 | F35: Cấp thoát nước | G35: 2 | H35: Dân dụng | I35: Khoa công trình | J35: 51 | K35: 48 | L35: 0 | M35: 0 | N35: K63DHCQ | O35: Vũ Thị Hương Lan | P35: =Loclop -> 63DCDD02 | Q35: =_trangay -> #N/A | R35: =_trangay -> #N/A | S35: =_trangay -> #N/A
A36: =Ma -> DC2HT26-DCK65 | B36: =MaHP -> DC2HT26 | C36: 35 | D36: DC2HT26-1-15 (01) | E36: Cấu trúc dữ liệu và giải thuật-1-15 (01)/65DCHT21 | F36: Cấu trúc dữ liệu và giải thuật | G36: 4 | H36: Cơ sở (TT) | I36: Khoa công nghệ thông tin | J36: 65 | K36: 60 | L36: 0 | M36: 0 | N36: K65DHCQ | O36: Lê Thị Hoa | P36: =Loclop -> 65DCHT21 | Q36: =_trangay -> 0 | R36: =_trangay -> 42335 | S36: =_trangay -> 0
A37: =Ma -> DC2HT26-DCK65 | B37: =MaHP -> DC2HT26 | C37: 36 | D37: DC2HT26-1-15 (02) | E37: Cấu trúc dữ liệu và giải thuật-1-15 (02)/65DCHT22 | F37: Cấu trúc dữ liệu và giải thuật | G37: 4 | H37: Cơ sở (TT) | I37: Khoa công nghệ thông tin | J37: 70 | K37: 63 | L37: 0 | M37: 0 | N37: K65DHCQ | O37: Trần Hà Thanh | P37: =Loclop -> 65DCHT22 | Q37: =_trangay -> 0 | R37: =_trangay -> 42335 | S37: =_trangay -> 0
A38: =Ma -> DC2HT26-DCK65 | B38: =MaHP -> DC2HT26 | C38: 37 | D38: DC2HT26-1-15 (03) | E38: Cấu trúc dữ liệu và giải thuật-1-15 (03)/65DCHT23 | F38: Cấu trúc dữ liệu và giải thuật | G38: 4 | H38: Cơ sở (TT) | I38: Khoa công nghệ thông tin | J38: 61 | K38: 31 | L38: 0 | M38: 0 | N38: K65DHCQ | O38: Nguyễn Thị Vân Anh | P38: =Loclop -> 65DCHT23 | Q38: =_trangay -> 0 | R38: =_trangay -> 42335 | S38: =_trangay -> 0
A39: =Ma -> CC3MX51-CCK64 | B39: =MaHP -> CC3MX51 | C39: 38 | D39: CC3MX51-1-15 (01) | E39: Chẩn đoán bảo dưỡng kỹ thuật MXD-1-15 (01)/64CCMX01 | F39: Chẩn đoán bảo dưỡng kỹ thuật MXD | G39: 3 | H39: Máy xây dựng | I39: Khoa cơ khí | J39: 23 | K39: 23 | L39: 0 | M39: 0 | N39: K64CDCQ | O39: Vũ Phi Long | P39: =Loclop -> 64CCMX01 | Q39: =_trangay -> #N/A | R39: =_trangay -> #N/A | S39: =_trangay -> #N/A
A40: =Ma -> CC3OT51-CCK64 | B40: =MaHP -> CC3OT51 | C40: 39 | D40: CC3OT51-1-15 (01) | E40: Chẩn đoán và kiểm định kỹ thuật ô tô-1-15 (01)/64CCOT02 | F40: Chẩn đoán và kiểm định kỹ thuật ô tô | G40: 3 | H40: Bộ môn ô tô | I40: Khoa cơ khí | J40: 37 | K40: 37 | L40: 0 | M40: 0 | N40: K64CDCQ | O40: Nguyễn Văn Tuân | P40: =Loclop -> 64CCOT02 | Q40: =_trangay -> 90 | R40: =_trangay -> 42335 | S40: =_trangay -> Viết
A41: =Ma -> CC3OT51-CCK64 | B41: =MaHP -> CC3OT51 | C41: 40 | D41: CC3OT51-1-15 (02) | E41: Chẩn đoán và kiểm định kỹ thuật ô tô-1-15 (02)/64CCOT03 | F41: Chẩn đoán và kiểm định kỹ thuật ô tô | G41: 3 | H41: Bộ môn ô tô | I41: Khoa cơ khí | J41: 30 | K41: 30 | L41: 0 | M41: 0 | N41: K64CDCQ | O41: Lê Quang Thắng | P41: =Loclop -> 64CCOT03 | Q41: =_trangay -> 90 | R41: =_trangay -> 42335 | S41: =_trangay -> Viết
A42: =Ma -> DC2CK57-DCK64 | B42: =MaHP -> DC2CK57 | C42: 41 | D42: DC2CK57-1-15 (02) | E42: Chi tiết máy 2-1-15 (02)/64DCOT02 | F42: Chi tiết máy 2 | G42: 2 | H42: Khoa cơ khí | J42: 70 | K42: 55 | L42: 0 | M42: 0 | N42: K64DHCQ | O42: Nguyễn Tuấn Hải | P42: =Loclop -> 64DCOT02 | Q42: =_trangay -> 90 | R42: =_trangay -> 42334 | S42: =_trangay -> Viết
A43: =Ma -> DC2CK57-DCK64 | B43: =MaHP -> DC2CK57 | C43: 42 | D43: DC2CK57-1-15 (03) | E43: Chi tiết máy 2-1-15 (03)/64DCOT03 | F43: Chi tiết máy 2 | G43: 2 | H43: Khoa cơ khí | J43: 70 | K43: 49 | L43: 0 | M43: 0 | N43: K64DHCQ | O43: Nguyễn Xuân Hành | P43: =Loclop -> 64DCOT03 | Q43: =_trangay -> 90 | R43: =_trangay -> 42334 | S43: =_trangay -> Viết
A44: =Ma -> DC2CK57-DCK64 | B44: =MaHP -> DC2CK57 | C44: 43 | D44: DC2CK57-1-15 (04) | E44: Chi tiết máy 2-1-15 (04)/64DCDM01_MT01 | F44: Chi tiết máy 2 | G44: 2 | H44: Khoa cơ khí | J44: 70 | K44: 44 | L44: 0 | M44: 0 | N44: K64DHCQ | O44: Trần Văn Hiếu | P44: =Loclop -> 64DCDM01 | Q44: =_trangay -> 90 | R44: =_trangay -> 42334 | S44: =_trangay -> Viết
A45: =Ma -> DC2CK57-DCK64 | B45: =MaHP -> DC2CK57 | C45: 44 | D45: DC2CK57-1-15 (05) | E45: Chi tiết máy 2-1-15 (05)/64DCOT04 | F45: Chi tiết máy 2 | G45: 2 | H45: Khoa cơ khí | J45: 70 | K45: 42 | L45: 0 | M45: 0 | N45: K64DHCQ | O45: Nguyễn Xuân Hành | P45: =Loclop -> 64DCOT04 | Q45: =_trangay -> 90 | R45: =_trangay -> 42334 | S45: =_trangay -> Viết
A46: =Ma -> DC2CK57-DCK64 | B46: =MaHP -> DC2CK57 | C46: 45 | D46: DC2CK57-1-15 (06) | E46: Chi tiết máy 2-1-15 (06)/64DCOT05 | F46: Chi tiết máy 2 | G46: 2 | H46: Khoa cơ khí | J46: 70 | K46: 43 | L46: 0 | M46: 0 | N46: K64DHCQ | O46: Nguyễn Thị Nam | P46: =Loclop -> 64DCOT05 | Q46: =_trangay -> 90 | R46: =_trangay -> 42334 | S46: =_trangay -> Viết
A47: =Ma -> DC2CK57-DCK64 | B47: =MaHP -> DC2CK57 | C47: 46 | D47: DC2CK57-1-15 (07) | E47: Chi tiết máy 2-1-15 (07)/64DCMX03 | F47: Chi tiết máy 2 | G47: 2 | H47: Khoa cơ khí | J47: 70 | K47: 39 | L47: 0 | M47: 0 | N47: K64DHCQ | O47: Yên Văn Thực | P47: =Loclop -> 64DCMX03 | Q47: =_trangay -> 90 | R47: =_trangay -> 42334 | S47: =_trangay -> Viết
A48: =Ma -> DC2CK57-DCK64 | B48: =MaHP -> DC2CK57 | C48: 47 | D48: DC2CK57-1-15 (08) | E48: Chi tiết máy 2-1-15 (08)/64DCMX02 | F48: Chi tiết máy 2 | G48: 2 | H48: Khoa cơ khí | J48: 70 | K48: 41 | L48: 0 | M48: 0 | N48: K64DHCQ | O48: Nguyễn Xuân Hòa | P48: =Loclop -> 64DCMX02 | Q48: =_trangay -> 90 | R48: =_trangay -> 42334 | S48: =_trangay -> Viết
A49: =Ma -> CC3OT52-CCK64 | B49: =MaHP -> CC3OT52 | C49: 48 | D49: CC3OT52-1-15 (01) | E49: Công nghệ bảo dưỡng, sửa chữa ô tô-1-15 (01)/64CCOT02 | F49: Công nghệ bảo dưỡng, sửa chữa ô tô | G49: 3 | H49: Bộ môn ô tô | I49: Khoa cơ khí | J49: 37 | K49: 37 | L49: 0 | M49: 0 | N49: K64CDCQ | O49: Vũ Quảng Đại | P49: =Loclop -> 64CCOT02 | Q49: =_trangay -> 0 | R49: =_trangay -> 42338 | S49: =_trangay -> Viết
A50: =Ma -> CC3OT52-CCK64 | B50: =MaHP -> CC3OT52 | C50: 49 | D50: CC3OT52-1-15 (02) | E50: Công nghệ bảo dưỡng, sửa chữa ô tô-1-15 (02)/64CCOT03 | F50: Công nghệ bảo dưỡng, sửa chữa ô tô | G50: 3 | H50: Bộ môn ô tô | I50: Khoa cơ khí | J50: 30 | K50: 30 | L50: 0 | M50: 0 | N50: K64CDCQ | O50: Vũ Quảng Đại | P50: =Loclop -> 64CCOT03 | Q50: =_trangay -> 0 | R50: =_trangay -> 42338 | S50: =_trangay -> Viết
A51: =Ma -> DC2CK33-DCK64 | B51: =MaHP -> DC2CK33 | C51: 50 | D51: DC2CK33-1-15 (01) | E51: Công nghệ kim loại-1-15 (01)/64DCDM01_MT01 | F51: Công nghệ kim loại | G51: 3 | H51: Bộ môn ô tô | I51: Khoa cơ khí | J51: 70 | K51: 44 | L51: 0 | M51: 0 | N51: K64DHCQ | O51: Đặng Đức Thuận | P51: =Loclop -> 64DCDM01 | Q51: =_trangay -> #N/A | R51: =_trangay -> #N/A | S51: =_trangay -> #N/A
A52: =Ma -> CC2CK33-CCK65 | B52: =MaHP -> CC2CK33 | C52: 51 | D52: CC2CK33-1-15 (01) | E52: Công nghệ kim loại-1-15 (01)/65CCOT21 | F52: Công nghệ kim loại | G52: 3 | H52: Bộ môn ô tô | I52: Khoa cơ khí | J52: 60 | K52: 59 | L52: 0 | M52: 0 | N52: K65CDCQ | O52: Nguyễn Quốc Tuấn | P52: =Loclop -> 65CCOT21 | Q52: =_trangay -> #N/A | R52: =_trangay -> #N/A | S52: =_trangay -> #N/A
A53: =Ma -> CC3OT53-CCK64 | B53: =MaHP -> CC3OT53 | C53: 52 | D53: CC3OT53-1-15 (01) | E53: Công nghệ lắp ráp ô tô-1-15 (01)/64CCOT02 | F53: Công nghệ lắp ráp ô tô | G53: 2 | H53: Bộ môn ô tô | I53: Khoa cơ khí | J53: 37 | K53: 37 | L53: 0 | M53: 0 | N53: K64CDCQ | O53: Nguyễn Công Tuấn | P53: =Loclop -> 64CCOT02 | Q53: =_trangay -> 60 | R53: =_trangay -> 42341 | S53: =_trangay -> Viết
A54: =Ma -> CC3OT53-CCK64 | B54: =MaHP -> CC3OT53 | C54: 53 | D54: CC3OT53-1-15 (02) | E54: Công nghệ lắp ráp ô tô-1-15 (02)/64CCOT03 | F54: Công nghệ lắp ráp ô tô | G54: 2 | H54: Bộ môn ô tô | I54: Khoa cơ khí | J54: 30 | K54: 30 | L54: 0 | M54: 0 | N54: K64CDCQ | O54: Lương Quý Hiệp | P54: =Loclop -> 64CCOT03 | Q54: =_trangay -> 60 | R54: =_trangay -> 42341 | S54: =_trangay -> Viết
A55: =Ma -> CC3MX52-CCK64 | B55: =MaHP -> CC3MX52 | C55: 54 | D55: CC3MX52-1-15 (01) | E55: Công nghệ sửa chữa MXD-1-15 (01)/64CCMX01 | F55: Công nghệ sửa chữa MXD | G55: 2 | H55: Máy xây dựng | I55: Khoa cơ khí | J55: 23 | K55: 23 | L55: 0 | M55: 0 | N55: K64CDCQ | O55: Vũ Phi Long | P55: =Loclop -> 64CCMX01 | Q55: =_trangay -> #N/A | R55: =_trangay -> #N/A | S55: =_trangay -> #N/A
...

Sheet SoTD
A2: SỔ THEO DÕI NỘP BẢNG ĐIỂM CHUYÊN CẦN + QUÁ TRÌNH
A3: HỌC KỲ 2 - NĂM HỌC 2014-2015
A4: STT | B4: Tên lớp học phần | C4: Bộ môn | D4: Số SV | E4: Khoá | F4: Giảng viên | G4: Bảng điểm QT | H4: Ghi chú
A6: =_stt -> 1
A7: =_stt -> 2
A8: =_stt -> 3
A9: =_stt -> 4
A10: =_stt -> 5
A11: =_stt -> 6
A12: =_stt -> 7
A13: =_stt -> 8
A14: =_stt -> 9
A15: =_stt -> 10
A16: =_stt -> 11
A17: =_stt -> 12
... A25: =_stt -> 20
A26: 1
A27: =_stt -> 2
A28: =_stt -> 3
A29: =_stt -> 4
A30: =_stt -> 5
A31: =_stt -> 6
A32: =_stt -> 7
A33: =_stt -> 8
A34: =_stt -> 9
A35: =_stt -> 10
A36: =_stt -> 11
A37: =_stt -> 12
A38: =_stt -> 13
... A633: =_stt -> 608

Sheet LICH THI
G1: 7 | I1: 8 | J1: 13 | K1: 14 | R1: =R3-R2 -> 52 | S1: =S3-S2 -> 38 | T1: =T3-T2 -> 8 | U1: =U3-U2 -> 142 | V1: =V3-V2 -> 48 | W1: =W3-W2 -> 74 | X1: =X3-X2 -> 14 | AG1: 17 | AH1: 18 | AL1: 20 | AM1: =+AL1+1 -> 21 | AN1: =+AM1+1 -> 22 | AO1: =+AN1+1 -> 23 | AP1: =+AO1+1 -> 24 | AQ1: =+AP1+1 -> 25 | AR1: =+AQ1+1 -> 26 | AS1: =+AR1+1 -> 27 | AT1: =+AS1+1 -> 28 | ... BD1: =+BC1+1 -> 38 | BE1: 39 | BF1: =+BE1+1 -> 40 | BG1: =+BF1+1 -> 41 | BH1: =+BG1+1 -> 42 | BI1: =+BH1+1 -> 43 | BJ1: =+BI1+1 -> 44 | BK1: =+BJ1+1 -> 45 | BL1: =+BK1+1 -> 46 | BM1: =+BL1+1 -> 47 | ... BW1: =+BV1+1 -> 57
A2: _Ngay_gio | B2: _Gio | D2: _stt | G2: _Loc | I2: _Loc | M2: _Ngay | P2: 30 | Q2: _sophong | R2: =SUM(R9:R145) -> 0 | S2: =SUM(S9:S145) -> 0 | T2: =SUM(T9:T145) -> 0 | U2: =SUM(U9:U145) -> 0 | V2: =SUM(V9:V145) -> 0 | W2: =SUM(W9:W145) -> 0 | X2: =SUM(X9:X145) -> 0 | Y2: =SUM(R2:X2) -> 0 | Z2: _Ngaycham | AA2: _Nopdiem | AC2: _Ngay
R3: =SUMIF($AH$8:$AH$145,R9,$Q$8:$Q$145)*2 -> 52 | S3: =SUMIF($AH$8:$AH$145,S9,$Q$8:$Q$145)*2 -> 38 | T3: =SUMIF($AH$8:$AH$145,T9,$Q$8:$Q$145)*2 -> 8 | U3: =SUMIF($AH$8:$AH$145,U9,$Q$8:$Q$145)*2 -> 142 | V3: =SUMIF($AH$8:$AH$145,V9,$Q$8:$Q$145)*2 -> 48 | W3: =SUMIF($AH$8:$AH$145,W9,$Q$8:$Q$145)*2 -> 74 | X3: =SUMIF($AH$8:$AH$145,X9,$Q$8:$Q$145)*2 -> 14 | Y3: =SUM(R3:X3) -> 376
E4: TRƯỜNG ĐẠI HỌC CÔNG NGHỆ GTVT | H4: LỊCH THI HỌC KỲ 1 - NĂM HỌC 2015-2016
E5: PHÒNG ĐÀO TẠO
A6: 42156
A7: 42174 | C7: NHẬP DỮ LIỆU CỘT NÀY | D7: S T T | E7: Hệ đào tạo - Khóa | F7: Mã học phần | G7: Tên học phần | I7: Số TC | J7: Hình thức thi | K7: Thời gian thi | L7: THI LẦN 1 | R7: KẾ HOẠCH COI, CHẤM THI LẦN 1 | AB7: DỰ KIẾN THI BỔ SUNG (LẦN 2)
A8: 42181 | L8: Ngày thi | N8: Ca thi | O8: Tổng số SV | P8: Số SV/phg | Q8: Số phòng | R8: Phân công GV coi thi | Z8: Thời gian
R9: LLCT | S9: KHCB | T9: CSKT | U9: KCT | V9: KCK | W9: KTVT | X9: CNTT | Y9: Tổng | Z9: Bắt đầu chấm thi | AA9: Nộp bảng điểm | AB9: Ngày thi dự kiến | AD9: Ca thi | AE9: Số SV | AF9: Số phòng thi | AK9: TN | AL9: DCCA | AM9: DCCC | AN9: DCCD | AO9: DCCS | AP9: DCDB | AQ9: DCDD | AR9: DCCDA | AS9: DCOT | AT9: DCMX | AU9: DCMT | AV9: DCDM | AW9: DTDT | AX9: DCHT | AY9: DCKT | AZ9: DCQT | BA9: DCKX | BB9: DCVB | BC9: DCVS | BD9: DCVL | BE9: CCCA | BF9: CCCC | BG9: CCCD | BH9: CCCS | BI9: CCDB | BJ9: CCDD | BK9: CCCDA | BL9: CCOT | BM9: CCMX | BN9: CCMT | BO9: CCDM | BP9: CCDT | BQ9: CCTH | BR9: CCKT | BS9: CCQT | BT9: CCKX | BU9: CCVB | BV9: CCVS | BW9: CCVL
A10: =_Ngay_gio -> 90.270833 | B10: =_Gio -> 6:30 | C10: DC3CA51-DCK63 | D10: =_stt -> 1 | E10: =_LocHe -> DCK63 | F10: =_LocMaHP -> DC3CA51 | G10: =_Loc -> Kỹ thuật thi công cầu 1 | H10: 63DCCD | I10: =_Loc -> 3 | J10: =_Loc -> Viết | K10: =_Loc -> 90 | L10: 42333 | M10: =_Ngay -> (Thứ 4) | N10: 2 | O10: 50 | P10: =_SV_P -> 30 | Q10: =_sophong -> 2 | Y10: =SUM(R10:X10) -> 0 | Z10: =_Ngaycham -> 42334 | AA10: =_Nopdiem -> 42340 | AC10: =_Ngay | AG10: =_Loc -> CTCA | AH10: =_Loc -> KCT | AI10: =Y10-2*Q10 -> -4 | AJ10: =+O10/P10 -> 1.6666667 | AL10: =_Loc -> x | AM10: =_Loc -> 0 | AN10: =_Loc -> x | AO10: =_Loc -> x | AP10: =_Loc -> 0 | AQ10: =_Loc -> 0 | AR10: =_Loc -> x | AS10: =_Loc -> 0 | ... BD10: =_Loc -> 0
A11: =_Ngay_gio -> 90.270833 | B11: =_Gio -> 6:30 | C11: DC3CA52-DCK63 | D11: =_stt -> 2 | E11: =_LocHe -> DCK63 | F11: =_LocMaHP -> DC3CA52 | G11: =_Loc -> Kỹ thuật thi công cầu 2 | H11: 63DCCD | I11: =_Loc -> 3 | J11: =_Loc -> Viết | K11: =_Loc -> 90 | L11: 42335 | M11: =_Ngay -> (Thứ 6) | N11: 2 | O11: 50 | P11: =_SV_P -> 30 | Q11: =_sophong -> 2 | Y11: =SUM(R11:X11) -> 0 | Z11: =_Ngaycham -> 42338 | AA11: =_Nopdiem -> 42342 | AC11: =_Ngay | AG11: =_Loc -> CTCA | AH11: =_Loc -> KCT | AI11: =Y11-2*Q11 -> -4 | AJ11: =+O11/P11 -> 1.6666667 | AL11: =_Loc -> x | AM11: =_Loc -> 0 | AN11: =_Loc -> x | AO11: =_Loc -> x | AP11: =_Loc -> 0 | AQ11: =_Loc -> 0 | AR11: =_Loc -> x | AS11: =_Loc -> 0 | ... BD11: =_Loc -> 0
A12: =_Ngay_gio -> 0.27083333 | B12: =_Gio -> 6:30 | C12: DC3CD33A-DCK63 | D12: =_stt -> 3 | E12: =_LocHe -> DCK63 | F12: =_LocMaHP -> DC3CD33A | G12: =_Loc -> Tiếng Anh 4 | H12: 63DCCD | I12: =_Loc -> 0 | J12: =_Loc -> Viết | K12: =_Loc -> 0 | L12: 42345 | M12: =_Ngay -> (Thứ 2) | N12: 2 | O12: 50 | P12: =_SV_P -> 30 | Q12: =_sophong -> 2 | Y12: =SUM(R12:X12) -> 0 | Z12: =_Ngaycham -> 42346 | AA12: =_Nopdiem -> 42352 | AC12: =_Ngay | AG12: =_Loc -> 0 | AH12: =_Loc -> 0 | AI12: =Y12-2*Q12 -> -4 | AJ12: =+O12/P12 -> 1.6666667 | AL12: =_Loc -> 0 | AM12: =_Loc -> 0 | AN12: =_Loc -> 0 | AO12: =_Loc -> 0 | AP12: =_Loc -> 0 | AQ12: =_Loc -> 0 | AR12: =_Loc -> 0 | AS12: =_Loc -> 0 | ... BW12: =_Loc -> 0
A13: =_Ngay_gio -> 90.270833 | B13: =_Gio -> 6:30 | C13: DC3CT55-DCK63 | D13: =_stt -> 4 | E13: =_LocHe -> DCK63 | F13: =_LocMaHP -> DC3CT55 | G13: =_Loc -> Quản lý dự án đầu tư xây dựng công trình | H13: 63DCCD | I13: =_Loc -> 3 | J13: =_Loc -> Viết | K13: =_Loc -> 90 | L13: 42348 | M13: =_Ngay -> (Thứ 5) | N13: 4 | O13: 50 | P13: =_SV_P -> 30 | Q13: =_sophong -> 2 | Y13: =SUM(R13:X13) -> 0 | Z13: =_Ngaycham -> 42349 | AA13: =_Nopdiem -> 42355 | AC13: =_Ngay | AG13: =_Loc -> CTMO | AH13: =_Loc -> KCT | AI13: =Y13-2*Q13 -> -4 | AJ13: =+O13/P13 -> 1.6666667 | AL13: =_Loc -> x | AM13: =_Loc -> x | AN13: =_Loc -> x | AO13: =_Loc -> x | AP13: =_Loc -> x | AQ13: =_Loc -> x | AR13: =_Loc -> x | AS13: =_Loc -> 0 | ... BW13: =_Loc -> 0
A14: =_Ngay_gio -> 0.27083333 | B14: =_Gio -> 6:30 | C14: DC3DB52-DCK63 | D14: =_stt -> 5 | E14: =_LocHe -> DCK63 | F14: =_LocMaHP -> DC3DB52 | G14: =_Loc -> Kỹ thuật thi công mặt đường | H14: 63DCCD | I14: =_Loc -> 3 | J14: =_Loc -> VĐ | K14: =_Loc -> 0 | L14: 42352 | M14: =_Ngay -> (Thứ 2) | N14: SA | O14: 50 | P14: =_SV_P | Q14: =_sophong | Y14: =SUM(R14:X14) -> 0 | Z14: =_Ngaycham -> 42352 | AA14: =_Nopdiem -> 42354 | AC14: =_Ngay | AG14: =_Loc -> CTDB | AH14: =_Loc -> KCT | AI14: =Y14-2*Q14 -> #VALUE! | AJ14: =+O14/P14 -> #VALUE! | AL14: =_Loc -> 0 | AM14: =_Loc -> 0 | AN14: =_Loc -> x | AO14: =_Loc -> 0 | AP14: =_Loc -> x | AQ14: =_Loc -> 0 | AR14: =_Loc -> x | AS14: =_Loc -> 0 | ... BW14: =_Loc -> 0
A15: =_Ngay_gio -> 0.27083333 | B15: =_Gio -> 6:30 | C15: DC3CD60-DCK63 | D15: =_stt -> 6 | E15: =_LocHe -> DCK63 | F15: =_LocMaHP -> DC3CD60 | G15: =_Loc -> Tin học ứng dụng | H15: 63DCCD | I15: =_Loc -> 2 | J15: =_Loc -> TH | K15: =_Loc -> 0 | L15: 42354 | M15: =_Ngay -> (Thứ 4) | N15: SA | O15: 50 | P15: =_SV_P | Q15: =_sophong | Y15: =SUM(R15:X15) -> 0 | Z15: =_Ngaycham -> 42354 | AA15: =_Nopdiem -> 42356 | AC15: =_Ngay | AG15: =_Loc -> CTUD | AH15: =_Loc -> KCT | AI15: =Y15-2*Q15 -> #VALUE! | AJ15: =+O15/P15 -> #VALUE! | AL15: =_Loc -> 0 | AM15: =_Loc -> 0 | AN15: =_Loc -> o | AO15: =_Loc -> 0 | AP15: =_Loc -> 0 | AQ15: =_Loc -> 0 | AR15: =_Loc -> x | AS15: =_Loc -> 0 | ... BW15: =_Loc -> 0
A16: =_Ngay_gio -> 0.27083333 | B16: =_Gio -> 6:30 | C16: DC2KV73 -DCK63 | D16: =_stt -> 7 | E16: =_LocHe -> DCK63 | F16: DC3QT51 | G16: =_Loc -> Quản trị doanh nghiệp | H16: 63DCKT | I16: =_Loc -> 3 | J16: =_Loc -> 0 | K16: =_Loc -> 0 | L16: 42333 | M16: =_Ngay -> (Thứ 4) | N16: 2 | O16: 40 | Z16: =_Ngaycham -> 42334 | AA16: =_Nopdiem -> 42340
A17: =_Ngay_gio -> 0.27083333 | B17: =_Gio -> 6:30 | C17: DC3KV32-DCK63 | D17: =_stt -> 8 | E17: =_LocHe -> DCK63 | F17: =_LocMaHP -> DC3KV32 | G17: =_Loc -> Phân tích hoạt động kinh doanh | H17: 63DCKT | I17: =_Loc -> 3 | J17: =_Loc -> 0 | K17: =_Loc -> 0 | L17: 42338 | M17: =_Ngay -> (Thứ 2) | N17: 2 | O17: 40 | P17: =_SV_P -> 30 | Q17: =_sophong -> 2 | Y17: =SUM(R17:X17) -> 0 | Z17: =_Ngaycham -> 42339 | AA17: =_Nopdiem -> 42345 | AC17: =_Ngay | AG17: =_Loc -> KVQT | AH17: =_Loc -> KTVT | AI17: =Y17-2*Q17 -> -4 | AJ17: =+O17/P17 -> 1.3333333 | AL17: =_Loc -> 0 | AM17: =_Loc -> 0 | AN17: =_Loc -> 0 | AO17: =_Loc -> 0 | AP17: =_Loc -> 0 | AQ17: =_Loc -> 0 | AR17: =_Loc -> 0 | AS17: =_Loc -> 0 | ... BD17: =_Loc -> 0
A18: =_Ngay_gio -> 0.27083333 | B18: =_Gio -> 6:30 | C18: DC3KT25-DCK63 | D18: =_stt -> 9 | E18: =_LocHe -> DCK63 | F18: =_LocMaHP -> DC3KT25 | G18: =_Loc -> Đồ án Kế toán | H18: 63DCKT | I18: =_Loc -> 2 | J18: =_Loc -> VĐ | K18: =_Loc -> 0 | L18: 42341 | M18: =_Ngay -> (Thứ 5) | N18: SA | O18: 40 | P18: =_SV_P | Q18: =_sophong | Y18: =SUM(R18:X18) -> 0 | Z18: =_Ngaycham -> 42341 | AA18: =_Nopdiem -> 42343 | AC18: =_Ngay | AG18: =_Loc -> KVKK | AH18: =_Loc -> KTVT | AI18: =Y18-2*Q18 -> #VALUE! | AJ18: =+O18/P18 -> #VALUE! | AL18: =_Loc -> 0 | AM18: =_Loc -> 0 | AN18: =_Loc -> 0 | AO18: =_Loc -> 0 | AP18: =_Loc -> 0 | AQ18: =_Loc -> 0 | AR18: =_Loc -> 0 | AS18: =_Loc -> 0 | ... BD18: =_Loc -> 0
A19: =_Ngay_gio -> 90.270833 | B19: =_Gio -> 6:30 | C19: DC1LL04 -DCK63 | D19: =_stt -> 10 | E19: =_LocHe -> DCK63 | F19: DC1LL04 | G19: =_Loc -> Đường lối cách mạng của Đảng cộng sản Việt Nam | H19: 63DCKT | I19: =_Loc -> 3 | J19: =_Loc -> Viết | K19: =_Loc -> 90 | L19: 42345 | M19: =_Ngay -> (Thứ 2) | N19: 2 | O19: 40 | Z19: =_Ngaycham -> 42346 | AA19: =_Nopdiem -> 42352
