Workbook
Name _Gio: IF('[1]LICH THI'!L1=1,"7:00",IF('[1]LICH THI'!L1=2,"9:00",IF('[1]LICH THI'!L1=3,"13:00",IF('[1]LICH THI'!L1=4,"15:00",IF('[1]LICH THI'!L1=5,"18:00","6:30")))))
Name _Gio: IF(#REF!=1,"7:00",IF(#REF!=2,"9:00",IF(#REF!=3,"13:00",IF(#REF!=4,"15:00",IF(#REF!=5,"18:00","6:30")))))
Name _LocMaHP: IF(MID('LICH THI '!#REF!,8,1)="-",LEFT('LICH THI '!#REF!,7),IF(MID('LICH THI '!#REF!,9,1)="-",LEFT('LICH THI '!#REF!,8),LEFT('LICH THI '!#REF!,9)))
Name _Ngay: IF('LICH THI '!XFD1="","",CHOOSE(WEEKDAY('LICH THI '!XFD1),"(Cnhật)","(Thứ 2)","(Thứ 3)","(Thứ 4)","(Thứ 5)","(Thứ 6)","(Thứ 7)"))
Name _Ngay_gio: '[1]LICH THI'!K1+'[1]LICH THI'!B1
Name _Ngay_gio: #REF!+#REF!
Name _Ngay_Gio_: '[1]Theo Ngay'!$D1+'[1]Theo Ngay'!$B1
Name _Ngay_Gio_: #REF!+#REF!
Name _Ngaycham: IF(OR('[1]LICH THI'!XEO1="TH",'[1]LICH THI'!XEO1="VĐ"),'[1]LICH THI'!XEQ1,IF('[1]LICH THI'!XER1="(Thứ 6)",'[1]LICH THI'!XEQ1+3,'[1]LICH THI'!XEQ1+1))
Name _Ngaycham: IF(OR(#REF!="TH",#REF!="VĐ"),#REF!,IF(#REF!="(Thứ 6)",#REF!+3,#REF!+1))
Name _Nopdiem: IF(OR('[1]LICH THI'!XEN1="TH",'[1]LICH THI'!XEN1="VĐ"),'[1]LICH THI'!XEP1+2,'[1]LICH THI'!XEP1+7)
Name _Nopdiem: IF(OR(#REF!="TH",#REF!="VĐ"),#REF!+2,#REF!+7)
Name _sophong: IF('LICH THI '!#REF!="","",ROUNDUP('LICH THI '!#REF!/'LICH THI '!#REF!,0))
Name _SoSV: SUMIF('[1]Tkê LOP'!$A:$A,'[1]LICH THI'!$C1,'[1]Tkê LOP'!$K:$K)
Name _SoSV: SUMIF(#REF!,#REF!,#REF!)
Name _stt: '[1]LICH THI'!A1048576+1
Name _stt: #REF!+1
Name _stt_data: #REF!+1
Name _stt_data: #REF!+1
Name _SV_P: IF(OR('[1]LICH THI'!$J1="VĐ",'[1]LICH THI'!$J1="TH"),"",'[1]LICH THI'!$P$2)
Name _SV_P: IF(OR(#REF!="VĐ",#REF!="TH"),"",#REF!)
Name L_He: IF('LICH THI '!#REF!="","",RIGHT('LICH THI '!#REF!,LEN('LICH THI '!#REF!)-FIND("-",'LICH THI '!#REF!,1)))
Name L_Loc: IF('LICH THI '!#REF!="","",INDEX([2]HP!$A$1:$BI$2049,MATCH('LICH THI '!$A1,[2]HP!$D$1:$D$2049,0),'LICH THI '!#REF!))
Name L_Loc2: #N/A
Name L_MaHP: IF('LICH THI '!#REF!="","",LEFT('LICH THI '!$A1,FIND("-",'LICH THI '!$A1,1)-1))
Name L_SoSV: SUMIF([3]DATA!$E$7:$E$1947,'LICH THI '!#REF!,[3]DATA!$I$7:$I$1947)
Name L_tt: IF('LICH THI '!#REF!="","",'LICH THI '!$B1048576+1)
Name Loclop: LEFT('LICH THI '!lop,8)
Name Loclop: LEFT([0]!lop,8)
Name lop: IF(ISERROR(FIND("/",TRIM(#REF!),1)),"",RIGHT(TRIM(#REF!),LEN(TRIM(#REF!)) -FIND("/",SUBSTITUTE(TRIM(#REF!),"/","/",LEN(TRIM(#REF!))-LEN(SUBSTITUTE(TRIM(#REF!),"/",""))))))
Name MaBM: IF([1]DATA!$O1="","",VLOOKUP([1]DATA!$O1,[1]Mã!$A:$C,3,0))
Name MaBM: IF(#REF!="","",VLOOKUP(#REF!,#REF!,3,0))
Name MaCC: LEFT('[1]Tkê LOP'!$D1,7)&"-CC"&LEFT('[1]Tkê LOP'!$N1,3)
Name MaCC: LEFT(#REF!,7)&"-CC"&LEFT(#REF!,3)
Name MaHP: IF(OR(MID(#REF!,8,1)="-",MID(#REF!,8,1)="("),LEFT(#REF!,7),IF(OR(MID(#REF!,9,1)="-",MID(#REF!,9,1)="("),LEFT(#REF!,8),LEFT(#REF!,8)))
Name MaKhoa: IF([1]DATA!$P1="","",VLOOKUP([1]DATA!$P1,[1]Mã!$E:$F,2,0))
Name MaKhoa: IF(#REF!="","",VLOOKUP(#REF!,#REF!,2,0))

Sheet LICH THI 
A1: LỊCH THI LẠI, THI CẢI THIỆN, KỲ II _2019_2020
A3: STT | B3: Hệ đào tạo - Khóa | C3: Mã học phần | D3: Tên học phần | E3: Khóa, ngành | F3: Số TC | G3: Hình thức thi | H3: Thời gian | I3: THI LẦN 1 | L3: Bộ Môn | M3: Khoa
I4: Ngày | J4: Thứ | K4: Ca
A6: I - ĐẠI HỌC CHÍNH QUY
A7: 1 | B7: ĐHCQ | C7: DC3CA61 | D7: Quản lý khai thác và kiểm định cầu | E7: 67DCCD11 | F7: 2 | G7: =VLOOKUP(C7,Sheet1!A15:D1795,4,FALSE) -> Viết | H7: =VLOOKUP(D7,Sheet1!B15:E1795,4,FALSE) -> 60 | I7: 44102 | J7: ="Thứ " & WEEKDAY(I7) -> Thứ 2 | K7: 5 | N7: 43969 | O7: 43987
A8: =A7+1 -> 2 | B8: ĐHCQ | C8: DC1CB20 | D8: Lý thuyết xác suất thống kê | E8: 67DCOT11,12 | F8: 2 | G8: =VLOOKUP(C8,Sheet1!A16:D1796,4,FALSE) -> TN | H8: 60 | I8: 44102 | J8: ="Thứ " & WEEKDAY(I8) -> Thứ 2 | K8: 5 | N8: 43969 | O8: 43987
A9: =A8+1 -> 3 | B9: ĐHCQ | C9: DC1CB20 | D9: Lý thuyết xác suất thống kê | E9: 70DCGT11,DD11 | F9: 2 | G9: TN | H9: 60 | I9: 44102 | J9: ="Thứ " & WEEKDAY(I9) -> Thứ 2 | K9: 5
A10: =A9+1 -> 4 | B10: ĐHCQ | C10: DC2CO28 | D10: Động lực học công trình | E10: 68DCCD11 | F10: 2 | G10: =VLOOKUP(C10,Sheet1!A41:D1821,4,FALSE) -> Viết | H10: =VLOOKUP(D10,Sheet1!B21:E1801,4,FALSE) -> 90 | I10: 44102 | J10: ="Thứ " & WEEKDAY(I10) -> Thứ 2 | K10: 5 | N10: 43976 | O10: 43987
A11: =A10+1 -> 5 | B11: ĐHCQ | C11: DC2HT34 | D11: Lập trình trực quan C# | E11: 68DCHT11 | F11: 3 | G11: VĐ | I11: 44102 | J11: ="Thứ " & WEEKDAY(I11) -> Thứ 2 | K11: 5 | N11: 43976 | O11: 44001
A12: =A11+1 -> 6 | B12: ĐHCQ | C12: DC3KT27 | D12: Kế toán thuế | E12: 68DCKT11 | F12: 2 | G12: Viết | H12: 75 | I12: 44102 | J12: ="Thứ " & WEEKDAY(I12) -> Thứ 2 | K12: 5 | N12: 43969 | O12: 43987
A13: =A12+1 -> 7 | B13: ĐHCQ | C13: DC1CB90 | D13: Môi trường trong giao thông vận tải | E13: 68DCKX11 | F13: 2 | G13: Viết | H13: 90 | I13: 44102 | J13: ="Thứ " & WEEKDAY(I13) -> Thứ 2 | K13: 5 | N13: 43976 | O13: 44001
A14: =A13+1 -> 8 | B14: ĐHCQ | C14: DC2KV82 | D14: Kinh tế quốc tế | E14: 69DCKT11, 69DCKT12 | F14: 2 | G14: Viết | I14: 44102 | J14: ="Thứ " & WEEKDAY(I14) -> Thứ 2 | K14: 5
A15: =A14+1 -> 9 | B15: ĐHCQ | C15: DC2KV63 | D15: Kinh tế lượng | E15: 69DCKX11, 69DCLJ11 | F15: 3 | G15: Viết | H15: 90 | I15: 44102 | J15: ="Thứ " & WEEKDAY(I15) -> Thứ 2 | K15: 5
A16: =A15+1 -> 10 | B16: ĐHCQ | C16: DC2ME32 | D16: Đồ án Chi tiết máy | E16: 68DCOT11, 68DCOT12 | F16: 2 | G16: VĐ | I16: 44102 | J16: ="Thứ " & WEEKDAY(I16) -> Thứ 2 | K16: 5
A17: =A16+1 -> 11 | B17: ĐHCQ | C17: DC2DT55 | D17: Anten và truyền sóng | E17: 69DCDT11 | F17: 3 | G17: Viết | H17: 90 | I17: 44102 | J17: ="Thứ " & WEEKDAY(I17) -> Thứ 2 | K17: 5
A18: =A17+1 -> 12 | B18: ĐHCQ | C18: DC2TT31 | D18: Phần mềm mã nguồn mở | E18: 69DCHT11 | F18: 2 | G18: VĐ | I18: 44102 | J18: ="Thứ " & WEEKDAY(I18) -> Thứ 2 | K18: 5
A19: =A18+1 -> 13 | B19: ĐHCQ | C19: DC2CK18 | D19: Dung sai kỹ thuật đo | E19: 69DCOJ11, OT11,12,13 | F19: 2 | G19: VĐ | I19: 44102 | J19: ="Thứ " & WEEKDAY(I19) -> Thứ 2 | K19: 5 | N19: 43976 | O19: 43987
A20: =A19+1 -> 14 | B20: ĐHCQ | C20: DC1CB57 | D20: Toán 3 | E20: 70DCOT11+12, 70DCOJ11+12 , 70DCHT11+12 | F20: 3 | G20: VĐ | H20: 75 | I20: 44102 | J20: ="Thứ " & WEEKDAY(I20) -> Thứ 2 | K20: 5 | N20: 43976 | O20: 43987
A21: =A20+1 -> 15 | B21: ĐHCQ | C21: DC2KV62 | D21: Kinh tế vĩ mô | E21: 70DCKT11,12 | F21: 3 | G21: Viết | H21: 75 | I21: 44102 | J21: ="Thứ " & WEEKDAY(I21) -> Thứ 2 | K21: 5
A22: =A21+1 -> 16 | B22: ĐHCQ | C22: DC1KV93 | D22: Pháp luật kinh tế | E22: 70DCLG11,LJ11 | F22: 2 | G22: Viết | H22: 75 | I22: 44102 | J22: ="Thứ " & WEEKDAY(I22) -> Thứ 2 | K22: 5
A23: =A22+1 -> 17 | B23: ĐHCQ | C23: DC3DD46 | D23: Cấp thoát nước | E23: 69DCDD11 | F23: 2 | G23: Viết | H23: 90 | I23: 44102 | J23: ="Thứ " & WEEKDAY(I23) -> Thứ 2 | K23: 5 | N23: 43969 | O23: 43987
A24: =A23+1 -> 18 | B24: ĐHCQ | C24: DC3CA70 | D24: Xây dựng cầu 2 | E24: 67DCCD11 | F24: 3 | G24: =VLOOKUP(C24,Sheet1!A15:D1795,4,FALSE) -> VĐ | H24: =VLOOKUP(D24,Sheet1!B27:E1807,4,FALSE) -> 0 | I24: 44103 | J24: ="Thứ " & WEEKDAY(I24) -> Thứ 3 | K24: 5 | N24: 43976 | O24: 44001
A25: =A24+1 -> 19 | B25: ĐHCQ | C25: DC3CK42 | D25: Đồ án Kết cấu - tính toán động cơ | E25: 67DCOT11,12 | F25: 2 | G25: VĐ | I25: 44103 | J25: ="Thứ " & WEEKDAY(I25) -> Thứ 3 | K25: 5 | N25: 43976 | O25: 44001
A26: =A25+1 -> 20 | B26: ĐHCQ | C26: DC2CT65 | D26: An toàn lao động | E26: 68DCCD11 | F26: 2 | G26: =VLOOKUP(C26,Sheet1!A45:D1825,4,FALSE) -> Viết | H26: =VLOOKUP(D26,Sheet1!B32:E1812,4,FALSE) -> 90 | I26: 44103 | J26: ="Thứ " & WEEKDAY(I26) -> Thứ 3 | K26: 5 | N26: 43969 | O26: 43987
A27: =A26+1 -> 21 | B27: ĐHCQ | C27: DC3HT16 | D27: Nhập môn Xử lý ảnh | E27: 68DCHT11 | F27: 3 | G27: =VLOOKUP(C27,Sheet1!A57:D1837,4,FALSE) -> VĐ | I27: 44103 | J27: ="Thứ " & WEEKDAY(I27) -> Thứ 3 | K27: 5 | N27: 43976 | O27: 43987
A28: =A27+1 -> 22 | B28: ĐHCQ | C28: DC3KT29 | D28: Kế toán xây dựng cơ bản | E28: 68DCKT11 | F28: 2 | G28: Viết | H28: 90 | I28: 44103 | J28: ="Thứ " & WEEKDAY(I28) -> Thứ 3 | K28: 5 | N28: 43976 | O28: 44001
A29: =A28+1 -> 23 | B29: ĐHCQ | C29: DC3KX72 | D29: Kinh tế đầu tư | E29: 68DCKX11 | F29: 3 | G29: Viết | H29: 90 | I29: 44103 | J29: ="Thứ " & WEEKDAY(I29) -> Thứ 3 | K29: 5 | N29: 43990 | O29: 44008
A30: =A29+1 -> 24 | B30: ĐHCQ | C30: DC3KT23 | D30: Kế toán tài chính 3 | E30: 69DCKT11, 69DCKT12 | F30: 3 | G30: Viết | H30: 90 | I30: 44103 | J30: ="Thứ " & WEEKDAY(I30) -> Thứ 3 | K30: 5 | N30: 43976 | O30: 44001
A31: =A30+1 -> 25 | B31: ĐHCQ | C31: DC2LG24 | D31: Giao dịch ngoại thương | E31: 69DCLJ11 | F31: 2 | G31: Viết | H31: 90 | I31: 44103 | J31: ="Thứ " & WEEKDAY(I31) -> Thứ 3 | K31: 5 | N31: 43990 | O31: 44008
A32: =A31+1 -> 26 | B32: ĐHCQ | C32: DC3CK41 | D32: Kết cấu - tính toán động cơ | E32: 68DCOT11, 68DCOT12 | F32: 3 | G32: VĐ | I32: 44103 | J32: ="Thứ " & WEEKDAY(I32) -> Thứ 3 | K32: 5 | N32: 43997 | O32: 44015
A33: =A32+1 -> 27 | B33: ĐHCQ | C33: DC4CT17 | D33: Thực tập TN Cơ học đất | E33: 69DCCD11, 69DCDD11 | F33: 1 | G33: TH | I33: 44103 | J33: ="Thứ " & WEEKDAY(I33) -> Thứ 3 | K33: 5 | N33: 43997 | O33: 44022
A34: =A33+1 -> 28 | B34: ĐHCQ | C34: DC3DT34 | D34: Cơ sở truyền số liệu | E34: 69DCDT11 | F34: 2 | G34: Viết | I34: 44103 | J34: ="Thứ " & WEEKDAY(I34) -> Thứ 3 | K34: 5 | N34: 43976 | O34: 44001
A35: =A34+1 -> 29 | B35: ĐHCQ | C35: DC3HT51 | D35: An toàn và bảo mật hệ thống thông tin | E35: 69DCHT11 | F35: 2 | G35: VĐ | I35: 44103 | J35: ="Thứ " & WEEKDAY(I35) -> Thứ 3 | K35: 5 | N35: 43990 | O35: 44008
A36: =A35+1 -> 30 | B36: ĐHCQ | C36: DC2KX51 | D36: Xây dựng đường | E36: 69DCKX11 | F36: 3 | G36: Viết | H36: 75 | I36: 44103 | J36: ="Thứ " & WEEKDAY(I36) -> Thứ 3 | K36: 5 | N36: 43997 | O36: 44015
A37: =A36+1 -> 31 | B37: ĐHCQ | C37: DC2CK63 | D37: Đồ án chi tiết máy | E37: 69DCOJ11, OT11,12,13 | F37: 1 | G37: VĐ | I37: 44103 | J37: ="Thứ " & WEEKDAY(I37) -> Thứ 3 | K37: 5 | N37: 43997 | O37: 44022
A38: =A37+1 -> 32 | B38: ĐHCQ | C38: DC2CT50 | D38: Thủy lực | E38: 70DCGT11,DD11 | F38: 2 | G38: Viết | I38: 44103 | J38: ="Thứ " & WEEKDAY(I38) -> Thứ 3 | K38: 5 | N38: 43997 | O38: 44022
A39: =A38+1 -> 33 | B39: ĐHCQ | C39: DC2HT12 | D39: Nguyên lý Hệ điều hành | E39: 70DCHT11,12 | F39: 3 | G39: Viết | H39: 60 | I39: 44103 | J39: ="Thứ " & WEEKDAY(I39) -> Thứ 3 | K39: 5 | N39: 43997 | O39: 44022
A40: =A39+1 -> 34 | B40: ĐHCQ | C40: DC2KV67 | D40: Tài chính - Tiền tệ | E40: 70DCKT11,12 | F40: 3 | G40: Viết | H40: 90 | I40: 44103 | J40: ="Thứ " & WEEKDAY(I40) -> Thứ 3 | K40: 5 | N40: 43997 | O40: 44022
A41: =A40+1 -> 35 | B41: ĐHCQ | C41: DC2LG21 | D41: Marketing dịch vụ | E41: 70DCLG11,LJ11 | F41: 3 | G41: Viết | I41: 44103 | J41: ="Thứ " & WEEKDAY(I41) -> Thứ 3 | K41: 5 | N41: 43990 | O41: 44008
A42: =A41+1 -> 36 | B42: ĐHCQ | C42: DC2CO13 | D42: Vẽ kỹ thuật | E42: 70DCOT11,12, OJ11,12 | F42: 4 | G42: Viết | H42: 90 | I42: 44103 | J42: ="Thứ " & WEEKDAY(I42) -> Thứ 3 | K42: 5
A43: =A42+1 -> 37 | B43: ĐHCQ | C43: DC3CA77 | D43: Đồ án Xây dựng cầu | E43: 67DCCD11 | F43: 1 | G43: =VLOOKUP(C43,Sheet1!A28:D1808,4,FALSE) -> VĐ | H43: =VLOOKUP(D43,Sheet1!B42:E1822,4,FALSE) -> 0 | I43: 44104 | J43: ="Thứ " & WEEKDAY(I43) -> Thứ 4 | K43: 5 | N43: 43997 | O43: 44022
A44: =A43+1 -> 38 | B44: ĐHCQ | C44: DC3CK81 | D44: Cơ điện tử trên ô tô | E44: 67DCOT11,12 | F44: 2 | G44: VĐ | I44: 44104 | J44: ="Thứ " & WEEKDAY(I44) -> Thứ 4 | K44: 5 | N44: 43997 | O44: 44022
A45: =A44+1 -> 39 | B45: ĐHCQ | C45: DC3CA67 | D45: Thiết kế cầu thép | E45: 68DCCD11 | F45: 2 | G45: =VLOOKUP(C45,Sheet1!A65:D1845,4,FALSE) -> Viết | I45: 44104 | J45: ="Thứ " & WEEKDAY(I45) -> Thứ 4 | K45: 5 | N45: 43997 | O45: 44022
A46: =A45+1 -> 40 | B46: ĐHCQ | C46: DC3HT32 | D46: Quản lý dự án phần mềm | E46: 68DCHT11 | F46: 3 | G46: =VLOOKUP(C46,Sheet1!A61:D1841,4,FALSE) -> VĐ | I46: 44104 | J46: ="Thứ " & WEEKDAY(I46) -> Thứ 4 | K46: 5 | N46: 43997 | O46: 44022
A47: =A46+1 -> 41 | B47: ĐHCQ | C47: DC3KV30 | D47: Kế toán hành chính sự nghiệp | E47: 68DCKT11 | F47: 2 | G47: Viết | H47: 90 | I47: 44104 | J47: ="Thứ " & WEEKDAY(I47) -> Thứ 4 | K47: 5 | N47: 43997 | O47: 44022
A48: =A47+1 -> 42 | B48: ĐHCQ | C48: DC3KX73 | D48: Quản trị dự án đầu tư | E48: 68DCKX11 | F48: 2 | G48: Viết | H48: 90 | I48: 44104 | J48: ="Thứ " & WEEKDAY(I48) -> Thứ 4 | K48: 5 | N48: 43997 | O48: 44022
A49: =A48+1 -> 43 | B49: ĐHCQ | C49: DC3KV49 | D49: Thuế | E49: 69DCKT11, 69DCKT12 | F49: 2 | G49: Viết | H49: 90 | I49: 44104 | J49: ="Thứ " & WEEKDAY(I49) -> Thứ 4 | K49: 5 | N49: 43997 | O49: 44015
A50: =A49+1 -> 44 | B50: ĐHCQ | C50: DC3VL22 | D50: Giao nhận vận tải và hải quan | E50: 69DCLJ11 | F50: 3 | G50: Viết | H50: 90 | I50: 44104 | J50: ="Thứ " & WEEKDAY(I50) -> Thứ 4 | K50: 5 | N50: 43990 | O50: 44008
A51: =A50+1 -> 45 | B51: ĐHCQ | C51: DC3OT35 | D51: Công nghệ chế tạo phụ tùng ô tô | E51: 68DCOT11, 68DCOT12 | F51: 3 | G51: VĐ | I51: 44104 | J51: ="Thứ " & WEEKDAY(I51) -> Thứ 4 | K51: 5 | N51: 43997 | O51: 44022
A52: =A51+1 -> 46 | B52: ĐHCQ | C52: DC2CO33 | D52: Sức bền vật liệu 2 | E52: 69DCCD11, 69DCDD11 | F52: 2 | G52: VĐ | I52: 44104 | J52: ="Thứ " & WEEKDAY(I52) -> Thứ 4 | K52: 5 | N52: 43997 | O52: 44022
A53: =A52+1 -> 47 | B53: ĐHCQ | C53: DC3DT71 | D53: Thông tin số | E53: 69DCDT11 | F53: 3 | G53: Viết | H53: 60 | I53: 44104 | J53: ="Thứ " & WEEKDAY(I53) -> Thứ 4 | K53: 5 | N53: 43997 | O53: 44022
A54: =A53+1 -> 48 | B54: ĐHCQ | C54: DC2HT13 | D54: Nhập môn mạng máy tính | E54: 69DCHT11 | F54: 3 | G54: VĐ | I54: 44104 | J54: ="Thứ " & WEEKDAY(I54) -> Thứ 4 | K54: 5 | N54: 43997 | O54: 44022
A55: =A54+1 -> 49 | B55: ĐHCQ | C55: DC2KX52 | D55: Xây dựng cầu | E55: 69DCKX11 | F55: 3 | G55: Viết | H55: 75 | I55: 44104 | J55: ="Thứ " & WEEKDAY(I55) -> Thứ 4 | K55: 5 | N55: 43997 | O55: 44015
A56: =A55+1 -> 50 | B56: ĐHCQ | C56: DC2CK61 | D56: Thủy lực cơ sở | E56: 69DCOJ11, OT11,12,13 | F56: 2 | G56: VĐ | I56: 44104 | J56: ="Thứ " & WEEKDAY(I56) -> Thứ 4 | K56: 5 | N56: 43990 | O56: 44008
A57: =A56+1 -> 51 | B57: ĐHCQ | C57: DC1CB41 | D57: Toán 2 | E57: 70DCGT11,DD11 | F57: 2 | G57: Viết | I57: 44104 | J57: ="Thứ " & WEEKDAY(I57) -> Thứ 4 | K57: 5 | N57: 43997 | O57: 44022
A58: =A57+1 -> 52 | B58: ĐHCQ | C58: DC2KV75 | D58: Nguyên lý thống kê | E58: 70DCKT11,12 | F58: 3 | G58: Viết | I58: 44104 | J58: ="Thứ " & WEEKDAY(I58) -> Thứ 4 | K58: 5 | N58: 43997 | O58: 44022
A59: =A58+1 -> 53 | B59: ĐHCQ | C59: DC2KV70 | D59: Nguyên lý thống kê | E59: 70DCLG11,LJ11 | F59: 3 | G59: Viết | I59: 44104 | J59: ="Thứ " & WEEKDAY(I59) -> Thứ 4 | K59: 5 | N59: 43997 | O59: 44022
A60: =A59+1 -> 54 | B60: ĐHCQ | C60: DC1TT22 | D60: Vật lý đại cương 2 | E60: 70DCHT11,12 | F60: 2 | G60: TN | H60: 60 | I60: 44104 | J60: ="Thứ " & WEEKDAY(I60) -> Thứ 4 | K60: 5
A61: =A60+1 -> 55 | B61: ĐHCQ | C61: DC1CK22 | D61: Vật lý đại cương 2 | E61: 70DCOT11,12, OJ11,12 | F61: 2 | G61: TN | H61: 60 | I61: 44104 | J61: ="Thứ " & WEEKDAY(I61) -> Thứ 4 | K61: 5 | N61: 43997 | O61: 44022
A62: =A61+1 -> 56 | B62: ĐHCQ | C62: DC3DB61 | D62: Quản lý khai thác và kiểm định đường | E62: 67DCCD11 | F62: 2 | G62: =VLOOKUP(C62,Sheet1!A45:D1825,4,FALSE) -> VĐ | I62: 44105 | J62: ="Thứ " & WEEKDAY(I62) -> Thứ 5 | K62: 5 | N62: 43997 | O62: 44022
A63: =A62+1 -> 57 | B63: ĐHCQ | C63: DC3OT54 | D63: Thí nghiệm ôtô | E63: 67DCOT11,12 | F63: 2 | G63: =VLOOKUP(C63,Sheet1!A52:D1832,4,FALSE) -> VĐ | I63: 44105 | J63: ="Thứ " & WEEKDAY(I63) -> Thứ 5 | K63: 5 | N63: 43997 | O63: 44022
A64: =A63+1 -> 58 | B64: ĐHCQ | C64: DC3CA66 | D64: Thiết kế cầu BTCT | E64: 68DCCD11 | F64: 3 | G64: =VLOOKUP(C64,Sheet1!A68:D1848,4,FALSE) -> Viết | H64: =VLOOKUP(D64,Sheet1!B62:E1842,4,FALSE) -> 0 | I64: 44105 | J64: ="Thứ " & WEEKDAY(I64) -> Thứ 5 | K64: 5 | N64: 43997 | O64: 44022
A65: =A64+1 -> 59 | B65: ĐHCQ | C65: DC3HT42 | D65: Hệ thống hoạch định nguồn lực DN (ERP) | E65: 68DCHT11 | F65: 3 | G65: =VLOOKUP(C65,Sheet1!A61:D1841,4,FALSE) -> VĐ | I65: 44105 | J65: ="Thứ " & WEEKDAY(I65) -> Thứ 5 | K65: 5 | N65: 43990 | O65: 44008
A66: =A65+1 -> 60 | B66: ĐHCQ | C66: DC3KV32 | D66: Phân tích hoạt động kinh doanh | E66: 68DCKT11 | F66: 3 | G66: Viết | H66: 75 | I66: 44105 | J66: ="Thứ " & WEEKDAY(I66) -> Thứ 5 | K66: 5 | N66: 43997 | O66: 44022
A67: =A66+1 -> 61 | B67: ĐHCQ | C67: DC3QT12 | D67: Giao tiếp và đàm phán trong kinh doanh | E67: 68DCKX11, 69DCLJ11 | F67: 2 | G67: Viết | I67: 44105 | J67: ="Thứ " & WEEKDAY(I67) -> Thứ 5 | K67: 5 | N67: 43997 | O67: 44022
A68: =A67+1 -> 62 | B68: ĐHCQ | C68: DC3QT64 | D68: Quản trị tài chính doanh nghiệp | E68: 69DCKT11, 69DCKT12 | F68: 3 | G68: Viết | H68: 75 | I68: 44105 | J68: ="Thứ " & WEEKDAY(I68) -> Thứ 5 | K68: 5 | N68: 44004 | O68: 44022
A69: =A68+1 -> 63 | B69: ĐHCQ | C69: DC3OT54 | D69: Thí nghiệm ôtô | E69: 68DCOT11, 68DCOT12 | F69: 2 | G69: VĐ | I69: 44105 | J69: ="Thứ " & WEEKDAY(I69) -> Thứ 5 | K69: 5 | N69: 44004 | O69: 44022
A70: =A69+1 -> 64 | B70: ĐHCQ | C70: DC2CT18 | D70: Cơ học kết cấu 1 | E70: 69DCCD11, 69DCDD11 | F70: 3 | G70: VĐ | I70: 44105 | J70: ="Thứ " & WEEKDAY(I70) -> Thứ 5 | K70: 5 | N70: 43997 | O70: 44022
A71: =A70+1 -> 65 | B71: ĐHCQ | C71: DC2DT24 | D71: Đồ án Điện tử | E71: 69DCDT11 | F71: 2 | G71: VĐ | I71: 44105 | J71: ="Thứ " & WEEKDAY(I71) -> Thứ 5 | K71: 5 | N71: 44004 | O71: 44022
A72: =A71+1 -> 66 | B72: ĐHCQ | C72: DC3HT21 | D72: Hệ quản trị Cơ sở dữ liệu | E72: 69DCHT11 | F72: 3 | G72: VĐ | I72: 44105 | J72: ="Thứ " & WEEKDAY(I72) -> Thứ 5 | K72: 5 | N72: 43997 | O72: 44015
A73: =A72+1 -> 67 | B73: ĐHCQ | C73: DC3KX75 | D73: Định mức kinh tế kỹ thuật xây dựng | E73: 69DCKX11 | F73: 3 | G73: Viết | H73: 90 | I73: 44105 | J73: ="Thứ " & WEEKDAY(I73) -> Thứ 5 | K73: 5 | N73: 43997 | O73: 44022
A74: =A73+1 -> 68 | B74: ĐHCQ | C74: DC2CK32 | D74: Vật liệu cơ khí | E74: 69DCOJ11, OT11,12,13 | F74: 3 | G74: VĐ | I74: 44105 | J74: ="Thứ " & WEEKDAY(I74) -> Thứ 5 | K74: 5 | N74: 43997 | O74: 44022
A75: =A74+1 -> 69 | B75: ĐHCQ | C75: DC2CK22 | D75: Cơ học cơ sở | E75: 70DCGT11, 70DCDD11, 70DCOT11+12, 70DCOJ11+12 | F75: 3 | G75: VĐ | I75: 44105 | J75: ="Thứ " & WEEKDAY(I75) -> Thứ 5 | K75: 5 | N75: 44004 | O75: 44022
A76: =A75+1 -> 70 | B76: ĐHCQ | C76: DC2HT11 | D76: Kiến trúc máy tính | E76: 70DCHT11,12 | F76: 3 | G76: VĐ | I76: 44105 | J76: ="Thứ " & WEEKDAY(I76) -> Thứ 5 | K76: 5 | N76: 44004 | O76: 44022
A77: =A76+1 -> 71 | B77: ĐHCQ | C77: DC2KV94 | D77: Pháp luật kinh tế | E77: 70DCKT11,12 | F77: 2 | G77: Viết | H77: 75 | I77: 44105 | J77: ="Thứ " & WEEKDAY(I77) -> Thứ 5 | K77: 5 | N77: 43997 | O77: 44022
A78: =A77+1 -> 72 | B78: ĐHCQ | C78: DC2KV25 | D78: Hạ tầng giao thông vận tải | E78: 70DCLG11,LJ11 | F78: 2 | G78: Viết | H78: 75 | I78: 44105 | J78: ="Thứ " & WEEKDAY(I78) -> Thứ 5 | K78: 5 | N78: 44004 | O78: 44022
A79: =A78+1 -> 73 | B79: ĐHCQ | C79: DC3DB77 | D79: Đồ án Xây dựng đường | E79: 67DCCD11 | F79: 1 | G79: =VLOOKUP(C79,Sheet1!A62:D1842,4,FALSE) -> VĐ | H79: =VLOOKUP(D79,Sheet1!B76:E1856,4,FALSE) -> 0 | I79: 44106 | J79: ="Thứ " & WEEKDAY(I79) -> Thứ 6 | K79: 5 | N79: 43997 | O79: 44022
A80: =A79+1 -> 74 | B80: ĐHCQ | C80: DC4OT23 | D80: Thực tập Chẩn đoán và kiểm định kỹ thuật ô tô | E80: 67DCOT11,12 | F80: 4 | G80: TH | I80: 44106 | J80: ="Thứ " & WEEKDAY(I80) -> Thứ 6 | K80: 5 | N80: 43997 | O80: 44022
A81: =A80+1 -> 75 | B81: ĐHCQ | C81: DC3CA71 | D81: Hầm giao thông | E81: 68DCCD11 | F81: 2 | G81: =VLOOKUP(C81,Sheet1!A71:D1851,4,FALSE) -> Viết | H81: =VLOOKUP(D81,Sheet1!B79:E1859,4,FALSE) -> 0 | I81: 44106 | J81: ="Thứ " & WEEKDAY(I81) -> Thứ 6 | K81: 5 | N81: 43997 | O81: 44022
A82: =A81+1 -> 76 | B82: ĐHCQ | C82: DC3HT43 | D82: Hệ thống thông tin địa lý - GIS | E82: 68DCHT11 | F82: 3 | G82: =VLOOKUP(C82,Sheet1!A67:D1847,4,FALSE) -> VĐ | I82: 44106 | J82: ="Thứ " & WEEKDAY(I82) -> Thứ 6 | K82: 5 | N82: 43997 | O82: 44022
A83: =A82+1 -> 77 | B83: ĐHCQ | C83: DC3KV43 | D83: Kiểm toán báo cáo tài chính | E83: 68DCKT11 | F83: 3 | G83: Viết | H83: 90 | I83: 44106 | J83: ="Thứ " & WEEKDAY(I83) -> Thứ 6 | K83: 5 | N83: 44004 | O83: 44022
A84: =A83+1 -> 78 | B84: ĐHCQ | C84: DC3KX79 | D84: Đồ án Lập hồ sơ dự thầu xây dựng công trình | E84: 68DCKX11 | F84: 2 | G84: VĐ | I84: 44106 | J84: ="Thứ " & WEEKDAY(I84) -> Thứ 6 | K84: 5 | N84: 43997 | O84: 44022
A85: =A84+1 -> 79 | B85: ĐHCQ | C85: DC1GT58 | D85: Giao thông và công trình hạ tầng | E85: 69DCKT11, 69DCKT12 | F85: 3 | G85: Viết | I85: 44106 | J85: ="Thứ " & WEEKDAY(I85) -> Thứ 6 | K85: 5 | N85: 44004 | O85: 44022
A86: =A85+1 -> 80 | B86: ĐHCQ | C86: DC3VL32 | D86: Quản trị kho hàng | E86: 69DCLJ11 | F86: 3 | G86: Viết | H86: 90 | I86: 44106 | J86: ="Thứ " & WEEKDAY(I86) -> Thứ 6 | K86: 5 | N86: 43997 | O86: 44022
A87: =A86+1 -> 81 | B87: ĐHCQ | C87: DC3OT32 | D87: Trang bị điện và TB ĐKTĐ trên ô tô | E87: 68DCOT11, 68DCOT12 | F87: 5 | G87: VĐ | I87: 44106 | J87: ="Thứ " & WEEKDAY(I87) -> Thứ 6 | K87: 5 | N87: 44004 | O87: 44022
A88: =A87+1 -> 82 | B88: ĐHCQ | C88: DC2CT19 | D88: Cơ học đất | E88: 69DCCD11, 69DCDD11 | F88: 3 | G88: VĐ | I88: 44106 | J88: ="Thứ " & WEEKDAY(I88) -> Thứ 6 | K88: 5 | N88: 43997 | O88: 44015
A89: =A88+1 -> 83 | B89: ĐHCQ | C89: DC2DT29 | D89: Kỹ thuật vi xử lý và ứng dụng | E89: 69DCDT11 | F89: 3 | G89: VĐ | I89: 44106 | J89: ="Thứ " & WEEKDAY(I89) -> Thứ 6 | K89: 5 | N89: 43990 | O89: 44008
A90: =A89+1 -> 84 | B90: ĐHCQ | C90: DC3HT60 | D90: Phân tích và thiết kế hệ thống thông tin | E90: 69DCHT11 | F90: 4 | G90: VĐ | I90: 44106 | J90: ="Thứ " & WEEKDAY(I90) -> Thứ 6 | K90: 5 | N90: 43997 | O90: 44022
A91: =A90+1 -> 85 | B91: ĐHCQ | C91: DC1CB35 | D91: Tiếng Anh | E91: 69DCOJ11, 69DCOT11+12+13, 69DCKX11 | F91: 3 | G91: TN | I91: 44106 | J91: ="Thứ " & WEEKDAY(I91) -> Thứ 6 | K91: 5 | N91: 44004 | O91: 44022
A92: =A91+1 -> 86 | B92: ĐHCQ | C92: DC2DD11 | D92: Hình họa - vẽ kỹ thuật | E92: 70DCDD11 | F92: 4 | G92: Viết | H92: 90 | I92: 44106 | J92: ="Thứ " & WEEKDAY(I92) -> Thứ 6 | K92: 5
A93: =A92+1 -> 87 | B93: ĐHCQ | C93: DC2CO11 | D93: Hình họa - vẽ kỹ thuật | E93: 70DCGT11 | F93: 4 | G93: Viết | H93: 90 | I93: 44106 | J93: ="Thứ " & WEEKDAY(I93) -> Thứ 6 | K93: 5
A94: =A93+1 -> 88 | B94: ĐHCQ | C94: DC3KT21 | D94: Kế toán tài chính 1 | E94: 70DCKT11,12 | F94: 3 | G94: VĐ | I94: 44106 | J94: ="Thứ " & WEEKDAY(I94) -> Thứ 6 | K94: 5 | N94: 44004 | O94: 44022
A95: =A94+1 -> 89 | B95: ĐHCQ | C95: DC1CB26 | D95: Hóa học đại cương | E95: 70DCOT11,12, OJ11,12 | F95: 3 | G95: TN | I95: 44106 | J95: ="Thứ " & WEEKDAY(I95) -> Thứ 6 | K95: 5 | N95: 43997 | O95: 44015
A96: =A95+1 -> 90 | B96: ĐHCQ | C96: DC4CA28 | D96: Thực tập Kiểm định cầu | E96: 67DCCD11 | F96: 1 | G96: =VLOOKUP(C96,Sheet1!A81:D1861,4,FALSE) -> VĐ | H96: =VLOOKUP(D96,Sheet1!B90:E1870,4,FALSE) -> 0 | I96: 44107 | J96: ="Thứ " & WEEKDAY(I96) -> Thứ 7 | K96: 1 | N96: 43997 | O96: 44022
A97: =A96+1 -> 91 | B97: ĐHCQ | C97: DC4OT24 | D97: Thực tập Bảo dưỡng kỹ thuật và sửa chữa ô tô 1 | E97: 67DCOT11,12 | F97: 3 | G97: TH | I97: 44107 | J97: ="Thứ " & WEEKDAY(I97) -> Thứ 7 | K97: 1 | N97: 43997 | O97: 44022
A98: =A97+1 -> 92 | B98: ĐHCQ | C98: DC3CD19 | D98: Tin học ứng dụng | E98: 68DCCD11 | F98: 3 | G98: =VLOOKUP(C98,Sheet1!A73:D1853,4,FALSE) -> TH | H98: =VLOOKUP(D98,Sheet1!B92:E1872,4,FALSE) | I98: 44107 | J98: ="Thứ " & WEEKDAY(I98) -> Thứ 7 | K98: 1 | N98: 44011 | O98: 44036
A99: =A98+1 -> 93 | B99: ĐHCQ | C99: DC4CK11 | D99: Thực tập Nhập môn cơ khí | E99: 68DCOT11, 68DCOT12 | F99: 4 | G99: TH | I99: 44107 | J99: ="Thứ " & WEEKDAY(I99) -> Thứ 7 | K99: 1 | N99: 43997 | O99: 44022
A100: =A99+1 -> 94 | B100: ĐHCQ | C100: DC2CD53 | D100: Thủy văn công trình (+BTL) | E100: 69DCCD11 | F100: 3 | G100: VĐ | I100: 44107 | J100: ="Thứ " & WEEKDAY(I100) -> Thứ 7 | K100: 1 | N100: 44004 | O100: 44022
A101: =A100+1 -> 95 | B101: ĐHCQ | C101: DC2CK33 | D101: Công nghệ kim loại | E101: 69DCOJ11, OT11,12,13 | F101: 3 | G101: VĐ | I101: 44107 | J101: ="Thứ " & WEEKDAY(I101) -> Thứ 7 | K101: 1 | N101: 44004 | O101: 44022
A102: =A101+1 -> 96 | B102: ĐHCQ | C102: DC1LL04 | D102: Đường lối cách mạng của ĐCS VN | E102: 68DCKX11, 69DCKT11+69DCKT12, 69DCKX11 | F102: 3 | G102: TN | I102: 44107 | J102: ="Thứ " & WEEKDAY(I102) -> Thứ 7 | K102: 1
...

Sheet Sheet1
A1: MÃ HỌC PHẦN | B1: TÊN HỌC PHẦN | C1: SỐ TÌN CHỈ | D1: HÌNH THỨC THI
A4: DC3OT52 | B4: Công nghệ bảo dưỡng, sửa chữa ô tô | C4: 4 | D4: VĐ | E4: 0
A5: DC3DM52 | B5: Công nghệ bảo dưỡng, sửa chữa toa xe | C5: 3 | D5: VĐ
A6: DC3MT51 | B6: Quy trình công nghệ sửa chữa máy tàu thủy | C6: 4 | D6: VĐ
A7: DC3CK21 | B7: Nhiên liệu và vật liệu bôi trơn | C7: 2 | D7: Viết | E7: 90
A8: DC3DM51 | B8: Công nghệ bảo dưỡng, sửa chữa đầu máy | C8: 2 | D8: VĐ
A9: DC3MT52 | B9: Đồ án Quy trình công nghệ sửa chữa máy tàu thủy | C9: 2 | D9: VĐ
A10: DC1CK22 | B10: Vật lý đại cương 2 (CKOT) | C10: 2 | D10: TN | E10: 60
A11: DC1LL02 | B11: Những nguyên lý cơ bản của chủ nghĩa Mác - Lênin 2 | C11: 3 | D11: TN | E11: 30
A12: DC2KV93 | B12: Pháp luật kinh tế | C12: 2 | D12: Viết | E12: 75
A13: DC2KV94 | B13: Pháp luật kinh tế | C13: 2 | D13: Viết | E13: 0
A14: DC2TD21 | B14: Đại cương thương mại điện tử | C14: 3 | D14: Viết | E14: 0
A15: DC2KX36 | B15: Vật liệu xây dựng | C15: 2 | D15: Viết | E15: 75
A16: DC2MO23 | B16: Vật liệu xây dựng | C16: 2 | D16: Viết | E16: 75
A17: DC1CB41 | B17: Toán 2 (K66) | C17: 2 | D17: Viết | E17: 60
A18: DC2CN18 | B18: Linh kiện điện tử | C18: 2 | D18: VĐ | E18: 0
A19: DC2KV62 | B19: Kinh tế vĩ mô | C19: 3 | D19: Viết | E19: 75
A20: DC1CB57 | B20: Toán 3 | C20: 3 | D20: Viết | E20: 75
A21: DC1CB20 | B21: Lý thuyết xác suất - thống kê | C21: 2 | D21: TN | E21: 60
A22: DC2CO12 | B22: Hình học họa hình | C22: 2 | D22: VĐ
A23: DC1CB95 | B23: Phương pháp tính | C23: 2 | D23: Viết | E23: 60
A24: DC2KV67 | B24: Tài chính - Tiền tệ | C24: 3 | D24: Viết | E24: 90
A25: DC2GT42 | B25: Máy xây dựng | C25: 2 | D25: Viết | E25: 90
A26: DC1CB93 | B26: Hóa lý | C26: 2
A27: DC2LG22 | B27: Tổ chức xếp dỡ | C27: 2 | D27: Viết | E27: 0
A28: DC2CK23 | B28: Vật liệu cơ khí | C28: 2 | D28: VĐ | E28: 0
A29: DC2KV61 | B29: Kinh tế vi mô | C29: 3 | D29: Viết | E29: 90
A30: DC2TN63 | B30: Kinh tế phát triển | C30: 3 | D30: Viết
A31: DC1CB58 | B31: Lý thuyết xác suất | C31: 2 | D31: TN | E31: 0
A32: DC2CO21 | B32: Cơ học cơ sở | C32: 4 | D32: VĐ
A33: DC2CK43 | B33: Kỹ thuật điện - điện tử | C33: 3 | D33: VĐ | E33: 0
A34: DC1TT42 | B34: Tin học đại cương | C34: 3 | D34: TH
A35: DC3MX51 | B35: Chẩn đoán bảo dưỡng kỹ thuật máy xây dựng | C35: 4 | D35: Viết | E35: 0
A36: DC3MX44 | B36: Máy sản xuất vật liệu xây dựng | C36: 2 | D36: VĐ | E36: 90
A37: DC4MX23 | B37: Thực tập Bảo dưỡng kỹ thuật và sửa chữa máy xây dựng | C37: 4 | D37: TH
A38: DC4MX21 | B38: Thực tập Cấu tạo máy xây dựng | C38: 4 | D38: TH
A39: DC4MX22 | B39: Thưc tập Chẩn đoán kỹ thuật máy xây dựng | C39: 3 | D39: TH
A40: DC4MX70 | B40: Thực tập tốt nghiệp | C40: 4 | D40: VĐ
A41: DC4OT24 | B41: Thực tập Bảo dưỡng kỹ thuật và sửa chữa ô tô 1 | C41: 3 | D41: TH
A42: DC4OT25 | B42: Thực tập Bảo dưỡng kỹ thuật và sửa chữa ô tô 2 | C42: 3 | D42: TH
A43: DC4OT23 | B43: Thực tập Chẩn đoán và kiểm định kỹ thuật ô tô | C43: 4 | D43: TH
A44: DC4OT70 | B44: Thực tập tốt nghiệp | C44: 4 | D44: VĐ
A45: DC4DM23 | B45: Thực tập Bảo dưỡng sửa chữa đầu máy | C45: 4 | D45: TH
A46: DC4DM24 | B46: Thực tập Bảo dưỡng sửa chữa toa xe | C46: 4 | D46: TH
A47: DC4DM70 | B47: Thực tập tốt nghiệp | C47: 4 | D47: VĐ
A48: DC4MT21 | B48: Thực tập Động cơ Diesel tàu thủy | C48: 3 | D48: TH
... A52: DC3OT71 | B52: Lập trình PLC (bổ sung) | C52: 2 | D52: Viết
A53: DC3QT63 | B53: Quản trị chiến lược | C53: 3 | D53: Viết | E53: 75
A54: DC3KX63 | B54: Quản trị kinh doanh xây dựng | C54: 2 | D54: Viết | E54: 60
A55: DC3TN53 | B55: Định giá tài sản | C55: 3 | D55: Viết
A56: DC3QT68 | B56: Quản trị dự án đầu tư | C56: 3 | D56: Viết
A57: DC3KX73 | B57: Quản trị dự án đầu tư | C57: 2 | D57: Viết | E57: 90
A58: DC3TN56 | B58: Chuyên đề Tài chính doanh nghiệp | C58: 2 | D58: VĐ
A59: DC3QT51 | B59: Quản trị doanh nghiệp | C59: 3 | D59: Viết | E59: 75
A60: DC3KX77 | B60: Đồ án Dự toán xây dựng công trình | C60: 2 | D60: VĐ
A61: DC3TN34 | B61: Phân tích tài chính doanh nghiệp | C61: 3 | D61: Viết | E61: 90
A62: DC3QT52 | B62: Đồ án Quản trị doanh nghiệp | C62: 2 | D62: VĐ
A63: DC3KX79 | B63: Đồ án Lập hồ sơ dự thầu xây dựng công trình | C63: 2 | D63: VĐ
A64: DC3TN58 | B64: Quản trị danh mục đầu tư | C64: 2 | D64: Viết
A65: DC3KV32 | B65: Phân tích hoạt động kinh doanh | C65: 3 | D65: Viết | E65: 75
A66: DC1LL04 | B66: Đường lối cách mạng của Đảng cộng sản Việt Nam | C66: 3 | D66: TN | E66: 30
A67: DC3TN61 | B67: Tài chính công ty đa quốc gia | C67: 2 | D67: Viết
A68: DC3KX93 | B68: Tin học ứng dụng | C68: 2 | D68: TH
A69: DC3DD53 | B69: Tổ chức thi công công trình xây dựng | C69: 3 | D69: Viết | E69: 90
A70: DC3CC56 | B70: Quản lý khai thác và kiểm định công trình | C70: 2 | D70: Viết | E70: 0
A71: DC3CA61 | B71: Quản lý khai thác và kiểm định cầu | C71: 2 | D71: Viết | E71: 60
A72: DC3CT92 | B72: Dự toán công trình | C72: 2 | D72: Viết | E72: 90
A73: DC3DB79 | B73: Đường đô thị | C73: 2 | D73: Viết | E73: 0
A74: DC3CA70 | B74: Xây dựng cầu 2 | C74: 3 | D74: VĐ | E74: 0
A75: DC3CA62 | B75: Quản lý khai thác và kiểm định cầu | C75: 3 | D75: Viết | E75: 75
A76: DC2CO28 | B76: Động lực học công trình | C76: 2 | D76: Viết | E76: 90
A77: DC3DD65 | B77: Đồ án Tổ chức thi công | C77: 1 | D77: VĐ | E77: 0
A78: DC3DB86 | B78: Xây dựng mặt đường | C78: 3 | D78: VĐ | E78: 0
A79: DC3CC52 | B79: Kỹ thuật thi công 2 | C79: 3 | D79: Viết
A80: DC3CA80 | B80: Xây dựng cầu nhịp lớn | C80: 2 | D80: Viết | E80: 0
A81: DC3DB62 | B81: Quản lý khai thác và kiểm định đường | C81: 3 | D81: VĐ | E81: 75
A82: DC3DS61 | B82: Quản lý khai thác và kiểm định đường sắt | C82: 2 | D82: Viết
A83: DC3DB77 | B83: Đồ án Xây dựng đường | C83: 1 | D83: VĐ | E83: 0
A84: DC3CC59 | B84: Đồ án Kỹ thuật thi công | C84: 1 | D84: VĐ | E84: 0
A85: DC3DB60 | B85: Tin học ứng dụng | C85: 2 | D85: TH
A86: DC3DD61 | B86: Thí nghiệm và kiểm định chất lượng công trình | C86: 2 | D86: Viết
A87: DC3CC48 | B87: Công trình bảo vệ bờ và chắn sóng | C87: 2 | D87: Viết
A88: DC3DS70 | B88: Xây dựng kết cấu tầng trên ĐS | C88: 3 | D88: Viết | E88: 0
A89: DC3DB61 | B89: Quản lý khai thác và kiểm định đường | C89: 2 | D89: VĐ | E89: 75
A90: DC3DB78 | B90: Xây dựng đường ô tô | C90: 2 | D90: Viết | E90: 0
A91: DC3DB87 | B91: Đồ án Xây dựng đường | C91: 2 | D91: VĐ | E91: 0
A92: DC3DS78 | B92: Đồ án Xây dựng đường sắt | C92: 1 | D92: VĐ | E92: 0
A93: DC3CC32 | B93: Độ tin cậy của công trình bến cảng | C93: 2 | D93: Viết
A94: DC3CA73 | B94: Đồ án Xây dựng cầu | C94: 2 | D94: VĐ | E94: 0
A95: DC3CA77 | B95: Đồ án Xây dựng cầu | C95: 1 | D95: VĐ | E95: 0
A96: DC4QT21 | B96: Thực tập nghiệp vụ quản trị 1 | C96: 4 | D96: TH
A97: DC4QT22 | B97: Thực tập nghiệp vụ quản trị 2 | C97: 4 | D97: TH
A98: DC4KX21 | B98: Thực tập nghiệp vụ 1 | C98: 4 | D98: TH
A99: DC4TN21 | B99: Thực tập nghiệp vụ 1 | C99: 4 | D99: TH
A100: DC4KX22 | B100: Thực tập nghiệp vụ 2 | C100: 4 | D100: TH
A101: DC4TN22 | B101: Thực tập nghiệp vụ 2 | C101: 4 | D101: TH
A102: DC4CA28 | B102: Thực tập kiểm định cầu | C102: 1 | D102: VĐ | E102: 0
A103: DC4DB27 | B103: Thực tập kiểm định đường | C103: 1 | D103: VĐ | E103: 0
A104: DC4CD29 | B104: Thực tập nghề nghiệp XD cầu, đường | C104: 6 | D104: VĐ | E104: 0
A105: DC4DD22 | B105: Thực tập Thí nghiệm và kiểm định công trình | C105: 2 | D105: TH
...
