Workbook
Name _Gio: IF('[1]LICH THI'!L1=1,"7:00",IF('[1]LICH THI'!L1=2,"9:00",IF('[1]LICH THI'!L1=3,"13:00",IF('[1]LICH THI'!L1=4,"15:00",IF('[1]LICH THI'!L1=5,"18:00","6:30")))))
Name _Gio: IF(#REF!=1,"7:00",IF(#REF!=2,"9:00",IF(#REF!=3,"13:00",IF(#REF!=4,"15:00",IF(#REF!=5,"18:00","6:30")))))
Name _LocMaHP: IF(MID('LICH THI '!#REF!,8,1)="-",LEFT('LICH THI '!#REF!,7),IF(MID('LICH THI '!#REF!,9,1)="-",LEFT('LICH THI '!#REF!,8),LEFT('LICH THI '!#REF!,9)))
Name _Ngay: IF('LICH THI '!XFD1="","",CHOOSE(WEEKDAY('LICH THI '!XFD1),"(Cnhật)","(Thứ 2)","(Thứ 3)","(Thứ 4)","(Thứ 5)","(Thứ 6)","(Thứ 7)"))
Name _Ngay_gio: '[1]LICH THI'!K1+'[1]LICH THI'!B1
Name _Ngay_gio: #REF!+#REF!
Name _Ngay_Gio_: '[1]Theo Ngay'!$D1+'[1]Theo Ngay'!$B1
Name _Ngay_Gio_: #REF!+#REF!
Name _Ngaycham: IF(OR('[1]LICH THI'!XEO1="TH",'[1]LICH THI'!XEO1="VĐ"),'[1]LICH THI'!XEQ1,IF('[1]LICH THI'!XER1="(Thứ 6)",'[1]LICH THI'!XEQ1+3,'[1]LICH THI'!XEQ1+1))
Name _Ngaycham: IF(OR(#REF!="TH",#REF!="VĐ"),#REF!,IF(#REF!="(Thứ 6)",#REF!+3,#REF!+1))
Name _Nopdiem: IF(OR('[1]LICH THI'!XEN1="TH",'[1]LICH THI'!XEN1="VĐ"),'[1]LICH THI'!XEP1+2,'[1]LICH THI'!XEP1+7)
Name _Nopdiem: IF(OR(#REF!="TH",#REF!="VĐ"),#REF!+2,#REF!+7)
Name _sophong: IF('LICH THI '!#REF!="","",ROUNDUP('LICH THI '!#REF!/'LICH THI '!#REF!,0))
Name _SoSV: SUMIF('[1]Tkê LOP'!$A:$A,'[1]LICH THI'!$C1,'[1]Tkê LOP'!$K:$K)
Name _SoSV: SUMIF(#REF!,#REF!,#REF!)
Name _stt: '[1]LICH THI'!A1048576+1
Name _stt: #REF!+1
Name _stt_data: #REF!+1
Name _stt_data: #REF!+1
Name _SV_P: IF(OR('[1]LICH THI'!$J1="VĐ",'[1]LICH THI'!$J1="TH"),"",'[1]LICH THI'!$P$2)
Name _SV_P: IF(OR(#REF!="VĐ",#REF!="TH"),"",#REF!)
Name L_He: IF('LICH THI '!#REF!="","",RIGHT('LICH THI '!#REF!,LEN('LICH THI '!#REF!)-FIND("-",'LICH THI '!#REF!,1)))
Name L_Loc: IF('LICH THI '!#REF!="","",INDEX([2]HP!$A$1:$BI$2049,MATCH('LICH THI '!$A1,[2]HP!$D$1:$D$2049,0),'LICH THI '!#REF!))
Name L_Loc2: #N/A
Name L_MaHP: IF('LICH THI '!#REF!="","",LEFT('LICH THI '!$A1,FIND("-",'LICH THI '!$A1,1)-1))
Name L_SoSV: SUMIF([3]DATA!$E$7:$E$1947,'LICH THI '!#REF!,[3]DATA!$I$7:$I$1947)
Name L_tt: IF('LICH THI '!#REF!="","",'LICH THI '!$B1048576+1)
Name Loclop: LEFT('LICH THI '!lop,8)
Name Loclop: LEFT([0]!lop,8)
Name lop: IF(ISERROR(FIND("/",TRIM(#REF!),1)),"",RIGHT(TRIM(#REF!),LEN(TRIM(#REF!)) -FIND("/",SUBSTITUTE(TRIM(#REF!),"/","/",LEN(TRIM(#REF!))-LEN(SUBSTITUTE(TRIM(#REF!),"/",""))))))
Name MaBM: IF([1]DATA!$O1="","",VLOOKUP([1]DATA!$O1,[1]Mã!$A:$C,3,0))
Name MaBM: IF(#REF!="","",VLOOKUP(#REF!,#REF!,3,0))
Name MaCC: LEFT('[1]Tkê LOP'!$D1,7)&"-CC"&LEFT('[1]Tkê LOP'!$N1,3)
Name MaCC: LEFT(#REF!,7)&"-CC"&LEFT(#REF!,3)
Name MaHP: IF(OR(MID(#REF!,8,1)="-",MID(#REF!,8,1)="("),LEFT(#REF!,7),IF(OR(MID(#REF!,9,1)="-",MID(#REF!,9,1)="("),LEFT(#REF!,8),LEFT(#REF!,8)))
Name MaKhoa: IF([1]DATA!$P1="","",VLOOKUP([1]DATA!$P1,[1]Mã!$E:$F,2,0))
Name MaKhoa: IF(#REF!="","",VLOOKUP(#REF!,#REF!,2,0))

Sheet LICH THI 
A1: LỊCH THI LẠI, THI CẢI THIỆN, KỲ II _2019_2020
A3: STT | B3: Hệ đào tạo - Khóa | C3: Mã học phần | D3: Tên học phần | E3: Khóa, ngành | F3: Số TC | G3: Hình thức thi | H3: Thời gian | I3: THI LẦN 1 | L3: Bộ Môn | M3: Khoa
I4: Ngày | J4: Thứ | K4: Ca
A6: I - ĐẠI HỌC CHÍNH QUY
A7: 1 | B7: ĐHCQ | C7: DC3CA61 | D7: Quản lý khai thác và kiểm định cầu | E7: 67DCCD11 | F7: 2 | G7: =VLOOKUP(C7,Sheet1!A15:D1795,4,FALSE) -> Viết | H7: =VLOOKUP(D7,Sheet1!B15:E1795,4,FALSE) -> 60 | I7: 44102 | J7: ="Thứ " & WEEKDAY(I7) -> Thứ 2 | K7: 5 | N7: 43969 | O7: 43987
A8: =A7+1 -> 2 | B8: ĐHCQ | C8: DC1CB20 | D8: Lý thuyết xác suất thống kê | E8: 67DCOT11,12 | F8: 2 | G8: =VLOOKUP(C8,Sheet1!A16:D1796,4,FALSE) -> TN | H8: 60 | I8: 44102 | J8: ="Thứ " & WEEKDAY(I8) -> Thứ 2 | K8: 5 | N8: 43969 | O8: 43987
A9: =A8+1 -> 3 | B9: ĐHCQ | C9: DC1CB20 | D9: Lý thuyết xác suất thống kê | E9: 70DCGT11,DD11 | F9: 2 | G9: TN | H9: 60 | I9: 44102 | J9: ="Thứ " & WEEKDAY(I9) -> Thứ 2 | K9: 5
A10: =A9+1 -> 4 | B10: ĐHCQ | C10: DC2CO28 | D10: Động lực học công trình | E10: 68DCCD11 | F10: 2 | G10: =VLOOKUP(C10,Sheet1!A41:D1821,4,FALSE) -> Viết | H10: =VLOOKUP(D10,Sheet1!B21:E1801,4,FALSE) -> 90 | I10: 44102 | J10: ="Thứ " & WEEKDAY(I10) -> Thứ 2 | K10: 5 | N10: 43976 | O10: 43987
A11: =A10+1 -> 5 | B11: ĐHCQ | C11: DC2HT34 | D11: Lập trình trực quan C# | E11: 68DCHT11 | F11: 3 | G11: VĐ | I11: 44102 | J11: ="Thứ " & WEEKDAY(I11) -> Thứ 2 | K11: 5 | N11: 43976 | O11: 44001
A12: =A11+1 -> 6 | B12: ĐHCQ | C12: DC3KT27 | D12: Kế toán thuế | E12: 68DCKT11 | F12: 2 | G12: Viết | H12: 75 | I12: 44102 | J12: ="Thứ " & WEEKDAY(I12) -> Thứ 2 | K12: 5 | N12: 43969 | O12: 43987
A13: =A12+1 -> 7 | B13: ĐHCQ | C13: DC1CB90 | D13: Môi trường trong giao thông vận tải | E13: 68DCKX11 | F13: 2 | G13: Viết | H13: 90 | I13: 44102 | J13: ="Thứ " & WEEKDAY(I13) -> Thứ 2 | K13: 5 | N13: 43976 | O13: 44001
A14: =A13+1 -> 8 | B14: ĐHCQ | C14: DC2KV82 | D14: Kinh tế quốc tế | E14: 69DCKT11, 69DCKT12 | F14: 2 | G14: Viết | I14: 44102 | J14: ="Thứ " & WEEKDAY(I14) -> Thứ 2 | K14: 5
A15: =A14+1 -> 9 | B15: ĐHCQ | C15: DC2KV63 | D15: Kinh tế lượng | E15: 69DCKX11, 69DCLJ11 | F15: 3 | G15: Viết | H15: 90 | I15: 44102 | J15: ="Thứ " & WEEKDAY(I15) -> Thứ 2 | K15: 5
A16: =A15+1 -> 10 | B16: ĐHCQ | C16: DC2ME32 | D16: Đồ án Chi tiết máy | E16: 68DCOT11, 68DCOT12 | F16: 2 | G16: VĐ | I16: 44102 | J16: ="Thứ " & WEEKDAY(I16) -> Thứ 2 | K16: 5
A17: =A16+1 -> 11 | B17: ĐHCQ | C17: DC2DT55 | D17: Anten và truyền sóng | E17: 69DCDT11 | F17: 3 | G17: Viết | H17: 90 | I17: 44102 | J17: ="Thứ " & WEEKDAY(I17) -> Thứ 2 | K17: 5
A18: =A17+1 -> 12 | B18: ĐHCQ | C18: DC2TT31 | D18: Phần mềm mã nguồn mở | E18: 69DCHT11 | F18: 2 | G18: VĐ | I18: 44102 | J18: ="Thứ " & WEEKDAY(I18) -> Thứ 2 | K18: 5
A19: =A18+1 -> 13 | B19: ĐHCQ | C19: DC2CK18 | D19: Dung sai kỹ thuật đo | E19: 69DCOJ11, OT11,12,13 | F19: 2 | G19: VĐ | I19: 44102 | J19: ="Thứ " & WEEKDAY(I19) -> Thứ 2 | K19: 5 | N19: 43976 | O19: 43987
A20: =A19+1 -> 14 | B20: ĐHCQ | C20: DC1CB57 | D20: Toán 3 | E20: 70DCOT11+12, 70DCOJ11+12 , 70DCHT11+12 | F20: 3 | G20: VĐ | H20: 75 | I20: 44102 | J20: ="Thứ " & WEEKDAY(I20) -> Thứ 2 | K20: 5 | N20: 43976 | O20: 43987
A21: =A20+1 -> 15 | B21: ĐHCQ | C21: DC2KV62 | D21: Kinh tế vĩ mô | E21: 70DCKT11,12 | F21: 3 | G21: Viết | H21: 75 | I21: 44102 | J21: ="Thứ " & WEEKDAY(I21) -> Thứ 2 | K21: 5
A22: =A21+1 -> 16 | B22: ĐHCQ | C22: DC1KV93 | D22: Pháp luật kinh tế | E22: 70DCLG11,LJ11 | F22: 2 | G22: Viết | H22: 75 | I22: 44102 | J22: ="Thứ " & WEEKDAY(I22) -> Thứ 2 | K22: 5
A23: =A22+1 -> 17 | B23: ĐHCQ | C23: DC3DD46 | D23: Cấp thoát nước | E23: 69DCDD11 | F23: 2 | G23: Viết | H23: 90 | I23: 44102 | J23: ="Thứ " & WEEKDAY(I23) -> Thứ 2 | K23: 5 | N23: 43969 | O23: 43987
A24: =A23+1 -> 18 | B24: ĐHCQ | C24: DC3CA70 | D24: Xây dựng cầu 2 | E24: 67DCCD11 | F24: 3 | G24: =VLOOKUP(C24,Sheet1!A15:D1795,4,FALSE) -> VĐ | H24: =VLOOKUP(D24,Sheet1!B27:E1807,4,FALSE) -> 0 | I24: 44103 | J24: ="Thứ " & WEEKDAY(I24) -> Thứ 3 | K24: 5 | N24: 43976 | O24: 44001
A25: =A24+1 -> 19 | B25: ĐHCQ | C25: DC3CK42 | D25: Đồ án Kết cấu - tính toán động cơ | E25: 67DCOT11,12 | F25: 2 | G25: VĐ | I25: 44103 | J25: ="Thứ " & WEEKDAY(I25) -> Thứ 3 | K25: 5 | N25: 43976 | O25: 44001
A26: =A25+1 -> 20 | B26: ĐHCQ | C26: DC2CT65 | D26: An toàn lao động | E26: 68DCCD11 | F26: 2 | G26: =VLOOKUP(C26,Sheet1!A45:D1825,4,FALSE) -> Viết | H26: =VLOOKUP(D26,Sheet1!B32:E1812,4,FALSE) -> 90 | I26: 44103 | J26: ="Thứ " & WEEKDAY(I26) -> Thứ 3 | K26: 5 | N26: 43969 | O26: 43987
A27: =A26+1 -> 21 | B27: ĐHCQ | C27: DC3HT16 | D27: Nhập môn Xử lý ảnh | E27: 68DCHT11 | F27: 3 | G27: =VLOOKUP(C27,Sheet1!A57:D1837,4,FALSE) -> VĐ | I27: 44103 | J27: ="Thứ " & WEEKDAY(I27) -> Thứ 3 | K27: 5 | N27: 43976 | O27: 43987
A28: =A27+1 -> 22 | B28: ĐHCQ | C28: DC3KT29 | D28: Kế toán xây dựng cơ bản | E28: 68DCKT11 | F28: 2 | G28: Viết | H28: 90 | I28: 44103 | J28: ="Thứ " & WEEKDAY(I28) -> Thứ 3 | K28: 5 | N28: 43976 | O28: 44001
A29: =A28+1 -> 23 | B29: ĐHCQ | C29: DC3KX72 | D29: Kinh tế đầu tư | E29: 68DCKX11 | F29: 3 | G29: Viết | H29: 90 | I29: 44103 | J29: ="Thứ " & WEEKDAY(I29) -> Thứ 3 | K29: 5 | N29: 43990 | O29: 44008
A30: =A29+1 -> 24 | B30: ĐHCQ | C30: DC3KT23 | D30: Kế toán tài chính 3 | E30: 69DCKT11, 69DCKT12 | F30: 3 | G30: Viết | H30: 90 | I30: 44103 | J30: ="Thứ " & WEEKDAY(I30) -> Thứ 3 | K30: 5 | N30: 43976 | O30: 44001
A31: =A30+1 -> 25 | B31: ĐHCQ | C31: DC2LG24 | D31: Giao dịch ngoại thương | E31: 69DCLJ11 | F31: 2 | G31: Viết | H31: 90 | I31: 44103 | J31: ="Thứ " & WEEKDAY(I31) -> Thứ 3 | K31: 5 | N31: 43990 | O31: 44008
A32: =A31+1 -> 26 | B32: ĐHCQ | C32: DC3CK41 | D32: Kết cấu - tính toán động cơ | E32: 68DCOT11, 68DCOT12 | F32: 3 | G32: VĐ | I32: 44103 | J32: ="Thứ " & WEEKDAY(I32) -> Thứ 3 | K32: 5 | N32: 43997 | O32: 44015
A33: =A32+1 -> 27 | B33: ĐHCQ | C33: DC4CT17 | D33: Thực tập TN Cơ học đất | E33: 69DCCD11, 69DCDD11 | F33: 1 | G33: TH | I33: 44103 | J33: ="Thứ " & WEEKDAY(I33) -> Thứ 3 | K33: 5 | N33: 43997 | O33: 44022
A34: =A33+1 -> 28 | B34: ĐHCQ | C34: DC3DT34 | D34: Cơ sở truyền số liệu | E34: 69DCDT11 | F34: 2 | G34: Viết | I34: 44103 | J34: ="Thứ " & WEEKDAY(I34) -> Thứ 3 | K34: 5 | N34: 43976 | O34: 44001
A35: =A34+1 -> 29 | B35: ĐHCQ | C35: DC3HT51 | D35: An toàn và bảo mật hệ thống thông tin | E35: 69DCHT11 | F35: 2 | G35: VĐ | I35: 44103 | J35: ="Thứ " & WEEKDAY(I35) -> Thứ 3 | K35: 5 | N35: 43990 | O35: 44008
A36: =A35+1 -> 30 | B36: ĐHCQ | C36: DC2KX51 | D36: Xây dựng đường | E36: 69DCKX11 | F36: 3 | G36: Viết | H36: 75 | I36: 44103 | J36: ="Thứ " & WEEKDAY(I36) -> Thứ 3 | K36: 5 | N36: 43997 | O36: 44015
A37: =A36+1 -> 31 | B37: ĐHCQ | C37: DC2CK63 | D37: Đồ án chi tiết máy | E37: 69DCOJ11, OT11,12,13 | F37: 1 | G37: VĐ | I37: 44103 | J37: ="Thứ " & WEEKDAY(I37) -> Thứ 3 | K37: 5 | N37: 43997 | O37: 44022
A38: =A37+1 -> 32 | B38: ĐHCQ | C38: DC2CT50 | D38: Thủy lực | E38: 70DCGT11,DD11 | F38: 2 | G38: Viết | I38: 44103 | J38: ="Thứ " & WEEKDAY(I38) -> Thứ 3 | K38: 5 | N38: 43997 | O38: 44022
A39: =A38+1 -> 33 | B39: ĐHCQ | C39: DC2HT12 | D39: Nguyên lý Hệ điều hành | E39: 70DCHT11,12 | F39: 3 | G39: Viết | H39: 60 | I39: 44103 | J39: ="Thứ " & WEEKDAY(I39) -> Thứ 3 | K39: 5 | N39: 43997 | O39: 44022
A40: =A39+1 -> 34 | B40: ĐHCQ | C40: DC2KV67 | D40: Tài chính - Tiền tệ | E40: 70DCKT11,12 | F40: 3 | G40: Viết | H40: 90 | I40: 44103 | J40: ="Thứ " & WEEKDAY(I40) -> Thứ 3 | K40: 5 | N40: 43997 | O40: 44022
A41: =A40+1 -> 35 | B41: ĐHCQ | C41: DC2LG21 | D41: Marketing dịch vụ | E41: 70DCLG11,LJ11 | F41: 3 | G41: Viết | I41: 44103 | J41: ="Thứ " & WEEKDAY(I41) -> Thứ 3 | K41: 5 | N41: 43990 | O41: 44008
A42: =A41+1 -> 36 | B42: ĐHCQ | C42: DC2CO13 | D42: Vẽ kỹ thuật | E42: 70DCOT11,12, OJ11,12 | F42: 4 | G42: Viết | H42: 90 | I42: 44103 | J42: ="Thứ " & WEEKDAY(I42) -> Thứ 3 | K42: 5
...

Sheet Sheet1
A1: MÃ HỌC PHẦN | B1: TÊN HỌC PHẦN | C1: SỐ TÌN CHỈ | D1: HÌNH THỨC THI
A4: DC3OT52 | B4: Công nghệ bảo dưỡng, sửa chữa ô tô | C4: 4 | D4: VĐ | E4: 0
A5: DC3DM52 | B5: Công nghệ bảo dưỡng, sửa chữa toa xe | C5: 3 | D5: VĐ
A6: DC3MT51 | B6: Quy trình công nghệ sửa chữa máy tàu thủy | C6: 4 | D6: VĐ
A7: DC3CK21 | B7: Nhiên liệu và vật liệu bôi trơn | C7: 2 | D7: Viết | E7: 90
A8: DC3DM51 | B8: Công nghệ bảo dưỡng, sửa chữa đầu máy | C8: 2 | D8: VĐ
A9: DC3MT52 | B9: Đồ án Quy trình công nghệ sửa chữa máy tàu thủy | C9: 2 | D9: VĐ
A10: DC1CK22 | B10: Vật lý đại cương 2 (CKOT) | C10: 2 | D10: TN | E10: 60
A11: DC1LL02 | B11: Những nguyên lý cơ bản của chủ nghĩa Mác - Lênin 2 | C11: 3 | D11: TN | E11: 30
A12: DC2KV93 | B12: Pháp luật kinh tế | C12: 2 | D12: Viết | E12: 75
A13: DC2KV94 | B13: Pháp luật kinh tế | C13: 2 | D13: Viết | E13: 0
A14: DC2TD21 | B14: Đại cương thương mại điện tử | C14: 3 | D14: Viết | E14: 0
A15: DC2KX36 | B15: Vật liệu xây dựng | C15: 2 | D15: Viết | E15: 75
A16: DC2MO23 | B16: Vật liệu xây dựng | C16: 2 | D16: Viết | E16: 75
A17: DC1CB41 | B17: Toán 2 (K66) | C17: 2 | D17: Viết | E17: 60
A18: DC2CN18 | B18: Linh kiện điện tử | C18: 2 | D18: VĐ | E18: 0
A19: DC2KV62 | B19: Kinh tế vĩ mô | C19: 3 | D19: Viết | E19: 75
A20: DC1CB57 | B20: Toán 3 | C20: 3 | D20: Viết | E20: 75
A21: DC1CB20 | B21: Lý thuyết xác suất - thống kê | C21: 2 | D21: TN | E21: 60
A22: DC2CO12 | B22: Hình học họa hình | C22: 2 | D22: VĐ
A23: DC1CB95 | B23: Phương pháp tính | C23: 2 | D23: Viết | E23: 60
A24: DC2KV67 | B24: Tài chính - Tiền tệ | C24: 3 | D24: Viết | E24: 90
A25: DC2GT42 | B25: Máy xây dựng | C25: 2 | D25: Viết | E25: 90
A26: DC1CB93 | B26: Hóa lý | C26: 2
A27: DC2LG22 | B27: Tổ chức xếp dỡ | C27: 2 | D27: Viết | E27: 0
A28: DC2CK23 | B28: Vật liệu cơ khí | C28: 2 | D28: VĐ | E28: 0
A29: DC2KV61 | B29: Kinh tế vi mô | C29: 3 | D29: Viết | E29: 90
A30: DC2TN63 | B30: Kinh tế phát triển | C30: 3 | D30: Viết
A31: DC1CB58 | B31: Lý thuyết xác suất | C31: 2 | D31: TN | E31: 0
A32: DC2CO21 | B32: Cơ học cơ sở | C32: 4 | D32: VĐ
A33: DC2CK43 | B33: Kỹ thuật điện - điện tử | C33: 3 | D33: VĐ | E33: 0
A34: DC1TT42 | B34: Tin học đại cương | C34: 3 | D34: TH
A35: DC3MX51 | B35: Chẩn đoán bảo dưỡng kỹ thuật máy xây dựng | C35: 4 | D35: Viết | E35: 0
A36: DC3MX44 | B36: Máy sản xuất vật liệu xây dựng | C36: 2 | D36: VĐ | E36: 90
A37: DC4MX23 | B37: Thực tập Bảo dưỡng kỹ thuật và sửa chữa máy xây dựng | C37: 4 | D37: TH
A38: DC4MX21 | B38: Thực tập Cấu tạo máy xây dựng | C38: 4 | D38: TH
A39: DC4MX22 | B39: Thưc tập Chẩn đoán kỹ thuật máy xây dựng | C39: 3 | D39: TH
A40: DC4MX70 | B40: Thực tập tốt nghiệp | C40: 4 | D40: VĐ
A41: DC4OT24 | B41: Thực tập Bảo dưỡng kỹ thuật và sửa chữa ô tô 1 | C41: 3 | D41: TH
A42: DC4OT25 | B42: Thực tập Bảo dưỡng kỹ thuật và sửa chữa ô tô 2 | C42: 3 | D42: TH
...
